{"text_format":"1","workbook":"xlsx","n_sheets":13,"sheets":["Info","CONTROL","INV","FIN","INCO","CTA.RES","BALANCE","TES","RENTAB","ANALISIS","RIESGO","EQ","IVA"],"not_rendered":{"charts":26,"images":4,"macros":1,"external_links":0,"defined_names":33,"comments":9,"pivot_tables":0},"unopened":[],"bounds":{"document_bytes":16777216,"sheet_cells":100000,"rows_first":2000,"rows_last":500,"rows_between":2000,"halvings":0,"cell_chars":16384,"cell_head_chars":4096},"cells_cut":0,"cells_raw":0,"read":"whole","date_system":"1900"}

{"sheet":"Info","index":0,"n_rows":13,"n_cols":4,"rows_kept":13,"cut":false,"hidden":false,"merged":[]}
[]
[]
[]
[]
[null,null,"Versión del modelo:","Versión incorporada al libro \"Modelos de Análisis y Valoración de Proyectos\""]
[null,null,"Fecha de actualización:","2013-04-26"]
[]
[null,null,"Modeleva ha sido desarrollado por Alfonso Rodríguez Sandiás, Universidad de Santiago de Compostela."]
[null,null,"La marca Modeleva es propiedad del autor."]
[null,null," www.usc.es/modeleva"]
[]
[]
[null,null,null,"Atención: Modeleva tiene propósitos fundamentalmente formativos. Puede utilizarse como apoyo a decisiones empresariales. En todo caso la responsabilidad acerca de las decisiones tomadas es del usuario."]

{"sheet":"CONTROL","index":1,"n_rows":41,"n_cols":8,"rows_kept":41,"cut":false,"hidden":false,"merged":[[23,7,24,7],[23,6,24,6]]}
[]
[null,"INPUTS DEL MODELO","Proyecto ","Año inicio -- >",2014,"Mes inicio -- >","Ene",{"$f":"EOMONTH(DATEVALUE(CONTROL!G2&CONTROL!E2),0)","v":"2014-01-31"}]
[null,"FINANCIACIÓN INICIAL",null,null,null,null,null,"INFLACIÓN"]
[null,"Coste Recursos Propios",0.12,"Cuantía",null,null,"IPC"]
[null,"Capital",null,{"$f":"FIN!H5","v":0},null,null,"IPC Ingresos"]
[null,"Subvención",null,{"$f":"FIN!H6","v":0},null,null,"IPC Costes"]
[null,"Deuda 1",null,{"$f":"FIN!H7","v":0},null,null,null,"FISCALES"]
[null,"Deuda 2",{"$f":"IF(1-C5-C6-C7<-0.001,\"Exceso de fondos\",1-C5-C6-C7)","v":1},{"$f":"FIN!H8","v":1},null,null,"Tasa Impositiva"]
[null,null,"Deuda 1","Deuda 2",null,null,"Tasa Reducida"]
[null,"Tipo de Deuda",null,null,null,null,"Tramo Reducido"]
[null,"Duración",null,null,null,null,"Pago Impuestos","May"]
[null,"Coste",null,null,null,null,"IVA Compras"]
[null,"Pagos anuales",null,null,null,null,"IVA Otros Explotación"]
[null,"Carencia",null,null,null,null,"IVA Costes Fijos"]
[null,"Comisión",null,null,null,null,null," FONDO DE MANIOBRA"]
[null,"OTRA INFORMACIÓN FINANCIERA",null,null,null,null,"Demora Pago Proveedores"]
[null,"Financiación Extra Inicial",null,"Años subvención",5,null,"Demora Pago Acreedores"]
[null,"Interés Activo",null,"Interés Pasivo",null,null,"Demora en Cobros"]
[null,"Deuda Mínima",null,"Deuda Máxima",null,null,"Stock Materias Primas"]
[null,"Dividendos",null,"Pago Dividendos","Jun",null,"Stock Producto Terminado"]
[null,"Crecimiento Residual",null,"Equilibrio",null,null,"Tesorería Operativa"]
[null,"LÍNEAS DE NEGOCIO","Línea A","Línea B","Línea C","Línea D","Línea E","Línea F"]
[null,"Inicio Línea",2014]
[null,"Precio Venta Inicial",1]
[null,"Ventas Iniciales",1]
[null,"IVA"]
[null,{"$f":"\"Crecimiento, \" &E2&\"- \" &E2+1","v":"Crecimiento, 2014- 2015"}]
[null,{"$f":"\"Crecimiento, \" &E2+1&\"- \" &E2+2","v":"Crecimiento, 2015- 2016"}]
[null,{"$f":"\"Crecimiento, \" &E2+2&\"- \" &E2+3","v":"Crecimiento, 2016- 2017"}]
[null,{"$f":"\"Crecimiento, \" &E2+3&\"- \" &E2+4","v":"Crecimiento, 2017- 2018"}]
[null,{"$f":"\"Crecimiento, \" &E2+4&\"- \" &E2+5","v":"Crecimiento, 2018- 2019"}]
[null,{"$f":"\"Crecimiento, \" &E2+5&\"- \" &E2+6","v":"Crecimiento, 2019- 2020"}]
[null,null,"OUTPUTS DEL MODELO"]
[null,"CCMP Promedio =  ",{"$f":"IF(MIN(BALANCE!C20:J20)>=0,FIN!D19,\"Error, Recursos Propios Negativos\")","v":8.5533569932198114E-2},null,null,null,"Chequeos"]
[null,"RESULTADOS DEL PROYECTO",null,null,"RESULTADOS DEL CAPITAL",null,"Mensualización",{"$f":"IF(AND(INCO!N10=\"\",INCO!O10=\"\"),\"O.K\",\"Incorrecta\")","v":"O.K"}]
[null,"VAN =  ",{"$f":"RENTAB!C19","v":9.6895457026881662},null,"TIR Capital =  ",{"$f":"RENTAB!C40","v":2.9802322387695314E-9},"Fecha Inversiones ",{"$f":"IF(INV!A5:A27=\"Fuera de Plazo\",\"Error\",\"O.K\")","v":"O.K"}]
[null,"Indice de Rentabilidad Neto =  ",{"$f":"RENTAB!C20","v":9.4246369873675651},null,"TIR Capital Modificada =  ",{"$f":"RENTAB!C41","v":180.63110244580102},"Financiación inicial",{"$f":"IF(ISNUMBER(C8),\"O.K\",\"Sin cuadrar\")","v":"O.K"}]
[null,"TIR =  ",{"$f":"RENTAB!G19","v":1.034248912334442},null,null,null,"Balance",{"$f":"IF(MAX(BALANCE!C34:DC34)<0.01, \"O.K\",\"Descuadrado\")","v":"O.K"}]
[null,"TIR Modificada =  ",{"$f":"RENTAB!G20","v":0.48801840484353476},null,null,null,"Tesorería",{"$f":"IF(MAX(TES!X32:DC32)<1,\"O.K\",\"Descuadrada\")","v":"O.K"}]
[null,null,null,null,null,null,"Recursos propios",{"$f":"IF(MIN(BALANCE!C20:J20)>=0,\"O.K\", \"Negativos\")","v":"O.K"}]
[null,null,null,null,null,null,"Flujo Capital",{"$f":"IF(MAX(RENTAB!C39:J39)<1,\"O.K\",\"Descuadre\")","v":"O.K"}]

{"sheet":"INV","index":2,"n_rows":42,"n_cols":112,"rows_kept":42,"cut":false,"hidden":false,"merged":[]}
[]
[null,{"$f":"CONTROL!C2","v":"Proyecto "},"Inicio: ",{"$f":"CONTROL!H2","v":"2014-01-31"},null,null,null,null,null,"Cuadro de Amortización Anual",null,null,null,null,null,null,{"$f":"YEAR(Q3)","v":2014},{"$f":"YEAR(R3)","v":2014},{"$f":"YEAR(S3)","v":2014},2014,2014,2014,2014,2014,2014,2014,2014,2014,2015,2015,2015,2015,2015,2015,2015,2015,2015,2015,2015,2015,2016,2016,2016,2016,2016,2016,2016,2016,2016,2016,2016,2016,2017,2017,2017,2017,2017,2017,2017,2017,2017,2017,2017,2017,2018,2018,2018,2018,2018,2018,2018,2018,2018,2018,2018,2018,2019,2019,2019,2019,2019,2019,{"$f":"YEAR(CE3)","v":2019},2019,2019,2019,2019,2019,2020,2020,2020,2020,2020,2020,2020,2020,2020,2020,2020,2020]
[null,null,"Estimación","Fecha","Coef.","IVA","Inversión","IVA",{"$f":"YEAR(D2)","v":2014},{"$f":"I3+1","v":2015},2016,2017,2018,2019,2020,null,{"$f":"D2","v":"2014-01-31"},{"$f":"EOMONTH(Q3,1)","v":"2014-02-28"},{"$f":"EOMONTH(R3,1)","v":"2014-03-31"},"2014-04-30","2014-05-31","2014-06-30","2014-07-31","2014-08-31","2014-09-30","2014-10-31","2014-11-30","2014-12-31","2015-01-31","2015-02-28","2015-03-31","2015-04-30","2015-05-31","2015-06-30","2015-07-31","2015-08-31","2015-09-30","2015-10-31","2015-11-30","2015-12-31","2016-01-31","2016-02-29","2016-03-31","2016-04-30","2016-05-31","2016-06-30","2016-07-31","2016-08-31","2016-09-30","2016-10-31","2016-11-30","2016-12-31","2017-01-31","2017-02-28","2017-03-31","2017-04-30","2017-05-31","2017-06-30","2017-07-31","2017-08-31","2017-09-30","2017-10-31","2017-11-30","2017-12-31","2018-01-31","2018-02-28","2018-03-31","2018-04-30","2018-05-31","2018-06-30","2018-07-31","2018-08-31","2018-09-30","2018-10-31","2018-11-30","2018-12-31","2019-01-31","2019-02-28","2019-03-31","2019-04-30","2019-05-31","2019-06-30",{"$f":"EOMONTH(CD3,1)","v":"2019-07-31"},"2019-08-31","2019-09-30","2019-10-31","2019-11-30","2019-12-31","2020-01-31","2020-02-29","2020-03-31","2020-04-30","2020-05-31","2020-06-30","2020-07-31","2020-08-31","2020-09-30","2020-10-31","2020-11-30","2020-12-31"]
[null,"INMOVILIZADO MATERIAL"]
[{"$f":"IF(D5<EOMONTH($D$2,-12),\"Fuera de plazo\",IF(D5>BALANCE!$J$3,\"Fuera de plazo\",\"\"))","v":""},"Terrenos",1,"2013-04-30",null,null,{"$f":"IF(YEAR(D5)<=YEAR($D$2),C5*RIESGO!$C$4,C5*RIESGO!$C$4*(1+CONTROL!$H$4)^(YEAR(D5)-YEAR($D$2)))","v":1},{"$f":"G5*F5","v":0}]
[{"$f":"IF(D6<EOMONTH($D$2,-12),\"Fuera de plazo\",IF(D6>BALANCE!$J$3,\"Fuera de plazo\",\"\"))","v":""},"Edificios",null,"2013-04-30",0.03,0.21,{"$f":"IF(YEAR(D6)<=YEAR($D$2),C6*RIESGO!$C$4,C6*RIESGO!$C$4*(1+CONTROL!$H$4)^(YEAR(D6)-YEAR($D$2)))","v":0},0,{"$f":"SUMIF($Q$2:$CV$2,I$3,$Q6:$CV6)","v":0},0,0,0,0,0,0,null,{"$f":"IF(D6>=$Q$3,0,$E6/12*$G6)","v":0},{"$f":"IF($D6>=R$3,0,IF(SUM($Q6:Q6)=$G6,0,IF($G6*$E6/12<($G6-SUM($Q6:Q6)),$G6*$E6/12,($G6-SUM($Q6:Q6)))))","v":0},{"$f":"IF($D6>=S$3,0,IF(SUM($Q6:R6)=$G6,0,IF($G6*$E6/12<($G6-SUM($Q6:R6)),$G6*$E6/12,($G6-SUM($Q6:R6)))))","v":0},{"$f":"IF($D6>=T$3,0,IF(SUM($Q6:S6)=$G6,0,IF($G6*$E6/12<($G6-SUM($Q6:S6)),$G6*$E6/12,($G6-SUM($Q6:S6)))))","v":0},{"$f":"IF($D6>=U$3,0,IF(SUM($Q6:T6)=$G6,0,IF($G6*$E6/12<($G6-SUM($Q6:T6)),$G6*$E6/12,($G6-SUM($Q6:T6)))))","v":0},{"$f":"IF($D6>=V$3,0,IF(SUM($Q6:U6)=$G6,0,IF($G6*$E6/12<($G6-SUM($Q6:U6)),$G6*$E6/12,($G6-SUM($Q6:U6)))))","v":0},{"$f":"IF($D6>=W$3,0,IF(SUM($Q6:V6)=$G6,0,IF($G6*$E6/12<($G6-SUM($Q6:V6)),$G6*$E6/12,($G6-SUM($Q6:V6)))))","v":0},{"$f":"IF($D6>=X$3,0,IF(SUM($Q6:W6)=$G6,0,IF($G6*$E6/12<($G6-SUM($Q6:W6)),$G6*$E6/12,($G6-SUM($Q6:W6)))))","v":0},{"$f":"IF($D6>=Y$3,0,IF(SUM($Q6:X6)=$G6,0,IF($G6*$E6/12<($G6-SUM($Q6:X6)),$G6*$E6/12,($G6-SUM($Q6:X6)))))","v":0},{"$f":"IF($D6>=Z$3,0,IF(SUM($Q6:Y6)=$G6,0,IF($G6*$E6/12<($G6-SUM($Q6:Y6)),$G6*$E6/12,($G6-SUM($Q6:Y6)))))","v":0},{"$f":"IF($D6>=AA$3,0,IF(SUM($Q6:Z6)=$G6,0,IF($G6*$E6/12<($G6-SUM($Q6:Z6)),$G6*$E6/12,($G6-SUM($Q6:Z6)))))","v":0},{"$f":"IF($D6>=AB$3,0,IF(SUM($Q6:AA6)=$G6,0,IF($G6*$E6/12<($G6-SUM($Q6:AA6)),$G6*$E6/12,($G6-SUM($Q6:AA6)))))","v":0},{"$f":"IF($D6>=AC$3,0,IF(SUM($Q6:AB6)=$G6,0,IF($G6*$E6/12<($G6-SUM($Q6:AB6)),$G6*$E6/12,($G6-SUM($Q6:AB6)))))","v":0},{"$f":"IF($D6>=AD$3,0,IF(SUM($Q6:AC6)=$G6,0,IF($G6*$E6/12<($G6-SUM($Q6:AC6)),$G6*$E6/12,($G6-SUM($Q6:AC6)))))","v":0},{"$f":"IF($D6>=AE$3,0,IF(SUM($Q6:AD6)=$G6,0,IF($G6*$E6/12<($G6-SUM($Q6:AD6)),$G6*$E6/12,($G6-SUM($Q6:AD6)))))","v":0},{"$f":"IF($D6>=AF$3,0,IF(SUM($Q6:AE6)=$G6,0,IF($G6*$E6/12<($G6-SUM($Q6:AE6)),$G6*$E6/12,($G6-SUM($Q6:AE6)))))","v":0},{"$f":"IF($D6>=AG$3,0,IF(SUM($Q6:AF6)=$G6,0,IF($G6*$E6/12<($G6-SUM($Q6:AF6)),$G6*$E6/12,($G6-SUM($Q6:AF6)))))","v":0},{"$f":"IF($D6>=AH$3,0,IF(SUM($Q6:AG6)=$G6,0,IF($G6*$E6/12<($G6-SUM($Q6:AG6)),$G6*$E6/12,($G6-SUM($Q6:AG6)))))","v":0},{"$f":"IF($D6>=AI$3,0,IF(SUM($Q6:AH6)=$G6,0,IF($G6*$E6/12<($G6-SUM($Q6:AH6)),$G6*$E6/12,($G6-SUM($Q6:AH6)))))","v":0},{"$f":"IF($D6>=AJ$3,0,IF(SUM($Q6:AI6)=$G6,0,IF($G6*$E6/12<($G6-SUM($Q6:AI6)),$G6*$E6/12,($G6-SUM($Q6:AI6)))))","v":0},{"$f":"IF($D6>=AK$3,0,IF(SUM($Q6:AJ6)=$G6,0,IF($G6*$E6/12<($G6-SUM($Q6:AJ6)),$G6*$E6/12,($G6-SUM($Q6:AJ6)))))","v":0},{"$f":"IF($D6>=AL$3,0,IF(SUM($Q6:AK6)=$G6,0,IF($G6*$E6/12<($G6-SUM($Q6:AK6)),$G6*$E6/12,($G6-SUM($Q6:AK6)))))","v":0},{"$f":"IF($D6>=AM$3,0,IF(SUM($Q6:AL6)=$G6,0,IF($G6*$E6/12<($G6-SUM($Q6:AL6)),$G6*$E6/12,($G6-SUM($Q6:AL6)))))","v":0},{"$f":"IF($D6>=AN$3,0,IF(SUM($Q6:AM6)=$G6,0,IF($G6*$E6/12<($G6-SUM($Q6:AM6)),$G6*$E6/12,($G6-SUM($Q6:AM6)))))","v":0},{"$f":"IF($D6>=AO$3,0,IF(SUM($Q6:AN6)=$G6,0,IF($G6*$E6/12<($G6-SUM($Q6:AN6)),$G6*$E6/12,($G6-SUM($Q6:AN6)))))","v":0},{"$f":"IF($D6>=AP$3,0,IF(SUM($Q6:AO6)=$G6,0,IF($G6*$E6/12<($G6-SUM($Q6:AO6)),$G6*$E6/12,($G6-SUM($Q6:AO6)))))","v":0},{"$f":"IF($D6>=AQ$3,0,IF(SUM($Q6:AP6)=$G6,0,IF($G6*$E6/12<($G6-SUM($Q6:AP6)),$G6*$E6/12,($G6-SUM($Q6:AP6)))))","v":0},{"$f":"IF($D6>=AR$3,0,IF(SUM($Q6:AQ6)=$G6,0,IF($G6*$E6/12<($G6-SUM($Q6:AQ6)),$G6*$E6/12,($G6-SUM($Q6:AQ6)))))","v":0},{"$f":"IF($D6>=AS$3,0,IF(SUM($Q6:AR6)=$G6,0,IF($G6*$E6/12<($G6-SUM($Q6:AR6)),$G6*$E6/12,($G6-SUM($Q6:AR6)))))","v":0},{"$f":"IF($D6>=AT$3,0,IF(SUM($Q6:AS6)=$G6,0,IF($G6*$E6/12<($G6-SUM($Q6:AS6)),$G6*$E6/12,($G6-SUM($Q6:AS6)))))","v":0},{"$f":"IF($D6>=AU$3,0,IF(SUM($Q6:AT6)=$G6,0,IF($G6*$E6/12<($G6-SUM($Q6:AT6)),$G6*$E6/12,($G6-SUM($Q6:AT6)))))","v":0},{"$f":"IF($D6>=AV$3,0,IF(SUM($Q6:AU6)=$G6,0,IF($G6*$E6/12<($G6-SUM($Q6:AU6)),$G6*$E6/12,($G6-SUM($Q6:AU6)))))","v":0},{"$f":"IF($D6>=AW$3,0,IF(SUM($Q6:AV6)=$G6,0,IF($G6*$E6/12<($G6-SUM($Q6:AV6)),$G6*$E6/12,($G6-SUM($Q6:AV6)))))","v":0},{"$f":"IF($D6>=AX$3,0,IF(SUM($Q6:AW6)=$G6,0,IF($G6*$E6/12<($G6-SUM($Q6:AW6)),$G6*$E6/12,($G6-SUM($Q6:AW6)))))","v":0},{"$f":"IF($D6>=AY$3,0,IF(SUM($Q6:AX6)=$G6,0,IF($G6*$E6/12<($G6-SUM($Q6:AX6)),$G6*$E6/12,($G6-SUM($Q6:AX6)))))","v":0},{"$f":"IF($D6>=AZ$3,0,IF(SUM($Q6:AY6)=$G6,0,IF($G6*$E6/12<($G6-SUM($Q6:AY6)),$G6*$E6/12,($G6-SUM($Q6:AY6)))))","v":0},{"$f":"IF($D6>=BA$3,0,IF(SUM($Q6:AZ6)=$G6,0,IF($G6*$E6/12<($G6-SUM($Q6:AZ6)),$G6*$E6/12,($G6-SUM($Q6:AZ6)))))","v":0},{"$f":"IF($D6>=BB$3,0,IF(SUM($Q6:BA6)=$G6,0,IF($G6*$E6/12<($G6-SUM($Q6:BA6)),$G6*$E6/12,($G6-SUM($Q6:BA6)))))","v":0},{"$f":"IF($D6>=BC$3,0,IF(SUM($Q6:BB6)=$G6,0,IF($G6*$E6/12<($G6-SUM($Q6:BB6)),$G6*$E6/12,($G6-SUM($Q6:BB6)))))","v":0},{"$f":"IF($D6>=BD$3,0,IF(SUM($Q6:BC6)=$G6,0,IF($G6*$E6/12<($G6-SUM($Q6:BC6)),$G6*$E6/12,($G6-SUM($Q6:BC6)))))","v":0},{"$f":"IF($D6>=BE$3,0,IF(SUM($Q6:BD6)=$G6,0,IF($G6*$E6/12<($G6-SUM($Q6:BD6)),$G6*$E6/12,($G6-SUM($Q6:BD6)))))","v":0},{"$f":"IF($D6>=BF$3,0,IF(SUM($Q6:BE6)=$G6,0,IF($G6*$E6/12<($G6-SUM($Q6:BE6)),$G6*$E6/12,($G6-SUM($Q6:BE6)))))","v":0},{"$f":"IF($D6>=BG$3,0,IF(SUM($Q6:BF6)=$G6,0,IF($G6*$E6/12<($G6-SUM($Q6:BF6)),$G6*$E6/12,($G6-SUM($Q6:BF6)))))","v":0},{"$f":"IF($D6>=BH$3,0,IF(SUM($Q6:BG6)=$G6,0,IF($G6*$E6/12<($G6-SUM($Q6:BG6)),$G6*$E6/12,($G6-SUM($Q6:BG6)))))","v":0},{"$f":"IF($D6>=BI$3,0,IF(SUM($Q6:BH6)=$G6,0,IF($G6*$E6/12<($G6-SUM($Q6:BH6)),$G6*$E6/12,($G6-SUM($Q6:BH6)))))","v":0},{"$f":"IF($D6>=BJ$3,0,IF(SUM($Q6:BI6)=$G6,0,IF($G6*$E6/12<($G6-SUM($Q6:BI6)),$G6*$E6/12,($G6-SUM($Q6:BI6)))))","v":0},{"$f":"IF($D6>=BK$3,0,IF(SUM($Q6:BJ6)=$G6,0,IF($G6*$E6/12<($G6-SUM($Q6:BJ6)),$G6*$E6/12,($G6-SUM($Q6:BJ6)))))","v":0},{"$f":"IF($D6>=BL$3,0,IF(SUM($Q6:BK6)=$G6,0,IF($G6*$E6/12<($G6-SUM($Q6:BK6)),$G6*$E6/12,($G6-SUM($Q6:BK6)))))","v":0},{"$f":"IF($D6>=BM$3,0,IF(SUM($Q6:BL6)=$G6,0,IF($G6*$E6/12<($G6-SUM($Q6:BL6)),$G6*$E6/12,($G6-SUM($Q6:BL6)))))","v":0},{"$f":"IF($D6>=BN$3,0,IF(SUM($Q6:BM6)=$G6,0,IF($G6*$E6/12<($G6-SUM($Q6:BM6)),$G6*$E6/12,($G6-SUM($Q6:BM6)))))","v":0},{"$f":"IF($D6>=BO$3,0,IF(SUM($Q6:BN6)=$G6,0,IF($G6*$E6/12<($G6-SUM($Q6:BN6)),$G6*$E6/12,($G6-SUM($Q6:BN6)))))","v":0},{"$f":"IF($D6>=BP$3,0,IF(SUM($Q6:BO6)=$G6,0,IF($G6*$E6/12<($G6-SUM($Q6:BO6)),$G6*$E6/12,($G6-SUM($Q6:BO6)))))","v":0},{"$f":"IF($D6>=BQ$3,0,IF(SUM($Q6:BP6)=$G6,0,IF($G6*$E6/12<($G6-SUM($Q6:BP6)),$G6*$E6/12,($G6-SUM($Q6:BP6)))))","v":0},{"$f":"IF($D6>=BR$3,0,IF(SUM($Q6:BQ6)=$G6,0,IF($G6*$E6/12<($G6-SUM($Q6:BQ6)),$G6*$E6/12,($G6-SUM($Q6:BQ6)))))","v":0},{"$f":"IF($D6>=BS$3,0,IF(SUM($Q6:BR6)=$G6,0,IF($G6*$E6/12<($G6-SUM($Q6:BR6)),$G6*$E6/12,($G6-SUM($Q6:BR6)))))","v":0},{"$f":"IF($D6>=BT$3,0,IF(SUM($Q6:BS6)=$G6,0,IF($G6*$E6/12<($G6-SUM($Q6:BS6)),$G6*$E6/12,($G6-SUM($Q6:BS6)))))","v":0},{"$f":"IF($D6>=BU$3,0,IF(SUM($Q6:BT6)=$G6,0,IF($G6*$E6/12<($G6-SUM($Q6:BT6)),$G6*$E6/12,($G6-SUM($Q6:BT6)))))","v":0},{"$f":"IF($D6>=BV$3,0,IF(SUM($Q6:BU6)=$G6,0,IF($G6*$E6/12<($G6-SUM($Q6:BU6)),$G6*$E6/12,($G6-SUM($Q6:BU6)))))","v":0},{"$f":"IF($D6>=BW$3,0,IF(SUM($Q6:BV6)=$G6,0,IF($G6*$E6/12<($G6-SUM($Q6:BV6)),$G6*$E6/12,($G6-SUM($Q6:BV6)))))","v":0},{"$f":"IF($D6>=BX$3,0,IF(SUM($Q6:BW6)=$G6,0,IF($G6*$E6/12<($G6-SUM($Q6:BW6)),$G6*$E6/12,($G6-SUM($Q6:BW6)))))","v":0},{"$f":"IF($D6>=BY$3,0,IF(SUM($Q6:BX6)=$G6,0,IF($G6*$E6/12<($G6-SUM($Q6:BX6)),$G6*$E6/12,($G6-SUM($Q6:BX6)))))","v":0},{"$f":"IF($D6>=BZ$3,0,IF(SUM($Q6:BY6)=$G6,0,IF($G6*$E6/12<($G6-SUM($Q6:BY6)),$G6*$E6/12,($G6-SUM($Q6:BY6)))))","v":0},{"$f":"IF($D6>=CA$3,0,IF(SUM($Q6:BZ6)=$G6,0,IF($G6*$E6/12<($G6-SUM($Q6:BZ6)),$G6*$E6/12,($G6-SUM($Q6:BZ6)))))","v":0},{"$f":"IF($D6>=CB$3,0,IF(SUM($Q6:CA6)=$G6,0,IF($G6*$E6/12<($G6-SUM($Q6:CA6)),$G6*$E6/12,($G6-SUM($Q6:CA6)))))","v":0},{"$f":"IF($D6>=CC$3,0,IF(SUM($Q6:CB6)=$G6,0,IF($G6*$E6/12<($G6-SUM($Q6:CB6)),$G6*$E6/12,($G6-SUM($Q6:CB6)))))","v":0},{"$f":"IF($D6>=CD$3,0,IF(SUM($Q6:CC6)=$G6,0,IF($G6*$E6/12<($G6-SUM($Q6:CC6)),$G6*$E6/12,($G6-SUM($Q6:CC6)))))","v":0},{"$f":"IF($D6>=CE$3,0,IF(SUM($Q6:CD6)=$G6,0,IF($G6*$E6/12<($G6-SUM($Q6:CD6)),$G6*$E6/12,($G6-SUM($Q6:CD6)))))","v":0},{"$f":"IF($D6>=CF$3,0,IF(SUM($Q6:CE6)=$G6,0,IF($G6*$E6/12<($G6-SUM($Q6:CE6)),$G6*$E6/12,($G6-SUM($Q6:CE6)))))","v":0},{"$f":"IF($D6>=CG$3,0,IF(SUM($Q6:CF6)=$G6,0,IF($G6*$E6/12<($G6-SUM($Q6:CF6)),$G6*$E6/12,($G6-SUM($Q6:CF6)))))","v":0},{"$f":"IF($D6>=CH$3,0,IF(SUM($Q6:CG6)=$G6,0,IF($G6*$E6/12<($G6-SUM($Q6:CG6)),$G6*$E6/12,($G6-SUM($Q6:CG6)))))","v":0},{"$f":"IF($D6>=CI$3,0,IF(SUM($Q6:CH6)=$G6,0,IF($G6*$E6/12<($G6-SUM($Q6:CH6)),$G6*$E6/12,($G6-SUM($Q6:CH6)))))","v":0},{"$f":"IF($D6>=CJ$3,0,IF(SUM($Q6:CI6)=$G6,0,IF($G6*$E6/12<($G6-SUM($Q6:CI6)),$G6*$E6/12,($G6-SUM($Q6:CI6)))))","v":0},{"$f":"IF($D6>=CK$3,0,IF(SUM($Q6:CJ6)=$G6,0,IF($G6*$E6/12<($G6-SUM($Q6:CJ6)),$G6*$E6/12,($G6-SUM($Q6:CJ6)))))","v":0},{"$f":"IF($D6>=CL$3,0,IF(SUM($Q6:CK6)=$G6,0,IF($G6*$E6/12<($G6-SUM($Q6:CK6)),$G6*$E6/12,($G6-SUM($Q6:CK6)))))","v":0},{"$f":"IF($D6>=CM$3,0,IF(SUM($Q6:CL6)=$G6,0,IF($G6*$E6/12<($G6-SUM($Q6:CL6)),$G6*$E6/12,($G6-SUM($Q6:CL6)))))","v":0},{"$f":"IF($D6>=CN$3,0,IF(SUM($Q6:CM6)=$G6,0,IF($G6*$E6/12<($G6-SUM($Q6:CM6)),$G6*$E6/12,($G6-SUM($Q6:CM6)))))","v":0},{"$f":"IF($D6>=CO$3,0,IF(SUM($Q6:CN6)=$G6,0,IF($G6*$E6/12<($G6-SUM($Q6:CN6)),$G6*$E6/12,($G6-SUM($Q6:CN6)))))","v":0},{"$f":"IF($D6>=CP$3,0,IF(SUM($Q6:CO6)=$G6,0,IF($G6*$E6/12<($G6-SUM($Q6:CO6)),$G6*$E6/12,($G6-SUM($Q6:CO6)))))","v":0},{"$f":"IF($D6>=CQ$3,0,IF(SUM($Q6:CP6)=$G6,0,IF($G6*$E6/12<($G6-SUM($Q6:CP6)),$G6*$E6/12,($G6-SUM($Q6:CP6)))))","v":0},{"$f":"IF($D6>=CR$3,0,IF(SUM($Q6:CQ6)=$G6,0,IF($G6*$E6/12<($G6-SUM($Q6:CQ6)),$G6*$E6/12,($G6-SUM($Q6:CQ6)))))","v":0},{"$f":"IF($D6>=CS$3,0,IF(SUM($Q6:CR6)=$G6,0,IF($G6*$E6/12<($G6-SUM($Q6:CR6)),$G6*$E6/12,($G6-SUM($Q6:CR6)))))","v":0},{"$f":"IF($D6>=CT$3,0,IF(SUM($Q6:CS6)=$G6,0,IF($G6*$E6/12<($G6-SUM($Q6:CS6)),$G6*$E6/12,($G6-SUM($Q6:CS6)))))","v":0},{"$f":"IF($D6>=CU$3,0,IF(SUM($Q6:CT6)=$G6,0,IF($G6*$E6/12<($G6-SUM($Q6:CT6)),$G6*$E6/12,($G6-SUM($Q6:CT6)))))","v":0},{"$f":"IF($D6>=CV$3,0,IF(SUM($Q6:CU6)=$G6,0,IF($G6*$E6/12<($G6-SUM($Q6:CU6)),$G6*$E6/12,($G6-SUM($Q6:CU6)))))","v":0}]
[{"$f":"IF(D7<EOMONTH($D$2,-12),\"Fuera de plazo\",IF(D7>BALANCE!$J$3,\"Fuera de plazo\",\"\"))","v":""},"Edificios",null,"2013-06-30",0.03,0.21,{"$f":"IF(YEAR(D7)<=YEAR($D$2),C7*RIESGO!$C$4,C7*RIESGO!$C$4*(1+CONTROL!$H$4)^(YEAR(D7)-YEAR($D$2)))","v":0},0,0,0,0,0,0,0,0,null,{"$f":"IF(D7>=$Q$3,0,$E7/12*$G7)","v":0},{"$f":"IF($D7>=R$3,0,IF(SUM($Q7:Q7)=$G7,0,IF($G7*$E7/12<($G7-SUM($Q7:Q7)),$G7*$E7/12,($G7-SUM($Q7:Q7)))))","v":0},{"$f":"IF($D7>=S$3,0,IF(SUM($Q7:R7)=$G7,0,IF($G7*$E7/12<($G7-SUM($Q7:R7)),$G7*$E7/12,($G7-SUM($Q7:R7)))))","v":0},{"$f":"IF($D7>=T$3,0,IF(SUM($Q7:S7)=$G7,0,IF($G7*$E7/12<($G7-SUM($Q7:S7)),$G7*$E7/12,($G7-SUM($Q7:S7)))))","v":0},{"$f":"IF($D7>=U$3,0,IF(SUM($Q7:T7)=$G7,0,IF($G7*$E7/12<($G7-SUM($Q7:T7)),$G7*$E7/12,($G7-SUM($Q7:T7)))))","v":0},{"$f":"IF($D7>=V$3,0,IF(SUM($Q7:U7)=$G7,0,IF($G7*$E7/12<($G7-SUM($Q7:U7)),$G7*$E7/12,($G7-SUM($Q7:U7)))))","v":0},{"$f":"IF($D7>=W$3,0,IF(SUM($Q7:V7)=$G7,0,IF($G7*$E7/12<($G7-SUM($Q7:V7)),$G7*$E7/12,($G7-SUM($Q7:V7)))))","v":0},{"$f":"IF($D7>=X$3,0,IF(SUM($Q7:W7)=$G7,0,IF($G7*$E7/12<($G7-SUM($Q7:W7)),$G7*$E7/12,($G7-SUM($Q7:W7)))))","v":0},{"$f":"IF($D7>=Y$3,0,IF(SUM($Q7:X7)=$G7,0,IF($G7*$E7/12<($G7-SUM($Q7:X7)),$G7*$E7/12,($G7-SUM($Q7:X7)))))","v":0},{"$f":"IF($D7>=Z$3,0,IF(SUM($Q7:Y7)=$G7,0,IF($G7*$E7/12<($G7-SUM($Q7:Y7)),$G7*$E7/12,($G7-SUM($Q7:Y7)))))","v":0},{"$f":"IF($D7>=AA$3,0,IF(SUM($Q7:Z7)=$G7,0,IF($G7*$E7/12<($G7-SUM($Q7:Z7)),$G7*$E7/12,($G7-SUM($Q7:Z7)))))","v":0},{"$f":"IF($D7>=AB$3,0,IF(SUM($Q7:AA7)=$G7,0,IF($G7*$E7/12<($G7-SUM($Q7:AA7)),$G7*$E7/12,($G7-SUM($Q7:AA7)))))","v":0},{"$f":"IF($D7>=AC$3,0,IF(SUM($Q7:AB7)=$G7,0,IF($G7*$E7/12<($G7-SUM($Q7:AB7)),$G7*$E7/12,($G7-SUM($Q7:AB7)))))","v":0},{"$f":"IF($D7>=AD$3,0,IF(SUM($Q7:AC7)=$G7,0,IF($G7*$E7/12<($G7-SUM($Q7:AC7)),$G7*$E7/12,($G7-SUM($Q7:AC7)))))","v":0},{"$f":"IF($D7>=AE$3,0,IF(SUM($Q7:AD7)=$G7,0,IF($G7*$E7/12<($G7-SUM($Q7:AD7)),$G7*$E7/12,($G7-SUM($Q7:AD7)))))","v":0},{"$f":"IF($D7>=AF$3,0,IF(SUM($Q7:AE7)=$G7,0,IF($G7*$E7/12<($G7-SUM($Q7:AE7)),$G7*$E7/12,($G7-SUM($Q7:AE7)))))","v":0},{"$f":"IF($D7>=AG$3,0,IF(SUM($Q7:AF7)=$G7,0,IF($G7*$E7/12<($G7-SUM($Q7:AF7)),$G7*$E7/12,($G7-SUM($Q7:AF7)))))","v":0},{"$f":"IF($D7>=AH$3,0,IF(SUM($Q7:AG7)=$G7,0,IF($G7*$E7/12<($G7-SUM($Q7:AG7)),$G7*$E7/12,($G7-SUM($Q7:AG7)))))","v":0},{"$f":"IF($D7>=AI$3,0,IF(SUM($Q7:AH7)=$G7,0,IF($G7*$E7/12<($G7-SUM($Q7:AH7)),$G7*$E7/12,($G7-SUM($Q7:AH7)))))","v":0},{"$f":"IF($D7>=AJ$3,0,IF(SUM($Q7:AI7)=$G7,0,IF($G7*$E7/12<($G7-SUM($Q7:AI7)),$G7*$E7/12,($G7-SUM($Q7:AI7)))))","v":0},{"$f":"IF($D7>=AK$3,0,IF(SUM($Q7:AJ7)=$G7,0,IF($G7*$E7/12<($G7-SUM($Q7:AJ7)),$G7*$E7/12,($G7-SUM($Q7:AJ7)))))","v":0},{"$f":"IF($D7>=AL$3,0,IF(SUM($Q7:AK7)=$G7,0,IF($G7*$E7/12<($G7-SUM($Q7:AK7)),$G7*$E7/12,($G7-SUM($Q7:AK7)))))","v":0},{"$f":"IF($D7>=AM$3,0,IF(SUM($Q7:AL7)=$G7,0,IF($G7*$E7/12<($G7-SUM($Q7:AL7)),$G7*$E7/12,($G7-SUM($Q7:AL7)))))","v":0},{"$f":"IF($D7>=AN$3,0,IF(SUM($Q7:AM7)=$G7,0,IF($G7*$E7/12<($G7-SUM($Q7:AM7)),$G7*$E7/12,($G7-SUM($Q7:AM7)))))","v":0},{"$f":"IF($D7>=AO$3,0,IF(SUM($Q7:AN7)=$G7,0,IF($G7*$E7/12<($G7-SUM($Q7:AN7)),$G7*$E7/12,($G7-SUM($Q7:AN7)))))","v":0},{"$f":"IF($D7>=AP$3,0,IF(SUM($Q7:AO7)=$G7,0,IF($G7*$E7/12<($G7-SUM($Q7:AO7)),$G7*$E7/12,($G7-SUM($Q7:AO7)))))","v":0},{"$f":"IF($D7>=AQ$3,0,IF(SUM($Q7:AP7)=$G7,0,IF($G7*$E7/12<($G7-SUM($Q7:AP7)),$G7*$E7/12,($G7-SUM($Q7:AP7)))))","v":0},{"$f":"IF($D7>=AR$3,0,IF(SUM($Q7:AQ7)=$G7,0,IF($G7*$E7/12<($G7-SUM($Q7:AQ7)),$G7*$E7/12,($G7-SUM($Q7:AQ7)))))","v":0},{"$f":"IF($D7>=AS$3,0,IF(SUM($Q7:AR7)=$G7,0,IF($G7*$E7/12<($G7-SUM($Q7:AR7)),$G7*$E7/12,($G7-SUM($Q7:AR7)))))","v":0},{"$f":"IF($D7>=AT$3,0,IF(SUM($Q7:AS7)=$G7,0,IF($G7*$E7/12<($G7-SUM($Q7:AS7)),$G7*$E7/12,($G7-SUM($Q7:AS7)))))","v":0},{"$f":"IF($D7>=AU$3,0,IF(SUM($Q7:AT7)=$G7,0,IF($G7*$E7/12<($G7-SUM($Q7:AT7)),$G7*$E7/12,($G7-SUM($Q7:AT7)))))","v":0},{"$f":"IF($D7>=AV$3,0,IF(SUM($Q7:AU7)=$G7,0,IF($G7*$E7/12<($G7-SUM($Q7:AU7)),$G7*$E7/12,($G7-SUM($Q7:AU7)))))","v":0},{"$f":"IF($D7>=AW$3,0,IF(SUM($Q7:AV7)=$G7,0,IF($G7*$E7/12<($G7-SUM($Q7:AV7)),$G7*$E7/12,($G7-SUM($Q7:AV7)))))","v":0},{"$f":"IF($D7>=AX$3,0,IF(SUM($Q7:AW7)=$G7,0,IF($G7*$E7/12<($G7-SUM($Q7:AW7)),$G7*$E7/12,($G7-SUM($Q7:AW7)))))","v":0},{"$f":"IF($D7>=AY$3,0,IF(SUM($Q7:AX7)=$G7,0,IF($G7*$E7/12<($G7-SUM($Q7:AX7)),$G7*$E7/12,($G7-SUM($Q7:AX7)))))","v":0},{"$f":"IF($D7>=AZ$3,0,IF(SUM($Q7:AY7)=$G7,0,IF($G7*$E7/12<($G7-SUM($Q7:AY7)),$G7*$E7/12,($G7-SUM($Q7:AY7)))))","v":0},{"$f":"IF($D7>=BA$3,0,IF(SUM($Q7:AZ7)=$G7,0,IF($G7*$E7/12<($G7-SUM($Q7:AZ7)),$G7*$E7/12,($G7-SUM($Q7:AZ7)))))","v":0},{"$f":"IF($D7>=BB$3,0,IF(SUM($Q7:BA7)=$G7,0,IF($G7*$E7/12<($G7-SUM($Q7:BA7)),$G7*$E7/12,($G7-SUM($Q7:BA7)))))","v":0},{"$f":"IF($D7>=BC$3,0,IF(SUM($Q7:BB7)=$G7,0,IF($G7*$E7/12<($G7-SUM($Q7:BB7)),$G7*$E7/12,($G7-SUM($Q7:BB7)))))","v":0},{"$f":"IF($D7>=BD$3,0,IF(SUM($Q7:BC7)=$G7,0,IF($G7*$E7/12<($G7-SUM($Q7:BC7)),$G7*$E7/12,($G7-SUM($Q7:BC7)))))","v":0},{"$f":"IF($D7>=BE$3,0,IF(SUM($Q7:BD7)=$G7,0,IF($G7*$E7/12<($G7-SUM($Q7:BD7)),$G7*$E7/12,($G7-SUM($Q7:BD7)))))","v":0},{"$f":"IF($D7>=BF$3,0,IF(SUM($Q7:BE7)=$G7,0,IF($G7*$E7/12<($G7-SUM($Q7:BE7)),$G7*$E7/12,($G7-SUM($Q7:BE7)))))","v":0},{"$f":"IF($D7>=BG$3,0,IF(SUM($Q7:BF7)=$G7,0,IF($G7*$E7/12<($G7-SUM($Q7:BF7)),$G7*$E7/12,($G7-SUM($Q7:BF7)))))","v":0},{"$f":"IF($D7>=BH$3,0,IF(SUM($Q7:BG7)=$G7,0,IF($G7*$E7/12<($G7-SUM($Q7:BG7)),$G7*$E7/12,($G7-SUM($Q7:BG7)))))","v":0},{"$f":"IF($D7>=BI$3,0,IF(SUM($Q7:BH7)=$G7,0,IF($G7*$E7/12<($G7-SUM($Q7:BH7)),$G7*$E7/12,($G7-SUM($Q7:BH7)))))","v":0},{"$f":"IF($D7>=BJ$3,0,IF(SUM($Q7:BI7)=$G7,0,IF($G7*$E7/12<($G7-SUM($Q7:BI7)),$G7*$E7/12,($G7-SUM($Q7:BI7)))))","v":0},{"$f":"IF($D7>=BK$3,0,IF(SUM($Q7:BJ7)=$G7,0,IF($G7*$E7/12<($G7-SUM($Q7:BJ7)),$G7*$E7/12,($G7-SUM($Q7:BJ7)))))","v":0},{"$f":"IF($D7>=BL$3,0,IF(SUM($Q7:BK7)=$G7,0,IF($G7*$E7/12<($G7-SUM($Q7:BK7)),$G7*$E7/12,($G7-SUM($Q7:BK7)))))","v":0},{"$f":"IF($D7>=BM$3,0,IF(SUM($Q7:BL7)=$G7,0,IF($G7*$E7/12<($G7-SUM($Q7:BL7)),$G7*$E7/12,($G7-SUM($Q7:BL7)))))","v":0},{"$f":"IF($D7>=BN$3,0,IF(SUM($Q7:BM7)=$G7,0,IF($G7*$E7/12<($G7-SUM($Q7:BM7)),$G7*$E7/12,($G7-SUM($Q7:BM7)))))","v":0},{"$f":"IF($D7>=BO$3,0,IF(SUM($Q7:BN7)=$G7,0,IF($G7*$E7/12<($G7-SUM($Q7:BN7)),$G7*$E7/12,($G7-SUM($Q7:BN7)))))","v":0},{"$f":"IF($D7>=BP$3,0,IF(SUM($Q7:BO7)=$G7,0,IF($G7*$E7/12<($G7-SUM($Q7:BO7)),$G7*$E7/12,($G7-SUM($Q7:BO7)))))","v":0},{"$f":"IF($D7>=BQ$3,0,IF(SUM($Q7:BP7)=$G7,0,IF($G7*$E7/12<($G7-SUM($Q7:BP7)),$G7*$E7/12,($G7-SUM($Q7:BP7)))))","v":0},{"$f":"IF($D7>=BR$3,0,IF(SUM($Q7:BQ7)=$G7,0,IF($G7*$E7/12<($G7-SUM($Q7:BQ7)),$G7*$E7/12,($G7-SUM($Q7:BQ7)))))","v":0},{"$f":"IF($D7>=BS$3,0,IF(SUM($Q7:BR7)=$G7,0,IF($G7*$E7/12<($G7-SUM($Q7:BR7)),$G7*$E7/12,($G7-SUM($Q7:BR7)))))","v":0},{"$f":"IF($D7>=BT$3,0,IF(SUM($Q7:BS7)=$G7,0,IF($G7*$E7/12<($G7-SUM($Q7:BS7)),$G7*$E7/12,($G7-SUM($Q7:BS7)))))","v":0},{"$f":"IF($D7>=BU$3,0,IF(SUM($Q7:BT7)=$G7,0,IF($G7*$E7/12<($G7-SUM($Q7:BT7)),$G7*$E7/12,($G7-SUM($Q7:BT7)))))","v":0},{"$f":"IF($D7>=BV$3,0,IF(SUM($Q7:BU7)=$G7,0,IF($G7*$E7/12<($G7-SUM($Q7:BU7)),$G7*$E7/12,($G7-SUM($Q7:BU7)))))","v":0},{"$f":"IF($D7>=BW$3,0,IF(SUM($Q7:BV7)=$G7,0,IF($G7*$E7/12<($G7-SUM($Q7:BV7)),$G7*$E7/12,($G7-SUM($Q7:BV7)))))","v":0},{"$f":"IF($D7>=BX$3,0,IF(SUM($Q7:BW7)=$G7,0,IF($G7*$E7/12<($G7-SUM($Q7:BW7)),$G7*$E7/12,($G7-SUM($Q7:BW7)))))","v":0},{"$f":"IF($D7>=BY$3,0,IF(SUM($Q7:BX7)=$G7,0,IF($G7*$E7/12<($G7-SUM($Q7:BX7)),$G7*$E7/12,($G7-SUM($Q7:BX7)))))","v":0},{"$f":"IF($D7>=BZ$3,0,IF(SUM($Q7:BY7)=$G7,0,IF($G7*$E7/12<($G7-SUM($Q7:BY7)),$G7*$E7/12,($G7-SUM($Q7:BY7)))))","v":0},{"$f":"IF($D7>=CA$3,0,IF(SUM($Q7:BZ7)=$G7,0,IF($G7*$E7/12<($G7-SUM($Q7:BZ7)),$G7*$E7/12,($G7-SUM($Q7:BZ7)))))","v":0},{"$f":"IF($D7>=CB$3,0,IF(SUM($Q7:CA7)=$G7,0,IF($G7*$E7/12<($G7-SUM($Q7:CA7)),$G7*$E7/12,($G7-SUM($Q7:CA7)))))","v":0},{"$f":"IF($D7>=CC$3,0,IF(SUM($Q7:CB7)=$G7,0,IF($G7*$E7/12<($G7-SUM($Q7:CB7)),$G7*$E7/12,($G7-SUM($Q7:CB7)))))","v":0},{"$f":"IF($D7>=CD$3,0,IF(SUM($Q7:CC7)=$G7,0,IF($G7*$E7/12<($G7-SUM($Q7:CC7)),$G7*$E7/12,($G7-SUM($Q7:CC7)))))","v":0},{"$f":"IF($D7>=CE$3,0,IF(SUM($Q7:CD7)=$G7,0,IF($G7*$E7/12<($G7-SUM($Q7:CD7)),$G7*$E7/12,($G7-SUM($Q7:CD7)))))","v":0},{"$f":"IF($D7>=CF$3,0,IF(SUM($Q7:CE7)=$G7,0,IF($G7*$E7/12<($G7-SUM($Q7:CE7)),$G7*$E7/12,($G7-SUM($Q7:CE7)))))","v":0},{"$f":"IF($D7>=CG$3,0,IF(SUM($Q7:CF7)=$G7,0,IF($G7*$E7/12<($G7-SUM($Q7:CF7)),$G7*$E7/12,($G7-SUM($Q7:CF7)))))","v":0},{"$f":"IF($D7>=CH$3,0,IF(SUM($Q7:CG7)=$G7,0,IF($G7*$E7/12<($G7-SUM($Q7:CG7)),$G7*$E7/12,($G7-SUM($Q7:CG7)))))","v":0},{"$f":"IF($D7>=CI$3,0,IF(SUM($Q7:CH7)=$G7,0,IF($G7*$E7/12<($G7-SUM($Q7:CH7)),$G7*$E7/12,($G7-SUM($Q7:CH7)))))","v":0},{"$f":"IF($D7>=CJ$3,0,IF(SUM($Q7:CI7)=$G7,0,IF($G7*$E7/12<($G7-SUM($Q7:CI7)),$G7*$E7/12,($G7-SUM($Q7:CI7)))))","v":0},{"$f":"IF($D7>=CK$3,0,IF(SUM($Q7:CJ7)=$G7,0,IF($G7*$E7/12<($G7-SUM($Q7:CJ7)),$G7*$E7/12,($G7-SUM($Q7:CJ7)))))","v":0},{"$f":"IF($D7>=CL$3,0,IF(SUM($Q7:CK7)=$G7,0,IF($G7*$E7/12<($G7-SUM($Q7:CK7)),$G7*$E7/12,($G7-SUM($Q7:CK7)))))","v":0},{"$f":"IF($D7>=CM$3,0,IF(SUM($Q7:CL7)=$G7,0,IF($G7*$E7/12<($G7-SUM($Q7:CL7)),$G7*$E7/12,($G7-SUM($Q7:CL7)))))","v":0},{"$f":"IF($D7>=CN$3,0,IF(SUM($Q7:CM7)=$G7,0,IF($G7*$E7/12<($G7-SUM($Q7:CM7)),$G7*$E7/12,($G7-SUM($Q7:CM7)))))","v":0},{"$f":"IF($D7>=CO$3,0,IF(SUM($Q7:CN7)=$G7,0,IF($G7*$E7/12<($G7-SUM($Q7:CN7)),$G7*$E7/12,($G7-SUM($Q7:CN7)))))","v":0},{"$f":"IF($D7>=CP$3,0,IF(SUM($Q7:CO7)=$G7,0,IF($G7*$E7/12<($G7-SUM($Q7:CO7)),$G7*$E7/12,($G7-SUM($Q7:CO7)))))","v":0},{"$f":"IF($D7>=CQ$3,0,IF(SUM($Q7:CP7)=$G7,0,IF($G7*$E7/12<($G7-SUM($Q7:CP7)),$G7*$E7/12,($G7-SUM($Q7:CP7)))))","v":0},{"$f":"IF($D7>=CR$3,0,IF(SUM($Q7:CQ7)=$G7,0,IF($G7*$E7/12<($G7-SUM($Q7:CQ7)),$G7*$E7/12,($G7-SUM($Q7:CQ7)))))","v":0},{"$f":"IF($D7>=CS$3,0,IF(SUM($Q7:CR7)=$G7,0,IF($G7*$E7/12<($G7-SUM($Q7:CR7)),$G7*$E7/12,($G7-SUM($Q7:CR7)))))","v":0},{"$f":"IF($D7>=CT$3,0,IF(SUM($Q7:CS7)=$G7,0,IF($G7*$E7/12<($G7-SUM($Q7:CS7)),$G7*$E7/12,($G7-SUM($Q7:CS7)))))","v":0},{"$f":"IF($D7>=CU$3,0,IF(SUM($Q7:CT7)=$G7,0,IF($G7*$E7/12<($G7-SUM($Q7:CT7)),$G7*$E7/12,($G7-SUM($Q7:CT7)))))","v":0},{"$f":"IF($D7>=CV$3,0,IF(SUM($Q7:CU7)=$G7,0,IF($G7*$E7/12<($G7-SUM($Q7:CU7)),$G7*$E7/12,($G7-SUM($Q7:CU7)))))","v":0}]
[{"$f":"IF(D8<EOMONTH($D$2,-12),\"Fuera de plazo\",IF(D8>BALANCE!$J$3,\"Fuera de plazo\",\"\"))","v":""},"Edificios",null,"2013-12-31",0.03,0.21,{"$f":"IF(YEAR(D8)<=YEAR($D$2),C8*RIESGO!$C$4,C8*RIESGO!$C$4*(1+CONTROL!$H$4)^(YEAR(D8)-YEAR($D$2)))","v":0},0,0,0,0,0,0,0,0,null,0,{"$f":"IF($D8>=R$3,0,IF(SUM($Q8:Q8)=$G8,0,IF($G8*$E8/12<($G8-SUM($Q8:Q8)),$G8*$E8/12,($G8-SUM($Q8:Q8)))))","v":0},{"$f":"IF($D8>=S$3,0,IF(SUM($Q8:R8)=$G8,0,IF($G8*$E8/12<($G8-SUM($Q8:R8)),$G8*$E8/12,($G8-SUM($Q8:R8)))))","v":0},{"$f":"IF($D8>=T$3,0,IF(SUM($Q8:S8)=$G8,0,IF($G8*$E8/12<($G8-SUM($Q8:S8)),$G8*$E8/12,($G8-SUM($Q8:S8)))))","v":0},{"$f":"IF($D8>=U$3,0,IF(SUM($Q8:T8)=$G8,0,IF($G8*$E8/12<($G8-SUM($Q8:T8)),$G8*$E8/12,($G8-SUM($Q8:T8)))))","v":0},{"$f":"IF($D8>=V$3,0,IF(SUM($Q8:U8)=$G8,0,IF($G8*$E8/12<($G8-SUM($Q8:U8)),$G8*$E8/12,($G8-SUM($Q8:U8)))))","v":0},{"$f":"IF($D8>=W$3,0,IF(SUM($Q8:V8)=$G8,0,IF($G8*$E8/12<($G8-SUM($Q8:V8)),$G8*$E8/12,($G8-SUM($Q8:V8)))))","v":0},{"$f":"IF($D8>=X$3,0,IF(SUM($Q8:W8)=$G8,0,IF($G8*$E8/12<($G8-SUM($Q8:W8)),$G8*$E8/12,($G8-SUM($Q8:W8)))))","v":0},{"$f":"IF($D8>=Y$3,0,IF(SUM($Q8:X8)=$G8,0,IF($G8*$E8/12<($G8-SUM($Q8:X8)),$G8*$E8/12,($G8-SUM($Q8:X8)))))","v":0},{"$f":"IF($D8>=Z$3,0,IF(SUM($Q8:Y8)=$G8,0,IF($G8*$E8/12<($G8-SUM($Q8:Y8)),$G8*$E8/12,($G8-SUM($Q8:Y8)))))","v":0},{"$f":"IF($D8>=AA$3,0,IF(SUM($Q8:Z8)=$G8,0,IF($G8*$E8/12<($G8-SUM($Q8:Z8)),$G8*$E8/12,($G8-SUM($Q8:Z8)))))","v":0},{"$f":"IF($D8>=AB$3,0,IF(SUM($Q8:AA8)=$G8,0,IF($G8*$E8/12<($G8-SUM($Q8:AA8)),$G8*$E8/12,($G8-SUM($Q8:AA8)))))","v":0},{"$f":"IF($D8>=AC$3,0,IF(SUM($Q8:AB8)=$G8,0,IF($G8*$E8/12<($G8-SUM($Q8:AB8)),$G8*$E8/12,($G8-SUM($Q8:AB8)))))","v":0},{"$f":"IF($D8>=AD$3,0,IF(SUM($Q8:AC8)=$G8,0,IF($G8*$E8/12<($G8-SUM($Q8:AC8)),$G8*$E8/12,($G8-SUM($Q8:AC8)))))","v":0},{"$f":"IF($D8>=AE$3,0,IF(SUM($Q8:AD8)=$G8,0,IF($G8*$E8/12<($G8-SUM($Q8:AD8)),$G8*$E8/12,($G8-SUM($Q8:AD8)))))","v":0},{"$f":"IF($D8>=AF$3,0,IF(SUM($Q8:AE8)=$G8,0,IF($G8*$E8/12<($G8-SUM($Q8:AE8)),$G8*$E8/12,($G8-SUM($Q8:AE8)))))","v":0},{"$f":"IF($D8>=AG$3,0,IF(SUM($Q8:AF8)=$G8,0,IF($G8*$E8/12<($G8-SUM($Q8:AF8)),$G8*$E8/12,($G8-SUM($Q8:AF8)))))","v":0},{"$f":"IF($D8>=AH$3,0,IF(SUM($Q8:AG8)=$G8,0,IF($G8*$E8/12<($G8-SUM($Q8:AG8)),$G8*$E8/12,($G8-SUM($Q8:AG8)))))","v":0},{"$f":"IF($D8>=AI$3,0,IF(SUM($Q8:AH8)=$G8,0,IF($G8*$E8/12<($G8-SUM($Q8:AH8)),$G8*$E8/12,($G8-SUM($Q8:AH8)))))","v":0},{"$f":"IF($D8>=AJ$3,0,IF(SUM($Q8:AI8)=$G8,0,IF($G8*$E8/12<($G8-SUM($Q8:AI8)),$G8*$E8/12,($G8-SUM($Q8:AI8)))))","v":0},{"$f":"IF($D8>=AK$3,0,IF(SUM($Q8:AJ8)=$G8,0,IF($G8*$E8/12<($G8-SUM($Q8:AJ8)),$G8*$E8/12,($G8-SUM($Q8:AJ8)))))","v":0},{"$f":"IF($D8>=AL$3,0,IF(SUM($Q8:AK8)=$G8,0,IF($G8*$E8/12<($G8-SUM($Q8:AK8)),$G8*$E8/12,($G8-SUM($Q8:AK8)))))","v":0},{"$f":"IF($D8>=AM$3,0,IF(SUM($Q8:AL8)=$G8,0,IF($G8*$E8/12<($G8-SUM($Q8:AL8)),$G8*$E8/12,($G8-SUM($Q8:AL8)))))","v":0},{"$f":"IF($D8>=AN$3,0,IF(SUM($Q8:AM8)=$G8,0,IF($G8*$E8/12<($G8-SUM($Q8:AM8)),$G8*$E8/12,($G8-SUM($Q8:AM8)))))","v":0},{"$f":"IF($D8>=AO$3,0,IF(SUM($Q8:AN8)=$G8,0,IF($G8*$E8/12<($G8-SUM($Q8:AN8)),$G8*$E8/12,($G8-SUM($Q8:AN8)))))","v":0},{"$f":"IF($D8>=AP$3,0,IF(SUM($Q8:AO8)=$G8,0,IF($G8*$E8/12<($G8-SUM($Q8:AO8)),$G8*$E8/12,($G8-SUM($Q8:AO8)))))","v":0},{"$f":"IF($D8>=AQ$3,0,IF(SUM($Q8:AP8)=$G8,0,IF($G8*$E8/12<($G8-SUM($Q8:AP8)),$G8*$E8/12,($G8-SUM($Q8:AP8)))))","v":0},{"$f":"IF($D8>=AR$3,0,IF(SUM($Q8:AQ8)=$G8,0,IF($G8*$E8/12<($G8-SUM($Q8:AQ8)),$G8*$E8/12,($G8-SUM($Q8:AQ8)))))","v":0},{"$f":"IF($D8>=AS$3,0,IF(SUM($Q8:AR8)=$G8,0,IF($G8*$E8/12<($G8-SUM($Q8:AR8)),$G8*$E8/12,($G8-SUM($Q8:AR8)))))","v":0},{"$f":"IF($D8>=AT$3,0,IF(SUM($Q8:AS8)=$G8,0,IF($G8*$E8/12<($G8-SUM($Q8:AS8)),$G8*$E8/12,($G8-SUM($Q8:AS8)))))","v":0},{"$f":"IF($D8>=AU$3,0,IF(SUM($Q8:AT8)=$G8,0,IF($G8*$E8/12<($G8-SUM($Q8:AT8)),$G8*$E8/12,($G8-SUM($Q8:AT8)))))","v":0},{"$f":"IF($D8>=AV$3,0,IF(SUM($Q8:AU8)=$G8,0,IF($G8*$E8/12<($G8-SUM($Q8:AU8)),$G8*$E8/12,($G8-SUM($Q8:AU8)))))","v":0},{"$f":"IF($D8>=AW$3,0,IF(SUM($Q8:AV8)=$G8,0,IF($G8*$E8/12<($G8-SUM($Q8:AV8)),$G8*$E8/12,($G8-SUM($Q8:AV8)))))","v":0},{"$f":"IF($D8>=AX$3,0,IF(SUM($Q8:AW8)=$G8,0,IF($G8*$E8/12<($G8-SUM($Q8:AW8)),$G8*$E8/12,($G8-SUM($Q8:AW8)))))","v":0},{"$f":"IF($D8>=AY$3,0,IF(SUM($Q8:AX8)=$G8,0,IF($G8*$E8/12<($G8-SUM($Q8:AX8)),$G8*$E8/12,($G8-SUM($Q8:AX8)))))","v":0},{"$f":"IF($D8>=AZ$3,0,IF(SUM($Q8:AY8)=$G8,0,IF($G8*$E8/12<($G8-SUM($Q8:AY8)),$G8*$E8/12,($G8-SUM($Q8:AY8)))))","v":0},{"$f":"IF($D8>=BA$3,0,IF(SUM($Q8:AZ8)=$G8,0,IF($G8*$E8/12<($G8-SUM($Q8:AZ8)),$G8*$E8/12,($G8-SUM($Q8:AZ8)))))","v":0},{"$f":"IF($D8>=BB$3,0,IF(SUM($Q8:BA8)=$G8,0,IF($G8*$E8/12<($G8-SUM($Q8:BA8)),$G8*$E8/12,($G8-SUM($Q8:BA8)))))","v":0},{"$f":"IF($D8>=BC$3,0,IF(SUM($Q8:BB8)=$G8,0,IF($G8*$E8/12<($G8-SUM($Q8:BB8)),$G8*$E8/12,($G8-SUM($Q8:BB8)))))","v":0},{"$f":"IF($D8>=BD$3,0,IF(SUM($Q8:BC8)=$G8,0,IF($G8*$E8/12<($G8-SUM($Q8:BC8)),$G8*$E8/12,($G8-SUM($Q8:BC8)))))","v":0},{"$f":"IF($D8>=BE$3,0,IF(SUM($Q8:BD8)=$G8,0,IF($G8*$E8/12<($G8-SUM($Q8:BD8)),$G8*$E8/12,($G8-SUM($Q8:BD8)))))","v":0},{"$f":"IF($D8>=BF$3,0,IF(SUM($Q8:BE8)=$G8,0,IF($G8*$E8/12<($G8-SUM($Q8:BE8)),$G8*$E8/12,($G8-SUM($Q8:BE8)))))","v":0},{"$f":"IF($D8>=BG$3,0,IF(SUM($Q8:BF8)=$G8,0,IF($G8*$E8/12<($G8-SUM($Q8:BF8)),$G8*$E8/12,($G8-SUM($Q8:BF8)))))","v":0},{"$f":"IF($D8>=BH$3,0,IF(SUM($Q8:BG8)=$G8,0,IF($G8*$E8/12<($G8-SUM($Q8:BG8)),$G8*$E8/12,($G8-SUM($Q8:BG8)))))","v":0},{"$f":"IF($D8>=BI$3,0,IF(SUM($Q8:BH8)=$G8,0,IF($G8*$E8/12<($G8-SUM($Q8:BH8)),$G8*$E8/12,($G8-SUM($Q8:BH8)))))","v":0},{"$f":"IF($D8>=BJ$3,0,IF(SUM($Q8:BI8)=$G8,0,IF($G8*$E8/12<($G8-SUM($Q8:BI8)),$G8*$E8/12,($G8-SUM($Q8:BI8)))))","v":0},{"$f":"IF($D8>=BK$3,0,IF(SUM($Q8:BJ8)=$G8,0,IF($G8*$E8/12<($G8-SUM($Q8:BJ8)),$G8*$E8/12,($G8-SUM($Q8:BJ8)))))","v":0},{"$f":"IF($D8>=BL$3,0,IF(SUM($Q8:BK8)=$G8,0,IF($G8*$E8/12<($G8-SUM($Q8:BK8)),$G8*$E8/12,($G8-SUM($Q8:BK8)))))","v":0},{"$f":"IF($D8>=BM$3,0,IF(SUM($Q8:BL8)=$G8,0,IF($G8*$E8/12<($G8-SUM($Q8:BL8)),$G8*$E8/12,($G8-SUM($Q8:BL8)))))","v":0},{"$f":"IF($D8>=BN$3,0,IF(SUM($Q8:BM8)=$G8,0,IF($G8*$E8/12<($G8-SUM($Q8:BM8)),$G8*$E8/12,($G8-SUM($Q8:BM8)))))","v":0},{"$f":"IF($D8>=BO$3,0,IF(SUM($Q8:BN8)=$G8,0,IF($G8*$E8/12<($G8-SUM($Q8:BN8)),$G8*$E8/12,($G8-SUM($Q8:BN8)))))","v":0},{"$f":"IF($D8>=BP$3,0,IF(SUM($Q8:BO8)=$G8,0,IF($G8*$E8/12<($G8-SUM($Q8:BO8)),$G8*$E8/12,($G8-SUM($Q8:BO8)))))","v":0},{"$f":"IF($D8>=BQ$3,0,IF(SUM($Q8:BP8)=$G8,0,IF($G8*$E8/12<($G8-SUM($Q8:BP8)),$G8*$E8/12,($G8-SUM($Q8:BP8)))))","v":0},{"$f":"IF($D8>=BR$3,0,IF(SUM($Q8:BQ8)=$G8,0,IF($G8*$E8/12<($G8-SUM($Q8:BQ8)),$G8*$E8/12,($G8-SUM($Q8:BQ8)))))","v":0},{"$f":"IF($D8>=BS$3,0,IF(SUM($Q8:BR8)=$G8,0,IF($G8*$E8/12<($G8-SUM($Q8:BR8)),$G8*$E8/12,($G8-SUM($Q8:BR8)))))","v":0},{"$f":"IF($D8>=BT$3,0,IF(SUM($Q8:BS8)=$G8,0,IF($G8*$E8/12<($G8-SUM($Q8:BS8)),$G8*$E8/12,($G8-SUM($Q8:BS8)))))","v":0},{"$f":"IF($D8>=BU$3,0,IF(SUM($Q8:BT8)=$G8,0,IF($G8*$E8/12<($G8-SUM($Q8:BT8)),$G8*$E8/12,($G8-SUM($Q8:BT8)))))","v":0},{"$f":"IF($D8>=BV$3,0,IF(SUM($Q8:BU8)=$G8,0,IF($G8*$E8/12<($G8-SUM($Q8:BU8)),$G8*$E8/12,($G8-SUM($Q8:BU8)))))","v":0},{"$f":"IF($D8>=BW$3,0,IF(SUM($Q8:BV8)=$G8,0,IF($G8*$E8/12<($G8-SUM($Q8:BV8)),$G8*$E8/12,($G8-SUM($Q8:BV8)))))","v":0},{"$f":"IF($D8>=BX$3,0,IF(SUM($Q8:BW8)=$G8,0,IF($G8*$E8/12<($G8-SUM($Q8:BW8)),$G8*$E8/12,($G8-SUM($Q8:BW8)))))","v":0},{"$f":"IF($D8>=BY$3,0,IF(SUM($Q8:BX8)=$G8,0,IF($G8*$E8/12<($G8-SUM($Q8:BX8)),$G8*$E8/12,($G8-SUM($Q8:BX8)))))","v":0},{"$f":"IF($D8>=BZ$3,0,IF(SUM($Q8:BY8)=$G8,0,IF($G8*$E8/12<($G8-SUM($Q8:BY8)),$G8*$E8/12,($G8-SUM($Q8:BY8)))))","v":0},{"$f":"IF($D8>=CA$3,0,IF(SUM($Q8:BZ8)=$G8,0,IF($G8*$E8/12<($G8-SUM($Q8:BZ8)),$G8*$E8/12,($G8-SUM($Q8:BZ8)))))","v":0},{"$f":"IF($D8>=CB$3,0,IF(SUM($Q8:CA8)=$G8,0,IF($G8*$E8/12<($G8-SUM($Q8:CA8)),$G8*$E8/12,($G8-SUM($Q8:CA8)))))","v":0},{"$f":"IF($D8>=CC$3,0,IF(SUM($Q8:CB8)=$G8,0,IF($G8*$E8/12<($G8-SUM($Q8:CB8)),$G8*$E8/12,($G8-SUM($Q8:CB8)))))","v":0},{"$f":"IF($D8>=CD$3,0,IF(SUM($Q8:CC8)=$G8,0,IF($G8*$E8/12<($G8-SUM($Q8:CC8)),$G8*$E8/12,($G8-SUM($Q8:CC8)))))","v":0},{"$f":"IF($D8>=CE$3,0,IF(SUM($Q8:CD8)=$G8,0,IF($G8*$E8/12<($G8-SUM($Q8:CD8)),$G8*$E8/12,($G8-SUM($Q8:CD8)))))","v":0},{"$f":"IF($D8>=CF$3,0,IF(SUM($Q8:CE8)=$G8,0,IF($G8*$E8/12<($G8-SUM($Q8:CE8)),$G8*$E8/12,($G8-SUM($Q8:CE8)))))","v":0},{"$f":"IF($D8>=CG$3,0,IF(SUM($Q8:CF8)=$G8,0,IF($G8*$E8/12<($G8-SUM($Q8:CF8)),$G8*$E8/12,($G8-SUM($Q8:CF8)))))","v":0},{"$f":"IF($D8>=CH$3,0,IF(SUM($Q8:CG8)=$G8,0,IF($G8*$E8/12<($G8-SUM($Q8:CG8)),$G8*$E8/12,($G8-SUM($Q8:CG8)))))","v":0},{"$f":"IF($D8>=CI$3,0,IF(SUM($Q8:CH8)=$G8,0,IF($G8*$E8/12<($G8-SUM($Q8:CH8)),$G8*$E8/12,($G8-SUM($Q8:CH8)))))","v":0},{"$f":"IF($D8>=CJ$3,0,IF(SUM($Q8:CI8)=$G8,0,IF($G8*$E8/12<($G8-SUM($Q8:CI8)),$G8*$E8/12,($G8-SUM($Q8:CI8)))))","v":0},{"$f":"IF($D8>=CK$3,0,IF(SUM($Q8:CJ8)=$G8,0,IF($G8*$E8/12<($G8-SUM($Q8:CJ8)),$G8*$E8/12,($G8-SUM($Q8:CJ8)))))","v":0},{"$f":"IF($D8>=CL$3,0,IF(SUM($Q8:CK8)=$G8,0,IF($G8*$E8/12<($G8-SUM($Q8:CK8)),$G8*$E8/12,($G8-SUM($Q8:CK8)))))","v":0},{"$f":"IF($D8>=CM$3,0,IF(SUM($Q8:CL8)=$G8,0,IF($G8*$E8/12<($G8-SUM($Q8:CL8)),$G8*$E8/12,($G8-SUM($Q8:CL8)))))","v":0},{"$f":"IF($D8>=CN$3,0,IF(SUM($Q8:CM8)=$G8,0,IF($G8*$E8/12<($G8-SUM($Q8:CM8)),$G8*$E8/12,($G8-SUM($Q8:CM8)))))","v":0},{"$f":"IF($D8>=CO$3,0,IF(SUM($Q8:CN8)=$G8,0,IF($G8*$E8/12<($G8-SUM($Q8:CN8)),$G8*$E8/12,($G8-SUM($Q8:CN8)))))","v":0},{"$f":"IF($D8>=CP$3,0,IF(SUM($Q8:CO8)=$G8,0,IF($G8*$E8/12<($G8-SUM($Q8:CO8)),$G8*$E8/12,($G8-SUM($Q8:CO8)))))","v":0},{"$f":"IF($D8>=CQ$3,0,IF(SUM($Q8:CP8)=$G8,0,IF($G8*$E8/12<($G8-SUM($Q8:CP8)),$G8*$E8/12,($G8-SUM($Q8:CP8)))))","v":0},{"$f":"IF($D8>=CR$3,0,IF(SUM($Q8:CQ8)=$G8,0,IF($G8*$E8/12<($G8-SUM($Q8:CQ8)),$G8*$E8/12,($G8-SUM($Q8:CQ8)))))","v":0},{"$f":"IF($D8>=CS$3,0,IF(SUM($Q8:CR8)=$G8,0,IF($G8*$E8/12<($G8-SUM($Q8:CR8)),$G8*$E8/12,($G8-SUM($Q8:CR8)))))","v":0},{"$f":"IF($D8>=CT$3,0,IF(SUM($Q8:CS8)=$G8,0,IF($G8*$E8/12<($G8-SUM($Q8:CS8)),$G8*$E8/12,($G8-SUM($Q8:CS8)))))","v":0},{"$f":"IF($D8>=CU$3,0,IF(SUM($Q8:CT8)=$G8,0,IF($G8*$E8/12<($G8-SUM($Q8:CT8)),$G8*$E8/12,($G8-SUM($Q8:CT8)))))","v":0},{"$f":"IF($D8>=CV$3,0,IF(SUM($Q8:CU8)=$G8,0,IF($G8*$E8/12<($G8-SUM($Q8:CU8)),$G8*$E8/12,($G8-SUM($Q8:CU8)))))","v":0}]
[{"$f":"IF(D9<EOMONTH($D$2,-12),\"Fuera de plazo\",IF(D9>BALANCE!$J$3,\"Fuera de plazo\",\"\"))","v":""},"Instalaciones",null,"2013-11-30",0.08,0.21,{"$f":"IF(YEAR(D9)<=YEAR($D$2),C9*RIESGO!$C$4,C9*RIESGO!$C$4*(1+CONTROL!$H$4)^(YEAR(D9)-YEAR($D$2)))","v":0},0,0,0,0,0,0,0,0,null,0,{"$f":"IF($D9>=R$3,0,IF(SUM($Q9:Q9)=$G9,0,IF($G9*$E9/12<($G9-SUM($Q9:Q9)),$G9*$E9/12,($G9-SUM($Q9:Q9)))))","v":0},{"$f":"IF($D9>=S$3,0,IF(SUM($Q9:R9)=$G9,0,IF($G9*$E9/12<($G9-SUM($Q9:R9)),$G9*$E9/12,($G9-SUM($Q9:R9)))))","v":0},{"$f":"IF($D9>=T$3,0,IF(SUM($Q9:S9)=$G9,0,IF($G9*$E9/12<($G9-SUM($Q9:S9)),$G9*$E9/12,($G9-SUM($Q9:S9)))))","v":0},{"$f":"IF($D9>=U$3,0,IF(SUM($Q9:T9)=$G9,0,IF($G9*$E9/12<($G9-SUM($Q9:T9)),$G9*$E9/12,($G9-SUM($Q9:T9)))))","v":0},{"$f":"IF($D9>=V$3,0,IF(SUM($Q9:U9)=$G9,0,IF($G9*$E9/12<($G9-SUM($Q9:U9)),$G9*$E9/12,($G9-SUM($Q9:U9)))))","v":0},{"$f":"IF($D9>=W$3,0,IF(SUM($Q9:V9)=$G9,0,IF($G9*$E9/12<($G9-SUM($Q9:V9)),$G9*$E9/12,($G9-SUM($Q9:V9)))))","v":0},{"$f":"IF($D9>=X$3,0,IF(SUM($Q9:W9)=$G9,0,IF($G9*$E9/12<($G9-SUM($Q9:W9)),$G9*$E9/12,($G9-SUM($Q9:W9)))))","v":0},{"$f":"IF($D9>=Y$3,0,IF(SUM($Q9:X9)=$G9,0,IF($G9*$E9/12<($G9-SUM($Q9:X9)),$G9*$E9/12,($G9-SUM($Q9:X9)))))","v":0},{"$f":"IF($D9>=Z$3,0,IF(SUM($Q9:Y9)=$G9,0,IF($G9*$E9/12<($G9-SUM($Q9:Y9)),$G9*$E9/12,($G9-SUM($Q9:Y9)))))","v":0},{"$f":"IF($D9>=AA$3,0,IF(SUM($Q9:Z9)=$G9,0,IF($G9*$E9/12<($G9-SUM($Q9:Z9)),$G9*$E9/12,($G9-SUM($Q9:Z9)))))","v":0},{"$f":"IF($D9>=AB$3,0,IF(SUM($Q9:AA9)=$G9,0,IF($G9*$E9/12<($G9-SUM($Q9:AA9)),$G9*$E9/12,($G9-SUM($Q9:AA9)))))","v":0},{"$f":"IF($D9>=AC$3,0,IF(SUM($Q9:AB9)=$G9,0,IF($G9*$E9/12<($G9-SUM($Q9:AB9)),$G9*$E9/12,($G9-SUM($Q9:AB9)))))","v":0},{"$f":"IF($D9>=AD$3,0,IF(SUM($Q9:AC9)=$G9,0,IF($G9*$E9/12<($G9-SUM($Q9:AC9)),$G9*$E9/12,($G9-SUM($Q9:AC9)))))","v":0},{"$f":"IF($D9>=AE$3,0,IF(SUM($Q9:AD9)=$G9,0,IF($G9*$E9/12<($G9-SUM($Q9:AD9)),$G9*$E9/12,($G9-SUM($Q9:AD9)))))","v":0},{"$f":"IF($D9>=AF$3,0,IF(SUM($Q9:AE9)=$G9,0,IF($G9*$E9/12<($G9-SUM($Q9:AE9)),$G9*$E9/12,($G9-SUM($Q9:AE9)))))","v":0},{"$f":"IF($D9>=AG$3,0,IF(SUM($Q9:AF9)=$G9,0,IF($G9*$E9/12<($G9-SUM($Q9:AF9)),$G9*$E9/12,($G9-SUM($Q9:AF9)))))","v":0},{"$f":"IF($D9>=AH$3,0,IF(SUM($Q9:AG9)=$G9,0,IF($G9*$E9/12<($G9-SUM($Q9:AG9)),$G9*$E9/12,($G9-SUM($Q9:AG9)))))","v":0},{"$f":"IF($D9>=AI$3,0,IF(SUM($Q9:AH9)=$G9,0,IF($G9*$E9/12<($G9-SUM($Q9:AH9)),$G9*$E9/12,($G9-SUM($Q9:AH9)))))","v":0},{"$f":"IF($D9>=AJ$3,0,IF(SUM($Q9:AI9)=$G9,0,IF($G9*$E9/12<($G9-SUM($Q9:AI9)),$G9*$E9/12,($G9-SUM($Q9:AI9)))))","v":0},{"$f":"IF($D9>=AK$3,0,IF(SUM($Q9:AJ9)=$G9,0,IF($G9*$E9/12<($G9-SUM($Q9:AJ9)),$G9*$E9/12,($G9-SUM($Q9:AJ9)))))","v":0},{"$f":"IF($D9>=AL$3,0,IF(SUM($Q9:AK9)=$G9,0,IF($G9*$E9/12<($G9-SUM($Q9:AK9)),$G9*$E9/12,($G9-SUM($Q9:AK9)))))","v":0},{"$f":"IF($D9>=AM$3,0,IF(SUM($Q9:AL9)=$G9,0,IF($G9*$E9/12<($G9-SUM($Q9:AL9)),$G9*$E9/12,($G9-SUM($Q9:AL9)))))","v":0},{"$f":"IF($D9>=AN$3,0,IF(SUM($Q9:AM9)=$G9,0,IF($G9*$E9/12<($G9-SUM($Q9:AM9)),$G9*$E9/12,($G9-SUM($Q9:AM9)))))","v":0},{"$f":"IF($D9>=AO$3,0,IF(SUM($Q9:AN9)=$G9,0,IF($G9*$E9/12<($G9-SUM($Q9:AN9)),$G9*$E9/12,($G9-SUM($Q9:AN9)))))","v":0},{"$f":"IF($D9>=AP$3,0,IF(SUM($Q9:AO9)=$G9,0,IF($G9*$E9/12<($G9-SUM($Q9:AO9)),$G9*$E9/12,($G9-SUM($Q9:AO9)))))","v":0},{"$f":"IF($D9>=AQ$3,0,IF(SUM($Q9:AP9)=$G9,0,IF($G9*$E9/12<($G9-SUM($Q9:AP9)),$G9*$E9/12,($G9-SUM($Q9:AP9)))))","v":0},{"$f":"IF($D9>=AR$3,0,IF(SUM($Q9:AQ9)=$G9,0,IF($G9*$E9/12<($G9-SUM($Q9:AQ9)),$G9*$E9/12,($G9-SUM($Q9:AQ9)))))","v":0},{"$f":"IF($D9>=AS$3,0,IF(SUM($Q9:AR9)=$G9,0,IF($G9*$E9/12<($G9-SUM($Q9:AR9)),$G9*$E9/12,($G9-SUM($Q9:AR9)))))","v":0},{"$f":"IF($D9>=AT$3,0,IF(SUM($Q9:AS9)=$G9,0,IF($G9*$E9/12<($G9-SUM($Q9:AS9)),$G9*$E9/12,($G9-SUM($Q9:AS9)))))","v":0},{"$f":"IF($D9>=AU$3,0,IF(SUM($Q9:AT9)=$G9,0,IF($G9*$E9/12<($G9-SUM($Q9:AT9)),$G9*$E9/12,($G9-SUM($Q9:AT9)))))","v":0},{"$f":"IF($D9>=AV$3,0,IF(SUM($Q9:AU9)=$G9,0,IF($G9*$E9/12<($G9-SUM($Q9:AU9)),$G9*$E9/12,($G9-SUM($Q9:AU9)))))","v":0},{"$f":"IF($D9>=AW$3,0,IF(SUM($Q9:AV9)=$G9,0,IF($G9*$E9/12<($G9-SUM($Q9:AV9)),$G9*$E9/12,($G9-SUM($Q9:AV9)))))","v":0},{"$f":"IF($D9>=AX$3,0,IF(SUM($Q9:AW9)=$G9,0,IF($G9*$E9/12<($G9-SUM($Q9:AW9)),$G9*$E9/12,($G9-SUM($Q9:AW9)))))","v":0},{"$f":"IF($D9>=AY$3,0,IF(SUM($Q9:AX9)=$G9,0,IF($G9*$E9/12<($G9-SUM($Q9:AX9)),$G9*$E9/12,($G9-SUM($Q9:AX9)))))","v":0},{"$f":"IF($D9>=AZ$3,0,IF(SUM($Q9:AY9)=$G9,0,IF($G9*$E9/12<($G9-SUM($Q9:AY9)),$G9*$E9/12,($G9-SUM($Q9:AY9)))))","v":0},{"$f":"IF($D9>=BA$3,0,IF(SUM($Q9:AZ9)=$G9,0,IF($G9*$E9/12<($G9-SUM($Q9:AZ9)),$G9*$E9/12,($G9-SUM($Q9:AZ9)))))","v":0},{"$f":"IF($D9>=BB$3,0,IF(SUM($Q9:BA9)=$G9,0,IF($G9*$E9/12<($G9-SUM($Q9:BA9)),$G9*$E9/12,($G9-SUM($Q9:BA9)))))","v":0},{"$f":"IF($D9>=BC$3,0,IF(SUM($Q9:BB9)=$G9,0,IF($G9*$E9/12<($G9-SUM($Q9:BB9)),$G9*$E9/12,($G9-SUM($Q9:BB9)))))","v":0},{"$f":"IF($D9>=BD$3,0,IF(SUM($Q9:BC9)=$G9,0,IF($G9*$E9/12<($G9-SUM($Q9:BC9)),$G9*$E9/12,($G9-SUM($Q9:BC9)))))","v":0},{"$f":"IF($D9>=BE$3,0,IF(SUM($Q9:BD9)=$G9,0,IF($G9*$E9/12<($G9-SUM($Q9:BD9)),$G9*$E9/12,($G9-SUM($Q9:BD9)))))","v":0},{"$f":"IF($D9>=BF$3,0,IF(SUM($Q9:BE9)=$G9,0,IF($G9*$E9/12<($G9-SUM($Q9:BE9)),$G9*$E9/12,($G9-SUM($Q9:BE9)))))","v":0},{"$f":"IF($D9>=BG$3,0,IF(SUM($Q9:BF9)=$G9,0,IF($G9*$E9/12<($G9-SUM($Q9:BF9)),$G9*$E9/12,($G9-SUM($Q9:BF9)))))","v":0},{"$f":"IF($D9>=BH$3,0,IF(SUM($Q9:BG9)=$G9,0,IF($G9*$E9/12<($G9-SUM($Q9:BG9)),$G9*$E9/12,($G9-SUM($Q9:BG9)))))","v":0},{"$f":"IF($D9>=BI$3,0,IF(SUM($Q9:BH9)=$G9,0,IF($G9*$E9/12<($G9-SUM($Q9:BH9)),$G9*$E9/12,($G9-SUM($Q9:BH9)))))","v":0},{"$f":"IF($D9>=BJ$3,0,IF(SUM($Q9:BI9)=$G9,0,IF($G9*$E9/12<($G9-SUM($Q9:BI9)),$G9*$E9/12,($G9-SUM($Q9:BI9)))))","v":0},{"$f":"IF($D9>=BK$3,0,IF(SUM($Q9:BJ9)=$G9,0,IF($G9*$E9/12<($G9-SUM($Q9:BJ9)),$G9*$E9/12,($G9-SUM($Q9:BJ9)))))","v":0},{"$f":"IF($D9>=BL$3,0,IF(SUM($Q9:BK9)=$G9,0,IF($G9*$E9/12<($G9-SUM($Q9:BK9)),$G9*$E9/12,($G9-SUM($Q9:BK9)))))","v":0},{"$f":"IF($D9>=BM$3,0,IF(SUM($Q9:BL9)=$G9,0,IF($G9*$E9/12<($G9-SUM($Q9:BL9)),$G9*$E9/12,($G9-SUM($Q9:BL9)))))","v":0},{"$f":"IF($D9>=BN$3,0,IF(SUM($Q9:BM9)=$G9,0,IF($G9*$E9/12<($G9-SUM($Q9:BM9)),$G9*$E9/12,($G9-SUM($Q9:BM9)))))","v":0},{"$f":"IF($D9>=BO$3,0,IF(SUM($Q9:BN9)=$G9,0,IF($G9*$E9/12<($G9-SUM($Q9:BN9)),$G9*$E9/12,($G9-SUM($Q9:BN9)))))","v":0},{"$f":"IF($D9>=BP$3,0,IF(SUM($Q9:BO9)=$G9,0,IF($G9*$E9/12<($G9-SUM($Q9:BO9)),$G9*$E9/12,($G9-SUM($Q9:BO9)))))","v":0},{"$f":"IF($D9>=BQ$3,0,IF(SUM($Q9:BP9)=$G9,0,IF($G9*$E9/12<($G9-SUM($Q9:BP9)),$G9*$E9/12,($G9-SUM($Q9:BP9)))))","v":0},{"$f":"IF($D9>=BR$3,0,IF(SUM($Q9:BQ9)=$G9,0,IF($G9*$E9/12<($G9-SUM($Q9:BQ9)),$G9*$E9/12,($G9-SUM($Q9:BQ9)))))","v":0},{"$f":"IF($D9>=BS$3,0,IF(SUM($Q9:BR9)=$G9,0,IF($G9*$E9/12<($G9-SUM($Q9:BR9)),$G9*$E9/12,($G9-SUM($Q9:BR9)))))","v":0},{"$f":"IF($D9>=BT$3,0,IF(SUM($Q9:BS9)=$G9,0,IF($G9*$E9/12<($G9-SUM($Q9:BS9)),$G9*$E9/12,($G9-SUM($Q9:BS9)))))","v":0},{"$f":"IF($D9>=BU$3,0,IF(SUM($Q9:BT9)=$G9,0,IF($G9*$E9/12<($G9-SUM($Q9:BT9)),$G9*$E9/12,($G9-SUM($Q9:BT9)))))","v":0},{"$f":"IF($D9>=BV$3,0,IF(SUM($Q9:BU9)=$G9,0,IF($G9*$E9/12<($G9-SUM($Q9:BU9)),$G9*$E9/12,($G9-SUM($Q9:BU9)))))","v":0},{"$f":"IF($D9>=BW$3,0,IF(SUM($Q9:BV9)=$G9,0,IF($G9*$E9/12<($G9-SUM($Q9:BV9)),$G9*$E9/12,($G9-SUM($Q9:BV9)))))","v":0},{"$f":"IF($D9>=BX$3,0,IF(SUM($Q9:BW9)=$G9,0,IF($G9*$E9/12<($G9-SUM($Q9:BW9)),$G9*$E9/12,($G9-SUM($Q9:BW9)))))","v":0},{"$f":"IF($D9>=BY$3,0,IF(SUM($Q9:BX9)=$G9,0,IF($G9*$E9/12<($G9-SUM($Q9:BX9)),$G9*$E9/12,($G9-SUM($Q9:BX9)))))","v":0},{"$f":"IF($D9>=BZ$3,0,IF(SUM($Q9:BY9)=$G9,0,IF($G9*$E9/12<($G9-SUM($Q9:BY9)),$G9*$E9/12,($G9-SUM($Q9:BY9)))))","v":0},{"$f":"IF($D9>=CA$3,0,IF(SUM($Q9:BZ9)=$G9,0,IF($G9*$E9/12<($G9-SUM($Q9:BZ9)),$G9*$E9/12,($G9-SUM($Q9:BZ9)))))","v":0},{"$f":"IF($D9>=CB$3,0,IF(SUM($Q9:CA9)=$G9,0,IF($G9*$E9/12<($G9-SUM($Q9:CA9)),$G9*$E9/12,($G9-SUM($Q9:CA9)))))","v":0},{"$f":"IF($D9>=CC$3,0,IF(SUM($Q9:CB9)=$G9,0,IF($G9*$E9/12<($G9-SUM($Q9:CB9)),$G9*$E9/12,($G9-SUM($Q9:CB9)))))","v":0},{"$f":"IF($D9>=CD$3,0,IF(SUM($Q9:CC9)=$G9,0,IF($G9*$E9/12<($G9-SUM($Q9:CC9)),$G9*$E9/12,($G9-SUM($Q9:CC9)))))","v":0},{"$f":"IF($D9>=CE$3,0,IF(SUM($Q9:CD9)=$G9,0,IF($G9*$E9/12<($G9-SUM($Q9:CD9)),$G9*$E9/12,($G9-SUM($Q9:CD9)))))","v":0},{"$f":"IF($D9>=CF$3,0,IF(SUM($Q9:CE9)=$G9,0,IF($G9*$E9/12<($G9-SUM($Q9:CE9)),$G9*$E9/12,($G9-SUM($Q9:CE9)))))","v":0},{"$f":"IF($D9>=CG$3,0,IF(SUM($Q9:CF9)=$G9,0,IF($G9*$E9/12<($G9-SUM($Q9:CF9)),$G9*$E9/12,($G9-SUM($Q9:CF9)))))","v":0},{"$f":"IF($D9>=CH$3,0,IF(SUM($Q9:CG9)=$G9,0,IF($G9*$E9/12<($G9-SUM($Q9:CG9)),$G9*$E9/12,($G9-SUM($Q9:CG9)))))","v":0},{"$f":"IF($D9>=CI$3,0,IF(SUM($Q9:CH9)=$G9,0,IF($G9*$E9/12<($G9-SUM($Q9:CH9)),$G9*$E9/12,($G9-SUM($Q9:CH9)))))","v":0},{"$f":"IF($D9>=CJ$3,0,IF(SUM($Q9:CI9)=$G9,0,IF($G9*$E9/12<($G9-SUM($Q9:CI9)),$G9*$E9/12,($G9-SUM($Q9:CI9)))))","v":0},{"$f":"IF($D9>=CK$3,0,IF(SUM($Q9:CJ9)=$G9,0,IF($G9*$E9/12<($G9-SUM($Q9:CJ9)),$G9*$E9/12,($G9-SUM($Q9:CJ9)))))","v":0},{"$f":"IF($D9>=CL$3,0,IF(SUM($Q9:CK9)=$G9,0,IF($G9*$E9/12<($G9-SUM($Q9:CK9)),$G9*$E9/12,($G9-SUM($Q9:CK9)))))","v":0},{"$f":"IF($D9>=CM$3,0,IF(SUM($Q9:CL9)=$G9,0,IF($G9*$E9/12<($G9-SUM($Q9:CL9)),$G9*$E9/12,($G9-SUM($Q9:CL9)))))","v":0},{"$f":"IF($D9>=CN$3,0,IF(SUM($Q9:CM9)=$G9,0,IF($G9*$E9/12<($G9-SUM($Q9:CM9)),$G9*$E9/12,($G9-SUM($Q9:CM9)))))","v":0},{"$f":"IF($D9>=CO$3,0,IF(SUM($Q9:CN9)=$G9,0,IF($G9*$E9/12<($G9-SUM($Q9:CN9)),$G9*$E9/12,($G9-SUM($Q9:CN9)))))","v":0},{"$f":"IF($D9>=CP$3,0,IF(SUM($Q9:CO9)=$G9,0,IF($G9*$E9/12<($G9-SUM($Q9:CO9)),$G9*$E9/12,($G9-SUM($Q9:CO9)))))","v":0},{"$f":"IF($D9>=CQ$3,0,IF(SUM($Q9:CP9)=$G9,0,IF($G9*$E9/12<($G9-SUM($Q9:CP9)),$G9*$E9/12,($G9-SUM($Q9:CP9)))))","v":0},{"$f":"IF($D9>=CR$3,0,IF(SUM($Q9:CQ9)=$G9,0,IF($G9*$E9/12<($G9-SUM($Q9:CQ9)),$G9*$E9/12,($G9-SUM($Q9:CQ9)))))","v":0},{"$f":"IF($D9>=CS$3,0,IF(SUM($Q9:CR9)=$G9,0,IF($G9*$E9/12<($G9-SUM($Q9:CR9)),$G9*$E9/12,($G9-SUM($Q9:CR9)))))","v":0},{"$f":"IF($D9>=CT$3,0,IF(SUM($Q9:CS9)=$G9,0,IF($G9*$E9/12<($G9-SUM($Q9:CS9)),$G9*$E9/12,($G9-SUM($Q9:CS9)))))","v":0},{"$f":"IF($D9>=CU$3,0,IF(SUM($Q9:CT9)=$G9,0,IF($G9*$E9/12<($G9-SUM($Q9:CT9)),$G9*$E9/12,($G9-SUM($Q9:CT9)))))","v":0},{"$f":"IF($D9>=CV$3,0,IF(SUM($Q9:CU9)=$G9,0,IF($G9*$E9/12<($G9-SUM($Q9:CU9)),$G9*$E9/12,($G9-SUM($Q9:CU9)))))","v":0}]
[{"$f":"IF(D10<EOMONTH($D$2,-12),\"Fuera de plazo\",IF(D10>BALANCE!$J$3,\"Fuera de plazo\",\"\"))","v":""},"Equipamiento",null,"2013-12-31",0.15,0.21,{"$f":"IF(YEAR(D10)<=YEAR($D$2),C10*RIESGO!$C$4,C10*RIESGO!$C$4*(1+CONTROL!$H$4)^(YEAR(D10)-YEAR($D$2)))","v":0},0,0,0,0,0,0,0,0,null,0,{"$f":"IF($D10>=R$3,0,IF(SUM($Q10:Q10)=$G10,0,IF($G10*$E10/12<($G10-SUM($Q10:Q10)),$G10*$E10/12,($G10-SUM($Q10:Q10)))))","v":0},{"$f":"IF($D10>=S$3,0,IF(SUM($Q10:R10)=$G10,0,IF($G10*$E10/12<($G10-SUM($Q10:R10)),$G10*$E10/12,($G10-SUM($Q10:R10)))))","v":0},{"$f":"IF($D10>=T$3,0,IF(SUM($Q10:S10)=$G10,0,IF($G10*$E10/12<($G10-SUM($Q10:S10)),$G10*$E10/12,($G10-SUM($Q10:S10)))))","v":0},{"$f":"IF($D10>=U$3,0,IF(SUM($Q10:T10)=$G10,0,IF($G10*$E10/12<($G10-SUM($Q10:T10)),$G10*$E10/12,($G10-SUM($Q10:T10)))))","v":0},{"$f":"IF($D10>=V$3,0,IF(SUM($Q10:U10)=$G10,0,IF($G10*$E10/12<($G10-SUM($Q10:U10)),$G10*$E10/12,($G10-SUM($Q10:U10)))))","v":0},{"$f":"IF($D10>=W$3,0,IF(SUM($Q10:V10)=$G10,0,IF($G10*$E10/12<($G10-SUM($Q10:V10)),$G10*$E10/12,($G10-SUM($Q10:V10)))))","v":0},{"$f":"IF($D10>=X$3,0,IF(SUM($Q10:W10)=$G10,0,IF($G10*$E10/12<($G10-SUM($Q10:W10)),$G10*$E10/12,($G10-SUM($Q10:W10)))))","v":0},{"$f":"IF($D10>=Y$3,0,IF(SUM($Q10:X10)=$G10,0,IF($G10*$E10/12<($G10-SUM($Q10:X10)),$G10*$E10/12,($G10-SUM($Q10:X10)))))","v":0},{"$f":"IF($D10>=Z$3,0,IF(SUM($Q10:Y10)=$G10,0,IF($G10*$E10/12<($G10-SUM($Q10:Y10)),$G10*$E10/12,($G10-SUM($Q10:Y10)))))","v":0},{"$f":"IF($D10>=AA$3,0,IF(SUM($Q10:Z10)=$G10,0,IF($G10*$E10/12<($G10-SUM($Q10:Z10)),$G10*$E10/12,($G10-SUM($Q10:Z10)))))","v":0},{"$f":"IF($D10>=AB$3,0,IF(SUM($Q10:AA10)=$G10,0,IF($G10*$E10/12<($G10-SUM($Q10:AA10)),$G10*$E10/12,($G10-SUM($Q10:AA10)))))","v":0},{"$f":"IF($D10>=AC$3,0,IF(SUM($Q10:AB10)=$G10,0,IF($G10*$E10/12<($G10-SUM($Q10:AB10)),$G10*$E10/12,($G10-SUM($Q10:AB10)))))","v":0},{"$f":"IF($D10>=AD$3,0,IF(SUM($Q10:AC10)=$G10,0,IF($G10*$E10/12<($G10-SUM($Q10:AC10)),$G10*$E10/12,($G10-SUM($Q10:AC10)))))","v":0},{"$f":"IF($D10>=AE$3,0,IF(SUM($Q10:AD10)=$G10,0,IF($G10*$E10/12<($G10-SUM($Q10:AD10)),$G10*$E10/12,($G10-SUM($Q10:AD10)))))","v":0},{"$f":"IF($D10>=AF$3,0,IF(SUM($Q10:AE10)=$G10,0,IF($G10*$E10/12<($G10-SUM($Q10:AE10)),$G10*$E10/12,($G10-SUM($Q10:AE10)))))","v":0},{"$f":"IF($D10>=AG$3,0,IF(SUM($Q10:AF10)=$G10,0,IF($G10*$E10/12<($G10-SUM($Q10:AF10)),$G10*$E10/12,($G10-SUM($Q10:AF10)))))","v":0},{"$f":"IF($D10>=AH$3,0,IF(SUM($Q10:AG10)=$G10,0,IF($G10*$E10/12<($G10-SUM($Q10:AG10)),$G10*$E10/12,($G10-SUM($Q10:AG10)))))","v":0},{"$f":"IF($D10>=AI$3,0,IF(SUM($Q10:AH10)=$G10,0,IF($G10*$E10/12<($G10-SUM($Q10:AH10)),$G10*$E10/12,($G10-SUM($Q10:AH10)))))","v":0},{"$f":"IF($D10>=AJ$3,0,IF(SUM($Q10:AI10)=$G10,0,IF($G10*$E10/12<($G10-SUM($Q10:AI10)),$G10*$E10/12,($G10-SUM($Q10:AI10)))))","v":0},{"$f":"IF($D10>=AK$3,0,IF(SUM($Q10:AJ10)=$G10,0,IF($G10*$E10/12<($G10-SUM($Q10:AJ10)),$G10*$E10/12,($G10-SUM($Q10:AJ10)))))","v":0},{"$f":"IF($D10>=AL$3,0,IF(SUM($Q10:AK10)=$G10,0,IF($G10*$E10/12<($G10-SUM($Q10:AK10)),$G10*$E10/12,($G10-SUM($Q10:AK10)))))","v":0},{"$f":"IF($D10>=AM$3,0,IF(SUM($Q10:AL10)=$G10,0,IF($G10*$E10/12<($G10-SUM($Q10:AL10)),$G10*$E10/12,($G10-SUM($Q10:AL10)))))","v":0},{"$f":"IF($D10>=AN$3,0,IF(SUM($Q10:AM10)=$G10,0,IF($G10*$E10/12<($G10-SUM($Q10:AM10)),$G10*$E10/12,($G10-SUM($Q10:AM10)))))","v":0},{"$f":"IF($D10>=AO$3,0,IF(SUM($Q10:AN10)=$G10,0,IF($G10*$E10/12<($G10-SUM($Q10:AN10)),$G10*$E10/12,($G10-SUM($Q10:AN10)))))","v":0},{"$f":"IF($D10>=AP$3,0,IF(SUM($Q10:AO10)=$G10,0,IF($G10*$E10/12<($G10-SUM($Q10:AO10)),$G10*$E10/12,($G10-SUM($Q10:AO10)))))","v":0},{"$f":"IF($D10>=AQ$3,0,IF(SUM($Q10:AP10)=$G10,0,IF($G10*$E10/12<($G10-SUM($Q10:AP10)),$G10*$E10/12,($G10-SUM($Q10:AP10)))))","v":0},{"$f":"IF($D10>=AR$3,0,IF(SUM($Q10:AQ10)=$G10,0,IF($G10*$E10/12<($G10-SUM($Q10:AQ10)),$G10*$E10/12,($G10-SUM($Q10:AQ10)))))","v":0},{"$f":"IF($D10>=AS$3,0,IF(SUM($Q10:AR10)=$G10,0,IF($G10*$E10/12<($G10-SUM($Q10:AR10)),$G10*$E10/12,($G10-SUM($Q10:AR10)))))","v":0},{"$f":"IF($D10>=AT$3,0,IF(SUM($Q10:AS10)=$G10,0,IF($G10*$E10/12<($G10-SUM($Q10:AS10)),$G10*$E10/12,($G10-SUM($Q10:AS10)))))","v":0},{"$f":"IF($D10>=AU$3,0,IF(SUM($Q10:AT10)=$G10,0,IF($G10*$E10/12<($G10-SUM($Q10:AT10)),$G10*$E10/12,($G10-SUM($Q10:AT10)))))","v":0},{"$f":"IF($D10>=AV$3,0,IF(SUM($Q10:AU10)=$G10,0,IF($G10*$E10/12<($G10-SUM($Q10:AU10)),$G10*$E10/12,($G10-SUM($Q10:AU10)))))","v":0},{"$f":"IF($D10>=AW$3,0,IF(SUM($Q10:AV10)=$G10,0,IF($G10*$E10/12<($G10-SUM($Q10:AV10)),$G10*$E10/12,($G10-SUM($Q10:AV10)))))","v":0},{"$f":"IF($D10>=AX$3,0,IF(SUM($Q10:AW10)=$G10,0,IF($G10*$E10/12<($G10-SUM($Q10:AW10)),$G10*$E10/12,($G10-SUM($Q10:AW10)))))","v":0},{"$f":"IF($D10>=AY$3,0,IF(SUM($Q10:AX10)=$G10,0,IF($G10*$E10/12<($G10-SUM($Q10:AX10)),$G10*$E10/12,($G10-SUM($Q10:AX10)))))","v":0},{"$f":"IF($D10>=AZ$3,0,IF(SUM($Q10:AY10)=$G10,0,IF($G10*$E10/12<($G10-SUM($Q10:AY10)),$G10*$E10/12,($G10-SUM($Q10:AY10)))))","v":0},{"$f":"IF($D10>=BA$3,0,IF(SUM($Q10:AZ10)=$G10,0,IF($G10*$E10/12<($G10-SUM($Q10:AZ10)),$G10*$E10/12,($G10-SUM($Q10:AZ10)))))","v":0},{"$f":"IF($D10>=BB$3,0,IF(SUM($Q10:BA10)=$G10,0,IF($G10*$E10/12<($G10-SUM($Q10:BA10)),$G10*$E10/12,($G10-SUM($Q10:BA10)))))","v":0},{"$f":"IF($D10>=BC$3,0,IF(SUM($Q10:BB10)=$G10,0,IF($G10*$E10/12<($G10-SUM($Q10:BB10)),$G10*$E10/12,($G10-SUM($Q10:BB10)))))","v":0},{"$f":"IF($D10>=BD$3,0,IF(SUM($Q10:BC10)=$G10,0,IF($G10*$E10/12<($G10-SUM($Q10:BC10)),$G10*$E10/12,($G10-SUM($Q10:BC10)))))","v":0},{"$f":"IF($D10>=BE$3,0,IF(SUM($Q10:BD10)=$G10,0,IF($G10*$E10/12<($G10-SUM($Q10:BD10)),$G10*$E10/12,($G10-SUM($Q10:BD10)))))","v":0},{"$f":"IF($D10>=BF$3,0,IF(SUM($Q10:BE10)=$G10,0,IF($G10*$E10/12<($G10-SUM($Q10:BE10)),$G10*$E10/12,($G10-SUM($Q10:BE10)))))","v":0},{"$f":"IF($D10>=BG$3,0,IF(SUM($Q10:BF10)=$G10,0,IF($G10*$E10/12<($G10-SUM($Q10:BF10)),$G10*$E10/12,($G10-SUM($Q10:BF10)))))","v":0},{"$f":"IF($D10>=BH$3,0,IF(SUM($Q10:BG10)=$G10,0,IF($G10*$E10/12<($G10-SUM($Q10:BG10)),$G10*$E10/12,($G10-SUM($Q10:BG10)))))","v":0},{"$f":"IF($D10>=BI$3,0,IF(SUM($Q10:BH10)=$G10,0,IF($G10*$E10/12<($G10-SUM($Q10:BH10)),$G10*$E10/12,($G10-SUM($Q10:BH10)))))","v":0},{"$f":"IF($D10>=BJ$3,0,IF(SUM($Q10:BI10)=$G10,0,IF($G10*$E10/12<($G10-SUM($Q10:BI10)),$G10*$E10/12,($G10-SUM($Q10:BI10)))))","v":0},{"$f":"IF($D10>=BK$3,0,IF(SUM($Q10:BJ10)=$G10,0,IF($G10*$E10/12<($G10-SUM($Q10:BJ10)),$G10*$E10/12,($G10-SUM($Q10:BJ10)))))","v":0},{"$f":"IF($D10>=BL$3,0,IF(SUM($Q10:BK10)=$G10,0,IF($G10*$E10/12<($G10-SUM($Q10:BK10)),$G10*$E10/12,($G10-SUM($Q10:BK10)))))","v":0},{"$f":"IF($D10>=BM$3,0,IF(SUM($Q10:BL10)=$G10,0,IF($G10*$E10/12<($G10-SUM($Q10:BL10)),$G10*$E10/12,($G10-SUM($Q10:BL10)))))","v":0},{"$f":"IF($D10>=BN$3,0,IF(SUM($Q10:BM10)=$G10,0,IF($G10*$E10/12<($G10-SUM($Q10:BM10)),$G10*$E10/12,($G10-SUM($Q10:BM10)))))","v":0},{"$f":"IF($D10>=BO$3,0,IF(SUM($Q10:BN10)=$G10,0,IF($G10*$E10/12<($G10-SUM($Q10:BN10)),$G10*$E10/12,($G10-SUM($Q10:BN10)))))","v":0},{"$f":"IF($D10>=BP$3,0,IF(SUM($Q10:BO10)=$G10,0,IF($G10*$E10/12<($G10-SUM($Q10:BO10)),$G10*$E10/12,($G10-SUM($Q10:BO10)))))","v":0},{"$f":"IF($D10>=BQ$3,0,IF(SUM($Q10:BP10)=$G10,0,IF($G10*$E10/12<($G10-SUM($Q10:BP10)),$G10*$E10/12,($G10-SUM($Q10:BP10)))))","v":0},{"$f":"IF($D10>=BR$3,0,IF(SUM($Q10:BQ10)=$G10,0,IF($G10*$E10/12<($G10-SUM($Q10:BQ10)),$G10*$E10/12,($G10-SUM($Q10:BQ10)))))","v":0},{"$f":"IF($D10>=BS$3,0,IF(SUM($Q10:BR10)=$G10,0,IF($G10*$E10/12<($G10-SUM($Q10:BR10)),$G10*$E10/12,($G10-SUM($Q10:BR10)))))","v":0},{"$f":"IF($D10>=BT$3,0,IF(SUM($Q10:BS10)=$G10,0,IF($G10*$E10/12<($G10-SUM($Q10:BS10)),$G10*$E10/12,($G10-SUM($Q10:BS10)))))","v":0},{"$f":"IF($D10>=BU$3,0,IF(SUM($Q10:BT10)=$G10,0,IF($G10*$E10/12<($G10-SUM($Q10:BT10)),$G10*$E10/12,($G10-SUM($Q10:BT10)))))","v":0},{"$f":"IF($D10>=BV$3,0,IF(SUM($Q10:BU10)=$G10,0,IF($G10*$E10/12<($G10-SUM($Q10:BU10)),$G10*$E10/12,($G10-SUM($Q10:BU10)))))","v":0},{"$f":"IF($D10>=BW$3,0,IF(SUM($Q10:BV10)=$G10,0,IF($G10*$E10/12<($G10-SUM($Q10:BV10)),$G10*$E10/12,($G10-SUM($Q10:BV10)))))","v":0},{"$f":"IF($D10>=BX$3,0,IF(SUM($Q10:BW10)=$G10,0,IF($G10*$E10/12<($G10-SUM($Q10:BW10)),$G10*$E10/12,($G10-SUM($Q10:BW10)))))","v":0},{"$f":"IF($D10>=BY$3,0,IF(SUM($Q10:BX10)=$G10,0,IF($G10*$E10/12<($G10-SUM($Q10:BX10)),$G10*$E10/12,($G10-SUM($Q10:BX10)))))","v":0},{"$f":"IF($D10>=BZ$3,0,IF(SUM($Q10:BY10)=$G10,0,IF($G10*$E10/12<($G10-SUM($Q10:BY10)),$G10*$E10/12,($G10-SUM($Q10:BY10)))))","v":0},{"$f":"IF($D10>=CA$3,0,IF(SUM($Q10:BZ10)=$G10,0,IF($G10*$E10/12<($G10-SUM($Q10:BZ10)),$G10*$E10/12,($G10-SUM($Q10:BZ10)))))","v":0},{"$f":"IF($D10>=CB$3,0,IF(SUM($Q10:CA10)=$G10,0,IF($G10*$E10/12<($G10-SUM($Q10:CA10)),$G10*$E10/12,($G10-SUM($Q10:CA10)))))","v":0},{"$f":"IF($D10>=CC$3,0,IF(SUM($Q10:CB10)=$G10,0,IF($G10*$E10/12<($G10-SUM($Q10:CB10)),$G10*$E10/12,($G10-SUM($Q10:CB10)))))","v":0},{"$f":"IF($D10>=CD$3,0,IF(SUM($Q10:CC10)=$G10,0,IF($G10*$E10/12<($G10-SUM($Q10:CC10)),$G10*$E10/12,($G10-SUM($Q10:CC10)))))","v":0},{"$f":"IF($D10>=CE$3,0,IF(SUM($Q10:CD10)=$G10,0,IF($G10*$E10/12<($G10-SUM($Q10:CD10)),$G10*$E10/12,($G10-SUM($Q10:CD10)))))","v":0},{"$f":"IF($D10>=CF$3,0,IF(SUM($Q10:CE10)=$G10,0,IF($G10*$E10/12<($G10-SUM($Q10:CE10)),$G10*$E10/12,($G10-SUM($Q10:CE10)))))","v":0},{"$f":"IF($D10>=CG$3,0,IF(SUM($Q10:CF10)=$G10,0,IF($G10*$E10/12<($G10-SUM($Q10:CF10)),$G10*$E10/12,($G10-SUM($Q10:CF10)))))","v":0},{"$f":"IF($D10>=CH$3,0,IF(SUM($Q10:CG10)=$G10,0,IF($G10*$E10/12<($G10-SUM($Q10:CG10)),$G10*$E10/12,($G10-SUM($Q10:CG10)))))","v":0},{"$f":"IF($D10>=CI$3,0,IF(SUM($Q10:CH10)=$G10,0,IF($G10*$E10/12<($G10-SUM($Q10:CH10)),$G10*$E10/12,($G10-SUM($Q10:CH10)))))","v":0},{"$f":"IF($D10>=CJ$3,0,IF(SUM($Q10:CI10)=$G10,0,IF($G10*$E10/12<($G10-SUM($Q10:CI10)),$G10*$E10/12,($G10-SUM($Q10:CI10)))))","v":0},{"$f":"IF($D10>=CK$3,0,IF(SUM($Q10:CJ10)=$G10,0,IF($G10*$E10/12<($G10-SUM($Q10:CJ10)),$G10*$E10/12,($G10-SUM($Q10:CJ10)))))","v":0},{"$f":"IF($D10>=CL$3,0,IF(SUM($Q10:CK10)=$G10,0,IF($G10*$E10/12<($G10-SUM($Q10:CK10)),$G10*$E10/12,($G10-SUM($Q10:CK10)))))","v":0},{"$f":"IF($D10>=CM$3,0,IF(SUM($Q10:CL10)=$G10,0,IF($G10*$E10/12<($G10-SUM($Q10:CL10)),$G10*$E10/12,($G10-SUM($Q10:CL10)))))","v":0},{"$f":"IF($D10>=CN$3,0,IF(SUM($Q10:CM10)=$G10,0,IF($G10*$E10/12<($G10-SUM($Q10:CM10)),$G10*$E10/12,($G10-SUM($Q10:CM10)))))","v":0},{"$f":"IF($D10>=CO$3,0,IF(SUM($Q10:CN10)=$G10,0,IF($G10*$E10/12<($G10-SUM($Q10:CN10)),$G10*$E10/12,($G10-SUM($Q10:CN10)))))","v":0},{"$f":"IF($D10>=CP$3,0,IF(SUM($Q10:CO10)=$G10,0,IF($G10*$E10/12<($G10-SUM($Q10:CO10)),$G10*$E10/12,($G10-SUM($Q10:CO10)))))","v":0},{"$f":"IF($D10>=CQ$3,0,IF(SUM($Q10:CP10)=$G10,0,IF($G10*$E10/12<($G10-SUM($Q10:CP10)),$G10*$E10/12,($G10-SUM($Q10:CP10)))))","v":0},{"$f":"IF($D10>=CR$3,0,IF(SUM($Q10:CQ10)=$G10,0,IF($G10*$E10/12<($G10-SUM($Q10:CQ10)),$G10*$E10/12,($G10-SUM($Q10:CQ10)))))","v":0},{"$f":"IF($D10>=CS$3,0,IF(SUM($Q10:CR10)=$G10,0,IF($G10*$E10/12<($G10-SUM($Q10:CR10)),$G10*$E10/12,($G10-SUM($Q10:CR10)))))","v":0},{"$f":"IF($D10>=CT$3,0,IF(SUM($Q10:CS10)=$G10,0,IF($G10*$E10/12<($G10-SUM($Q10:CS10)),$G10*$E10/12,($G10-SUM($Q10:CS10)))))","v":0},{"$f":"IF($D10>=CU$3,0,IF(SUM($Q10:CT10)=$G10,0,IF($G10*$E10/12<($G10-SUM($Q10:CT10)),$G10*$E10/12,($G10-SUM($Q10:CT10)))))","v":0},{"$f":"IF($D10>=CV$3,0,IF(SUM($Q10:CU10)=$G10,0,IF($G10*$E10/12<($G10-SUM($Q10:CU10)),$G10*$E10/12,($G10-SUM($Q10:CU10)))))","v":0}]
[{"$f":"IF(D11<EOMONTH($D$2,-12),\"Fuera de plazo\",IF(D11>BALANCE!$J$3,\"Fuera de plazo\",\"\"))","v":""},"Mobiliario",null,"2013-12-31",0.1,0.21,{"$f":"IF(YEAR(D11)<=YEAR($D$2),C11*RIESGO!$C$4,C11*RIESGO!$C$4*(1+CONTROL!$H$4)^(YEAR(D11)-YEAR($D$2)))","v":0},0,0,0,0,0,0,0,0,null,0,{"$f":"IF($D11>=R$3,0,IF(SUM($Q11:Q11)=$G11,0,IF($G11*$E11/12<($G11-SUM($Q11:Q11)),$G11*$E11/12,($G11-SUM($Q11:Q11)))))","v":0},{"$f":"IF($D11>=S$3,0,IF(SUM($Q11:R11)=$G11,0,IF($G11*$E11/12<($G11-SUM($Q11:R11)),$G11*$E11/12,($G11-SUM($Q11:R11)))))","v":0},{"$f":"IF($D11>=T$3,0,IF(SUM($Q11:S11)=$G11,0,IF($G11*$E11/12<($G11-SUM($Q11:S11)),$G11*$E11/12,($G11-SUM($Q11:S11)))))","v":0},{"$f":"IF($D11>=U$3,0,IF(SUM($Q11:T11)=$G11,0,IF($G11*$E11/12<($G11-SUM($Q11:T11)),$G11*$E11/12,($G11-SUM($Q11:T11)))))","v":0},{"$f":"IF($D11>=V$3,0,IF(SUM($Q11:U11)=$G11,0,IF($G11*$E11/12<($G11-SUM($Q11:U11)),$G11*$E11/12,($G11-SUM($Q11:U11)))))","v":0},{"$f":"IF($D11>=W$3,0,IF(SUM($Q11:V11)=$G11,0,IF($G11*$E11/12<($G11-SUM($Q11:V11)),$G11*$E11/12,($G11-SUM($Q11:V11)))))","v":0},{"$f":"IF($D11>=X$3,0,IF(SUM($Q11:W11)=$G11,0,IF($G11*$E11/12<($G11-SUM($Q11:W11)),$G11*$E11/12,($G11-SUM($Q11:W11)))))","v":0},{"$f":"IF($D11>=Y$3,0,IF(SUM($Q11:X11)=$G11,0,IF($G11*$E11/12<($G11-SUM($Q11:X11)),$G11*$E11/12,($G11-SUM($Q11:X11)))))","v":0},{"$f":"IF($D11>=Z$3,0,IF(SUM($Q11:Y11)=$G11,0,IF($G11*$E11/12<($G11-SUM($Q11:Y11)),$G11*$E11/12,($G11-SUM($Q11:Y11)))))","v":0},{"$f":"IF($D11>=AA$3,0,IF(SUM($Q11:Z11)=$G11,0,IF($G11*$E11/12<($G11-SUM($Q11:Z11)),$G11*$E11/12,($G11-SUM($Q11:Z11)))))","v":0},{"$f":"IF($D11>=AB$3,0,IF(SUM($Q11:AA11)=$G11,0,IF($G11*$E11/12<($G11-SUM($Q11:AA11)),$G11*$E11/12,($G11-SUM($Q11:AA11)))))","v":0},{"$f":"IF($D11>=AC$3,0,IF(SUM($Q11:AB11)=$G11,0,IF($G11*$E11/12<($G11-SUM($Q11:AB11)),$G11*$E11/12,($G11-SUM($Q11:AB11)))))","v":0},{"$f":"IF($D11>=AD$3,0,IF(SUM($Q11:AC11)=$G11,0,IF($G11*$E11/12<($G11-SUM($Q11:AC11)),$G11*$E11/12,($G11-SUM($Q11:AC11)))))","v":0},{"$f":"IF($D11>=AE$3,0,IF(SUM($Q11:AD11)=$G11,0,IF($G11*$E11/12<($G11-SUM($Q11:AD11)),$G11*$E11/12,($G11-SUM($Q11:AD11)))))","v":0},{"$f":"IF($D11>=AF$3,0,IF(SUM($Q11:AE11)=$G11,0,IF($G11*$E11/12<($G11-SUM($Q11:AE11)),$G11*$E11/12,($G11-SUM($Q11:AE11)))))","v":0},{"$f":"IF($D11>=AG$3,0,IF(SUM($Q11:AF11)=$G11,0,IF($G11*$E11/12<($G11-SUM($Q11:AF11)),$G11*$E11/12,($G11-SUM($Q11:AF11)))))","v":0},{"$f":"IF($D11>=AH$3,0,IF(SUM($Q11:AG11)=$G11,0,IF($G11*$E11/12<($G11-SUM($Q11:AG11)),$G11*$E11/12,($G11-SUM($Q11:AG11)))))","v":0},{"$f":"IF($D11>=AI$3,0,IF(SUM($Q11:AH11)=$G11,0,IF($G11*$E11/12<($G11-SUM($Q11:AH11)),$G11*$E11/12,($G11-SUM($Q11:AH11)))))","v":0},{"$f":"IF($D11>=AJ$3,0,IF(SUM($Q11:AI11)=$G11,0,IF($G11*$E11/12<($G11-SUM($Q11:AI11)),$G11*$E11/12,($G11-SUM($Q11:AI11)))))","v":0},{"$f":"IF($D11>=AK$3,0,IF(SUM($Q11:AJ11)=$G11,0,IF($G11*$E11/12<($G11-SUM($Q11:AJ11)),$G11*$E11/12,($G11-SUM($Q11:AJ11)))))","v":0},{"$f":"IF($D11>=AL$3,0,IF(SUM($Q11:AK11)=$G11,0,IF($G11*$E11/12<($G11-SUM($Q11:AK11)),$G11*$E11/12,($G11-SUM($Q11:AK11)))))","v":0},{"$f":"IF($D11>=AM$3,0,IF(SUM($Q11:AL11)=$G11,0,IF($G11*$E11/12<($G11-SUM($Q11:AL11)),$G11*$E11/12,($G11-SUM($Q11:AL11)))))","v":0},{"$f":"IF($D11>=AN$3,0,IF(SUM($Q11:AM11)=$G11,0,IF($G11*$E11/12<($G11-SUM($Q11:AM11)),$G11*$E11/12,($G11-SUM($Q11:AM11)))))","v":0},{"$f":"IF($D11>=AO$3,0,IF(SUM($Q11:AN11)=$G11,0,IF($G11*$E11/12<($G11-SUM($Q11:AN11)),$G11*$E11/12,($G11-SUM($Q11:AN11)))))","v":0},{"$f":"IF($D11>=AP$3,0,IF(SUM($Q11:AO11)=$G11,0,IF($G11*$E11/12<($G11-SUM($Q11:AO11)),$G11*$E11/12,($G11-SUM($Q11:AO11)))))","v":0},{"$f":"IF($D11>=AQ$3,0,IF(SUM($Q11:AP11)=$G11,0,IF($G11*$E11/12<($G11-SUM($Q11:AP11)),$G11*$E11/12,($G11-SUM($Q11:AP11)))))","v":0},{"$f":"IF($D11>=AR$3,0,IF(SUM($Q11:AQ11)=$G11,0,IF($G11*$E11/12<($G11-SUM($Q11:AQ11)),$G11*$E11/12,($G11-SUM($Q11:AQ11)))))","v":0},{"$f":"IF($D11>=AS$3,0,IF(SUM($Q11:AR11)=$G11,0,IF($G11*$E11/12<($G11-SUM($Q11:AR11)),$G11*$E11/12,($G11-SUM($Q11:AR11)))))","v":0},{"$f":"IF($D11>=AT$3,0,IF(SUM($Q11:AS11)=$G11,0,IF($G11*$E11/12<($G11-SUM($Q11:AS11)),$G11*$E11/12,($G11-SUM($Q11:AS11)))))","v":0},{"$f":"IF($D11>=AU$3,0,IF(SUM($Q11:AT11)=$G11,0,IF($G11*$E11/12<($G11-SUM($Q11:AT11)),$G11*$E11/12,($G11-SUM($Q11:AT11)))))","v":0},{"$f":"IF($D11>=AV$3,0,IF(SUM($Q11:AU11)=$G11,0,IF($G11*$E11/12<($G11-SUM($Q11:AU11)),$G11*$E11/12,($G11-SUM($Q11:AU11)))))","v":0},{"$f":"IF($D11>=AW$3,0,IF(SUM($Q11:AV11)=$G11,0,IF($G11*$E11/12<($G11-SUM($Q11:AV11)),$G11*$E11/12,($G11-SUM($Q11:AV11)))))","v":0},{"$f":"IF($D11>=AX$3,0,IF(SUM($Q11:AW11)=$G11,0,IF($G11*$E11/12<($G11-SUM($Q11:AW11)),$G11*$E11/12,($G11-SUM($Q11:AW11)))))","v":0},{"$f":"IF($D11>=AY$3,0,IF(SUM($Q11:AX11)=$G11,0,IF($G11*$E11/12<($G11-SUM($Q11:AX11)),$G11*$E11/12,($G11-SUM($Q11:AX11)))))","v":0},{"$f":"IF($D11>=AZ$3,0,IF(SUM($Q11:AY11)=$G11,0,IF($G11*$E11/12<($G11-SUM($Q11:AY11)),$G11*$E11/12,($G11-SUM($Q11:AY11)))))","v":0},{"$f":"IF($D11>=BA$3,0,IF(SUM($Q11:AZ11)=$G11,0,IF($G11*$E11/12<($G11-SUM($Q11:AZ11)),$G11*$E11/12,($G11-SUM($Q11:AZ11)))))","v":0},{"$f":"IF($D11>=BB$3,0,IF(SUM($Q11:BA11)=$G11,0,IF($G11*$E11/12<($G11-SUM($Q11:BA11)),$G11*$E11/12,($G11-SUM($Q11:BA11)))))","v":0},{"$f":"IF($D11>=BC$3,0,IF(SUM($Q11:BB11)=$G11,0,IF($G11*$E11/12<($G11-SUM($Q11:BB11)),$G11*$E11/12,($G11-SUM($Q11:BB11)))))","v":0},{"$f":"IF($D11>=BD$3,0,IF(SUM($Q11:BC11)=$G11,0,IF($G11*$E11/12<($G11-SUM($Q11:BC11)),$G11*$E11/12,($G11-SUM($Q11:BC11)))))","v":0},{"$f":"IF($D11>=BE$3,0,IF(SUM($Q11:BD11)=$G11,0,IF($G11*$E11/12<($G11-SUM($Q11:BD11)),$G11*$E11/12,($G11-SUM($Q11:BD11)))))","v":0},{"$f":"IF($D11>=BF$3,0,IF(SUM($Q11:BE11)=$G11,0,IF($G11*$E11/12<($G11-SUM($Q11:BE11)),$G11*$E11/12,($G11-SUM($Q11:BE11)))))","v":0},{"$f":"IF($D11>=BG$3,0,IF(SUM($Q11:BF11)=$G11,0,IF($G11*$E11/12<($G11-SUM($Q11:BF11)),$G11*$E11/12,($G11-SUM($Q11:BF11)))))","v":0},{"$f":"IF($D11>=BH$3,0,IF(SUM($Q11:BG11)=$G11,0,IF($G11*$E11/12<($G11-SUM($Q11:BG11)),$G11*$E11/12,($G11-SUM($Q11:BG11)))))","v":0},{"$f":"IF($D11>=BI$3,0,IF(SUM($Q11:BH11)=$G11,0,IF($G11*$E11/12<($G11-SUM($Q11:BH11)),$G11*$E11/12,($G11-SUM($Q11:BH11)))))","v":0},{"$f":"IF($D11>=BJ$3,0,IF(SUM($Q11:BI11)=$G11,0,IF($G11*$E11/12<($G11-SUM($Q11:BI11)),$G11*$E11/12,($G11-SUM($Q11:BI11)))))","v":0},{"$f":"IF($D11>=BK$3,0,IF(SUM($Q11:BJ11)=$G11,0,IF($G11*$E11/12<($G11-SUM($Q11:BJ11)),$G11*$E11/12,($G11-SUM($Q11:BJ11)))))","v":0},{"$f":"IF($D11>=BL$3,0,IF(SUM($Q11:BK11)=$G11,0,IF($G11*$E11/12<($G11-SUM($Q11:BK11)),$G11*$E11/12,($G11-SUM($Q11:BK11)))))","v":0},{"$f":"IF($D11>=BM$3,0,IF(SUM($Q11:BL11)=$G11,0,IF($G11*$E11/12<($G11-SUM($Q11:BL11)),$G11*$E11/12,($G11-SUM($Q11:BL11)))))","v":0},{"$f":"IF($D11>=BN$3,0,IF(SUM($Q11:BM11)=$G11,0,IF($G11*$E11/12<($G11-SUM($Q11:BM11)),$G11*$E11/12,($G11-SUM($Q11:BM11)))))","v":0},{"$f":"IF($D11>=BO$3,0,IF(SUM($Q11:BN11)=$G11,0,IF($G11*$E11/12<($G11-SUM($Q11:BN11)),$G11*$E11/12,($G11-SUM($Q11:BN11)))))","v":0},{"$f":"IF($D11>=BP$3,0,IF(SUM($Q11:BO11)=$G11,0,IF($G11*$E11/12<($G11-SUM($Q11:BO11)),$G11*$E11/12,($G11-SUM($Q11:BO11)))))","v":0},{"$f":"IF($D11>=BQ$3,0,IF(SUM($Q11:BP11)=$G11,0,IF($G11*$E11/12<($G11-SUM($Q11:BP11)),$G11*$E11/12,($G11-SUM($Q11:BP11)))))","v":0},{"$f":"IF($D11>=BR$3,0,IF(SUM($Q11:BQ11)=$G11,0,IF($G11*$E11/12<($G11-SUM($Q11:BQ11)),$G11*$E11/12,($G11-SUM($Q11:BQ11)))))","v":0},{"$f":"IF($D11>=BS$3,0,IF(SUM($Q11:BR11)=$G11,0,IF($G11*$E11/12<($G11-SUM($Q11:BR11)),$G11*$E11/12,($G11-SUM($Q11:BR11)))))","v":0},{"$f":"IF($D11>=BT$3,0,IF(SUM($Q11:BS11)=$G11,0,IF($G11*$E11/12<($G11-SUM($Q11:BS11)),$G11*$E11/12,($G11-SUM($Q11:BS11)))))","v":0},{"$f":"IF($D11>=BU$3,0,IF(SUM($Q11:BT11)=$G11,0,IF($G11*$E11/12<($G11-SUM($Q11:BT11)),$G11*$E11/12,($G11-SUM($Q11:BT11)))))","v":0},{"$f":"IF($D11>=BV$3,0,IF(SUM($Q11:BU11)=$G11,0,IF($G11*$E11/12<($G11-SUM($Q11:BU11)),$G11*$E11/12,($G11-SUM($Q11:BU11)))))","v":0},{"$f":"IF($D11>=BW$3,0,IF(SUM($Q11:BV11)=$G11,0,IF($G11*$E11/12<($G11-SUM($Q11:BV11)),$G11*$E11/12,($G11-SUM($Q11:BV11)))))","v":0},{"$f":"IF($D11>=BX$3,0,IF(SUM($Q11:BW11)=$G11,0,IF($G11*$E11/12<($G11-SUM($Q11:BW11)),$G11*$E11/12,($G11-SUM($Q11:BW11)))))","v":0},{"$f":"IF($D11>=BY$3,0,IF(SUM($Q11:BX11)=$G11,0,IF($G11*$E11/12<($G11-SUM($Q11:BX11)),$G11*$E11/12,($G11-SUM($Q11:BX11)))))","v":0},{"$f":"IF($D11>=BZ$3,0,IF(SUM($Q11:BY11)=$G11,0,IF($G11*$E11/12<($G11-SUM($Q11:BY11)),$G11*$E11/12,($G11-SUM($Q11:BY11)))))","v":0},{"$f":"IF($D11>=CA$3,0,IF(SUM($Q11:BZ11)=$G11,0,IF($G11*$E11/12<($G11-SUM($Q11:BZ11)),$G11*$E11/12,($G11-SUM($Q11:BZ11)))))","v":0},{"$f":"IF($D11>=CB$3,0,IF(SUM($Q11:CA11)=$G11,0,IF($G11*$E11/12<($G11-SUM($Q11:CA11)),$G11*$E11/12,($G11-SUM($Q11:CA11)))))","v":0},{"$f":"IF($D11>=CC$3,0,IF(SUM($Q11:CB11)=$G11,0,IF($G11*$E11/12<($G11-SUM($Q11:CB11)),$G11*$E11/12,($G11-SUM($Q11:CB11)))))","v":0},{"$f":"IF($D11>=CD$3,0,IF(SUM($Q11:CC11)=$G11,0,IF($G11*$E11/12<($G11-SUM($Q11:CC11)),$G11*$E11/12,($G11-SUM($Q11:CC11)))))","v":0},{"$f":"IF($D11>=CE$3,0,IF(SUM($Q11:CD11)=$G11,0,IF($G11*$E11/12<($G11-SUM($Q11:CD11)),$G11*$E11/12,($G11-SUM($Q11:CD11)))))","v":0},{"$f":"IF($D11>=CF$3,0,IF(SUM($Q11:CE11)=$G11,0,IF($G11*$E11/12<($G11-SUM($Q11:CE11)),$G11*$E11/12,($G11-SUM($Q11:CE11)))))","v":0},{"$f":"IF($D11>=CG$3,0,IF(SUM($Q11:CF11)=$G11,0,IF($G11*$E11/12<($G11-SUM($Q11:CF11)),$G11*$E11/12,($G11-SUM($Q11:CF11)))))","v":0},{"$f":"IF($D11>=CH$3,0,IF(SUM($Q11:CG11)=$G11,0,IF($G11*$E11/12<($G11-SUM($Q11:CG11)),$G11*$E11/12,($G11-SUM($Q11:CG11)))))","v":0},{"$f":"IF($D11>=CI$3,0,IF(SUM($Q11:CH11)=$G11,0,IF($G11*$E11/12<($G11-SUM($Q11:CH11)),$G11*$E11/12,($G11-SUM($Q11:CH11)))))","v":0},{"$f":"IF($D11>=CJ$3,0,IF(SUM($Q11:CI11)=$G11,0,IF($G11*$E11/12<($G11-SUM($Q11:CI11)),$G11*$E11/12,($G11-SUM($Q11:CI11)))))","v":0},{"$f":"IF($D11>=CK$3,0,IF(SUM($Q11:CJ11)=$G11,0,IF($G11*$E11/12<($G11-SUM($Q11:CJ11)),$G11*$E11/12,($G11-SUM($Q11:CJ11)))))","v":0},{"$f":"IF($D11>=CL$3,0,IF(SUM($Q11:CK11)=$G11,0,IF($G11*$E11/12<($G11-SUM($Q11:CK11)),$G11*$E11/12,($G11-SUM($Q11:CK11)))))","v":0},{"$f":"IF($D11>=CM$3,0,IF(SUM($Q11:CL11)=$G11,0,IF($G11*$E11/12<($G11-SUM($Q11:CL11)),$G11*$E11/12,($G11-SUM($Q11:CL11)))))","v":0},{"$f":"IF($D11>=CN$3,0,IF(SUM($Q11:CM11)=$G11,0,IF($G11*$E11/12<($G11-SUM($Q11:CM11)),$G11*$E11/12,($G11-SUM($Q11:CM11)))))","v":0},{"$f":"IF($D11>=CO$3,0,IF(SUM($Q11:CN11)=$G11,0,IF($G11*$E11/12<($G11-SUM($Q11:CN11)),$G11*$E11/12,($G11-SUM($Q11:CN11)))))","v":0},{"$f":"IF($D11>=CP$3,0,IF(SUM($Q11:CO11)=$G11,0,IF($G11*$E11/12<($G11-SUM($Q11:CO11)),$G11*$E11/12,($G11-SUM($Q11:CO11)))))","v":0},{"$f":"IF($D11>=CQ$3,0,IF(SUM($Q11:CP11)=$G11,0,IF($G11*$E11/12<($G11-SUM($Q11:CP11)),$G11*$E11/12,($G11-SUM($Q11:CP11)))))","v":0},{"$f":"IF($D11>=CR$3,0,IF(SUM($Q11:CQ11)=$G11,0,IF($G11*$E11/12<($G11-SUM($Q11:CQ11)),$G11*$E11/12,($G11-SUM($Q11:CQ11)))))","v":0},{"$f":"IF($D11>=CS$3,0,IF(SUM($Q11:CR11)=$G11,0,IF($G11*$E11/12<($G11-SUM($Q11:CR11)),$G11*$E11/12,($G11-SUM($Q11:CR11)))))","v":0},{"$f":"IF($D11>=CT$3,0,IF(SUM($Q11:CS11)=$G11,0,IF($G11*$E11/12<($G11-SUM($Q11:CS11)),$G11*$E11/12,($G11-SUM($Q11:CS11)))))","v":0},{"$f":"IF($D11>=CU$3,0,IF(SUM($Q11:CT11)=$G11,0,IF($G11*$E11/12<($G11-SUM($Q11:CT11)),$G11*$E11/12,($G11-SUM($Q11:CT11)))))","v":0},{"$f":"IF($D11>=CV$3,0,IF(SUM($Q11:CU11)=$G11,0,IF($G11*$E11/12<($G11-SUM($Q11:CU11)),$G11*$E11/12,($G11-SUM($Q11:CU11)))))","v":0}]
[{"$f":"IF(D12<EOMONTH($D$2,-12),\"Fuera de plazo\",IF(D12>BALANCE!$J$3,\"Fuera de plazo\",\"\"))","v":""},"Elementos de transporte",null,"2013-11-30",0.16,0.21,{"$f":"IF(YEAR(D12)<=YEAR($D$2),C12*RIESGO!$C$4,C12*RIESGO!$C$4*(1+CONTROL!$H$4)^(YEAR(D12)-YEAR($D$2)))","v":0},0,0,0,0,0,0,0,0,null,0,{"$f":"IF($D12>=R$3,0,IF(SUM($Q12:Q12)=$G12,0,IF($G12*$E12/12<($G12-SUM($Q12:Q12)),$G12*$E12/12,($G12-SUM($Q12:Q12)))))","v":0},{"$f":"IF($D12>=S$3,0,IF(SUM($Q12:R12)=$G12,0,IF($G12*$E12/12<($G12-SUM($Q12:R12)),$G12*$E12/12,($G12-SUM($Q12:R12)))))","v":0},{"$f":"IF($D12>=T$3,0,IF(SUM($Q12:S12)=$G12,0,IF($G12*$E12/12<($G12-SUM($Q12:S12)),$G12*$E12/12,($G12-SUM($Q12:S12)))))","v":0},{"$f":"IF($D12>=U$3,0,IF(SUM($Q12:T12)=$G12,0,IF($G12*$E12/12<($G12-SUM($Q12:T12)),$G12*$E12/12,($G12-SUM($Q12:T12)))))","v":0},{"$f":"IF($D12>=V$3,0,IF(SUM($Q12:U12)=$G12,0,IF($G12*$E12/12<($G12-SUM($Q12:U12)),$G12*$E12/12,($G12-SUM($Q12:U12)))))","v":0},{"$f":"IF($D12>=W$3,0,IF(SUM($Q12:V12)=$G12,0,IF($G12*$E12/12<($G12-SUM($Q12:V12)),$G12*$E12/12,($G12-SUM($Q12:V12)))))","v":0},{"$f":"IF($D12>=X$3,0,IF(SUM($Q12:W12)=$G12,0,IF($G12*$E12/12<($G12-SUM($Q12:W12)),$G12*$E12/12,($G12-SUM($Q12:W12)))))","v":0},{"$f":"IF($D12>=Y$3,0,IF(SUM($Q12:X12)=$G12,0,IF($G12*$E12/12<($G12-SUM($Q12:X12)),$G12*$E12/12,($G12-SUM($Q12:X12)))))","v":0},{"$f":"IF($D12>=Z$3,0,IF(SUM($Q12:Y12)=$G12,0,IF($G12*$E12/12<($G12-SUM($Q12:Y12)),$G12*$E12/12,($G12-SUM($Q12:Y12)))))","v":0},{"$f":"IF($D12>=AA$3,0,IF(SUM($Q12:Z12)=$G12,0,IF($G12*$E12/12<($G12-SUM($Q12:Z12)),$G12*$E12/12,($G12-SUM($Q12:Z12)))))","v":0},{"$f":"IF($D12>=AB$3,0,IF(SUM($Q12:AA12)=$G12,0,IF($G12*$E12/12<($G12-SUM($Q12:AA12)),$G12*$E12/12,($G12-SUM($Q12:AA12)))))","v":0},{"$f":"IF($D12>=AC$3,0,IF(SUM($Q12:AB12)=$G12,0,IF($G12*$E12/12<($G12-SUM($Q12:AB12)),$G12*$E12/12,($G12-SUM($Q12:AB12)))))","v":0},{"$f":"IF($D12>=AD$3,0,IF(SUM($Q12:AC12)=$G12,0,IF($G12*$E12/12<($G12-SUM($Q12:AC12)),$G12*$E12/12,($G12-SUM($Q12:AC12)))))","v":0},{"$f":"IF($D12>=AE$3,0,IF(SUM($Q12:AD12)=$G12,0,IF($G12*$E12/12<($G12-SUM($Q12:AD12)),$G12*$E12/12,($G12-SUM($Q12:AD12)))))","v":0},{"$f":"IF($D12>=AF$3,0,IF(SUM($Q12:AE12)=$G12,0,IF($G12*$E12/12<($G12-SUM($Q12:AE12)),$G12*$E12/12,($G12-SUM($Q12:AE12)))))","v":0},{"$f":"IF($D12>=AG$3,0,IF(SUM($Q12:AF12)=$G12,0,IF($G12*$E12/12<($G12-SUM($Q12:AF12)),$G12*$E12/12,($G12-SUM($Q12:AF12)))))","v":0},{"$f":"IF($D12>=AH$3,0,IF(SUM($Q12:AG12)=$G12,0,IF($G12*$E12/12<($G12-SUM($Q12:AG12)),$G12*$E12/12,($G12-SUM($Q12:AG12)))))","v":0},{"$f":"IF($D12>=AI$3,0,IF(SUM($Q12:AH12)=$G12,0,IF($G12*$E12/12<($G12-SUM($Q12:AH12)),$G12*$E12/12,($G12-SUM($Q12:AH12)))))","v":0},{"$f":"IF($D12>=AJ$3,0,IF(SUM($Q12:AI12)=$G12,0,IF($G12*$E12/12<($G12-SUM($Q12:AI12)),$G12*$E12/12,($G12-SUM($Q12:AI12)))))","v":0},{"$f":"IF($D12>=AK$3,0,IF(SUM($Q12:AJ12)=$G12,0,IF($G12*$E12/12<($G12-SUM($Q12:AJ12)),$G12*$E12/12,($G12-SUM($Q12:AJ12)))))","v":0},{"$f":"IF($D12>=AL$3,0,IF(SUM($Q12:AK12)=$G12,0,IF($G12*$E12/12<($G12-SUM($Q12:AK12)),$G12*$E12/12,($G12-SUM($Q12:AK12)))))","v":0},{"$f":"IF($D12>=AM$3,0,IF(SUM($Q12:AL12)=$G12,0,IF($G12*$E12/12<($G12-SUM($Q12:AL12)),$G12*$E12/12,($G12-SUM($Q12:AL12)))))","v":0},{"$f":"IF($D12>=AN$3,0,IF(SUM($Q12:AM12)=$G12,0,IF($G12*$E12/12<($G12-SUM($Q12:AM12)),$G12*$E12/12,($G12-SUM($Q12:AM12)))))","v":0},{"$f":"IF($D12>=AO$3,0,IF(SUM($Q12:AN12)=$G12,0,IF($G12*$E12/12<($G12-SUM($Q12:AN12)),$G12*$E12/12,($G12-SUM($Q12:AN12)))))","v":0},{"$f":"IF($D12>=AP$3,0,IF(SUM($Q12:AO12)=$G12,0,IF($G12*$E12/12<($G12-SUM($Q12:AO12)),$G12*$E12/12,($G12-SUM($Q12:AO12)))))","v":0},{"$f":"IF($D12>=AQ$3,0,IF(SUM($Q12:AP12)=$G12,0,IF($G12*$E12/12<($G12-SUM($Q12:AP12)),$G12*$E12/12,($G12-SUM($Q12:AP12)))))","v":0},{"$f":"IF($D12>=AR$3,0,IF(SUM($Q12:AQ12)=$G12,0,IF($G12*$E12/12<($G12-SUM($Q12:AQ12)),$G12*$E12/12,($G12-SUM($Q12:AQ12)))))","v":0},{"$f":"IF($D12>=AS$3,0,IF(SUM($Q12:AR12)=$G12,0,IF($G12*$E12/12<($G12-SUM($Q12:AR12)),$G12*$E12/12,($G12-SUM($Q12:AR12)))))","v":0},{"$f":"IF($D12>=AT$3,0,IF(SUM($Q12:AS12)=$G12,0,IF($G12*$E12/12<($G12-SUM($Q12:AS12)),$G12*$E12/12,($G12-SUM($Q12:AS12)))))","v":0},{"$f":"IF($D12>=AU$3,0,IF(SUM($Q12:AT12)=$G12,0,IF($G12*$E12/12<($G12-SUM($Q12:AT12)),$G12*$E12/12,($G12-SUM($Q12:AT12)))))","v":0},{"$f":"IF($D12>=AV$3,0,IF(SUM($Q12:AU12)=$G12,0,IF($G12*$E12/12<($G12-SUM($Q12:AU12)),$G12*$E12/12,($G12-SUM($Q12:AU12)))))","v":0},{"$f":"IF($D12>=AW$3,0,IF(SUM($Q12:AV12)=$G12,0,IF($G12*$E12/12<($G12-SUM($Q12:AV12)),$G12*$E12/12,($G12-SUM($Q12:AV12)))))","v":0},{"$f":"IF($D12>=AX$3,0,IF(SUM($Q12:AW12)=$G12,0,IF($G12*$E12/12<($G12-SUM($Q12:AW12)),$G12*$E12/12,($G12-SUM($Q12:AW12)))))","v":0},{"$f":"IF($D12>=AY$3,0,IF(SUM($Q12:AX12)=$G12,0,IF($G12*$E12/12<($G12-SUM($Q12:AX12)),$G12*$E12/12,($G12-SUM($Q12:AX12)))))","v":0},{"$f":"IF($D12>=AZ$3,0,IF(SUM($Q12:AY12)=$G12,0,IF($G12*$E12/12<($G12-SUM($Q12:AY12)),$G12*$E12/12,($G12-SUM($Q12:AY12)))))","v":0},{"$f":"IF($D12>=BA$3,0,IF(SUM($Q12:AZ12)=$G12,0,IF($G12*$E12/12<($G12-SUM($Q12:AZ12)),$G12*$E12/12,($G12-SUM($Q12:AZ12)))))","v":0},{"$f":"IF($D12>=BB$3,0,IF(SUM($Q12:BA12)=$G12,0,IF($G12*$E12/12<($G12-SUM($Q12:BA12)),$G12*$E12/12,($G12-SUM($Q12:BA12)))))","v":0},{"$f":"IF($D12>=BC$3,0,IF(SUM($Q12:BB12)=$G12,0,IF($G12*$E12/12<($G12-SUM($Q12:BB12)),$G12*$E12/12,($G12-SUM($Q12:BB12)))))","v":0},{"$f":"IF($D12>=BD$3,0,IF(SUM($Q12:BC12)=$G12,0,IF($G12*$E12/12<($G12-SUM($Q12:BC12)),$G12*$E12/12,($G12-SUM($Q12:BC12)))))","v":0},{"$f":"IF($D12>=BE$3,0,IF(SUM($Q12:BD12)=$G12,0,IF($G12*$E12/12<($G12-SUM($Q12:BD12)),$G12*$E12/12,($G12-SUM($Q12:BD12)))))","v":0},{"$f":"IF($D12>=BF$3,0,IF(SUM($Q12:BE12)=$G12,0,IF($G12*$E12/12<($G12-SUM($Q12:BE12)),$G12*$E12/12,($G12-SUM($Q12:BE12)))))","v":0},{"$f":"IF($D12>=BG$3,0,IF(SUM($Q12:BF12)=$G12,0,IF($G12*$E12/12<($G12-SUM($Q12:BF12)),$G12*$E12/12,($G12-SUM($Q12:BF12)))))","v":0},{"$f":"IF($D12>=BH$3,0,IF(SUM($Q12:BG12)=$G12,0,IF($G12*$E12/12<($G12-SUM($Q12:BG12)),$G12*$E12/12,($G12-SUM($Q12:BG12)))))","v":0},{"$f":"IF($D12>=BI$3,0,IF(SUM($Q12:BH12)=$G12,0,IF($G12*$E12/12<($G12-SUM($Q12:BH12)),$G12*$E12/12,($G12-SUM($Q12:BH12)))))","v":0},{"$f":"IF($D12>=BJ$3,0,IF(SUM($Q12:BI12)=$G12,0,IF($G12*$E12/12<($G12-SUM($Q12:BI12)),$G12*$E12/12,($G12-SUM($Q12:BI12)))))","v":0},{"$f":"IF($D12>=BK$3,0,IF(SUM($Q12:BJ12)=$G12,0,IF($G12*$E12/12<($G12-SUM($Q12:BJ12)),$G12*$E12/12,($G12-SUM($Q12:BJ12)))))","v":0},{"$f":"IF($D12>=BL$3,0,IF(SUM($Q12:BK12)=$G12,0,IF($G12*$E12/12<($G12-SUM($Q12:BK12)),$G12*$E12/12,($G12-SUM($Q12:BK12)))))","v":0},{"$f":"IF($D12>=BM$3,0,IF(SUM($Q12:BL12)=$G12,0,IF($G12*$E12/12<($G12-SUM($Q12:BL12)),$G12*$E12/12,($G12-SUM($Q12:BL12)))))","v":0},{"$f":"IF($D12>=BN$3,0,IF(SUM($Q12:BM12)=$G12,0,IF($G12*$E12/12<($G12-SUM($Q12:BM12)),$G12*$E12/12,($G12-SUM($Q12:BM12)))))","v":0},{"$f":"IF($D12>=BO$3,0,IF(SUM($Q12:BN12)=$G12,0,IF($G12*$E12/12<($G12-SUM($Q12:BN12)),$G12*$E12/12,($G12-SUM($Q12:BN12)))))","v":0},{"$f":"IF($D12>=BP$3,0,IF(SUM($Q12:BO12)=$G12,0,IF($G12*$E12/12<($G12-SUM($Q12:BO12)),$G12*$E12/12,($G12-SUM($Q12:BO12)))))","v":0},{"$f":"IF($D12>=BQ$3,0,IF(SUM($Q12:BP12)=$G12,0,IF($G12*$E12/12<($G12-SUM($Q12:BP12)),$G12*$E12/12,($G12-SUM($Q12:BP12)))))","v":0},{"$f":"IF($D12>=BR$3,0,IF(SUM($Q12:BQ12)=$G12,0,IF($G12*$E12/12<($G12-SUM($Q12:BQ12)),$G12*$E12/12,($G12-SUM($Q12:BQ12)))))","v":0},{"$f":"IF($D12>=BS$3,0,IF(SUM($Q12:BR12)=$G12,0,IF($G12*$E12/12<($G12-SUM($Q12:BR12)),$G12*$E12/12,($G12-SUM($Q12:BR12)))))","v":0},{"$f":"IF($D12>=BT$3,0,IF(SUM($Q12:BS12)=$G12,0,IF($G12*$E12/12<($G12-SUM($Q12:BS12)),$G12*$E12/12,($G12-SUM($Q12:BS12)))))","v":0},{"$f":"IF($D12>=BU$3,0,IF(SUM($Q12:BT12)=$G12,0,IF($G12*$E12/12<($G12-SUM($Q12:BT12)),$G12*$E12/12,($G12-SUM($Q12:BT12)))))","v":0},{"$f":"IF($D12>=BV$3,0,IF(SUM($Q12:BU12)=$G12,0,IF($G12*$E12/12<($G12-SUM($Q12:BU12)),$G12*$E12/12,($G12-SUM($Q12:BU12)))))","v":0},{"$f":"IF($D12>=BW$3,0,IF(SUM($Q12:BV12)=$G12,0,IF($G12*$E12/12<($G12-SUM($Q12:BV12)),$G12*$E12/12,($G12-SUM($Q12:BV12)))))","v":0},{"$f":"IF($D12>=BX$3,0,IF(SUM($Q12:BW12)=$G12,0,IF($G12*$E12/12<($G12-SUM($Q12:BW12)),$G12*$E12/12,($G12-SUM($Q12:BW12)))))","v":0},{"$f":"IF($D12>=BY$3,0,IF(SUM($Q12:BX12)=$G12,0,IF($G12*$E12/12<($G12-SUM($Q12:BX12)),$G12*$E12/12,($G12-SUM($Q12:BX12)))))","v":0},{"$f":"IF($D12>=BZ$3,0,IF(SUM($Q12:BY12)=$G12,0,IF($G12*$E12/12<($G12-SUM($Q12:BY12)),$G12*$E12/12,($G12-SUM($Q12:BY12)))))","v":0},{"$f":"IF($D12>=CA$3,0,IF(SUM($Q12:BZ12)=$G12,0,IF($G12*$E12/12<($G12-SUM($Q12:BZ12)),$G12*$E12/12,($G12-SUM($Q12:BZ12)))))","v":0},{"$f":"IF($D12>=CB$3,0,IF(SUM($Q12:CA12)=$G12,0,IF($G12*$E12/12<($G12-SUM($Q12:CA12)),$G12*$E12/12,($G12-SUM($Q12:CA12)))))","v":0},{"$f":"IF($D12>=CC$3,0,IF(SUM($Q12:CB12)=$G12,0,IF($G12*$E12/12<($G12-SUM($Q12:CB12)),$G12*$E12/12,($G12-SUM($Q12:CB12)))))","v":0},{"$f":"IF($D12>=CD$3,0,IF(SUM($Q12:CC12)=$G12,0,IF($G12*$E12/12<($G12-SUM($Q12:CC12)),$G12*$E12/12,($G12-SUM($Q12:CC12)))))","v":0},{"$f":"IF($D12>=CE$3,0,IF(SUM($Q12:CD12)=$G12,0,IF($G12*$E12/12<($G12-SUM($Q12:CD12)),$G12*$E12/12,($G12-SUM($Q12:CD12)))))","v":0},{"$f":"IF($D12>=CF$3,0,IF(SUM($Q12:CE12)=$G12,0,IF($G12*$E12/12<($G12-SUM($Q12:CE12)),$G12*$E12/12,($G12-SUM($Q12:CE12)))))","v":0},{"$f":"IF($D12>=CG$3,0,IF(SUM($Q12:CF12)=$G12,0,IF($G12*$E12/12<($G12-SUM($Q12:CF12)),$G12*$E12/12,($G12-SUM($Q12:CF12)))))","v":0},{"$f":"IF($D12>=CH$3,0,IF(SUM($Q12:CG12)=$G12,0,IF($G12*$E12/12<($G12-SUM($Q12:CG12)),$G12*$E12/12,($G12-SUM($Q12:CG12)))))","v":0},{"$f":"IF($D12>=CI$3,0,IF(SUM($Q12:CH12)=$G12,0,IF($G12*$E12/12<($G12-SUM($Q12:CH12)),$G12*$E12/12,($G12-SUM($Q12:CH12)))))","v":0},{"$f":"IF($D12>=CJ$3,0,IF(SUM($Q12:CI12)=$G12,0,IF($G12*$E12/12<($G12-SUM($Q12:CI12)),$G12*$E12/12,($G12-SUM($Q12:CI12)))))","v":0},{"$f":"IF($D12>=CK$3,0,IF(SUM($Q12:CJ12)=$G12,0,IF($G12*$E12/12<($G12-SUM($Q12:CJ12)),$G12*$E12/12,($G12-SUM($Q12:CJ12)))))","v":0},{"$f":"IF($D12>=CL$3,0,IF(SUM($Q12:CK12)=$G12,0,IF($G12*$E12/12<($G12-SUM($Q12:CK12)),$G12*$E12/12,($G12-SUM($Q12:CK12)))))","v":0},{"$f":"IF($D12>=CM$3,0,IF(SUM($Q12:CL12)=$G12,0,IF($G12*$E12/12<($G12-SUM($Q12:CL12)),$G12*$E12/12,($G12-SUM($Q12:CL12)))))","v":0},{"$f":"IF($D12>=CN$3,0,IF(SUM($Q12:CM12)=$G12,0,IF($G12*$E12/12<($G12-SUM($Q12:CM12)),$G12*$E12/12,($G12-SUM($Q12:CM12)))))","v":0},{"$f":"IF($D12>=CO$3,0,IF(SUM($Q12:CN12)=$G12,0,IF($G12*$E12/12<($G12-SUM($Q12:CN12)),$G12*$E12/12,($G12-SUM($Q12:CN12)))))","v":0},{"$f":"IF($D12>=CP$3,0,IF(SUM($Q12:CO12)=$G12,0,IF($G12*$E12/12<($G12-SUM($Q12:CO12)),$G12*$E12/12,($G12-SUM($Q12:CO12)))))","v":0},{"$f":"IF($D12>=CQ$3,0,IF(SUM($Q12:CP12)=$G12,0,IF($G12*$E12/12<($G12-SUM($Q12:CP12)),$G12*$E12/12,($G12-SUM($Q12:CP12)))))","v":0},{"$f":"IF($D12>=CR$3,0,IF(SUM($Q12:CQ12)=$G12,0,IF($G12*$E12/12<($G12-SUM($Q12:CQ12)),$G12*$E12/12,($G12-SUM($Q12:CQ12)))))","v":0},{"$f":"IF($D12>=CS$3,0,IF(SUM($Q12:CR12)=$G12,0,IF($G12*$E12/12<($G12-SUM($Q12:CR12)),$G12*$E12/12,($G12-SUM($Q12:CR12)))))","v":0},{"$f":"IF($D12>=CT$3,0,IF(SUM($Q12:CS12)=$G12,0,IF($G12*$E12/12<($G12-SUM($Q12:CS12)),$G12*$E12/12,($G12-SUM($Q12:CS12)))))","v":0},{"$f":"IF($D12>=CU$3,0,IF(SUM($Q12:CT12)=$G12,0,IF($G12*$E12/12<($G12-SUM($Q12:CT12)),$G12*$E12/12,($G12-SUM($Q12:CT12)))))","v":0},{"$f":"IF($D12>=CV$3,0,IF(SUM($Q12:CU12)=$G12,0,IF($G12*$E12/12<($G12-SUM($Q12:CU12)),$G12*$E12/12,($G12-SUM($Q12:CU12)))))","v":0}]
[{"$f":"IF(D13<EOMONTH($D$2,-12),\"Fuera de plazo\",IF(D13>BALANCE!$J$3,\"Fuera de plazo\",\"\"))","v":""},"Otros",null,"2014-10-31",0.18,0.21,{"$f":"IF(YEAR(D13)<=YEAR($D$2),C13*RIESGO!$C$4,C13*RIESGO!$C$4*(1+CONTROL!$H$4)^(YEAR(D13)-YEAR($D$2)))","v":0},0,0,0,0,0,0,0,0,null,0,{"$f":"IF($D13>=R$3,0,IF(SUM($Q13:Q13)=$G13,0,IF($G13*$E13/12<($G13-SUM($Q13:Q13)),$G13*$E13/12,($G13-SUM($Q13:Q13)))))","v":0},{"$f":"IF($D13>=S$3,0,IF(SUM($Q13:R13)=$G13,0,IF($G13*$E13/12<($G13-SUM($Q13:R13)),$G13*$E13/12,($G13-SUM($Q13:R13)))))","v":0},{"$f":"IF($D13>=T$3,0,IF(SUM($Q13:S13)=$G13,0,IF($G13*$E13/12<($G13-SUM($Q13:S13)),$G13*$E13/12,($G13-SUM($Q13:S13)))))","v":0},{"$f":"IF($D13>=U$3,0,IF(SUM($Q13:T13)=$G13,0,IF($G13*$E13/12<($G13-SUM($Q13:T13)),$G13*$E13/12,($G13-SUM($Q13:T13)))))","v":0},{"$f":"IF($D13>=V$3,0,IF(SUM($Q13:U13)=$G13,0,IF($G13*$E13/12<($G13-SUM($Q13:U13)),$G13*$E13/12,($G13-SUM($Q13:U13)))))","v":0},{"$f":"IF($D13>=W$3,0,IF(SUM($Q13:V13)=$G13,0,IF($G13*$E13/12<($G13-SUM($Q13:V13)),$G13*$E13/12,($G13-SUM($Q13:V13)))))","v":0},{"$f":"IF($D13>=X$3,0,IF(SUM($Q13:W13)=$G13,0,IF($G13*$E13/12<($G13-SUM($Q13:W13)),$G13*$E13/12,($G13-SUM($Q13:W13)))))","v":0},{"$f":"IF($D13>=Y$3,0,IF(SUM($Q13:X13)=$G13,0,IF($G13*$E13/12<($G13-SUM($Q13:X13)),$G13*$E13/12,($G13-SUM($Q13:X13)))))","v":0},{"$f":"IF($D13>=Z$3,0,IF(SUM($Q13:Y13)=$G13,0,IF($G13*$E13/12<($G13-SUM($Q13:Y13)),$G13*$E13/12,($G13-SUM($Q13:Y13)))))","v":0},{"$f":"IF($D13>=AA$3,0,IF(SUM($Q13:Z13)=$G13,0,IF($G13*$E13/12<($G13-SUM($Q13:Z13)),$G13*$E13/12,($G13-SUM($Q13:Z13)))))","v":0},{"$f":"IF($D13>=AB$3,0,IF(SUM($Q13:AA13)=$G13,0,IF($G13*$E13/12<($G13-SUM($Q13:AA13)),$G13*$E13/12,($G13-SUM($Q13:AA13)))))","v":0},{"$f":"IF($D13>=AC$3,0,IF(SUM($Q13:AB13)=$G13,0,IF($G13*$E13/12<($G13-SUM($Q13:AB13)),$G13*$E13/12,($G13-SUM($Q13:AB13)))))","v":0},{"$f":"IF($D13>=AD$3,0,IF(SUM($Q13:AC13)=$G13,0,IF($G13*$E13/12<($G13-SUM($Q13:AC13)),$G13*$E13/12,($G13-SUM($Q13:AC13)))))","v":0},{"$f":"IF($D13>=AE$3,0,IF(SUM($Q13:AD13)=$G13,0,IF($G13*$E13/12<($G13-SUM($Q13:AD13)),$G13*$E13/12,($G13-SUM($Q13:AD13)))))","v":0},{"$f":"IF($D13>=AF$3,0,IF(SUM($Q13:AE13)=$G13,0,IF($G13*$E13/12<($G13-SUM($Q13:AE13)),$G13*$E13/12,($G13-SUM($Q13:AE13)))))","v":0},{"$f":"IF($D13>=AG$3,0,IF(SUM($Q13:AF13)=$G13,0,IF($G13*$E13/12<($G13-SUM($Q13:AF13)),$G13*$E13/12,($G13-SUM($Q13:AF13)))))","v":0},{"$f":"IF($D13>=AH$3,0,IF(SUM($Q13:AG13)=$G13,0,IF($G13*$E13/12<($G13-SUM($Q13:AG13)),$G13*$E13/12,($G13-SUM($Q13:AG13)))))","v":0},{"$f":"IF($D13>=AI$3,0,IF(SUM($Q13:AH13)=$G13,0,IF($G13*$E13/12<($G13-SUM($Q13:AH13)),$G13*$E13/12,($G13-SUM($Q13:AH13)))))","v":0},{"$f":"IF($D13>=AJ$3,0,IF(SUM($Q13:AI13)=$G13,0,IF($G13*$E13/12<($G13-SUM($Q13:AI13)),$G13*$E13/12,($G13-SUM($Q13:AI13)))))","v":0},{"$f":"IF($D13>=AK$3,0,IF(SUM($Q13:AJ13)=$G13,0,IF($G13*$E13/12<($G13-SUM($Q13:AJ13)),$G13*$E13/12,($G13-SUM($Q13:AJ13)))))","v":0},{"$f":"IF($D13>=AL$3,0,IF(SUM($Q13:AK13)=$G13,0,IF($G13*$E13/12<($G13-SUM($Q13:AK13)),$G13*$E13/12,($G13-SUM($Q13:AK13)))))","v":0},{"$f":"IF($D13>=AM$3,0,IF(SUM($Q13:AL13)=$G13,0,IF($G13*$E13/12<($G13-SUM($Q13:AL13)),$G13*$E13/12,($G13-SUM($Q13:AL13)))))","v":0},{"$f":"IF($D13>=AN$3,0,IF(SUM($Q13:AM13)=$G13,0,IF($G13*$E13/12<($G13-SUM($Q13:AM13)),$G13*$E13/12,($G13-SUM($Q13:AM13)))))","v":0},{"$f":"IF($D13>=AO$3,0,IF(SUM($Q13:AN13)=$G13,0,IF($G13*$E13/12<($G13-SUM($Q13:AN13)),$G13*$E13/12,($G13-SUM($Q13:AN13)))))","v":0},{"$f":"IF($D13>=AP$3,0,IF(SUM($Q13:AO13)=$G13,0,IF($G13*$E13/12<($G13-SUM($Q13:AO13)),$G13*$E13/12,($G13-SUM($Q13:AO13)))))","v":0},{"$f":"IF($D13>=AQ$3,0,IF(SUM($Q13:AP13)=$G13,0,IF($G13*$E13/12<($G13-SUM($Q13:AP13)),$G13*$E13/12,($G13-SUM($Q13:AP13)))))","v":0},{"$f":"IF($D13>=AR$3,0,IF(SUM($Q13:AQ13)=$G13,0,IF($G13*$E13/12<($G13-SUM($Q13:AQ13)),$G13*$E13/12,($G13-SUM($Q13:AQ13)))))","v":0},{"$f":"IF($D13>=AS$3,0,IF(SUM($Q13:AR13)=$G13,0,IF($G13*$E13/12<($G13-SUM($Q13:AR13)),$G13*$E13/12,($G13-SUM($Q13:AR13)))))","v":0},{"$f":"IF($D13>=AT$3,0,IF(SUM($Q13:AS13)=$G13,0,IF($G13*$E13/12<($G13-SUM($Q13:AS13)),$G13*$E13/12,($G13-SUM($Q13:AS13)))))","v":0},{"$f":"IF($D13>=AU$3,0,IF(SUM($Q13:AT13)=$G13,0,IF($G13*$E13/12<($G13-SUM($Q13:AT13)),$G13*$E13/12,($G13-SUM($Q13:AT13)))))","v":0},{"$f":"IF($D13>=AV$3,0,IF(SUM($Q13:AU13)=$G13,0,IF($G13*$E13/12<($G13-SUM($Q13:AU13)),$G13*$E13/12,($G13-SUM($Q13:AU13)))))","v":0},{"$f":"IF($D13>=AW$3,0,IF(SUM($Q13:AV13)=$G13,0,IF($G13*$E13/12<($G13-SUM($Q13:AV13)),$G13*$E13/12,($G13-SUM($Q13:AV13)))))","v":0},{"$f":"IF($D13>=AX$3,0,IF(SUM($Q13:AW13)=$G13,0,IF($G13*$E13/12<($G13-SUM($Q13:AW13)),$G13*$E13/12,($G13-SUM($Q13:AW13)))))","v":0},{"$f":"IF($D13>=AY$3,0,IF(SUM($Q13:AX13)=$G13,0,IF($G13*$E13/12<($G13-SUM($Q13:AX13)),$G13*$E13/12,($G13-SUM($Q13:AX13)))))","v":0},{"$f":"IF($D13>=AZ$3,0,IF(SUM($Q13:AY13)=$G13,0,IF($G13*$E13/12<($G13-SUM($Q13:AY13)),$G13*$E13/12,($G13-SUM($Q13:AY13)))))","v":0},{"$f":"IF($D13>=BA$3,0,IF(SUM($Q13:AZ13)=$G13,0,IF($G13*$E13/12<($G13-SUM($Q13:AZ13)),$G13*$E13/12,($G13-SUM($Q13:AZ13)))))","v":0},{"$f":"IF($D13>=BB$3,0,IF(SUM($Q13:BA13)=$G13,0,IF($G13*$E13/12<($G13-SUM($Q13:BA13)),$G13*$E13/12,($G13-SUM($Q13:BA13)))))","v":0},{"$f":"IF($D13>=BC$3,0,IF(SUM($Q13:BB13)=$G13,0,IF($G13*$E13/12<($G13-SUM($Q13:BB13)),$G13*$E13/12,($G13-SUM($Q13:BB13)))))","v":0},{"$f":"IF($D13>=BD$3,0,IF(SUM($Q13:BC13)=$G13,0,IF($G13*$E13/12<($G13-SUM($Q13:BC13)),$G13*$E13/12,($G13-SUM($Q13:BC13)))))","v":0},{"$f":"IF($D13>=BE$3,0,IF(SUM($Q13:BD13)=$G13,0,IF($G13*$E13/12<($G13-SUM($Q13:BD13)),$G13*$E13/12,($G13-SUM($Q13:BD13)))))","v":0},{"$f":"IF($D13>=BF$3,0,IF(SUM($Q13:BE13)=$G13,0,IF($G13*$E13/12<($G13-SUM($Q13:BE13)),$G13*$E13/12,($G13-SUM($Q13:BE13)))))","v":0},{"$f":"IF($D13>=BG$3,0,IF(SUM($Q13:BF13)=$G13,0,IF($G13*$E13/12<($G13-SUM($Q13:BF13)),$G13*$E13/12,($G13-SUM($Q13:BF13)))))","v":0},{"$f":"IF($D13>=BH$3,0,IF(SUM($Q13:BG13)=$G13,0,IF($G13*$E13/12<($G13-SUM($Q13:BG13)),$G13*$E13/12,($G13-SUM($Q13:BG13)))))","v":0},{"$f":"IF($D13>=BI$3,0,IF(SUM($Q13:BH13)=$G13,0,IF($G13*$E13/12<($G13-SUM($Q13:BH13)),$G13*$E13/12,($G13-SUM($Q13:BH13)))))","v":0},{"$f":"IF($D13>=BJ$3,0,IF(SUM($Q13:BI13)=$G13,0,IF($G13*$E13/12<($G13-SUM($Q13:BI13)),$G13*$E13/12,($G13-SUM($Q13:BI13)))))","v":0},{"$f":"IF($D13>=BK$3,0,IF(SUM($Q13:BJ13)=$G13,0,IF($G13*$E13/12<($G13-SUM($Q13:BJ13)),$G13*$E13/12,($G13-SUM($Q13:BJ13)))))","v":0},{"$f":"IF($D13>=BL$3,0,IF(SUM($Q13:BK13)=$G13,0,IF($G13*$E13/12<($G13-SUM($Q13:BK13)),$G13*$E13/12,($G13-SUM($Q13:BK13)))))","v":0},{"$f":"IF($D13>=BM$3,0,IF(SUM($Q13:BL13)=$G13,0,IF($G13*$E13/12<($G13-SUM($Q13:BL13)),$G13*$E13/12,($G13-SUM($Q13:BL13)))))","v":0},{"$f":"IF($D13>=BN$3,0,IF(SUM($Q13:BM13)=$G13,0,IF($G13*$E13/12<($G13-SUM($Q13:BM13)),$G13*$E13/12,($G13-SUM($Q13:BM13)))))","v":0},{"$f":"IF($D13>=BO$3,0,IF(SUM($Q13:BN13)=$G13,0,IF($G13*$E13/12<($G13-SUM($Q13:BN13)),$G13*$E13/12,($G13-SUM($Q13:BN13)))))","v":0},{"$f":"IF($D13>=BP$3,0,IF(SUM($Q13:BO13)=$G13,0,IF($G13*$E13/12<($G13-SUM($Q13:BO13)),$G13*$E13/12,($G13-SUM($Q13:BO13)))))","v":0},{"$f":"IF($D13>=BQ$3,0,IF(SUM($Q13:BP13)=$G13,0,IF($G13*$E13/12<($G13-SUM($Q13:BP13)),$G13*$E13/12,($G13-SUM($Q13:BP13)))))","v":0},{"$f":"IF($D13>=BR$3,0,IF(SUM($Q13:BQ13)=$G13,0,IF($G13*$E13/12<($G13-SUM($Q13:BQ13)),$G13*$E13/12,($G13-SUM($Q13:BQ13)))))","v":0},{"$f":"IF($D13>=BS$3,0,IF(SUM($Q13:BR13)=$G13,0,IF($G13*$E13/12<($G13-SUM($Q13:BR13)),$G13*$E13/12,($G13-SUM($Q13:BR13)))))","v":0},{"$f":"IF($D13>=BT$3,0,IF(SUM($Q13:BS13)=$G13,0,IF($G13*$E13/12<($G13-SUM($Q13:BS13)),$G13*$E13/12,($G13-SUM($Q13:BS13)))))","v":0},{"$f":"IF($D13>=BU$3,0,IF(SUM($Q13:BT13)=$G13,0,IF($G13*$E13/12<($G13-SUM($Q13:BT13)),$G13*$E13/12,($G13-SUM($Q13:BT13)))))","v":0},{"$f":"IF($D13>=BV$3,0,IF(SUM($Q13:BU13)=$G13,0,IF($G13*$E13/12<($G13-SUM($Q13:BU13)),$G13*$E13/12,($G13-SUM($Q13:BU13)))))","v":0},{"$f":"IF($D13>=BW$3,0,IF(SUM($Q13:BV13)=$G13,0,IF($G13*$E13/12<($G13-SUM($Q13:BV13)),$G13*$E13/12,($G13-SUM($Q13:BV13)))))","v":0},{"$f":"IF($D13>=BX$3,0,IF(SUM($Q13:BW13)=$G13,0,IF($G13*$E13/12<($G13-SUM($Q13:BW13)),$G13*$E13/12,($G13-SUM($Q13:BW13)))))","v":0},{"$f":"IF($D13>=BY$3,0,IF(SUM($Q13:BX13)=$G13,0,IF($G13*$E13/12<($G13-SUM($Q13:BX13)),$G13*$E13/12,($G13-SUM($Q13:BX13)))))","v":0},{"$f":"IF($D13>=BZ$3,0,IF(SUM($Q13:BY13)=$G13,0,IF($G13*$E13/12<($G13-SUM($Q13:BY13)),$G13*$E13/12,($G13-SUM($Q13:BY13)))))","v":0},{"$f":"IF($D13>=CA$3,0,IF(SUM($Q13:BZ13)=$G13,0,IF($G13*$E13/12<($G13-SUM($Q13:BZ13)),$G13*$E13/12,($G13-SUM($Q13:BZ13)))))","v":0},{"$f":"IF($D13>=CB$3,0,IF(SUM($Q13:CA13)=$G13,0,IF($G13*$E13/12<($G13-SUM($Q13:CA13)),$G13*$E13/12,($G13-SUM($Q13:CA13)))))","v":0},{"$f":"IF($D13>=CC$3,0,IF(SUM($Q13:CB13)=$G13,0,IF($G13*$E13/12<($G13-SUM($Q13:CB13)),$G13*$E13/12,($G13-SUM($Q13:CB13)))))","v":0},{"$f":"IF($D13>=CD$3,0,IF(SUM($Q13:CC13)=$G13,0,IF($G13*$E13/12<($G13-SUM($Q13:CC13)),$G13*$E13/12,($G13-SUM($Q13:CC13)))))","v":0},{"$f":"IF($D13>=CE$3,0,IF(SUM($Q13:CD13)=$G13,0,IF($G13*$E13/12<($G13-SUM($Q13:CD13)),$G13*$E13/12,($G13-SUM($Q13:CD13)))))","v":0},{"$f":"IF($D13>=CF$3,0,IF(SUM($Q13:CE13)=$G13,0,IF($G13*$E13/12<($G13-SUM($Q13:CE13)),$G13*$E13/12,($G13-SUM($Q13:CE13)))))","v":0},{"$f":"IF($D13>=CG$3,0,IF(SUM($Q13:CF13)=$G13,0,IF($G13*$E13/12<($G13-SUM($Q13:CF13)),$G13*$E13/12,($G13-SUM($Q13:CF13)))))","v":0},{"$f":"IF($D13>=CH$3,0,IF(SUM($Q13:CG13)=$G13,0,IF($G13*$E13/12<($G13-SUM($Q13:CG13)),$G13*$E13/12,($G13-SUM($Q13:CG13)))))","v":0},{"$f":"IF($D13>=CI$3,0,IF(SUM($Q13:CH13)=$G13,0,IF($G13*$E13/12<($G13-SUM($Q13:CH13)),$G13*$E13/12,($G13-SUM($Q13:CH13)))))","v":0},{"$f":"IF($D13>=CJ$3,0,IF(SUM($Q13:CI13)=$G13,0,IF($G13*$E13/12<($G13-SUM($Q13:CI13)),$G13*$E13/12,($G13-SUM($Q13:CI13)))))","v":0},{"$f":"IF($D13>=CK$3,0,IF(SUM($Q13:CJ13)=$G13,0,IF($G13*$E13/12<($G13-SUM($Q13:CJ13)),$G13*$E13/12,($G13-SUM($Q13:CJ13)))))","v":0},{"$f":"IF($D13>=CL$3,0,IF(SUM($Q13:CK13)=$G13,0,IF($G13*$E13/12<($G13-SUM($Q13:CK13)),$G13*$E13/12,($G13-SUM($Q13:CK13)))))","v":0},{"$f":"IF($D13>=CM$3,0,IF(SUM($Q13:CL13)=$G13,0,IF($G13*$E13/12<($G13-SUM($Q13:CL13)),$G13*$E13/12,($G13-SUM($Q13:CL13)))))","v":0},{"$f":"IF($D13>=CN$3,0,IF(SUM($Q13:CM13)=$G13,0,IF($G13*$E13/12<($G13-SUM($Q13:CM13)),$G13*$E13/12,($G13-SUM($Q13:CM13)))))","v":0},{"$f":"IF($D13>=CO$3,0,IF(SUM($Q13:CN13)=$G13,0,IF($G13*$E13/12<($G13-SUM($Q13:CN13)),$G13*$E13/12,($G13-SUM($Q13:CN13)))))","v":0},{"$f":"IF($D13>=CP$3,0,IF(SUM($Q13:CO13)=$G13,0,IF($G13*$E13/12<($G13-SUM($Q13:CO13)),$G13*$E13/12,($G13-SUM($Q13:CO13)))))","v":0},{"$f":"IF($D13>=CQ$3,0,IF(SUM($Q13:CP13)=$G13,0,IF($G13*$E13/12<($G13-SUM($Q13:CP13)),$G13*$E13/12,($G13-SUM($Q13:CP13)))))","v":0},{"$f":"IF($D13>=CR$3,0,IF(SUM($Q13:CQ13)=$G13,0,IF($G13*$E13/12<($G13-SUM($Q13:CQ13)),$G13*$E13/12,($G13-SUM($Q13:CQ13)))))","v":0},{"$f":"IF($D13>=CS$3,0,IF(SUM($Q13:CR13)=$G13,0,IF($G13*$E13/12<($G13-SUM($Q13:CR13)),$G13*$E13/12,($G13-SUM($Q13:CR13)))))","v":0},{"$f":"IF($D13>=CT$3,0,IF(SUM($Q13:CS13)=$G13,0,IF($G13*$E13/12<($G13-SUM($Q13:CS13)),$G13*$E13/12,($G13-SUM($Q13:CS13)))))","v":0},{"$f":"IF($D13>=CU$3,0,IF(SUM($Q13:CT13)=$G13,0,IF($G13*$E13/12<($G13-SUM($Q13:CT13)),$G13*$E13/12,($G13-SUM($Q13:CT13)))))","v":0},{"$f":"IF($D13>=CV$3,0,IF(SUM($Q13:CU13)=$G13,0,IF($G13*$E13/12<($G13-SUM($Q13:CU13)),$G13*$E13/12,($G13-SUM($Q13:CU13)))))","v":0}]
[{"$f":"IF(D14<EOMONTH($D$2,-12),\"Fuera de plazo\",IF(D14>BALANCE!$J$3,\"Fuera de plazo\",\"\"))","v":""},"Otros",null,"2016-03-31",0.12,0.21,{"$f":"IF(YEAR(D14)<=YEAR($D$2),C14*RIESGO!$C$4,C14*RIESGO!$C$4*(1+CONTROL!$H$4)^(YEAR(D14)-YEAR($D$2)))","v":0},{"$f":"G14*F14","v":0},0,0,0,0,0,0,0,null,0,{"$f":"IF($D14>=R$3,0,IF(SUM($Q14:Q14)=$G14,0,IF($G14*$E14/12<($G14-SUM($Q14:Q14)),$G14*$E14/12,($G14-SUM($Q14:Q14)))))","v":0},{"$f":"IF($D14>=S$3,0,IF(SUM($Q14:R14)=$G14,0,IF($G14*$E14/12<($G14-SUM($Q14:R14)),$G14*$E14/12,($G14-SUM($Q14:R14)))))","v":0},{"$f":"IF($D14>=T$3,0,IF(SUM($Q14:S14)=$G14,0,IF($G14*$E14/12<($G14-SUM($Q14:S14)),$G14*$E14/12,($G14-SUM($Q14:S14)))))","v":0},{"$f":"IF($D14>=U$3,0,IF(SUM($Q14:T14)=$G14,0,IF($G14*$E14/12<($G14-SUM($Q14:T14)),$G14*$E14/12,($G14-SUM($Q14:T14)))))","v":0},{"$f":"IF($D14>=V$3,0,IF(SUM($Q14:U14)=$G14,0,IF($G14*$E14/12<($G14-SUM($Q14:U14)),$G14*$E14/12,($G14-SUM($Q14:U14)))))","v":0},{"$f":"IF($D14>=W$3,0,IF(SUM($Q14:V14)=$G14,0,IF($G14*$E14/12<($G14-SUM($Q14:V14)),$G14*$E14/12,($G14-SUM($Q14:V14)))))","v":0},{"$f":"IF($D14>=X$3,0,IF(SUM($Q14:W14)=$G14,0,IF($G14*$E14/12<($G14-SUM($Q14:W14)),$G14*$E14/12,($G14-SUM($Q14:W14)))))","v":0},{"$f":"IF($D14>=Y$3,0,IF(SUM($Q14:X14)=$G14,0,IF($G14*$E14/12<($G14-SUM($Q14:X14)),$G14*$E14/12,($G14-SUM($Q14:X14)))))","v":0},{"$f":"IF($D14>=Z$3,0,IF(SUM($Q14:Y14)=$G14,0,IF($G14*$E14/12<($G14-SUM($Q14:Y14)),$G14*$E14/12,($G14-SUM($Q14:Y14)))))","v":0},{"$f":"IF($D14>=AA$3,0,IF(SUM($Q14:Z14)=$G14,0,IF($G14*$E14/12<($G14-SUM($Q14:Z14)),$G14*$E14/12,($G14-SUM($Q14:Z14)))))","v":0},{"$f":"IF($D14>=AB$3,0,IF(SUM($Q14:AA14)=$G14,0,IF($G14*$E14/12<($G14-SUM($Q14:AA14)),$G14*$E14/12,($G14-SUM($Q14:AA14)))))","v":0},{"$f":"IF($D14>=AC$3,0,IF(SUM($Q14:AB14)=$G14,0,IF($G14*$E14/12<($G14-SUM($Q14:AB14)),$G14*$E14/12,($G14-SUM($Q14:AB14)))))","v":0},{"$f":"IF($D14>=AD$3,0,IF(SUM($Q14:AC14)=$G14,0,IF($G14*$E14/12<($G14-SUM($Q14:AC14)),$G14*$E14/12,($G14-SUM($Q14:AC14)))))","v":0},{"$f":"IF($D14>=AE$3,0,IF(SUM($Q14:AD14)=$G14,0,IF($G14*$E14/12<($G14-SUM($Q14:AD14)),$G14*$E14/12,($G14-SUM($Q14:AD14)))))","v":0},{"$f":"IF($D14>=AF$3,0,IF(SUM($Q14:AE14)=$G14,0,IF($G14*$E14/12<($G14-SUM($Q14:AE14)),$G14*$E14/12,($G14-SUM($Q14:AE14)))))","v":0},{"$f":"IF($D14>=AG$3,0,IF(SUM($Q14:AF14)=$G14,0,IF($G14*$E14/12<($G14-SUM($Q14:AF14)),$G14*$E14/12,($G14-SUM($Q14:AF14)))))","v":0},{"$f":"IF($D14>=AH$3,0,IF(SUM($Q14:AG14)=$G14,0,IF($G14*$E14/12<($G14-SUM($Q14:AG14)),$G14*$E14/12,($G14-SUM($Q14:AG14)))))","v":0},{"$f":"IF($D14>=AI$3,0,IF(SUM($Q14:AH14)=$G14,0,IF($G14*$E14/12<($G14-SUM($Q14:AH14)),$G14*$E14/12,($G14-SUM($Q14:AH14)))))","v":0},{"$f":"IF($D14>=AJ$3,0,IF(SUM($Q14:AI14)=$G14,0,IF($G14*$E14/12<($G14-SUM($Q14:AI14)),$G14*$E14/12,($G14-SUM($Q14:AI14)))))","v":0},{"$f":"IF($D14>=AK$3,0,IF(SUM($Q14:AJ14)=$G14,0,IF($G14*$E14/12<($G14-SUM($Q14:AJ14)),$G14*$E14/12,($G14-SUM($Q14:AJ14)))))","v":0},{"$f":"IF($D14>=AL$3,0,IF(SUM($Q14:AK14)=$G14,0,IF($G14*$E14/12<($G14-SUM($Q14:AK14)),$G14*$E14/12,($G14-SUM($Q14:AK14)))))","v":0},{"$f":"IF($D14>=AM$3,0,IF(SUM($Q14:AL14)=$G14,0,IF($G14*$E14/12<($G14-SUM($Q14:AL14)),$G14*$E14/12,($G14-SUM($Q14:AL14)))))","v":0},{"$f":"IF($D14>=AN$3,0,IF(SUM($Q14:AM14)=$G14,0,IF($G14*$E14/12<($G14-SUM($Q14:AM14)),$G14*$E14/12,($G14-SUM($Q14:AM14)))))","v":0},{"$f":"IF($D14>=AO$3,0,IF(SUM($Q14:AN14)=$G14,0,IF($G14*$E14/12<($G14-SUM($Q14:AN14)),$G14*$E14/12,($G14-SUM($Q14:AN14)))))","v":0},{"$f":"IF($D14>=AP$3,0,IF(SUM($Q14:AO14)=$G14,0,IF($G14*$E14/12<($G14-SUM($Q14:AO14)),$G14*$E14/12,($G14-SUM($Q14:AO14)))))","v":0},{"$f":"IF($D14>=AQ$3,0,IF(SUM($Q14:AP14)=$G14,0,IF($G14*$E14/12<($G14-SUM($Q14:AP14)),$G14*$E14/12,($G14-SUM($Q14:AP14)))))","v":0},{"$f":"IF($D14>=AR$3,0,IF(SUM($Q14:AQ14)=$G14,0,IF($G14*$E14/12<($G14-SUM($Q14:AQ14)),$G14*$E14/12,($G14-SUM($Q14:AQ14)))))","v":0},{"$f":"IF($D14>=AS$3,0,IF(SUM($Q14:AR14)=$G14,0,IF($G14*$E14/12<($G14-SUM($Q14:AR14)),$G14*$E14/12,($G14-SUM($Q14:AR14)))))","v":0},{"$f":"IF($D14>=AT$3,0,IF(SUM($Q14:AS14)=$G14,0,IF($G14*$E14/12<($G14-SUM($Q14:AS14)),$G14*$E14/12,($G14-SUM($Q14:AS14)))))","v":0},{"$f":"IF($D14>=AU$3,0,IF(SUM($Q14:AT14)=$G14,0,IF($G14*$E14/12<($G14-SUM($Q14:AT14)),$G14*$E14/12,($G14-SUM($Q14:AT14)))))","v":0},{"$f":"IF($D14>=AV$3,0,IF(SUM($Q14:AU14)=$G14,0,IF($G14*$E14/12<($G14-SUM($Q14:AU14)),$G14*$E14/12,($G14-SUM($Q14:AU14)))))","v":0},{"$f":"IF($D14>=AW$3,0,IF(SUM($Q14:AV14)=$G14,0,IF($G14*$E14/12<($G14-SUM($Q14:AV14)),$G14*$E14/12,($G14-SUM($Q14:AV14)))))","v":0},{"$f":"IF($D14>=AX$3,0,IF(SUM($Q14:AW14)=$G14,0,IF($G14*$E14/12<($G14-SUM($Q14:AW14)),$G14*$E14/12,($G14-SUM($Q14:AW14)))))","v":0},{"$f":"IF($D14>=AY$3,0,IF(SUM($Q14:AX14)=$G14,0,IF($G14*$E14/12<($G14-SUM($Q14:AX14)),$G14*$E14/12,($G14-SUM($Q14:AX14)))))","v":0},{"$f":"IF($D14>=AZ$3,0,IF(SUM($Q14:AY14)=$G14,0,IF($G14*$E14/12<($G14-SUM($Q14:AY14)),$G14*$E14/12,($G14-SUM($Q14:AY14)))))","v":0},{"$f":"IF($D14>=BA$3,0,IF(SUM($Q14:AZ14)=$G14,0,IF($G14*$E14/12<($G14-SUM($Q14:AZ14)),$G14*$E14/12,($G14-SUM($Q14:AZ14)))))","v":0},{"$f":"IF($D14>=BB$3,0,IF(SUM($Q14:BA14)=$G14,0,IF($G14*$E14/12<($G14-SUM($Q14:BA14)),$G14*$E14/12,($G14-SUM($Q14:BA14)))))","v":0},{"$f":"IF($D14>=BC$3,0,IF(SUM($Q14:BB14)=$G14,0,IF($G14*$E14/12<($G14-SUM($Q14:BB14)),$G14*$E14/12,($G14-SUM($Q14:BB14)))))","v":0},{"$f":"IF($D14>=BD$3,0,IF(SUM($Q14:BC14)=$G14,0,IF($G14*$E14/12<($G14-SUM($Q14:BC14)),$G14*$E14/12,($G14-SUM($Q14:BC14)))))","v":0},{"$f":"IF($D14>=BE$3,0,IF(SUM($Q14:BD14)=$G14,0,IF($G14*$E14/12<($G14-SUM($Q14:BD14)),$G14*$E14/12,($G14-SUM($Q14:BD14)))))","v":0},{"$f":"IF($D14>=BF$3,0,IF(SUM($Q14:BE14)=$G14,0,IF($G14*$E14/12<($G14-SUM($Q14:BE14)),$G14*$E14/12,($G14-SUM($Q14:BE14)))))","v":0},{"$f":"IF($D14>=BG$3,0,IF(SUM($Q14:BF14)=$G14,0,IF($G14*$E14/12<($G14-SUM($Q14:BF14)),$G14*$E14/12,($G14-SUM($Q14:BF14)))))","v":0},{"$f":"IF($D14>=BH$3,0,IF(SUM($Q14:BG14)=$G14,0,IF($G14*$E14/12<($G14-SUM($Q14:BG14)),$G14*$E14/12,($G14-SUM($Q14:BG14)))))","v":0},{"$f":"IF($D14>=BI$3,0,IF(SUM($Q14:BH14)=$G14,0,IF($G14*$E14/12<($G14-SUM($Q14:BH14)),$G14*$E14/12,($G14-SUM($Q14:BH14)))))","v":0},{"$f":"IF($D14>=BJ$3,0,IF(SUM($Q14:BI14)=$G14,0,IF($G14*$E14/12<($G14-SUM($Q14:BI14)),$G14*$E14/12,($G14-SUM($Q14:BI14)))))","v":0},{"$f":"IF($D14>=BK$3,0,IF(SUM($Q14:BJ14)=$G14,0,IF($G14*$E14/12<($G14-SUM($Q14:BJ14)),$G14*$E14/12,($G14-SUM($Q14:BJ14)))))","v":0},{"$f":"IF($D14>=BL$3,0,IF(SUM($Q14:BK14)=$G14,0,IF($G14*$E14/12<($G14-SUM($Q14:BK14)),$G14*$E14/12,($G14-SUM($Q14:BK14)))))","v":0},{"$f":"IF($D14>=BM$3,0,IF(SUM($Q14:BL14)=$G14,0,IF($G14*$E14/12<($G14-SUM($Q14:BL14)),$G14*$E14/12,($G14-SUM($Q14:BL14)))))","v":0},{"$f":"IF($D14>=BN$3,0,IF(SUM($Q14:BM14)=$G14,0,IF($G14*$E14/12<($G14-SUM($Q14:BM14)),$G14*$E14/12,($G14-SUM($Q14:BM14)))))","v":0},{"$f":"IF($D14>=BO$3,0,IF(SUM($Q14:BN14)=$G14,0,IF($G14*$E14/12<($G14-SUM($Q14:BN14)),$G14*$E14/12,($G14-SUM($Q14:BN14)))))","v":0},{"$f":"IF($D14>=BP$3,0,IF(SUM($Q14:BO14)=$G14,0,IF($G14*$E14/12<($G14-SUM($Q14:BO14)),$G14*$E14/12,($G14-SUM($Q14:BO14)))))","v":0},{"$f":"IF($D14>=BQ$3,0,IF(SUM($Q14:BP14)=$G14,0,IF($G14*$E14/12<($G14-SUM($Q14:BP14)),$G14*$E14/12,($G14-SUM($Q14:BP14)))))","v":0},{"$f":"IF($D14>=BR$3,0,IF(SUM($Q14:BQ14)=$G14,0,IF($G14*$E14/12<($G14-SUM($Q14:BQ14)),$G14*$E14/12,($G14-SUM($Q14:BQ14)))))","v":0},{"$f":"IF($D14>=BS$3,0,IF(SUM($Q14:BR14)=$G14,0,IF($G14*$E14/12<($G14-SUM($Q14:BR14)),$G14*$E14/12,($G14-SUM($Q14:BR14)))))","v":0},{"$f":"IF($D14>=BT$3,0,IF(SUM($Q14:BS14)=$G14,0,IF($G14*$E14/12<($G14-SUM($Q14:BS14)),$G14*$E14/12,($G14-SUM($Q14:BS14)))))","v":0},{"$f":"IF($D14>=BU$3,0,IF(SUM($Q14:BT14)=$G14,0,IF($G14*$E14/12<($G14-SUM($Q14:BT14)),$G14*$E14/12,($G14-SUM($Q14:BT14)))))","v":0},{"$f":"IF($D14>=BV$3,0,IF(SUM($Q14:BU14)=$G14,0,IF($G14*$E14/12<($G14-SUM($Q14:BU14)),$G14*$E14/12,($G14-SUM($Q14:BU14)))))","v":0},{"$f":"IF($D14>=BW$3,0,IF(SUM($Q14:BV14)=$G14,0,IF($G14*$E14/12<($G14-SUM($Q14:BV14)),$G14*$E14/12,($G14-SUM($Q14:BV14)))))","v":0},{"$f":"IF($D14>=BX$3,0,IF(SUM($Q14:BW14)=$G14,0,IF($G14*$E14/12<($G14-SUM($Q14:BW14)),$G14*$E14/12,($G14-SUM($Q14:BW14)))))","v":0},{"$f":"IF($D14>=BY$3,0,IF(SUM($Q14:BX14)=$G14,0,IF($G14*$E14/12<($G14-SUM($Q14:BX14)),$G14*$E14/12,($G14-SUM($Q14:BX14)))))","v":0},{"$f":"IF($D14>=BZ$3,0,IF(SUM($Q14:BY14)=$G14,0,IF($G14*$E14/12<($G14-SUM($Q14:BY14)),$G14*$E14/12,($G14-SUM($Q14:BY14)))))","v":0},{"$f":"IF($D14>=CA$3,0,IF(SUM($Q14:BZ14)=$G14,0,IF($G14*$E14/12<($G14-SUM($Q14:BZ14)),$G14*$E14/12,($G14-SUM($Q14:BZ14)))))","v":0},{"$f":"IF($D14>=CB$3,0,IF(SUM($Q14:CA14)=$G14,0,IF($G14*$E14/12<($G14-SUM($Q14:CA14)),$G14*$E14/12,($G14-SUM($Q14:CA14)))))","v":0},{"$f":"IF($D14>=CC$3,0,IF(SUM($Q14:CB14)=$G14,0,IF($G14*$E14/12<($G14-SUM($Q14:CB14)),$G14*$E14/12,($G14-SUM($Q14:CB14)))))","v":0},{"$f":"IF($D14>=CD$3,0,IF(SUM($Q14:CC14)=$G14,0,IF($G14*$E14/12<($G14-SUM($Q14:CC14)),$G14*$E14/12,($G14-SUM($Q14:CC14)))))","v":0},{"$f":"IF($D14>=CE$3,0,IF(SUM($Q14:CD14)=$G14,0,IF($G14*$E14/12<($G14-SUM($Q14:CD14)),$G14*$E14/12,($G14-SUM($Q14:CD14)))))","v":0},{"$f":"IF($D14>=CF$3,0,IF(SUM($Q14:CE14)=$G14,0,IF($G14*$E14/12<($G14-SUM($Q14:CE14)),$G14*$E14/12,($G14-SUM($Q14:CE14)))))","v":0},{"$f":"IF($D14>=CG$3,0,IF(SUM($Q14:CF14)=$G14,0,IF($G14*$E14/12<($G14-SUM($Q14:CF14)),$G14*$E14/12,($G14-SUM($Q14:CF14)))))","v":0},{"$f":"IF($D14>=CH$3,0,IF(SUM($Q14:CG14)=$G14,0,IF($G14*$E14/12<($G14-SUM($Q14:CG14)),$G14*$E14/12,($G14-SUM($Q14:CG14)))))","v":0},{"$f":"IF($D14>=CI$3,0,IF(SUM($Q14:CH14)=$G14,0,IF($G14*$E14/12<($G14-SUM($Q14:CH14)),$G14*$E14/12,($G14-SUM($Q14:CH14)))))","v":0},{"$f":"IF($D14>=CJ$3,0,IF(SUM($Q14:CI14)=$G14,0,IF($G14*$E14/12<($G14-SUM($Q14:CI14)),$G14*$E14/12,($G14-SUM($Q14:CI14)))))","v":0},{"$f":"IF($D14>=CK$3,0,IF(SUM($Q14:CJ14)=$G14,0,IF($G14*$E14/12<($G14-SUM($Q14:CJ14)),$G14*$E14/12,($G14-SUM($Q14:CJ14)))))","v":0},{"$f":"IF($D14>=CL$3,0,IF(SUM($Q14:CK14)=$G14,0,IF($G14*$E14/12<($G14-SUM($Q14:CK14)),$G14*$E14/12,($G14-SUM($Q14:CK14)))))","v":0},{"$f":"IF($D14>=CM$3,0,IF(SUM($Q14:CL14)=$G14,0,IF($G14*$E14/12<($G14-SUM($Q14:CL14)),$G14*$E14/12,($G14-SUM($Q14:CL14)))))","v":0},{"$f":"IF($D14>=CN$3,0,IF(SUM($Q14:CM14)=$G14,0,IF($G14*$E14/12<($G14-SUM($Q14:CM14)),$G14*$E14/12,($G14-SUM($Q14:CM14)))))","v":0},{"$f":"IF($D14>=CO$3,0,IF(SUM($Q14:CN14)=$G14,0,IF($G14*$E14/12<($G14-SUM($Q14:CN14)),$G14*$E14/12,($G14-SUM($Q14:CN14)))))","v":0},{"$f":"IF($D14>=CP$3,0,IF(SUM($Q14:CO14)=$G14,0,IF($G14*$E14/12<($G14-SUM($Q14:CO14)),$G14*$E14/12,($G14-SUM($Q14:CO14)))))","v":0},{"$f":"IF($D14>=CQ$3,0,IF(SUM($Q14:CP14)=$G14,0,IF($G14*$E14/12<($G14-SUM($Q14:CP14)),$G14*$E14/12,($G14-SUM($Q14:CP14)))))","v":0},{"$f":"IF($D14>=CR$3,0,IF(SUM($Q14:CQ14)=$G14,0,IF($G14*$E14/12<($G14-SUM($Q14:CQ14)),$G14*$E14/12,($G14-SUM($Q14:CQ14)))))","v":0},{"$f":"IF($D14>=CS$3,0,IF(SUM($Q14:CR14)=$G14,0,IF($G14*$E14/12<($G14-SUM($Q14:CR14)),$G14*$E14/12,($G14-SUM($Q14:CR14)))))","v":0},{"$f":"IF($D14>=CT$3,0,IF(SUM($Q14:CS14)=$G14,0,IF($G14*$E14/12<($G14-SUM($Q14:CS14)),$G14*$E14/12,($G14-SUM($Q14:CS14)))))","v":0},{"$f":"IF($D14>=CU$3,0,IF(SUM($Q14:CT14)=$G14,0,IF($G14*$E14/12<($G14-SUM($Q14:CT14)),$G14*$E14/12,($G14-SUM($Q14:CT14)))))","v":0},{"$f":"IF($D14>=CV$3,0,IF(SUM($Q14:CU14)=$G14,0,IF($G14*$E14/12<($G14-SUM($Q14:CU14)),$G14*$E14/12,($G14-SUM($Q14:CU14)))))","v":0}]
[{"$f":"IF(D15<EOMONTH($D$2,-12),\"Fuera de plazo\",IF(D15>BALANCE!$J$3,\"Fuera de plazo\",\"\"))","v":""},"Otros",null,"2017-03-31",0.15,0.21,{"$f":"IF(YEAR(D15)<=YEAR($D$2),C15*RIESGO!$C$4,C15*RIESGO!$C$4*(1+CONTROL!$H$4)^(YEAR(D15)-YEAR($D$2)))","v":0},{"$f":"G15*F15","v":0},0,0,0,0,0,0,0,null,0,{"$f":"IF($D15>=R$3,0,IF(SUM($Q15:Q15)=$G15,0,IF($G15*$E15/12<($G15-SUM($Q15:Q15)),$G15*$E15/12,($G15-SUM($Q15:Q15)))))","v":0},{"$f":"IF($D15>=S$3,0,IF(SUM($Q15:R15)=$G15,0,IF($G15*$E15/12<($G15-SUM($Q15:R15)),$G15*$E15/12,($G15-SUM($Q15:R15)))))","v":0},{"$f":"IF($D15>=T$3,0,IF(SUM($Q15:S15)=$G15,0,IF($G15*$E15/12<($G15-SUM($Q15:S15)),$G15*$E15/12,($G15-SUM($Q15:S15)))))","v":0},{"$f":"IF($D15>=U$3,0,IF(SUM($Q15:T15)=$G15,0,IF($G15*$E15/12<($G15-SUM($Q15:T15)),$G15*$E15/12,($G15-SUM($Q15:T15)))))","v":0},{"$f":"IF($D15>=V$3,0,IF(SUM($Q15:U15)=$G15,0,IF($G15*$E15/12<($G15-SUM($Q15:U15)),$G15*$E15/12,($G15-SUM($Q15:U15)))))","v":0},{"$f":"IF($D15>=W$3,0,IF(SUM($Q15:V15)=$G15,0,IF($G15*$E15/12<($G15-SUM($Q15:V15)),$G15*$E15/12,($G15-SUM($Q15:V15)))))","v":0},{"$f":"IF($D15>=X$3,0,IF(SUM($Q15:W15)=$G15,0,IF($G15*$E15/12<($G15-SUM($Q15:W15)),$G15*$E15/12,($G15-SUM($Q15:W15)))))","v":0},{"$f":"IF($D15>=Y$3,0,IF(SUM($Q15:X15)=$G15,0,IF($G15*$E15/12<($G15-SUM($Q15:X15)),$G15*$E15/12,($G15-SUM($Q15:X15)))))","v":0},{"$f":"IF($D15>=Z$3,0,IF(SUM($Q15:Y15)=$G15,0,IF($G15*$E15/12<($G15-SUM($Q15:Y15)),$G15*$E15/12,($G15-SUM($Q15:Y15)))))","v":0},{"$f":"IF($D15>=AA$3,0,IF(SUM($Q15:Z15)=$G15,0,IF($G15*$E15/12<($G15-SUM($Q15:Z15)),$G15*$E15/12,($G15-SUM($Q15:Z15)))))","v":0},{"$f":"IF($D15>=AB$3,0,IF(SUM($Q15:AA15)=$G15,0,IF($G15*$E15/12<($G15-SUM($Q15:AA15)),$G15*$E15/12,($G15-SUM($Q15:AA15)))))","v":0},{"$f":"IF($D15>=AC$3,0,IF(SUM($Q15:AB15)=$G15,0,IF($G15*$E15/12<($G15-SUM($Q15:AB15)),$G15*$E15/12,($G15-SUM($Q15:AB15)))))","v":0},{"$f":"IF($D15>=AD$3,0,IF(SUM($Q15:AC15)=$G15,0,IF($G15*$E15/12<($G15-SUM($Q15:AC15)),$G15*$E15/12,($G15-SUM($Q15:AC15)))))","v":0},{"$f":"IF($D15>=AE$3,0,IF(SUM($Q15:AD15)=$G15,0,IF($G15*$E15/12<($G15-SUM($Q15:AD15)),$G15*$E15/12,($G15-SUM($Q15:AD15)))))","v":0},{"$f":"IF($D15>=AF$3,0,IF(SUM($Q15:AE15)=$G15,0,IF($G15*$E15/12<($G15-SUM($Q15:AE15)),$G15*$E15/12,($G15-SUM($Q15:AE15)))))","v":0},{"$f":"IF($D15>=AG$3,0,IF(SUM($Q15:AF15)=$G15,0,IF($G15*$E15/12<($G15-SUM($Q15:AF15)),$G15*$E15/12,($G15-SUM($Q15:AF15)))))","v":0},{"$f":"IF($D15>=AH$3,0,IF(SUM($Q15:AG15)=$G15,0,IF($G15*$E15/12<($G15-SUM($Q15:AG15)),$G15*$E15/12,($G15-SUM($Q15:AG15)))))","v":0},{"$f":"IF($D15>=AI$3,0,IF(SUM($Q15:AH15)=$G15,0,IF($G15*$E15/12<($G15-SUM($Q15:AH15)),$G15*$E15/12,($G15-SUM($Q15:AH15)))))","v":0},{"$f":"IF($D15>=AJ$3,0,IF(SUM($Q15:AI15)=$G15,0,IF($G15*$E15/12<($G15-SUM($Q15:AI15)),$G15*$E15/12,($G15-SUM($Q15:AI15)))))","v":0},{"$f":"IF($D15>=AK$3,0,IF(SUM($Q15:AJ15)=$G15,0,IF($G15*$E15/12<($G15-SUM($Q15:AJ15)),$G15*$E15/12,($G15-SUM($Q15:AJ15)))))","v":0},{"$f":"IF($D15>=AL$3,0,IF(SUM($Q15:AK15)=$G15,0,IF($G15*$E15/12<($G15-SUM($Q15:AK15)),$G15*$E15/12,($G15-SUM($Q15:AK15)))))","v":0},{"$f":"IF($D15>=AM$3,0,IF(SUM($Q15:AL15)=$G15,0,IF($G15*$E15/12<($G15-SUM($Q15:AL15)),$G15*$E15/12,($G15-SUM($Q15:AL15)))))","v":0},{"$f":"IF($D15>=AN$3,0,IF(SUM($Q15:AM15)=$G15,0,IF($G15*$E15/12<($G15-SUM($Q15:AM15)),$G15*$E15/12,($G15-SUM($Q15:AM15)))))","v":0},{"$f":"IF($D15>=AO$3,0,IF(SUM($Q15:AN15)=$G15,0,IF($G15*$E15/12<($G15-SUM($Q15:AN15)),$G15*$E15/12,($G15-SUM($Q15:AN15)))))","v":0},{"$f":"IF($D15>=AP$3,0,IF(SUM($Q15:AO15)=$G15,0,IF($G15*$E15/12<($G15-SUM($Q15:AO15)),$G15*$E15/12,($G15-SUM($Q15:AO15)))))","v":0},{"$f":"IF($D15>=AQ$3,0,IF(SUM($Q15:AP15)=$G15,0,IF($G15*$E15/12<($G15-SUM($Q15:AP15)),$G15*$E15/12,($G15-SUM($Q15:AP15)))))","v":0},{"$f":"IF($D15>=AR$3,0,IF(SUM($Q15:AQ15)=$G15,0,IF($G15*$E15/12<($G15-SUM($Q15:AQ15)),$G15*$E15/12,($G15-SUM($Q15:AQ15)))))","v":0},{"$f":"IF($D15>=AS$3,0,IF(SUM($Q15:AR15)=$G15,0,IF($G15*$E15/12<($G15-SUM($Q15:AR15)),$G15*$E15/12,($G15-SUM($Q15:AR15)))))","v":0},{"$f":"IF($D15>=AT$3,0,IF(SUM($Q15:AS15)=$G15,0,IF($G15*$E15/12<($G15-SUM($Q15:AS15)),$G15*$E15/12,($G15-SUM($Q15:AS15)))))","v":0},{"$f":"IF($D15>=AU$3,0,IF(SUM($Q15:AT15)=$G15,0,IF($G15*$E15/12<($G15-SUM($Q15:AT15)),$G15*$E15/12,($G15-SUM($Q15:AT15)))))","v":0},{"$f":"IF($D15>=AV$3,0,IF(SUM($Q15:AU15)=$G15,0,IF($G15*$E15/12<($G15-SUM($Q15:AU15)),$G15*$E15/12,($G15-SUM($Q15:AU15)))))","v":0},{"$f":"IF($D15>=AW$3,0,IF(SUM($Q15:AV15)=$G15,0,IF($G15*$E15/12<($G15-SUM($Q15:AV15)),$G15*$E15/12,($G15-SUM($Q15:AV15)))))","v":0},{"$f":"IF($D15>=AX$3,0,IF(SUM($Q15:AW15)=$G15,0,IF($G15*$E15/12<($G15-SUM($Q15:AW15)),$G15*$E15/12,($G15-SUM($Q15:AW15)))))","v":0},{"$f":"IF($D15>=AY$3,0,IF(SUM($Q15:AX15)=$G15,0,IF($G15*$E15/12<($G15-SUM($Q15:AX15)),$G15*$E15/12,($G15-SUM($Q15:AX15)))))","v":0},{"$f":"IF($D15>=AZ$3,0,IF(SUM($Q15:AY15)=$G15,0,IF($G15*$E15/12<($G15-SUM($Q15:AY15)),$G15*$E15/12,($G15-SUM($Q15:AY15)))))","v":0},{"$f":"IF($D15>=BA$3,0,IF(SUM($Q15:AZ15)=$G15,0,IF($G15*$E15/12<($G15-SUM($Q15:AZ15)),$G15*$E15/12,($G15-SUM($Q15:AZ15)))))","v":0},{"$f":"IF($D15>=BB$3,0,IF(SUM($Q15:BA15)=$G15,0,IF($G15*$E15/12<($G15-SUM($Q15:BA15)),$G15*$E15/12,($G15-SUM($Q15:BA15)))))","v":0},{"$f":"IF($D15>=BC$3,0,IF(SUM($Q15:BB15)=$G15,0,IF($G15*$E15/12<($G15-SUM($Q15:BB15)),$G15*$E15/12,($G15-SUM($Q15:BB15)))))","v":0},{"$f":"IF($D15>=BD$3,0,IF(SUM($Q15:BC15)=$G15,0,IF($G15*$E15/12<($G15-SUM($Q15:BC15)),$G15*$E15/12,($G15-SUM($Q15:BC15)))))","v":0},{"$f":"IF($D15>=BE$3,0,IF(SUM($Q15:BD15)=$G15,0,IF($G15*$E15/12<($G15-SUM($Q15:BD15)),$G15*$E15/12,($G15-SUM($Q15:BD15)))))","v":0},{"$f":"IF($D15>=BF$3,0,IF(SUM($Q15:BE15)=$G15,0,IF($G15*$E15/12<($G15-SUM($Q15:BE15)),$G15*$E15/12,($G15-SUM($Q15:BE15)))))","v":0},{"$f":"IF($D15>=BG$3,0,IF(SUM($Q15:BF15)=$G15,0,IF($G15*$E15/12<($G15-SUM($Q15:BF15)),$G15*$E15/12,($G15-SUM($Q15:BF15)))))","v":0},{"$f":"IF($D15>=BH$3,0,IF(SUM($Q15:BG15)=$G15,0,IF($G15*$E15/12<($G15-SUM($Q15:BG15)),$G15*$E15/12,($G15-SUM($Q15:BG15)))))","v":0},{"$f":"IF($D15>=BI$3,0,IF(SUM($Q15:BH15)=$G15,0,IF($G15*$E15/12<($G15-SUM($Q15:BH15)),$G15*$E15/12,($G15-SUM($Q15:BH15)))))","v":0},{"$f":"IF($D15>=BJ$3,0,IF(SUM($Q15:BI15)=$G15,0,IF($G15*$E15/12<($G15-SUM($Q15:BI15)),$G15*$E15/12,($G15-SUM($Q15:BI15)))))","v":0},{"$f":"IF($D15>=BK$3,0,IF(SUM($Q15:BJ15)=$G15,0,IF($G15*$E15/12<($G15-SUM($Q15:BJ15)),$G15*$E15/12,($G15-SUM($Q15:BJ15)))))","v":0},{"$f":"IF($D15>=BL$3,0,IF(SUM($Q15:BK15)=$G15,0,IF($G15*$E15/12<($G15-SUM($Q15:BK15)),$G15*$E15/12,($G15-SUM($Q15:BK15)))))","v":0},{"$f":"IF($D15>=BM$3,0,IF(SUM($Q15:BL15)=$G15,0,IF($G15*$E15/12<($G15-SUM($Q15:BL15)),$G15*$E15/12,($G15-SUM($Q15:BL15)))))","v":0},{"$f":"IF($D15>=BN$3,0,IF(SUM($Q15:BM15)=$G15,0,IF($G15*$E15/12<($G15-SUM($Q15:BM15)),$G15*$E15/12,($G15-SUM($Q15:BM15)))))","v":0},{"$f":"IF($D15>=BO$3,0,IF(SUM($Q15:BN15)=$G15,0,IF($G15*$E15/12<($G15-SUM($Q15:BN15)),$G15*$E15/12,($G15-SUM($Q15:BN15)))))","v":0},{"$f":"IF($D15>=BP$3,0,IF(SUM($Q15:BO15)=$G15,0,IF($G15*$E15/12<($G15-SUM($Q15:BO15)),$G15*$E15/12,($G15-SUM($Q15:BO15)))))","v":0},{"$f":"IF($D15>=BQ$3,0,IF(SUM($Q15:BP15)=$G15,0,IF($G15*$E15/12<($G15-SUM($Q15:BP15)),$G15*$E15/12,($G15-SUM($Q15:BP15)))))","v":0},{"$f":"IF($D15>=BR$3,0,IF(SUM($Q15:BQ15)=$G15,0,IF($G15*$E15/12<($G15-SUM($Q15:BQ15)),$G15*$E15/12,($G15-SUM($Q15:BQ15)))))","v":0},{"$f":"IF($D15>=BS$3,0,IF(SUM($Q15:BR15)=$G15,0,IF($G15*$E15/12<($G15-SUM($Q15:BR15)),$G15*$E15/12,($G15-SUM($Q15:BR15)))))","v":0},{"$f":"IF($D15>=BT$3,0,IF(SUM($Q15:BS15)=$G15,0,IF($G15*$E15/12<($G15-SUM($Q15:BS15)),$G15*$E15/12,($G15-SUM($Q15:BS15)))))","v":0},{"$f":"IF($D15>=BU$3,0,IF(SUM($Q15:BT15)=$G15,0,IF($G15*$E15/12<($G15-SUM($Q15:BT15)),$G15*$E15/12,($G15-SUM($Q15:BT15)))))","v":0},{"$f":"IF($D15>=BV$3,0,IF(SUM($Q15:BU15)=$G15,0,IF($G15*$E15/12<($G15-SUM($Q15:BU15)),$G15*$E15/12,($G15-SUM($Q15:BU15)))))","v":0},{"$f":"IF($D15>=BW$3,0,IF(SUM($Q15:BV15)=$G15,0,IF($G15*$E15/12<($G15-SUM($Q15:BV15)),$G15*$E15/12,($G15-SUM($Q15:BV15)))))","v":0},{"$f":"IF($D15>=BX$3,0,IF(SUM($Q15:BW15)=$G15,0,IF($G15*$E15/12<($G15-SUM($Q15:BW15)),$G15*$E15/12,($G15-SUM($Q15:BW15)))))","v":0},{"$f":"IF($D15>=BY$3,0,IF(SUM($Q15:BX15)=$G15,0,IF($G15*$E15/12<($G15-SUM($Q15:BX15)),$G15*$E15/12,($G15-SUM($Q15:BX15)))))","v":0},{"$f":"IF($D15>=BZ$3,0,IF(SUM($Q15:BY15)=$G15,0,IF($G15*$E15/12<($G15-SUM($Q15:BY15)),$G15*$E15/12,($G15-SUM($Q15:BY15)))))","v":0},{"$f":"IF($D15>=CA$3,0,IF(SUM($Q15:BZ15)=$G15,0,IF($G15*$E15/12<($G15-SUM($Q15:BZ15)),$G15*$E15/12,($G15-SUM($Q15:BZ15)))))","v":0},{"$f":"IF($D15>=CB$3,0,IF(SUM($Q15:CA15)=$G15,0,IF($G15*$E15/12<($G15-SUM($Q15:CA15)),$G15*$E15/12,($G15-SUM($Q15:CA15)))))","v":0},{"$f":"IF($D15>=CC$3,0,IF(SUM($Q15:CB15)=$G15,0,IF($G15*$E15/12<($G15-SUM($Q15:CB15)),$G15*$E15/12,($G15-SUM($Q15:CB15)))))","v":0},{"$f":"IF($D15>=CD$3,0,IF(SUM($Q15:CC15)=$G15,0,IF($G15*$E15/12<($G15-SUM($Q15:CC15)),$G15*$E15/12,($G15-SUM($Q15:CC15)))))","v":0},{"$f":"IF($D15>=CE$3,0,IF(SUM($Q15:CD15)=$G15,0,IF($G15*$E15/12<($G15-SUM($Q15:CD15)),$G15*$E15/12,($G15-SUM($Q15:CD15)))))","v":0},{"$f":"IF($D15>=CF$3,0,IF(SUM($Q15:CE15)=$G15,0,IF($G15*$E15/12<($G15-SUM($Q15:CE15)),$G15*$E15/12,($G15-SUM($Q15:CE15)))))","v":0},{"$f":"IF($D15>=CG$3,0,IF(SUM($Q15:CF15)=$G15,0,IF($G15*$E15/12<($G15-SUM($Q15:CF15)),$G15*$E15/12,($G15-SUM($Q15:CF15)))))","v":0},{"$f":"IF($D15>=CH$3,0,IF(SUM($Q15:CG15)=$G15,0,IF($G15*$E15/12<($G15-SUM($Q15:CG15)),$G15*$E15/12,($G15-SUM($Q15:CG15)))))","v":0},{"$f":"IF($D15>=CI$3,0,IF(SUM($Q15:CH15)=$G15,0,IF($G15*$E15/12<($G15-SUM($Q15:CH15)),$G15*$E15/12,($G15-SUM($Q15:CH15)))))","v":0},{"$f":"IF($D15>=CJ$3,0,IF(SUM($Q15:CI15)=$G15,0,IF($G15*$E15/12<($G15-SUM($Q15:CI15)),$G15*$E15/12,($G15-SUM($Q15:CI15)))))","v":0},{"$f":"IF($D15>=CK$3,0,IF(SUM($Q15:CJ15)=$G15,0,IF($G15*$E15/12<($G15-SUM($Q15:CJ15)),$G15*$E15/12,($G15-SUM($Q15:CJ15)))))","v":0},{"$f":"IF($D15>=CL$3,0,IF(SUM($Q15:CK15)=$G15,0,IF($G15*$E15/12<($G15-SUM($Q15:CK15)),$G15*$E15/12,($G15-SUM($Q15:CK15)))))","v":0},{"$f":"IF($D15>=CM$3,0,IF(SUM($Q15:CL15)=$G15,0,IF($G15*$E15/12<($G15-SUM($Q15:CL15)),$G15*$E15/12,($G15-SUM($Q15:CL15)))))","v":0},{"$f":"IF($D15>=CN$3,0,IF(SUM($Q15:CM15)=$G15,0,IF($G15*$E15/12<($G15-SUM($Q15:CM15)),$G15*$E15/12,($G15-SUM($Q15:CM15)))))","v":0},{"$f":"IF($D15>=CO$3,0,IF(SUM($Q15:CN15)=$G15,0,IF($G15*$E15/12<($G15-SUM($Q15:CN15)),$G15*$E15/12,($G15-SUM($Q15:CN15)))))","v":0},{"$f":"IF($D15>=CP$3,0,IF(SUM($Q15:CO15)=$G15,0,IF($G15*$E15/12<($G15-SUM($Q15:CO15)),$G15*$E15/12,($G15-SUM($Q15:CO15)))))","v":0},{"$f":"IF($D15>=CQ$3,0,IF(SUM($Q15:CP15)=$G15,0,IF($G15*$E15/12<($G15-SUM($Q15:CP15)),$G15*$E15/12,($G15-SUM($Q15:CP15)))))","v":0},{"$f":"IF($D15>=CR$3,0,IF(SUM($Q15:CQ15)=$G15,0,IF($G15*$E15/12<($G15-SUM($Q15:CQ15)),$G15*$E15/12,($G15-SUM($Q15:CQ15)))))","v":0},{"$f":"IF($D15>=CS$3,0,IF(SUM($Q15:CR15)=$G15,0,IF($G15*$E15/12<($G15-SUM($Q15:CR15)),$G15*$E15/12,($G15-SUM($Q15:CR15)))))","v":0},{"$f":"IF($D15>=CT$3,0,IF(SUM($Q15:CS15)=$G15,0,IF($G15*$E15/12<($G15-SUM($Q15:CS15)),$G15*$E15/12,($G15-SUM($Q15:CS15)))))","v":0},{"$f":"IF($D15>=CU$3,0,IF(SUM($Q15:CT15)=$G15,0,IF($G15*$E15/12<($G15-SUM($Q15:CT15)),$G15*$E15/12,($G15-SUM($Q15:CT15)))))","v":0},{"$f":"IF($D15>=CV$3,0,IF(SUM($Q15:CU15)=$G15,0,IF($G15*$E15/12<($G15-SUM($Q15:CU15)),$G15*$E15/12,($G15-SUM($Q15:CU15)))))","v":0}]
[{"$f":"IF(D16<EOMONTH($D$2,-12),\"Fuera de plazo\",IF(D16>BALANCE!$J$3,\"Fuera de plazo\",\"\"))","v":""},"Otros",null,"2018-03-31",0.12,0.21,{"$f":"IF(YEAR(D16)<=YEAR($D$2),C16*RIESGO!$C$4,C16*RIESGO!$C$4*(1+CONTROL!$H$4)^(YEAR(D16)-YEAR($D$2)))","v":0},{"$f":"G16*F16","v":0},0,0,0,0,0,0,0,null,0,{"$f":"IF($D16>=R$3,0,IF(SUM($Q16:Q16)=$G16,0,IF($G16*$E16/12<($G16-SUM($Q16:Q16)),$G16*$E16/12,($G16-SUM($Q16:Q16)))))","v":0},{"$f":"IF($D16>=S$3,0,IF(SUM($Q16:R16)=$G16,0,IF($G16*$E16/12<($G16-SUM($Q16:R16)),$G16*$E16/12,($G16-SUM($Q16:R16)))))","v":0},{"$f":"IF($D16>=T$3,0,IF(SUM($Q16:S16)=$G16,0,IF($G16*$E16/12<($G16-SUM($Q16:S16)),$G16*$E16/12,($G16-SUM($Q16:S16)))))","v":0},{"$f":"IF($D16>=U$3,0,IF(SUM($Q16:T16)=$G16,0,IF($G16*$E16/12<($G16-SUM($Q16:T16)),$G16*$E16/12,($G16-SUM($Q16:T16)))))","v":0},{"$f":"IF($D16>=V$3,0,IF(SUM($Q16:U16)=$G16,0,IF($G16*$E16/12<($G16-SUM($Q16:U16)),$G16*$E16/12,($G16-SUM($Q16:U16)))))","v":0},{"$f":"IF($D16>=W$3,0,IF(SUM($Q16:V16)=$G16,0,IF($G16*$E16/12<($G16-SUM($Q16:V16)),$G16*$E16/12,($G16-SUM($Q16:V16)))))","v":0},{"$f":"IF($D16>=X$3,0,IF(SUM($Q16:W16)=$G16,0,IF($G16*$E16/12<($G16-SUM($Q16:W16)),$G16*$E16/12,($G16-SUM($Q16:W16)))))","v":0},{"$f":"IF($D16>=Y$3,0,IF(SUM($Q16:X16)=$G16,0,IF($G16*$E16/12<($G16-SUM($Q16:X16)),$G16*$E16/12,($G16-SUM($Q16:X16)))))","v":0},{"$f":"IF($D16>=Z$3,0,IF(SUM($Q16:Y16)=$G16,0,IF($G16*$E16/12<($G16-SUM($Q16:Y16)),$G16*$E16/12,($G16-SUM($Q16:Y16)))))","v":0},{"$f":"IF($D16>=AA$3,0,IF(SUM($Q16:Z16)=$G16,0,IF($G16*$E16/12<($G16-SUM($Q16:Z16)),$G16*$E16/12,($G16-SUM($Q16:Z16)))))","v":0},{"$f":"IF($D16>=AB$3,0,IF(SUM($Q16:AA16)=$G16,0,IF($G16*$E16/12<($G16-SUM($Q16:AA16)),$G16*$E16/12,($G16-SUM($Q16:AA16)))))","v":0},{"$f":"IF($D16>=AC$3,0,IF(SUM($Q16:AB16)=$G16,0,IF($G16*$E16/12<($G16-SUM($Q16:AB16)),$G16*$E16/12,($G16-SUM($Q16:AB16)))))","v":0},{"$f":"IF($D16>=AD$3,0,IF(SUM($Q16:AC16)=$G16,0,IF($G16*$E16/12<($G16-SUM($Q16:AC16)),$G16*$E16/12,($G16-SUM($Q16:AC16)))))","v":0},{"$f":"IF($D16>=AE$3,0,IF(SUM($Q16:AD16)=$G16,0,IF($G16*$E16/12<($G16-SUM($Q16:AD16)),$G16*$E16/12,($G16-SUM($Q16:AD16)))))","v":0},{"$f":"IF($D16>=AF$3,0,IF(SUM($Q16:AE16)=$G16,0,IF($G16*$E16/12<($G16-SUM($Q16:AE16)),$G16*$E16/12,($G16-SUM($Q16:AE16)))))","v":0},{"$f":"IF($D16>=AG$3,0,IF(SUM($Q16:AF16)=$G16,0,IF($G16*$E16/12<($G16-SUM($Q16:AF16)),$G16*$E16/12,($G16-SUM($Q16:AF16)))))","v":0},{"$f":"IF($D16>=AH$3,0,IF(SUM($Q16:AG16)=$G16,0,IF($G16*$E16/12<($G16-SUM($Q16:AG16)),$G16*$E16/12,($G16-SUM($Q16:AG16)))))","v":0},{"$f":"IF($D16>=AI$3,0,IF(SUM($Q16:AH16)=$G16,0,IF($G16*$E16/12<($G16-SUM($Q16:AH16)),$G16*$E16/12,($G16-SUM($Q16:AH16)))))","v":0},{"$f":"IF($D16>=AJ$3,0,IF(SUM($Q16:AI16)=$G16,0,IF($G16*$E16/12<($G16-SUM($Q16:AI16)),$G16*$E16/12,($G16-SUM($Q16:AI16)))))","v":0},{"$f":"IF($D16>=AK$3,0,IF(SUM($Q16:AJ16)=$G16,0,IF($G16*$E16/12<($G16-SUM($Q16:AJ16)),$G16*$E16/12,($G16-SUM($Q16:AJ16)))))","v":0},{"$f":"IF($D16>=AL$3,0,IF(SUM($Q16:AK16)=$G16,0,IF($G16*$E16/12<($G16-SUM($Q16:AK16)),$G16*$E16/12,($G16-SUM($Q16:AK16)))))","v":0},{"$f":"IF($D16>=AM$3,0,IF(SUM($Q16:AL16)=$G16,0,IF($G16*$E16/12<($G16-SUM($Q16:AL16)),$G16*$E16/12,($G16-SUM($Q16:AL16)))))","v":0},{"$f":"IF($D16>=AN$3,0,IF(SUM($Q16:AM16)=$G16,0,IF($G16*$E16/12<($G16-SUM($Q16:AM16)),$G16*$E16/12,($G16-SUM($Q16:AM16)))))","v":0},{"$f":"IF($D16>=AO$3,0,IF(SUM($Q16:AN16)=$G16,0,IF($G16*$E16/12<($G16-SUM($Q16:AN16)),$G16*$E16/12,($G16-SUM($Q16:AN16)))))","v":0},{"$f":"IF($D16>=AP$3,0,IF(SUM($Q16:AO16)=$G16,0,IF($G16*$E16/12<($G16-SUM($Q16:AO16)),$G16*$E16/12,($G16-SUM($Q16:AO16)))))","v":0},{"$f":"IF($D16>=AQ$3,0,IF(SUM($Q16:AP16)=$G16,0,IF($G16*$E16/12<($G16-SUM($Q16:AP16)),$G16*$E16/12,($G16-SUM($Q16:AP16)))))","v":0},{"$f":"IF($D16>=AR$3,0,IF(SUM($Q16:AQ16)=$G16,0,IF($G16*$E16/12<($G16-SUM($Q16:AQ16)),$G16*$E16/12,($G16-SUM($Q16:AQ16)))))","v":0},{"$f":"IF($D16>=AS$3,0,IF(SUM($Q16:AR16)=$G16,0,IF($G16*$E16/12<($G16-SUM($Q16:AR16)),$G16*$E16/12,($G16-SUM($Q16:AR16)))))","v":0},{"$f":"IF($D16>=AT$3,0,IF(SUM($Q16:AS16)=$G16,0,IF($G16*$E16/12<($G16-SUM($Q16:AS16)),$G16*$E16/12,($G16-SUM($Q16:AS16)))))","v":0},{"$f":"IF($D16>=AU$3,0,IF(SUM($Q16:AT16)=$G16,0,IF($G16*$E16/12<($G16-SUM($Q16:AT16)),$G16*$E16/12,($G16-SUM($Q16:AT16)))))","v":0},{"$f":"IF($D16>=AV$3,0,IF(SUM($Q16:AU16)=$G16,0,IF($G16*$E16/12<($G16-SUM($Q16:AU16)),$G16*$E16/12,($G16-SUM($Q16:AU16)))))","v":0},{"$f":"IF($D16>=AW$3,0,IF(SUM($Q16:AV16)=$G16,0,IF($G16*$E16/12<($G16-SUM($Q16:AV16)),$G16*$E16/12,($G16-SUM($Q16:AV16)))))","v":0},{"$f":"IF($D16>=AX$3,0,IF(SUM($Q16:AW16)=$G16,0,IF($G16*$E16/12<($G16-SUM($Q16:AW16)),$G16*$E16/12,($G16-SUM($Q16:AW16)))))","v":0},{"$f":"IF($D16>=AY$3,0,IF(SUM($Q16:AX16)=$G16,0,IF($G16*$E16/12<($G16-SUM($Q16:AX16)),$G16*$E16/12,($G16-SUM($Q16:AX16)))))","v":0},{"$f":"IF($D16>=AZ$3,0,IF(SUM($Q16:AY16)=$G16,0,IF($G16*$E16/12<($G16-SUM($Q16:AY16)),$G16*$E16/12,($G16-SUM($Q16:AY16)))))","v":0},{"$f":"IF($D16>=BA$3,0,IF(SUM($Q16:AZ16)=$G16,0,IF($G16*$E16/12<($G16-SUM($Q16:AZ16)),$G16*$E16/12,($G16-SUM($Q16:AZ16)))))","v":0},{"$f":"IF($D16>=BB$3,0,IF(SUM($Q16:BA16)=$G16,0,IF($G16*$E16/12<($G16-SUM($Q16:BA16)),$G16*$E16/12,($G16-SUM($Q16:BA16)))))","v":0},{"$f":"IF($D16>=BC$3,0,IF(SUM($Q16:BB16)=$G16,0,IF($G16*$E16/12<($G16-SUM($Q16:BB16)),$G16*$E16/12,($G16-SUM($Q16:BB16)))))","v":0},{"$f":"IF($D16>=BD$3,0,IF(SUM($Q16:BC16)=$G16,0,IF($G16*$E16/12<($G16-SUM($Q16:BC16)),$G16*$E16/12,($G16-SUM($Q16:BC16)))))","v":0},{"$f":"IF($D16>=BE$3,0,IF(SUM($Q16:BD16)=$G16,0,IF($G16*$E16/12<($G16-SUM($Q16:BD16)),$G16*$E16/12,($G16-SUM($Q16:BD16)))))","v":0},{"$f":"IF($D16>=BF$3,0,IF(SUM($Q16:BE16)=$G16,0,IF($G16*$E16/12<($G16-SUM($Q16:BE16)),$G16*$E16/12,($G16-SUM($Q16:BE16)))))","v":0},{"$f":"IF($D16>=BG$3,0,IF(SUM($Q16:BF16)=$G16,0,IF($G16*$E16/12<($G16-SUM($Q16:BF16)),$G16*$E16/12,($G16-SUM($Q16:BF16)))))","v":0},{"$f":"IF($D16>=BH$3,0,IF(SUM($Q16:BG16)=$G16,0,IF($G16*$E16/12<($G16-SUM($Q16:BG16)),$G16*$E16/12,($G16-SUM($Q16:BG16)))))","v":0},{"$f":"IF($D16>=BI$3,0,IF(SUM($Q16:BH16)=$G16,0,IF($G16*$E16/12<($G16-SUM($Q16:BH16)),$G16*$E16/12,($G16-SUM($Q16:BH16)))))","v":0},{"$f":"IF($D16>=BJ$3,0,IF(SUM($Q16:BI16)=$G16,0,IF($G16*$E16/12<($G16-SUM($Q16:BI16)),$G16*$E16/12,($G16-SUM($Q16:BI16)))))","v":0},{"$f":"IF($D16>=BK$3,0,IF(SUM($Q16:BJ16)=$G16,0,IF($G16*$E16/12<($G16-SUM($Q16:BJ16)),$G16*$E16/12,($G16-SUM($Q16:BJ16)))))","v":0},{"$f":"IF($D16>=BL$3,0,IF(SUM($Q16:BK16)=$G16,0,IF($G16*$E16/12<($G16-SUM($Q16:BK16)),$G16*$E16/12,($G16-SUM($Q16:BK16)))))","v":0},{"$f":"IF($D16>=BM$3,0,IF(SUM($Q16:BL16)=$G16,0,IF($G16*$E16/12<($G16-SUM($Q16:BL16)),$G16*$E16/12,($G16-SUM($Q16:BL16)))))","v":0},{"$f":"IF($D16>=BN$3,0,IF(SUM($Q16:BM16)=$G16,0,IF($G16*$E16/12<($G16-SUM($Q16:BM16)),$G16*$E16/12,($G16-SUM($Q16:BM16)))))","v":0},{"$f":"IF($D16>=BO$3,0,IF(SUM($Q16:BN16)=$G16,0,IF($G16*$E16/12<($G16-SUM($Q16:BN16)),$G16*$E16/12,($G16-SUM($Q16:BN16)))))","v":0},{"$f":"IF($D16>=BP$3,0,IF(SUM($Q16:BO16)=$G16,0,IF($G16*$E16/12<($G16-SUM($Q16:BO16)),$G16*$E16/12,($G16-SUM($Q16:BO16)))))","v":0},{"$f":"IF($D16>=BQ$3,0,IF(SUM($Q16:BP16)=$G16,0,IF($G16*$E16/12<($G16-SUM($Q16:BP16)),$G16*$E16/12,($G16-SUM($Q16:BP16)))))","v":0},{"$f":"IF($D16>=BR$3,0,IF(SUM($Q16:BQ16)=$G16,0,IF($G16*$E16/12<($G16-SUM($Q16:BQ16)),$G16*$E16/12,($G16-SUM($Q16:BQ16)))))","v":0},{"$f":"IF($D16>=BS$3,0,IF(SUM($Q16:BR16)=$G16,0,IF($G16*$E16/12<($G16-SUM($Q16:BR16)),$G16*$E16/12,($G16-SUM($Q16:BR16)))))","v":0},{"$f":"IF($D16>=BT$3,0,IF(SUM($Q16:BS16)=$G16,0,IF($G16*$E16/12<($G16-SUM($Q16:BS16)),$G16*$E16/12,($G16-SUM($Q16:BS16)))))","v":0},{"$f":"IF($D16>=BU$3,0,IF(SUM($Q16:BT16)=$G16,0,IF($G16*$E16/12<($G16-SUM($Q16:BT16)),$G16*$E16/12,($G16-SUM($Q16:BT16)))))","v":0},{"$f":"IF($D16>=BV$3,0,IF(SUM($Q16:BU16)=$G16,0,IF($G16*$E16/12<($G16-SUM($Q16:BU16)),$G16*$E16/12,($G16-SUM($Q16:BU16)))))","v":0},{"$f":"IF($D16>=BW$3,0,IF(SUM($Q16:BV16)=$G16,0,IF($G16*$E16/12<($G16-SUM($Q16:BV16)),$G16*$E16/12,($G16-SUM($Q16:BV16)))))","v":0},{"$f":"IF($D16>=BX$3,0,IF(SUM($Q16:BW16)=$G16,0,IF($G16*$E16/12<($G16-SUM($Q16:BW16)),$G16*$E16/12,($G16-SUM($Q16:BW16)))))","v":0},{"$f":"IF($D16>=BY$3,0,IF(SUM($Q16:BX16)=$G16,0,IF($G16*$E16/12<($G16-SUM($Q16:BX16)),$G16*$E16/12,($G16-SUM($Q16:BX16)))))","v":0},{"$f":"IF($D16>=BZ$3,0,IF(SUM($Q16:BY16)=$G16,0,IF($G16*$E16/12<($G16-SUM($Q16:BY16)),$G16*$E16/12,($G16-SUM($Q16:BY16)))))","v":0},{"$f":"IF($D16>=CA$3,0,IF(SUM($Q16:BZ16)=$G16,0,IF($G16*$E16/12<($G16-SUM($Q16:BZ16)),$G16*$E16/12,($G16-SUM($Q16:BZ16)))))","v":0},{"$f":"IF($D16>=CB$3,0,IF(SUM($Q16:CA16)=$G16,0,IF($G16*$E16/12<($G16-SUM($Q16:CA16)),$G16*$E16/12,($G16-SUM($Q16:CA16)))))","v":0},{"$f":"IF($D16>=CC$3,0,IF(SUM($Q16:CB16)=$G16,0,IF($G16*$E16/12<($G16-SUM($Q16:CB16)),$G16*$E16/12,($G16-SUM($Q16:CB16)))))","v":0},{"$f":"IF($D16>=CD$3,0,IF(SUM($Q16:CC16)=$G16,0,IF($G16*$E16/12<($G16-SUM($Q16:CC16)),$G16*$E16/12,($G16-SUM($Q16:CC16)))))","v":0},{"$f":"IF($D16>=CE$3,0,IF(SUM($Q16:CD16)=$G16,0,IF($G16*$E16/12<($G16-SUM($Q16:CD16)),$G16*$E16/12,($G16-SUM($Q16:CD16)))))","v":0},{"$f":"IF($D16>=CF$3,0,IF(SUM($Q16:CE16)=$G16,0,IF($G16*$E16/12<($G16-SUM($Q16:CE16)),$G16*$E16/12,($G16-SUM($Q16:CE16)))))","v":0},{"$f":"IF($D16>=CG$3,0,IF(SUM($Q16:CF16)=$G16,0,IF($G16*$E16/12<($G16-SUM($Q16:CF16)),$G16*$E16/12,($G16-SUM($Q16:CF16)))))","v":0},{"$f":"IF($D16>=CH$3,0,IF(SUM($Q16:CG16)=$G16,0,IF($G16*$E16/12<($G16-SUM($Q16:CG16)),$G16*$E16/12,($G16-SUM($Q16:CG16)))))","v":0},{"$f":"IF($D16>=CI$3,0,IF(SUM($Q16:CH16)=$G16,0,IF($G16*$E16/12<($G16-SUM($Q16:CH16)),$G16*$E16/12,($G16-SUM($Q16:CH16)))))","v":0},{"$f":"IF($D16>=CJ$3,0,IF(SUM($Q16:CI16)=$G16,0,IF($G16*$E16/12<($G16-SUM($Q16:CI16)),$G16*$E16/12,($G16-SUM($Q16:CI16)))))","v":0},{"$f":"IF($D16>=CK$3,0,IF(SUM($Q16:CJ16)=$G16,0,IF($G16*$E16/12<($G16-SUM($Q16:CJ16)),$G16*$E16/12,($G16-SUM($Q16:CJ16)))))","v":0},{"$f":"IF($D16>=CL$3,0,IF(SUM($Q16:CK16)=$G16,0,IF($G16*$E16/12<($G16-SUM($Q16:CK16)),$G16*$E16/12,($G16-SUM($Q16:CK16)))))","v":0},{"$f":"IF($D16>=CM$3,0,IF(SUM($Q16:CL16)=$G16,0,IF($G16*$E16/12<($G16-SUM($Q16:CL16)),$G16*$E16/12,($G16-SUM($Q16:CL16)))))","v":0},{"$f":"IF($D16>=CN$3,0,IF(SUM($Q16:CM16)=$G16,0,IF($G16*$E16/12<($G16-SUM($Q16:CM16)),$G16*$E16/12,($G16-SUM($Q16:CM16)))))","v":0},{"$f":"IF($D16>=CO$3,0,IF(SUM($Q16:CN16)=$G16,0,IF($G16*$E16/12<($G16-SUM($Q16:CN16)),$G16*$E16/12,($G16-SUM($Q16:CN16)))))","v":0},{"$f":"IF($D16>=CP$3,0,IF(SUM($Q16:CO16)=$G16,0,IF($G16*$E16/12<($G16-SUM($Q16:CO16)),$G16*$E16/12,($G16-SUM($Q16:CO16)))))","v":0},{"$f":"IF($D16>=CQ$3,0,IF(SUM($Q16:CP16)=$G16,0,IF($G16*$E16/12<($G16-SUM($Q16:CP16)),$G16*$E16/12,($G16-SUM($Q16:CP16)))))","v":0},{"$f":"IF($D16>=CR$3,0,IF(SUM($Q16:CQ16)=$G16,0,IF($G16*$E16/12<($G16-SUM($Q16:CQ16)),$G16*$E16/12,($G16-SUM($Q16:CQ16)))))","v":0},{"$f":"IF($D16>=CS$3,0,IF(SUM($Q16:CR16)=$G16,0,IF($G16*$E16/12<($G16-SUM($Q16:CR16)),$G16*$E16/12,($G16-SUM($Q16:CR16)))))","v":0},{"$f":"IF($D16>=CT$3,0,IF(SUM($Q16:CS16)=$G16,0,IF($G16*$E16/12<($G16-SUM($Q16:CS16)),$G16*$E16/12,($G16-SUM($Q16:CS16)))))","v":0},{"$f":"IF($D16>=CU$3,0,IF(SUM($Q16:CT16)=$G16,0,IF($G16*$E16/12<($G16-SUM($Q16:CT16)),$G16*$E16/12,($G16-SUM($Q16:CT16)))))","v":0},{"$f":"IF($D16>=CV$3,0,IF(SUM($Q16:CU16)=$G16,0,IF($G16*$E16/12<($G16-SUM($Q16:CU16)),$G16*$E16/12,($G16-SUM($Q16:CU16)))))","v":0}]
[{"$f":"IF(D17<EOMONTH($D$2,-12),\"Fuera de plazo\",IF(D17>BALANCE!$J$3,\"Fuera de plazo\",\"\"))","v":""},"Otros",null,"2019-03-31",0.12,0.21,{"$f":"IF(YEAR(D17)<=YEAR($D$2),C17*RIESGO!$C$4,C17*RIESGO!$C$4*(1+CONTROL!$H$4)^(YEAR(D17)-YEAR($D$2)))","v":0},0,0,0,0,0,0,0,0,null,0,{"$f":"IF($D17>=R$3,0,IF(SUM($Q17:Q17)=$G17,0,IF($G17*$E17/12<($G17-SUM($Q17:Q17)),$G17*$E17/12,($G17-SUM($Q17:Q17)))))","v":0},{"$f":"IF($D17>=S$3,0,IF(SUM($Q17:R17)=$G17,0,IF($G17*$E17/12<($G17-SUM($Q17:R17)),$G17*$E17/12,($G17-SUM($Q17:R17)))))","v":0},{"$f":"IF($D17>=T$3,0,IF(SUM($Q17:S17)=$G17,0,IF($G17*$E17/12<($G17-SUM($Q17:S17)),$G17*$E17/12,($G17-SUM($Q17:S17)))))","v":0},{"$f":"IF($D17>=U$3,0,IF(SUM($Q17:T17)=$G17,0,IF($G17*$E17/12<($G17-SUM($Q17:T17)),$G17*$E17/12,($G17-SUM($Q17:T17)))))","v":0},{"$f":"IF($D17>=V$3,0,IF(SUM($Q17:U17)=$G17,0,IF($G17*$E17/12<($G17-SUM($Q17:U17)),$G17*$E17/12,($G17-SUM($Q17:U17)))))","v":0},{"$f":"IF($D17>=W$3,0,IF(SUM($Q17:V17)=$G17,0,IF($G17*$E17/12<($G17-SUM($Q17:V17)),$G17*$E17/12,($G17-SUM($Q17:V17)))))","v":0},{"$f":"IF($D17>=X$3,0,IF(SUM($Q17:W17)=$G17,0,IF($G17*$E17/12<($G17-SUM($Q17:W17)),$G17*$E17/12,($G17-SUM($Q17:W17)))))","v":0},{"$f":"IF($D17>=Y$3,0,IF(SUM($Q17:X17)=$G17,0,IF($G17*$E17/12<($G17-SUM($Q17:X17)),$G17*$E17/12,($G17-SUM($Q17:X17)))))","v":0},{"$f":"IF($D17>=Z$3,0,IF(SUM($Q17:Y17)=$G17,0,IF($G17*$E17/12<($G17-SUM($Q17:Y17)),$G17*$E17/12,($G17-SUM($Q17:Y17)))))","v":0},{"$f":"IF($D17>=AA$3,0,IF(SUM($Q17:Z17)=$G17,0,IF($G17*$E17/12<($G17-SUM($Q17:Z17)),$G17*$E17/12,($G17-SUM($Q17:Z17)))))","v":0},{"$f":"IF($D17>=AB$3,0,IF(SUM($Q17:AA17)=$G17,0,IF($G17*$E17/12<($G17-SUM($Q17:AA17)),$G17*$E17/12,($G17-SUM($Q17:AA17)))))","v":0},{"$f":"IF($D17>=AC$3,0,IF(SUM($Q17:AB17)=$G17,0,IF($G17*$E17/12<($G17-SUM($Q17:AB17)),$G17*$E17/12,($G17-SUM($Q17:AB17)))))","v":0},{"$f":"IF($D17>=AD$3,0,IF(SUM($Q17:AC17)=$G17,0,IF($G17*$E17/12<($G17-SUM($Q17:AC17)),$G17*$E17/12,($G17-SUM($Q17:AC17)))))","v":0},{"$f":"IF($D17>=AE$3,0,IF(SUM($Q17:AD17)=$G17,0,IF($G17*$E17/12<($G17-SUM($Q17:AD17)),$G17*$E17/12,($G17-SUM($Q17:AD17)))))","v":0},{"$f":"IF($D17>=AF$3,0,IF(SUM($Q17:AE17)=$G17,0,IF($G17*$E17/12<($G17-SUM($Q17:AE17)),$G17*$E17/12,($G17-SUM($Q17:AE17)))))","v":0},{"$f":"IF($D17>=AG$3,0,IF(SUM($Q17:AF17)=$G17,0,IF($G17*$E17/12<($G17-SUM($Q17:AF17)),$G17*$E17/12,($G17-SUM($Q17:AF17)))))","v":0},{"$f":"IF($D17>=AH$3,0,IF(SUM($Q17:AG17)=$G17,0,IF($G17*$E17/12<($G17-SUM($Q17:AG17)),$G17*$E17/12,($G17-SUM($Q17:AG17)))))","v":0},{"$f":"IF($D17>=AI$3,0,IF(SUM($Q17:AH17)=$G17,0,IF($G17*$E17/12<($G17-SUM($Q17:AH17)),$G17*$E17/12,($G17-SUM($Q17:AH17)))))","v":0},{"$f":"IF($D17>=AJ$3,0,IF(SUM($Q17:AI17)=$G17,0,IF($G17*$E17/12<($G17-SUM($Q17:AI17)),$G17*$E17/12,($G17-SUM($Q17:AI17)))))","v":0},{"$f":"IF($D17>=AK$3,0,IF(SUM($Q17:AJ17)=$G17,0,IF($G17*$E17/12<($G17-SUM($Q17:AJ17)),$G17*$E17/12,($G17-SUM($Q17:AJ17)))))","v":0},{"$f":"IF($D17>=AL$3,0,IF(SUM($Q17:AK17)=$G17,0,IF($G17*$E17/12<($G17-SUM($Q17:AK17)),$G17*$E17/12,($G17-SUM($Q17:AK17)))))","v":0},{"$f":"IF($D17>=AM$3,0,IF(SUM($Q17:AL17)=$G17,0,IF($G17*$E17/12<($G17-SUM($Q17:AL17)),$G17*$E17/12,($G17-SUM($Q17:AL17)))))","v":0},{"$f":"IF($D17>=AN$3,0,IF(SUM($Q17:AM17)=$G17,0,IF($G17*$E17/12<($G17-SUM($Q17:AM17)),$G17*$E17/12,($G17-SUM($Q17:AM17)))))","v":0},{"$f":"IF($D17>=AO$3,0,IF(SUM($Q17:AN17)=$G17,0,IF($G17*$E17/12<($G17-SUM($Q17:AN17)),$G17*$E17/12,($G17-SUM($Q17:AN17)))))","v":0},{"$f":"IF($D17>=AP$3,0,IF(SUM($Q17:AO17)=$G17,0,IF($G17*$E17/12<($G17-SUM($Q17:AO17)),$G17*$E17/12,($G17-SUM($Q17:AO17)))))","v":0},{"$f":"IF($D17>=AQ$3,0,IF(SUM($Q17:AP17)=$G17,0,IF($G17*$E17/12<($G17-SUM($Q17:AP17)),$G17*$E17/12,($G17-SUM($Q17:AP17)))))","v":0},{"$f":"IF($D17>=AR$3,0,IF(SUM($Q17:AQ17)=$G17,0,IF($G17*$E17/12<($G17-SUM($Q17:AQ17)),$G17*$E17/12,($G17-SUM($Q17:AQ17)))))","v":0},{"$f":"IF($D17>=AS$3,0,IF(SUM($Q17:AR17)=$G17,0,IF($G17*$E17/12<($G17-SUM($Q17:AR17)),$G17*$E17/12,($G17-SUM($Q17:AR17)))))","v":0},{"$f":"IF($D17>=AT$3,0,IF(SUM($Q17:AS17)=$G17,0,IF($G17*$E17/12<($G17-SUM($Q17:AS17)),$G17*$E17/12,($G17-SUM($Q17:AS17)))))","v":0},{"$f":"IF($D17>=AU$3,0,IF(SUM($Q17:AT17)=$G17,0,IF($G17*$E17/12<($G17-SUM($Q17:AT17)),$G17*$E17/12,($G17-SUM($Q17:AT17)))))","v":0},{"$f":"IF($D17>=AV$3,0,IF(SUM($Q17:AU17)=$G17,0,IF($G17*$E17/12<($G17-SUM($Q17:AU17)),$G17*$E17/12,($G17-SUM($Q17:AU17)))))","v":0},{"$f":"IF($D17>=AW$3,0,IF(SUM($Q17:AV17)=$G17,0,IF($G17*$E17/12<($G17-SUM($Q17:AV17)),$G17*$E17/12,($G17-SUM($Q17:AV17)))))","v":0},{"$f":"IF($D17>=AX$3,0,IF(SUM($Q17:AW17)=$G17,0,IF($G17*$E17/12<($G17-SUM($Q17:AW17)),$G17*$E17/12,($G17-SUM($Q17:AW17)))))","v":0},{"$f":"IF($D17>=AY$3,0,IF(SUM($Q17:AX17)=$G17,0,IF($G17*$E17/12<($G17-SUM($Q17:AX17)),$G17*$E17/12,($G17-SUM($Q17:AX17)))))","v":0},{"$f":"IF($D17>=AZ$3,0,IF(SUM($Q17:AY17)=$G17,0,IF($G17*$E17/12<($G17-SUM($Q17:AY17)),$G17*$E17/12,($G17-SUM($Q17:AY17)))))","v":0},{"$f":"IF($D17>=BA$3,0,IF(SUM($Q17:AZ17)=$G17,0,IF($G17*$E17/12<($G17-SUM($Q17:AZ17)),$G17*$E17/12,($G17-SUM($Q17:AZ17)))))","v":0},{"$f":"IF($D17>=BB$3,0,IF(SUM($Q17:BA17)=$G17,0,IF($G17*$E17/12<($G17-SUM($Q17:BA17)),$G17*$E17/12,($G17-SUM($Q17:BA17)))))","v":0},{"$f":"IF($D17>=BC$3,0,IF(SUM($Q17:BB17)=$G17,0,IF($G17*$E17/12<($G17-SUM($Q17:BB17)),$G17*$E17/12,($G17-SUM($Q17:BB17)))))","v":0},{"$f":"IF($D17>=BD$3,0,IF(SUM($Q17:BC17)=$G17,0,IF($G17*$E17/12<($G17-SUM($Q17:BC17)),$G17*$E17/12,($G17-SUM($Q17:BC17)))))","v":0},{"$f":"IF($D17>=BE$3,0,IF(SUM($Q17:BD17)=$G17,0,IF($G17*$E17/12<($G17-SUM($Q17:BD17)),$G17*$E17/12,($G17-SUM($Q17:BD17)))))","v":0},{"$f":"IF($D17>=BF$3,0,IF(SUM($Q17:BE17)=$G17,0,IF($G17*$E17/12<($G17-SUM($Q17:BE17)),$G17*$E17/12,($G17-SUM($Q17:BE17)))))","v":0},{"$f":"IF($D17>=BG$3,0,IF(SUM($Q17:BF17)=$G17,0,IF($G17*$E17/12<($G17-SUM($Q17:BF17)),$G17*$E17/12,($G17-SUM($Q17:BF17)))))","v":0},{"$f":"IF($D17>=BH$3,0,IF(SUM($Q17:BG17)=$G17,0,IF($G17*$E17/12<($G17-SUM($Q17:BG17)),$G17*$E17/12,($G17-SUM($Q17:BG17)))))","v":0},{"$f":"IF($D17>=BI$3,0,IF(SUM($Q17:BH17)=$G17,0,IF($G17*$E17/12<($G17-SUM($Q17:BH17)),$G17*$E17/12,($G17-SUM($Q17:BH17)))))","v":0},{"$f":"IF($D17>=BJ$3,0,IF(SUM($Q17:BI17)=$G17,0,IF($G17*$E17/12<($G17-SUM($Q17:BI17)),$G17*$E17/12,($G17-SUM($Q17:BI17)))))","v":0},{"$f":"IF($D17>=BK$3,0,IF(SUM($Q17:BJ17)=$G17,0,IF($G17*$E17/12<($G17-SUM($Q17:BJ17)),$G17*$E17/12,($G17-SUM($Q17:BJ17)))))","v":0},{"$f":"IF($D17>=BL$3,0,IF(SUM($Q17:BK17)=$G17,0,IF($G17*$E17/12<($G17-SUM($Q17:BK17)),$G17*$E17/12,($G17-SUM($Q17:BK17)))))","v":0},{"$f":"IF($D17>=BM$3,0,IF(SUM($Q17:BL17)=$G17,0,IF($G17*$E17/12<($G17-SUM($Q17:BL17)),$G17*$E17/12,($G17-SUM($Q17:BL17)))))","v":0},{"$f":"IF($D17>=BN$3,0,IF(SUM($Q17:BM17)=$G17,0,IF($G17*$E17/12<($G17-SUM($Q17:BM17)),$G17*$E17/12,($G17-SUM($Q17:BM17)))))","v":0},{"$f":"IF($D17>=BO$3,0,IF(SUM($Q17:BN17)=$G17,0,IF($G17*$E17/12<($G17-SUM($Q17:BN17)),$G17*$E17/12,($G17-SUM($Q17:BN17)))))","v":0},{"$f":"IF($D17>=BP$3,0,IF(SUM($Q17:BO17)=$G17,0,IF($G17*$E17/12<($G17-SUM($Q17:BO17)),$G17*$E17/12,($G17-SUM($Q17:BO17)))))","v":0},{"$f":"IF($D17>=BQ$3,0,IF(SUM($Q17:BP17)=$G17,0,IF($G17*$E17/12<($G17-SUM($Q17:BP17)),$G17*$E17/12,($G17-SUM($Q17:BP17)))))","v":0},{"$f":"IF($D17>=BR$3,0,IF(SUM($Q17:BQ17)=$G17,0,IF($G17*$E17/12<($G17-SUM($Q17:BQ17)),$G17*$E17/12,($G17-SUM($Q17:BQ17)))))","v":0},{"$f":"IF($D17>=BS$3,0,IF(SUM($Q17:BR17)=$G17,0,IF($G17*$E17/12<($G17-SUM($Q17:BR17)),$G17*$E17/12,($G17-SUM($Q17:BR17)))))","v":0},{"$f":"IF($D17>=BT$3,0,IF(SUM($Q17:BS17)=$G17,0,IF($G17*$E17/12<($G17-SUM($Q17:BS17)),$G17*$E17/12,($G17-SUM($Q17:BS17)))))","v":0},{"$f":"IF($D17>=BU$3,0,IF(SUM($Q17:BT17)=$G17,0,IF($G17*$E17/12<($G17-SUM($Q17:BT17)),$G17*$E17/12,($G17-SUM($Q17:BT17)))))","v":0},{"$f":"IF($D17>=BV$3,0,IF(SUM($Q17:BU17)=$G17,0,IF($G17*$E17/12<($G17-SUM($Q17:BU17)),$G17*$E17/12,($G17-SUM($Q17:BU17)))))","v":0},{"$f":"IF($D17>=BW$3,0,IF(SUM($Q17:BV17)=$G17,0,IF($G17*$E17/12<($G17-SUM($Q17:BV17)),$G17*$E17/12,($G17-SUM($Q17:BV17)))))","v":0},{"$f":"IF($D17>=BX$3,0,IF(SUM($Q17:BW17)=$G17,0,IF($G17*$E17/12<($G17-SUM($Q17:BW17)),$G17*$E17/12,($G17-SUM($Q17:BW17)))))","v":0},{"$f":"IF($D17>=BY$3,0,IF(SUM($Q17:BX17)=$G17,0,IF($G17*$E17/12<($G17-SUM($Q17:BX17)),$G17*$E17/12,($G17-SUM($Q17:BX17)))))","v":0},{"$f":"IF($D17>=BZ$3,0,IF(SUM($Q17:BY17)=$G17,0,IF($G17*$E17/12<($G17-SUM($Q17:BY17)),$G17*$E17/12,($G17-SUM($Q17:BY17)))))","v":0},{"$f":"IF($D17>=CA$3,0,IF(SUM($Q17:BZ17)=$G17,0,IF($G17*$E17/12<($G17-SUM($Q17:BZ17)),$G17*$E17/12,($G17-SUM($Q17:BZ17)))))","v":0},{"$f":"IF($D17>=CB$3,0,IF(SUM($Q17:CA17)=$G17,0,IF($G17*$E17/12<($G17-SUM($Q17:CA17)),$G17*$E17/12,($G17-SUM($Q17:CA17)))))","v":0},{"$f":"IF($D17>=CC$3,0,IF(SUM($Q17:CB17)=$G17,0,IF($G17*$E17/12<($G17-SUM($Q17:CB17)),$G17*$E17/12,($G17-SUM($Q17:CB17)))))","v":0},{"$f":"IF($D17>=CD$3,0,IF(SUM($Q17:CC17)=$G17,0,IF($G17*$E17/12<($G17-SUM($Q17:CC17)),$G17*$E17/12,($G17-SUM($Q17:CC17)))))","v":0},{"$f":"IF($D17>=CE$3,0,IF(SUM($Q17:CD17)=$G17,0,IF($G17*$E17/12<($G17-SUM($Q17:CD17)),$G17*$E17/12,($G17-SUM($Q17:CD17)))))","v":0},{"$f":"IF($D17>=CF$3,0,IF(SUM($Q17:CE17)=$G17,0,IF($G17*$E17/12<($G17-SUM($Q17:CE17)),$G17*$E17/12,($G17-SUM($Q17:CE17)))))","v":0},{"$f":"IF($D17>=CG$3,0,IF(SUM($Q17:CF17)=$G17,0,IF($G17*$E17/12<($G17-SUM($Q17:CF17)),$G17*$E17/12,($G17-SUM($Q17:CF17)))))","v":0},{"$f":"IF($D17>=CH$3,0,IF(SUM($Q17:CG17)=$G17,0,IF($G17*$E17/12<($G17-SUM($Q17:CG17)),$G17*$E17/12,($G17-SUM($Q17:CG17)))))","v":0},{"$f":"IF($D17>=CI$3,0,IF(SUM($Q17:CH17)=$G17,0,IF($G17*$E17/12<($G17-SUM($Q17:CH17)),$G17*$E17/12,($G17-SUM($Q17:CH17)))))","v":0},{"$f":"IF($D17>=CJ$3,0,IF(SUM($Q17:CI17)=$G17,0,IF($G17*$E17/12<($G17-SUM($Q17:CI17)),$G17*$E17/12,($G17-SUM($Q17:CI17)))))","v":0},{"$f":"IF($D17>=CK$3,0,IF(SUM($Q17:CJ17)=$G17,0,IF($G17*$E17/12<($G17-SUM($Q17:CJ17)),$G17*$E17/12,($G17-SUM($Q17:CJ17)))))","v":0},{"$f":"IF($D17>=CL$3,0,IF(SUM($Q17:CK17)=$G17,0,IF($G17*$E17/12<($G17-SUM($Q17:CK17)),$G17*$E17/12,($G17-SUM($Q17:CK17)))))","v":0},{"$f":"IF($D17>=CM$3,0,IF(SUM($Q17:CL17)=$G17,0,IF($G17*$E17/12<($G17-SUM($Q17:CL17)),$G17*$E17/12,($G17-SUM($Q17:CL17)))))","v":0},{"$f":"IF($D17>=CN$3,0,IF(SUM($Q17:CM17)=$G17,0,IF($G17*$E17/12<($G17-SUM($Q17:CM17)),$G17*$E17/12,($G17-SUM($Q17:CM17)))))","v":0},{"$f":"IF($D17>=CO$3,0,IF(SUM($Q17:CN17)=$G17,0,IF($G17*$E17/12<($G17-SUM($Q17:CN17)),$G17*$E17/12,($G17-SUM($Q17:CN17)))))","v":0},{"$f":"IF($D17>=CP$3,0,IF(SUM($Q17:CO17)=$G17,0,IF($G17*$E17/12<($G17-SUM($Q17:CO17)),$G17*$E17/12,($G17-SUM($Q17:CO17)))))","v":0},{"$f":"IF($D17>=CQ$3,0,IF(SUM($Q17:CP17)=$G17,0,IF($G17*$E17/12<($G17-SUM($Q17:CP17)),$G17*$E17/12,($G17-SUM($Q17:CP17)))))","v":0},{"$f":"IF($D17>=CR$3,0,IF(SUM($Q17:CQ17)=$G17,0,IF($G17*$E17/12<($G17-SUM($Q17:CQ17)),$G17*$E17/12,($G17-SUM($Q17:CQ17)))))","v":0},{"$f":"IF($D17>=CS$3,0,IF(SUM($Q17:CR17)=$G17,0,IF($G17*$E17/12<($G17-SUM($Q17:CR17)),$G17*$E17/12,($G17-SUM($Q17:CR17)))))","v":0},{"$f":"IF($D17>=CT$3,0,IF(SUM($Q17:CS17)=$G17,0,IF($G17*$E17/12<($G17-SUM($Q17:CS17)),$G17*$E17/12,($G17-SUM($Q17:CS17)))))","v":0},{"$f":"IF($D17>=CU$3,0,IF(SUM($Q17:CT17)=$G17,0,IF($G17*$E17/12<($G17-SUM($Q17:CT17)),$G17*$E17/12,($G17-SUM($Q17:CT17)))))","v":0},{"$f":"IF($D17>=CV$3,0,IF(SUM($Q17:CU17)=$G17,0,IF($G17*$E17/12<($G17-SUM($Q17:CU17)),$G17*$E17/12,($G17-SUM($Q17:CU17)))))","v":0}]
[{"$f":"IF(D18<EOMONTH($D$2,-12),\"Fuera de plazo\",IF(D18>BALANCE!$J$3,\"Fuera de plazo\",\"\"))","v":""},"Otros",null,"2020-04-30",0.18,0.21,{"$f":"IF(YEAR(D18)<=YEAR($D$2),C18*RIESGO!$C$4,C18*RIESGO!$C$4*(1+CONTROL!$H$4)^(YEAR(D18)-YEAR($D$2)))","v":0},{"$f":"G18*F18","v":0},0,0,0,0,0,0,0,null,0,{"$f":"IF($D18>=R$3,0,IF(SUM($Q18:Q18)=$G18,0,IF($G18*$E18/12<($G18-SUM($Q18:Q18)),$G18*$E18/12,($G18-SUM($Q18:Q18)))))","v":0},{"$f":"IF($D18>=S$3,0,IF(SUM($Q18:R18)=$G18,0,IF($G18*$E18/12<($G18-SUM($Q18:R18)),$G18*$E18/12,($G18-SUM($Q18:R18)))))","v":0},{"$f":"IF($D18>=T$3,0,IF(SUM($Q18:S18)=$G18,0,IF($G18*$E18/12<($G18-SUM($Q18:S18)),$G18*$E18/12,($G18-SUM($Q18:S18)))))","v":0},{"$f":"IF($D18>=U$3,0,IF(SUM($Q18:T18)=$G18,0,IF($G18*$E18/12<($G18-SUM($Q18:T18)),$G18*$E18/12,($G18-SUM($Q18:T18)))))","v":0},{"$f":"IF($D18>=V$3,0,IF(SUM($Q18:U18)=$G18,0,IF($G18*$E18/12<($G18-SUM($Q18:U18)),$G18*$E18/12,($G18-SUM($Q18:U18)))))","v":0},{"$f":"IF($D18>=W$3,0,IF(SUM($Q18:V18)=$G18,0,IF($G18*$E18/12<($G18-SUM($Q18:V18)),$G18*$E18/12,($G18-SUM($Q18:V18)))))","v":0},{"$f":"IF($D18>=X$3,0,IF(SUM($Q18:W18)=$G18,0,IF($G18*$E18/12<($G18-SUM($Q18:W18)),$G18*$E18/12,($G18-SUM($Q18:W18)))))","v":0},{"$f":"IF($D18>=Y$3,0,IF(SUM($Q18:X18)=$G18,0,IF($G18*$E18/12<($G18-SUM($Q18:X18)),$G18*$E18/12,($G18-SUM($Q18:X18)))))","v":0},{"$f":"IF($D18>=Z$3,0,IF(SUM($Q18:Y18)=$G18,0,IF($G18*$E18/12<($G18-SUM($Q18:Y18)),$G18*$E18/12,($G18-SUM($Q18:Y18)))))","v":0},{"$f":"IF($D18>=AA$3,0,IF(SUM($Q18:Z18)=$G18,0,IF($G18*$E18/12<($G18-SUM($Q18:Z18)),$G18*$E18/12,($G18-SUM($Q18:Z18)))))","v":0},{"$f":"IF($D18>=AB$3,0,IF(SUM($Q18:AA18)=$G18,0,IF($G18*$E18/12<($G18-SUM($Q18:AA18)),$G18*$E18/12,($G18-SUM($Q18:AA18)))))","v":0},{"$f":"IF($D18>=AC$3,0,IF(SUM($Q18:AB18)=$G18,0,IF($G18*$E18/12<($G18-SUM($Q18:AB18)),$G18*$E18/12,($G18-SUM($Q18:AB18)))))","v":0},{"$f":"IF($D18>=AD$3,0,IF(SUM($Q18:AC18)=$G18,0,IF($G18*$E18/12<($G18-SUM($Q18:AC18)),$G18*$E18/12,($G18-SUM($Q18:AC18)))))","v":0},{"$f":"IF($D18>=AE$3,0,IF(SUM($Q18:AD18)=$G18,0,IF($G18*$E18/12<($G18-SUM($Q18:AD18)),$G18*$E18/12,($G18-SUM($Q18:AD18)))))","v":0},{"$f":"IF($D18>=AF$3,0,IF(SUM($Q18:AE18)=$G18,0,IF($G18*$E18/12<($G18-SUM($Q18:AE18)),$G18*$E18/12,($G18-SUM($Q18:AE18)))))","v":0},{"$f":"IF($D18>=AG$3,0,IF(SUM($Q18:AF18)=$G18,0,IF($G18*$E18/12<($G18-SUM($Q18:AF18)),$G18*$E18/12,($G18-SUM($Q18:AF18)))))","v":0},{"$f":"IF($D18>=AH$3,0,IF(SUM($Q18:AG18)=$G18,0,IF($G18*$E18/12<($G18-SUM($Q18:AG18)),$G18*$E18/12,($G18-SUM($Q18:AG18)))))","v":0},{"$f":"IF($D18>=AI$3,0,IF(SUM($Q18:AH18)=$G18,0,IF($G18*$E18/12<($G18-SUM($Q18:AH18)),$G18*$E18/12,($G18-SUM($Q18:AH18)))))","v":0},{"$f":"IF($D18>=AJ$3,0,IF(SUM($Q18:AI18)=$G18,0,IF($G18*$E18/12<($G18-SUM($Q18:AI18)),$G18*$E18/12,($G18-SUM($Q18:AI18)))))","v":0},{"$f":"IF($D18>=AK$3,0,IF(SUM($Q18:AJ18)=$G18,0,IF($G18*$E18/12<($G18-SUM($Q18:AJ18)),$G18*$E18/12,($G18-SUM($Q18:AJ18)))))","v":0},{"$f":"IF($D18>=AL$3,0,IF(SUM($Q18:AK18)=$G18,0,IF($G18*$E18/12<($G18-SUM($Q18:AK18)),$G18*$E18/12,($G18-SUM($Q18:AK18)))))","v":0},{"$f":"IF($D18>=AM$3,0,IF(SUM($Q18:AL18)=$G18,0,IF($G18*$E18/12<($G18-SUM($Q18:AL18)),$G18*$E18/12,($G18-SUM($Q18:AL18)))))","v":0},{"$f":"IF($D18>=AN$3,0,IF(SUM($Q18:AM18)=$G18,0,IF($G18*$E18/12<($G18-SUM($Q18:AM18)),$G18*$E18/12,($G18-SUM($Q18:AM18)))))","v":0},{"$f":"IF($D18>=AO$3,0,IF(SUM($Q18:AN18)=$G18,0,IF($G18*$E18/12<($G18-SUM($Q18:AN18)),$G18*$E18/12,($G18-SUM($Q18:AN18)))))","v":0},{"$f":"IF($D18>=AP$3,0,IF(SUM($Q18:AO18)=$G18,0,IF($G18*$E18/12<($G18-SUM($Q18:AO18)),$G18*$E18/12,($G18-SUM($Q18:AO18)))))","v":0},{"$f":"IF($D18>=AQ$3,0,IF(SUM($Q18:AP18)=$G18,0,IF($G18*$E18/12<($G18-SUM($Q18:AP18)),$G18*$E18/12,($G18-SUM($Q18:AP18)))))","v":0},{"$f":"IF($D18>=AR$3,0,IF(SUM($Q18:AQ18)=$G18,0,IF($G18*$E18/12<($G18-SUM($Q18:AQ18)),$G18*$E18/12,($G18-SUM($Q18:AQ18)))))","v":0},{"$f":"IF($D18>=AS$3,0,IF(SUM($Q18:AR18)=$G18,0,IF($G18*$E18/12<($G18-SUM($Q18:AR18)),$G18*$E18/12,($G18-SUM($Q18:AR18)))))","v":0},{"$f":"IF($D18>=AT$3,0,IF(SUM($Q18:AS18)=$G18,0,IF($G18*$E18/12<($G18-SUM($Q18:AS18)),$G18*$E18/12,($G18-SUM($Q18:AS18)))))","v":0},{"$f":"IF($D18>=AU$3,0,IF(SUM($Q18:AT18)=$G18,0,IF($G18*$E18/12<($G18-SUM($Q18:AT18)),$G18*$E18/12,($G18-SUM($Q18:AT18)))))","v":0},{"$f":"IF($D18>=AV$3,0,IF(SUM($Q18:AU18)=$G18,0,IF($G18*$E18/12<($G18-SUM($Q18:AU18)),$G18*$E18/12,($G18-SUM($Q18:AU18)))))","v":0},{"$f":"IF($D18>=AW$3,0,IF(SUM($Q18:AV18)=$G18,0,IF($G18*$E18/12<($G18-SUM($Q18:AV18)),$G18*$E18/12,($G18-SUM($Q18:AV18)))))","v":0},{"$f":"IF($D18>=AX$3,0,IF(SUM($Q18:AW18)=$G18,0,IF($G18*$E18/12<($G18-SUM($Q18:AW18)),$G18*$E18/12,($G18-SUM($Q18:AW18)))))","v":0},{"$f":"IF($D18>=AY$3,0,IF(SUM($Q18:AX18)=$G18,0,IF($G18*$E18/12<($G18-SUM($Q18:AX18)),$G18*$E18/12,($G18-SUM($Q18:AX18)))))","v":0},{"$f":"IF($D18>=AZ$3,0,IF(SUM($Q18:AY18)=$G18,0,IF($G18*$E18/12<($G18-SUM($Q18:AY18)),$G18*$E18/12,($G18-SUM($Q18:AY18)))))","v":0},{"$f":"IF($D18>=BA$3,0,IF(SUM($Q18:AZ18)=$G18,0,IF($G18*$E18/12<($G18-SUM($Q18:AZ18)),$G18*$E18/12,($G18-SUM($Q18:AZ18)))))","v":0},{"$f":"IF($D18>=BB$3,0,IF(SUM($Q18:BA18)=$G18,0,IF($G18*$E18/12<($G18-SUM($Q18:BA18)),$G18*$E18/12,($G18-SUM($Q18:BA18)))))","v":0},{"$f":"IF($D18>=BC$3,0,IF(SUM($Q18:BB18)=$G18,0,IF($G18*$E18/12<($G18-SUM($Q18:BB18)),$G18*$E18/12,($G18-SUM($Q18:BB18)))))","v":0},{"$f":"IF($D18>=BD$3,0,IF(SUM($Q18:BC18)=$G18,0,IF($G18*$E18/12<($G18-SUM($Q18:BC18)),$G18*$E18/12,($G18-SUM($Q18:BC18)))))","v":0},{"$f":"IF($D18>=BE$3,0,IF(SUM($Q18:BD18)=$G18,0,IF($G18*$E18/12<($G18-SUM($Q18:BD18)),$G18*$E18/12,($G18-SUM($Q18:BD18)))))","v":0},{"$f":"IF($D18>=BF$3,0,IF(SUM($Q18:BE18)=$G18,0,IF($G18*$E18/12<($G18-SUM($Q18:BE18)),$G18*$E18/12,($G18-SUM($Q18:BE18)))))","v":0},{"$f":"IF($D18>=BG$3,0,IF(SUM($Q18:BF18)=$G18,0,IF($G18*$E18/12<($G18-SUM($Q18:BF18)),$G18*$E18/12,($G18-SUM($Q18:BF18)))))","v":0},{"$f":"IF($D18>=BH$3,0,IF(SUM($Q18:BG18)=$G18,0,IF($G18*$E18/12<($G18-SUM($Q18:BG18)),$G18*$E18/12,($G18-SUM($Q18:BG18)))))","v":0},{"$f":"IF($D18>=BI$3,0,IF(SUM($Q18:BH18)=$G18,0,IF($G18*$E18/12<($G18-SUM($Q18:BH18)),$G18*$E18/12,($G18-SUM($Q18:BH18)))))","v":0},{"$f":"IF($D18>=BJ$3,0,IF(SUM($Q18:BI18)=$G18,0,IF($G18*$E18/12<($G18-SUM($Q18:BI18)),$G18*$E18/12,($G18-SUM($Q18:BI18)))))","v":0},{"$f":"IF($D18>=BK$3,0,IF(SUM($Q18:BJ18)=$G18,0,IF($G18*$E18/12<($G18-SUM($Q18:BJ18)),$G18*$E18/12,($G18-SUM($Q18:BJ18)))))","v":0},{"$f":"IF($D18>=BL$3,0,IF(SUM($Q18:BK18)=$G18,0,IF($G18*$E18/12<($G18-SUM($Q18:BK18)),$G18*$E18/12,($G18-SUM($Q18:BK18)))))","v":0},{"$f":"IF($D18>=BM$3,0,IF(SUM($Q18:BL18)=$G18,0,IF($G18*$E18/12<($G18-SUM($Q18:BL18)),$G18*$E18/12,($G18-SUM($Q18:BL18)))))","v":0},{"$f":"IF($D18>=BN$3,0,IF(SUM($Q18:BM18)=$G18,0,IF($G18*$E18/12<($G18-SUM($Q18:BM18)),$G18*$E18/12,($G18-SUM($Q18:BM18)))))","v":0},{"$f":"IF($D18>=BO$3,0,IF(SUM($Q18:BN18)=$G18,0,IF($G18*$E18/12<($G18-SUM($Q18:BN18)),$G18*$E18/12,($G18-SUM($Q18:BN18)))))","v":0},{"$f":"IF($D18>=BP$3,0,IF(SUM($Q18:BO18)=$G18,0,IF($G18*$E18/12<($G18-SUM($Q18:BO18)),$G18*$E18/12,($G18-SUM($Q18:BO18)))))","v":0},{"$f":"IF($D18>=BQ$3,0,IF(SUM($Q18:BP18)=$G18,0,IF($G18*$E18/12<($G18-SUM($Q18:BP18)),$G18*$E18/12,($G18-SUM($Q18:BP18)))))","v":0},{"$f":"IF($D18>=BR$3,0,IF(SUM($Q18:BQ18)=$G18,0,IF($G18*$E18/12<($G18-SUM($Q18:BQ18)),$G18*$E18/12,($G18-SUM($Q18:BQ18)))))","v":0},{"$f":"IF($D18>=BS$3,0,IF(SUM($Q18:BR18)=$G18,0,IF($G18*$E18/12<($G18-SUM($Q18:BR18)),$G18*$E18/12,($G18-SUM($Q18:BR18)))))","v":0},{"$f":"IF($D18>=BT$3,0,IF(SUM($Q18:BS18)=$G18,0,IF($G18*$E18/12<($G18-SUM($Q18:BS18)),$G18*$E18/12,($G18-SUM($Q18:BS18)))))","v":0},{"$f":"IF($D18>=BU$3,0,IF(SUM($Q18:BT18)=$G18,0,IF($G18*$E18/12<($G18-SUM($Q18:BT18)),$G18*$E18/12,($G18-SUM($Q18:BT18)))))","v":0},{"$f":"IF($D18>=BV$3,0,IF(SUM($Q18:BU18)=$G18,0,IF($G18*$E18/12<($G18-SUM($Q18:BU18)),$G18*$E18/12,($G18-SUM($Q18:BU18)))))","v":0},{"$f":"IF($D18>=BW$3,0,IF(SUM($Q18:BV18)=$G18,0,IF($G18*$E18/12<($G18-SUM($Q18:BV18)),$G18*$E18/12,($G18-SUM($Q18:BV18)))))","v":0},{"$f":"IF($D18>=BX$3,0,IF(SUM($Q18:BW18)=$G18,0,IF($G18*$E18/12<($G18-SUM($Q18:BW18)),$G18*$E18/12,($G18-SUM($Q18:BW18)))))","v":0},{"$f":"IF($D18>=BY$3,0,IF(SUM($Q18:BX18)=$G18,0,IF($G18*$E18/12<($G18-SUM($Q18:BX18)),$G18*$E18/12,($G18-SUM($Q18:BX18)))))","v":0},{"$f":"IF($D18>=BZ$3,0,IF(SUM($Q18:BY18)=$G18,0,IF($G18*$E18/12<($G18-SUM($Q18:BY18)),$G18*$E18/12,($G18-SUM($Q18:BY18)))))","v":0},{"$f":"IF($D18>=CA$3,0,IF(SUM($Q18:BZ18)=$G18,0,IF($G18*$E18/12<($G18-SUM($Q18:BZ18)),$G18*$E18/12,($G18-SUM($Q18:BZ18)))))","v":0},{"$f":"IF($D18>=CB$3,0,IF(SUM($Q18:CA18)=$G18,0,IF($G18*$E18/12<($G18-SUM($Q18:CA18)),$G18*$E18/12,($G18-SUM($Q18:CA18)))))","v":0},{"$f":"IF($D18>=CC$3,0,IF(SUM($Q18:CB18)=$G18,0,IF($G18*$E18/12<($G18-SUM($Q18:CB18)),$G18*$E18/12,($G18-SUM($Q18:CB18)))))","v":0},{"$f":"IF($D18>=CD$3,0,IF(SUM($Q18:CC18)=$G18,0,IF($G18*$E18/12<($G18-SUM($Q18:CC18)),$G18*$E18/12,($G18-SUM($Q18:CC18)))))","v":0},{"$f":"IF($D18>=CE$3,0,IF(SUM($Q18:CD18)=$G18,0,IF($G18*$E18/12<($G18-SUM($Q18:CD18)),$G18*$E18/12,($G18-SUM($Q18:CD18)))))","v":0},{"$f":"IF($D18>=CF$3,0,IF(SUM($Q18:CE18)=$G18,0,IF($G18*$E18/12<($G18-SUM($Q18:CE18)),$G18*$E18/12,($G18-SUM($Q18:CE18)))))","v":0},{"$f":"IF($D18>=CG$3,0,IF(SUM($Q18:CF18)=$G18,0,IF($G18*$E18/12<($G18-SUM($Q18:CF18)),$G18*$E18/12,($G18-SUM($Q18:CF18)))))","v":0},{"$f":"IF($D18>=CH$3,0,IF(SUM($Q18:CG18)=$G18,0,IF($G18*$E18/12<($G18-SUM($Q18:CG18)),$G18*$E18/12,($G18-SUM($Q18:CG18)))))","v":0},{"$f":"IF($D18>=CI$3,0,IF(SUM($Q18:CH18)=$G18,0,IF($G18*$E18/12<($G18-SUM($Q18:CH18)),$G18*$E18/12,($G18-SUM($Q18:CH18)))))","v":0},{"$f":"IF($D18>=CJ$3,0,IF(SUM($Q18:CI18)=$G18,0,IF($G18*$E18/12<($G18-SUM($Q18:CI18)),$G18*$E18/12,($G18-SUM($Q18:CI18)))))","v":0},{"$f":"IF($D18>=CK$3,0,IF(SUM($Q18:CJ18)=$G18,0,IF($G18*$E18/12<($G18-SUM($Q18:CJ18)),$G18*$E18/12,($G18-SUM($Q18:CJ18)))))","v":0},{"$f":"IF($D18>=CL$3,0,IF(SUM($Q18:CK18)=$G18,0,IF($G18*$E18/12<($G18-SUM($Q18:CK18)),$G18*$E18/12,($G18-SUM($Q18:CK18)))))","v":0},{"$f":"IF($D18>=CM$3,0,IF(SUM($Q18:CL18)=$G18,0,IF($G18*$E18/12<($G18-SUM($Q18:CL18)),$G18*$E18/12,($G18-SUM($Q18:CL18)))))","v":0},{"$f":"IF($D18>=CN$3,0,IF(SUM($Q18:CM18)=$G18,0,IF($G18*$E18/12<($G18-SUM($Q18:CM18)),$G18*$E18/12,($G18-SUM($Q18:CM18)))))","v":0},{"$f":"IF($D18>=CO$3,0,IF(SUM($Q18:CN18)=$G18,0,IF($G18*$E18/12<($G18-SUM($Q18:CN18)),$G18*$E18/12,($G18-SUM($Q18:CN18)))))","v":0},{"$f":"IF($D18>=CP$3,0,IF(SUM($Q18:CO18)=$G18,0,IF($G18*$E18/12<($G18-SUM($Q18:CO18)),$G18*$E18/12,($G18-SUM($Q18:CO18)))))","v":0},{"$f":"IF($D18>=CQ$3,0,IF(SUM($Q18:CP18)=$G18,0,IF($G18*$E18/12<($G18-SUM($Q18:CP18)),$G18*$E18/12,($G18-SUM($Q18:CP18)))))","v":0},{"$f":"IF($D18>=CR$3,0,IF(SUM($Q18:CQ18)=$G18,0,IF($G18*$E18/12<($G18-SUM($Q18:CQ18)),$G18*$E18/12,($G18-SUM($Q18:CQ18)))))","v":0},{"$f":"IF($D18>=CS$3,0,IF(SUM($Q18:CR18)=$G18,0,IF($G18*$E18/12<($G18-SUM($Q18:CR18)),$G18*$E18/12,($G18-SUM($Q18:CR18)))))","v":0},{"$f":"IF($D18>=CT$3,0,IF(SUM($Q18:CS18)=$G18,0,IF($G18*$E18/12<($G18-SUM($Q18:CS18)),$G18*$E18/12,($G18-SUM($Q18:CS18)))))","v":0},{"$f":"IF($D18>=CU$3,0,IF(SUM($Q18:CT18)=$G18,0,IF($G18*$E18/12<($G18-SUM($Q18:CT18)),$G18*$E18/12,($G18-SUM($Q18:CT18)))))","v":0},{"$f":"IF($D18>=CV$3,0,IF(SUM($Q18:CU18)=$G18,0,IF($G18*$E18/12<($G18-SUM($Q18:CU18)),$G18*$E18/12,($G18-SUM($Q18:CU18)))))","v":0}]
[{"$f":"IF(D19<EOMONTH($D$2,-12),\"Fuera de plazo\",IF(D19>BALANCE!$J$3,\"Fuera de plazo\",\"\"))","v":""},"Otros",null,"2018-01-31",0.18,0.21,{"$f":"IF(YEAR(D19)<=YEAR($D$2),C19*RIESGO!$C$4,C19*RIESGO!$C$4*(1+CONTROL!$H$4)^(YEAR(D19)-YEAR($D$2)))","v":0},{"$f":"G19*F19","v":0},0,0,0,0,0,0,0,null,0,{"$f":"IF($D19>=R$3,0,IF(SUM($Q19:Q19)=$G19,0,IF($G19*$E19/12<($G19-SUM($Q19:Q19)),$G19*$E19/12,($G19-SUM($Q19:Q19)))))","v":0},{"$f":"IF($D19>=S$3,0,IF(SUM($Q19:R19)=$G19,0,IF($G19*$E19/12<($G19-SUM($Q19:R19)),$G19*$E19/12,($G19-SUM($Q19:R19)))))","v":0},{"$f":"IF($D19>=T$3,0,IF(SUM($Q19:S19)=$G19,0,IF($G19*$E19/12<($G19-SUM($Q19:S19)),$G19*$E19/12,($G19-SUM($Q19:S19)))))","v":0},{"$f":"IF($D19>=U$3,0,IF(SUM($Q19:T19)=$G19,0,IF($G19*$E19/12<($G19-SUM($Q19:T19)),$G19*$E19/12,($G19-SUM($Q19:T19)))))","v":0},{"$f":"IF($D19>=V$3,0,IF(SUM($Q19:U19)=$G19,0,IF($G19*$E19/12<($G19-SUM($Q19:U19)),$G19*$E19/12,($G19-SUM($Q19:U19)))))","v":0},{"$f":"IF($D19>=W$3,0,IF(SUM($Q19:V19)=$G19,0,IF($G19*$E19/12<($G19-SUM($Q19:V19)),$G19*$E19/12,($G19-SUM($Q19:V19)))))","v":0},{"$f":"IF($D19>=X$3,0,IF(SUM($Q19:W19)=$G19,0,IF($G19*$E19/12<($G19-SUM($Q19:W19)),$G19*$E19/12,($G19-SUM($Q19:W19)))))","v":0},{"$f":"IF($D19>=Y$3,0,IF(SUM($Q19:X19)=$G19,0,IF($G19*$E19/12<($G19-SUM($Q19:X19)),$G19*$E19/12,($G19-SUM($Q19:X19)))))","v":0},{"$f":"IF($D19>=Z$3,0,IF(SUM($Q19:Y19)=$G19,0,IF($G19*$E19/12<($G19-SUM($Q19:Y19)),$G19*$E19/12,($G19-SUM($Q19:Y19)))))","v":0},{"$f":"IF($D19>=AA$3,0,IF(SUM($Q19:Z19)=$G19,0,IF($G19*$E19/12<($G19-SUM($Q19:Z19)),$G19*$E19/12,($G19-SUM($Q19:Z19)))))","v":0},{"$f":"IF($D19>=AB$3,0,IF(SUM($Q19:AA19)=$G19,0,IF($G19*$E19/12<($G19-SUM($Q19:AA19)),$G19*$E19/12,($G19-SUM($Q19:AA19)))))","v":0},{"$f":"IF($D19>=AC$3,0,IF(SUM($Q19:AB19)=$G19,0,IF($G19*$E19/12<($G19-SUM($Q19:AB19)),$G19*$E19/12,($G19-SUM($Q19:AB19)))))","v":0},{"$f":"IF($D19>=AD$3,0,IF(SUM($Q19:AC19)=$G19,0,IF($G19*$E19/12<($G19-SUM($Q19:AC19)),$G19*$E19/12,($G19-SUM($Q19:AC19)))))","v":0},{"$f":"IF($D19>=AE$3,0,IF(SUM($Q19:AD19)=$G19,0,IF($G19*$E19/12<($G19-SUM($Q19:AD19)),$G19*$E19/12,($G19-SUM($Q19:AD19)))))","v":0},{"$f":"IF($D19>=AF$3,0,IF(SUM($Q19:AE19)=$G19,0,IF($G19*$E19/12<($G19-SUM($Q19:AE19)),$G19*$E19/12,($G19-SUM($Q19:AE19)))))","v":0},{"$f":"IF($D19>=AG$3,0,IF(SUM($Q19:AF19)=$G19,0,IF($G19*$E19/12<($G19-SUM($Q19:AF19)),$G19*$E19/12,($G19-SUM($Q19:AF19)))))","v":0},{"$f":"IF($D19>=AH$3,0,IF(SUM($Q19:AG19)=$G19,0,IF($G19*$E19/12<($G19-SUM($Q19:AG19)),$G19*$E19/12,($G19-SUM($Q19:AG19)))))","v":0},{"$f":"IF($D19>=AI$3,0,IF(SUM($Q19:AH19)=$G19,0,IF($G19*$E19/12<($G19-SUM($Q19:AH19)),$G19*$E19/12,($G19-SUM($Q19:AH19)))))","v":0},{"$f":"IF($D19>=AJ$3,0,IF(SUM($Q19:AI19)=$G19,0,IF($G19*$E19/12<($G19-SUM($Q19:AI19)),$G19*$E19/12,($G19-SUM($Q19:AI19)))))","v":0},{"$f":"IF($D19>=AK$3,0,IF(SUM($Q19:AJ19)=$G19,0,IF($G19*$E19/12<($G19-SUM($Q19:AJ19)),$G19*$E19/12,($G19-SUM($Q19:AJ19)))))","v":0},{"$f":"IF($D19>=AL$3,0,IF(SUM($Q19:AK19)=$G19,0,IF($G19*$E19/12<($G19-SUM($Q19:AK19)),$G19*$E19/12,($G19-SUM($Q19:AK19)))))","v":0},{"$f":"IF($D19>=AM$3,0,IF(SUM($Q19:AL19)=$G19,0,IF($G19*$E19/12<($G19-SUM($Q19:AL19)),$G19*$E19/12,($G19-SUM($Q19:AL19)))))","v":0},{"$f":"IF($D19>=AN$3,0,IF(SUM($Q19:AM19)=$G19,0,IF($G19*$E19/12<($G19-SUM($Q19:AM19)),$G19*$E19/12,($G19-SUM($Q19:AM19)))))","v":0},{"$f":"IF($D19>=AO$3,0,IF(SUM($Q19:AN19)=$G19,0,IF($G19*$E19/12<($G19-SUM($Q19:AN19)),$G19*$E19/12,($G19-SUM($Q19:AN19)))))","v":0},{"$f":"IF($D19>=AP$3,0,IF(SUM($Q19:AO19)=$G19,0,IF($G19*$E19/12<($G19-SUM($Q19:AO19)),$G19*$E19/12,($G19-SUM($Q19:AO19)))))","v":0},{"$f":"IF($D19>=AQ$3,0,IF(SUM($Q19:AP19)=$G19,0,IF($G19*$E19/12<($G19-SUM($Q19:AP19)),$G19*$E19/12,($G19-SUM($Q19:AP19)))))","v":0},{"$f":"IF($D19>=AR$3,0,IF(SUM($Q19:AQ19)=$G19,0,IF($G19*$E19/12<($G19-SUM($Q19:AQ19)),$G19*$E19/12,($G19-SUM($Q19:AQ19)))))","v":0},{"$f":"IF($D19>=AS$3,0,IF(SUM($Q19:AR19)=$G19,0,IF($G19*$E19/12<($G19-SUM($Q19:AR19)),$G19*$E19/12,($G19-SUM($Q19:AR19)))))","v":0},{"$f":"IF($D19>=AT$3,0,IF(SUM($Q19:AS19)=$G19,0,IF($G19*$E19/12<($G19-SUM($Q19:AS19)),$G19*$E19/12,($G19-SUM($Q19:AS19)))))","v":0},{"$f":"IF($D19>=AU$3,0,IF(SUM($Q19:AT19)=$G19,0,IF($G19*$E19/12<($G19-SUM($Q19:AT19)),$G19*$E19/12,($G19-SUM($Q19:AT19)))))","v":0},{"$f":"IF($D19>=AV$3,0,IF(SUM($Q19:AU19)=$G19,0,IF($G19*$E19/12<($G19-SUM($Q19:AU19)),$G19*$E19/12,($G19-SUM($Q19:AU19)))))","v":0},{"$f":"IF($D19>=AW$3,0,IF(SUM($Q19:AV19)=$G19,0,IF($G19*$E19/12<($G19-SUM($Q19:AV19)),$G19*$E19/12,($G19-SUM($Q19:AV19)))))","v":0},{"$f":"IF($D19>=AX$3,0,IF(SUM($Q19:AW19)=$G19,0,IF($G19*$E19/12<($G19-SUM($Q19:AW19)),$G19*$E19/12,($G19-SUM($Q19:AW19)))))","v":0},{"$f":"IF($D19>=AY$3,0,IF(SUM($Q19:AX19)=$G19,0,IF($G19*$E19/12<($G19-SUM($Q19:AX19)),$G19*$E19/12,($G19-SUM($Q19:AX19)))))","v":0},{"$f":"IF($D19>=AZ$3,0,IF(SUM($Q19:AY19)=$G19,0,IF($G19*$E19/12<($G19-SUM($Q19:AY19)),$G19*$E19/12,($G19-SUM($Q19:AY19)))))","v":0},{"$f":"IF($D19>=BA$3,0,IF(SUM($Q19:AZ19)=$G19,0,IF($G19*$E19/12<($G19-SUM($Q19:AZ19)),$G19*$E19/12,($G19-SUM($Q19:AZ19)))))","v":0},{"$f":"IF($D19>=BB$3,0,IF(SUM($Q19:BA19)=$G19,0,IF($G19*$E19/12<($G19-SUM($Q19:BA19)),$G19*$E19/12,($G19-SUM($Q19:BA19)))))","v":0},{"$f":"IF($D19>=BC$3,0,IF(SUM($Q19:BB19)=$G19,0,IF($G19*$E19/12<($G19-SUM($Q19:BB19)),$G19*$E19/12,($G19-SUM($Q19:BB19)))))","v":0},{"$f":"IF($D19>=BD$3,0,IF(SUM($Q19:BC19)=$G19,0,IF($G19*$E19/12<($G19-SUM($Q19:BC19)),$G19*$E19/12,($G19-SUM($Q19:BC19)))))","v":0},{"$f":"IF($D19>=BE$3,0,IF(SUM($Q19:BD19)=$G19,0,IF($G19*$E19/12<($G19-SUM($Q19:BD19)),$G19*$E19/12,($G19-SUM($Q19:BD19)))))","v":0},{"$f":"IF($D19>=BF$3,0,IF(SUM($Q19:BE19)=$G19,0,IF($G19*$E19/12<($G19-SUM($Q19:BE19)),$G19*$E19/12,($G19-SUM($Q19:BE19)))))","v":0},{"$f":"IF($D19>=BG$3,0,IF(SUM($Q19:BF19)=$G19,0,IF($G19*$E19/12<($G19-SUM($Q19:BF19)),$G19*$E19/12,($G19-SUM($Q19:BF19)))))","v":0},{"$f":"IF($D19>=BH$3,0,IF(SUM($Q19:BG19)=$G19,0,IF($G19*$E19/12<($G19-SUM($Q19:BG19)),$G19*$E19/12,($G19-SUM($Q19:BG19)))))","v":0},{"$f":"IF($D19>=BI$3,0,IF(SUM($Q19:BH19)=$G19,0,IF($G19*$E19/12<($G19-SUM($Q19:BH19)),$G19*$E19/12,($G19-SUM($Q19:BH19)))))","v":0},{"$f":"IF($D19>=BJ$3,0,IF(SUM($Q19:BI19)=$G19,0,IF($G19*$E19/12<($G19-SUM($Q19:BI19)),$G19*$E19/12,($G19-SUM($Q19:BI19)))))","v":0},{"$f":"IF($D19>=BK$3,0,IF(SUM($Q19:BJ19)=$G19,0,IF($G19*$E19/12<($G19-SUM($Q19:BJ19)),$G19*$E19/12,($G19-SUM($Q19:BJ19)))))","v":0},{"$f":"IF($D19>=BL$3,0,IF(SUM($Q19:BK19)=$G19,0,IF($G19*$E19/12<($G19-SUM($Q19:BK19)),$G19*$E19/12,($G19-SUM($Q19:BK19)))))","v":0},{"$f":"IF($D19>=BM$3,0,IF(SUM($Q19:BL19)=$G19,0,IF($G19*$E19/12<($G19-SUM($Q19:BL19)),$G19*$E19/12,($G19-SUM($Q19:BL19)))))","v":0},{"$f":"IF($D19>=BN$3,0,IF(SUM($Q19:BM19)=$G19,0,IF($G19*$E19/12<($G19-SUM($Q19:BM19)),$G19*$E19/12,($G19-SUM($Q19:BM19)))))","v":0},{"$f":"IF($D19>=BO$3,0,IF(SUM($Q19:BN19)=$G19,0,IF($G19*$E19/12<($G19-SUM($Q19:BN19)),$G19*$E19/12,($G19-SUM($Q19:BN19)))))","v":0},{"$f":"IF($D19>=BP$3,0,IF(SUM($Q19:BO19)=$G19,0,IF($G19*$E19/12<($G19-SUM($Q19:BO19)),$G19*$E19/12,($G19-SUM($Q19:BO19)))))","v":0},{"$f":"IF($D19>=BQ$3,0,IF(SUM($Q19:BP19)=$G19,0,IF($G19*$E19/12<($G19-SUM($Q19:BP19)),$G19*$E19/12,($G19-SUM($Q19:BP19)))))","v":0},{"$f":"IF($D19>=BR$3,0,IF(SUM($Q19:BQ19)=$G19,0,IF($G19*$E19/12<($G19-SUM($Q19:BQ19)),$G19*$E19/12,($G19-SUM($Q19:BQ19)))))","v":0},{"$f":"IF($D19>=BS$3,0,IF(SUM($Q19:BR19)=$G19,0,IF($G19*$E19/12<($G19-SUM($Q19:BR19)),$G19*$E19/12,($G19-SUM($Q19:BR19)))))","v":0},{"$f":"IF($D19>=BT$3,0,IF(SUM($Q19:BS19)=$G19,0,IF($G19*$E19/12<($G19-SUM($Q19:BS19)),$G19*$E19/12,($G19-SUM($Q19:BS19)))))","v":0},{"$f":"IF($D19>=BU$3,0,IF(SUM($Q19:BT19)=$G19,0,IF($G19*$E19/12<($G19-SUM($Q19:BT19)),$G19*$E19/12,($G19-SUM($Q19:BT19)))))","v":0},{"$f":"IF($D19>=BV$3,0,IF(SUM($Q19:BU19)=$G19,0,IF($G19*$E19/12<($G19-SUM($Q19:BU19)),$G19*$E19/12,($G19-SUM($Q19:BU19)))))","v":0},{"$f":"IF($D19>=BW$3,0,IF(SUM($Q19:BV19)=$G19,0,IF($G19*$E19/12<($G19-SUM($Q19:BV19)),$G19*$E19/12,($G19-SUM($Q19:BV19)))))","v":0},{"$f":"IF($D19>=BX$3,0,IF(SUM($Q19:BW19)=$G19,0,IF($G19*$E19/12<($G19-SUM($Q19:BW19)),$G19*$E19/12,($G19-SUM($Q19:BW19)))))","v":0},{"$f":"IF($D19>=BY$3,0,IF(SUM($Q19:BX19)=$G19,0,IF($G19*$E19/12<($G19-SUM($Q19:BX19)),$G19*$E19/12,($G19-SUM($Q19:BX19)))))","v":0},{"$f":"IF($D19>=BZ$3,0,IF(SUM($Q19:BY19)=$G19,0,IF($G19*$E19/12<($G19-SUM($Q19:BY19)),$G19*$E19/12,($G19-SUM($Q19:BY19)))))","v":0},{"$f":"IF($D19>=CA$3,0,IF(SUM($Q19:BZ19)=$G19,0,IF($G19*$E19/12<($G19-SUM($Q19:BZ19)),$G19*$E19/12,($G19-SUM($Q19:BZ19)))))","v":0},{"$f":"IF($D19>=CB$3,0,IF(SUM($Q19:CA19)=$G19,0,IF($G19*$E19/12<($G19-SUM($Q19:CA19)),$G19*$E19/12,($G19-SUM($Q19:CA19)))))","v":0},{"$f":"IF($D19>=CC$3,0,IF(SUM($Q19:CB19)=$G19,0,IF($G19*$E19/12<($G19-SUM($Q19:CB19)),$G19*$E19/12,($G19-SUM($Q19:CB19)))))","v":0},{"$f":"IF($D19>=CD$3,0,IF(SUM($Q19:CC19)=$G19,0,IF($G19*$E19/12<($G19-SUM($Q19:CC19)),$G19*$E19/12,($G19-SUM($Q19:CC19)))))","v":0},{"$f":"IF($D19>=CE$3,0,IF(SUM($Q19:CD19)=$G19,0,IF($G19*$E19/12<($G19-SUM($Q19:CD19)),$G19*$E19/12,($G19-SUM($Q19:CD19)))))","v":0},{"$f":"IF($D19>=CF$3,0,IF(SUM($Q19:CE19)=$G19,0,IF($G19*$E19/12<($G19-SUM($Q19:CE19)),$G19*$E19/12,($G19-SUM($Q19:CE19)))))","v":0},{"$f":"IF($D19>=CG$3,0,IF(SUM($Q19:CF19)=$G19,0,IF($G19*$E19/12<($G19-SUM($Q19:CF19)),$G19*$E19/12,($G19-SUM($Q19:CF19)))))","v":0},{"$f":"IF($D19>=CH$3,0,IF(SUM($Q19:CG19)=$G19,0,IF($G19*$E19/12<($G19-SUM($Q19:CG19)),$G19*$E19/12,($G19-SUM($Q19:CG19)))))","v":0},{"$f":"IF($D19>=CI$3,0,IF(SUM($Q19:CH19)=$G19,0,IF($G19*$E19/12<($G19-SUM($Q19:CH19)),$G19*$E19/12,($G19-SUM($Q19:CH19)))))","v":0},{"$f":"IF($D19>=CJ$3,0,IF(SUM($Q19:CI19)=$G19,0,IF($G19*$E19/12<($G19-SUM($Q19:CI19)),$G19*$E19/12,($G19-SUM($Q19:CI19)))))","v":0},{"$f":"IF($D19>=CK$3,0,IF(SUM($Q19:CJ19)=$G19,0,IF($G19*$E19/12<($G19-SUM($Q19:CJ19)),$G19*$E19/12,($G19-SUM($Q19:CJ19)))))","v":0},{"$f":"IF($D19>=CL$3,0,IF(SUM($Q19:CK19)=$G19,0,IF($G19*$E19/12<($G19-SUM($Q19:CK19)),$G19*$E19/12,($G19-SUM($Q19:CK19)))))","v":0},{"$f":"IF($D19>=CM$3,0,IF(SUM($Q19:CL19)=$G19,0,IF($G19*$E19/12<($G19-SUM($Q19:CL19)),$G19*$E19/12,($G19-SUM($Q19:CL19)))))","v":0},{"$f":"IF($D19>=CN$3,0,IF(SUM($Q19:CM19)=$G19,0,IF($G19*$E19/12<($G19-SUM($Q19:CM19)),$G19*$E19/12,($G19-SUM($Q19:CM19)))))","v":0},{"$f":"IF($D19>=CO$3,0,IF(SUM($Q19:CN19)=$G19,0,IF($G19*$E19/12<($G19-SUM($Q19:CN19)),$G19*$E19/12,($G19-SUM($Q19:CN19)))))","v":0},{"$f":"IF($D19>=CP$3,0,IF(SUM($Q19:CO19)=$G19,0,IF($G19*$E19/12<($G19-SUM($Q19:CO19)),$G19*$E19/12,($G19-SUM($Q19:CO19)))))","v":0},{"$f":"IF($D19>=CQ$3,0,IF(SUM($Q19:CP19)=$G19,0,IF($G19*$E19/12<($G19-SUM($Q19:CP19)),$G19*$E19/12,($G19-SUM($Q19:CP19)))))","v":0},{"$f":"IF($D19>=CR$3,0,IF(SUM($Q19:CQ19)=$G19,0,IF($G19*$E19/12<($G19-SUM($Q19:CQ19)),$G19*$E19/12,($G19-SUM($Q19:CQ19)))))","v":0},{"$f":"IF($D19>=CS$3,0,IF(SUM($Q19:CR19)=$G19,0,IF($G19*$E19/12<($G19-SUM($Q19:CR19)),$G19*$E19/12,($G19-SUM($Q19:CR19)))))","v":0},{"$f":"IF($D19>=CT$3,0,IF(SUM($Q19:CS19)=$G19,0,IF($G19*$E19/12<($G19-SUM($Q19:CS19)),$G19*$E19/12,($G19-SUM($Q19:CS19)))))","v":0},{"$f":"IF($D19>=CU$3,0,IF(SUM($Q19:CT19)=$G19,0,IF($G19*$E19/12<($G19-SUM($Q19:CT19)),$G19*$E19/12,($G19-SUM($Q19:CT19)))))","v":0},{"$f":"IF($D19>=CV$3,0,IF(SUM($Q19:CU19)=$G19,0,IF($G19*$E19/12<($G19-SUM($Q19:CU19)),$G19*$E19/12,($G19-SUM($Q19:CU19)))))","v":0}]
[{"$f":"IF(D20<EOMONTH($D$2,-12),\"Fuera de plazo\",IF(D20>BALANCE!$J$3,\"Fuera de plazo\",\"\"))","v":""},"Otros",null,"2018-01-31",0.18,0.21,{"$f":"IF(YEAR(D20)<=YEAR($D$2),C20*RIESGO!$C$4,C20*RIESGO!$C$4*(1+CONTROL!$H$4)^(YEAR(D20)-YEAR($D$2)))","v":0},0,0,0,0,0,0,0,0,null,0,{"$f":"IF($D20>=R$3,0,IF(SUM($Q20:Q20)=$G20,0,IF($G20*$E20/12<($G20-SUM($Q20:Q20)),$G20*$E20/12,($G20-SUM($Q20:Q20)))))","v":0},{"$f":"IF($D20>=S$3,0,IF(SUM($Q20:R20)=$G20,0,IF($G20*$E20/12<($G20-SUM($Q20:R20)),$G20*$E20/12,($G20-SUM($Q20:R20)))))","v":0},{"$f":"IF($D20>=T$3,0,IF(SUM($Q20:S20)=$G20,0,IF($G20*$E20/12<($G20-SUM($Q20:S20)),$G20*$E20/12,($G20-SUM($Q20:S20)))))","v":0},{"$f":"IF($D20>=U$3,0,IF(SUM($Q20:T20)=$G20,0,IF($G20*$E20/12<($G20-SUM($Q20:T20)),$G20*$E20/12,($G20-SUM($Q20:T20)))))","v":0},{"$f":"IF($D20>=V$3,0,IF(SUM($Q20:U20)=$G20,0,IF($G20*$E20/12<($G20-SUM($Q20:U20)),$G20*$E20/12,($G20-SUM($Q20:U20)))))","v":0},{"$f":"IF($D20>=W$3,0,IF(SUM($Q20:V20)=$G20,0,IF($G20*$E20/12<($G20-SUM($Q20:V20)),$G20*$E20/12,($G20-SUM($Q20:V20)))))","v":0},{"$f":"IF($D20>=X$3,0,IF(SUM($Q20:W20)=$G20,0,IF($G20*$E20/12<($G20-SUM($Q20:W20)),$G20*$E20/12,($G20-SUM($Q20:W20)))))","v":0},{"$f":"IF($D20>=Y$3,0,IF(SUM($Q20:X20)=$G20,0,IF($G20*$E20/12<($G20-SUM($Q20:X20)),$G20*$E20/12,($G20-SUM($Q20:X20)))))","v":0},{"$f":"IF($D20>=Z$3,0,IF(SUM($Q20:Y20)=$G20,0,IF($G20*$E20/12<($G20-SUM($Q20:Y20)),$G20*$E20/12,($G20-SUM($Q20:Y20)))))","v":0},{"$f":"IF($D20>=AA$3,0,IF(SUM($Q20:Z20)=$G20,0,IF($G20*$E20/12<($G20-SUM($Q20:Z20)),$G20*$E20/12,($G20-SUM($Q20:Z20)))))","v":0},{"$f":"IF($D20>=AB$3,0,IF(SUM($Q20:AA20)=$G20,0,IF($G20*$E20/12<($G20-SUM($Q20:AA20)),$G20*$E20/12,($G20-SUM($Q20:AA20)))))","v":0},{"$f":"IF($D20>=AC$3,0,IF(SUM($Q20:AB20)=$G20,0,IF($G20*$E20/12<($G20-SUM($Q20:AB20)),$G20*$E20/12,($G20-SUM($Q20:AB20)))))","v":0},{"$f":"IF($D20>=AD$3,0,IF(SUM($Q20:AC20)=$G20,0,IF($G20*$E20/12<($G20-SUM($Q20:AC20)),$G20*$E20/12,($G20-SUM($Q20:AC20)))))","v":0},{"$f":"IF($D20>=AE$3,0,IF(SUM($Q20:AD20)=$G20,0,IF($G20*$E20/12<($G20-SUM($Q20:AD20)),$G20*$E20/12,($G20-SUM($Q20:AD20)))))","v":0},{"$f":"IF($D20>=AF$3,0,IF(SUM($Q20:AE20)=$G20,0,IF($G20*$E20/12<($G20-SUM($Q20:AE20)),$G20*$E20/12,($G20-SUM($Q20:AE20)))))","v":0},{"$f":"IF($D20>=AG$3,0,IF(SUM($Q20:AF20)=$G20,0,IF($G20*$E20/12<($G20-SUM($Q20:AF20)),$G20*$E20/12,($G20-SUM($Q20:AF20)))))","v":0},{"$f":"IF($D20>=AH$3,0,IF(SUM($Q20:AG20)=$G20,0,IF($G20*$E20/12<($G20-SUM($Q20:AG20)),$G20*$E20/12,($G20-SUM($Q20:AG20)))))","v":0},{"$f":"IF($D20>=AI$3,0,IF(SUM($Q20:AH20)=$G20,0,IF($G20*$E20/12<($G20-SUM($Q20:AH20)),$G20*$E20/12,($G20-SUM($Q20:AH20)))))","v":0},{"$f":"IF($D20>=AJ$3,0,IF(SUM($Q20:AI20)=$G20,0,IF($G20*$E20/12<($G20-SUM($Q20:AI20)),$G20*$E20/12,($G20-SUM($Q20:AI20)))))","v":0},{"$f":"IF($D20>=AK$3,0,IF(SUM($Q20:AJ20)=$G20,0,IF($G20*$E20/12<($G20-SUM($Q20:AJ20)),$G20*$E20/12,($G20-SUM($Q20:AJ20)))))","v":0},{"$f":"IF($D20>=AL$3,0,IF(SUM($Q20:AK20)=$G20,0,IF($G20*$E20/12<($G20-SUM($Q20:AK20)),$G20*$E20/12,($G20-SUM($Q20:AK20)))))","v":0},{"$f":"IF($D20>=AM$3,0,IF(SUM($Q20:AL20)=$G20,0,IF($G20*$E20/12<($G20-SUM($Q20:AL20)),$G20*$E20/12,($G20-SUM($Q20:AL20)))))","v":0},{"$f":"IF($D20>=AN$3,0,IF(SUM($Q20:AM20)=$G20,0,IF($G20*$E20/12<($G20-SUM($Q20:AM20)),$G20*$E20/12,($G20-SUM($Q20:AM20)))))","v":0},{"$f":"IF($D20>=AO$3,0,IF(SUM($Q20:AN20)=$G20,0,IF($G20*$E20/12<($G20-SUM($Q20:AN20)),$G20*$E20/12,($G20-SUM($Q20:AN20)))))","v":0},{"$f":"IF($D20>=AP$3,0,IF(SUM($Q20:AO20)=$G20,0,IF($G20*$E20/12<($G20-SUM($Q20:AO20)),$G20*$E20/12,($G20-SUM($Q20:AO20)))))","v":0},{"$f":"IF($D20>=AQ$3,0,IF(SUM($Q20:AP20)=$G20,0,IF($G20*$E20/12<($G20-SUM($Q20:AP20)),$G20*$E20/12,($G20-SUM($Q20:AP20)))))","v":0},{"$f":"IF($D20>=AR$3,0,IF(SUM($Q20:AQ20)=$G20,0,IF($G20*$E20/12<($G20-SUM($Q20:AQ20)),$G20*$E20/12,($G20-SUM($Q20:AQ20)))))","v":0},{"$f":"IF($D20>=AS$3,0,IF(SUM($Q20:AR20)=$G20,0,IF($G20*$E20/12<($G20-SUM($Q20:AR20)),$G20*$E20/12,($G20-SUM($Q20:AR20)))))","v":0},{"$f":"IF($D20>=AT$3,0,IF(SUM($Q20:AS20)=$G20,0,IF($G20*$E20/12<($G20-SUM($Q20:AS20)),$G20*$E20/12,($G20-SUM($Q20:AS20)))))","v":0},{"$f":"IF($D20>=AU$3,0,IF(SUM($Q20:AT20)=$G20,0,IF($G20*$E20/12<($G20-SUM($Q20:AT20)),$G20*$E20/12,($G20-SUM($Q20:AT20)))))","v":0},{"$f":"IF($D20>=AV$3,0,IF(SUM($Q20:AU20)=$G20,0,IF($G20*$E20/12<($G20-SUM($Q20:AU20)),$G20*$E20/12,($G20-SUM($Q20:AU20)))))","v":0},{"$f":"IF($D20>=AW$3,0,IF(SUM($Q20:AV20)=$G20,0,IF($G20*$E20/12<($G20-SUM($Q20:AV20)),$G20*$E20/12,($G20-SUM($Q20:AV20)))))","v":0},{"$f":"IF($D20>=AX$3,0,IF(SUM($Q20:AW20)=$G20,0,IF($G20*$E20/12<($G20-SUM($Q20:AW20)),$G20*$E20/12,($G20-SUM($Q20:AW20)))))","v":0},{"$f":"IF($D20>=AY$3,0,IF(SUM($Q20:AX20)=$G20,0,IF($G20*$E20/12<($G20-SUM($Q20:AX20)),$G20*$E20/12,($G20-SUM($Q20:AX20)))))","v":0},{"$f":"IF($D20>=AZ$3,0,IF(SUM($Q20:AY20)=$G20,0,IF($G20*$E20/12<($G20-SUM($Q20:AY20)),$G20*$E20/12,($G20-SUM($Q20:AY20)))))","v":0},{"$f":"IF($D20>=BA$3,0,IF(SUM($Q20:AZ20)=$G20,0,IF($G20*$E20/12<($G20-SUM($Q20:AZ20)),$G20*$E20/12,($G20-SUM($Q20:AZ20)))))","v":0},{"$f":"IF($D20>=BB$3,0,IF(SUM($Q20:BA20)=$G20,0,IF($G20*$E20/12<($G20-SUM($Q20:BA20)),$G20*$E20/12,($G20-SUM($Q20:BA20)))))","v":0},{"$f":"IF($D20>=BC$3,0,IF(SUM($Q20:BB20)=$G20,0,IF($G20*$E20/12<($G20-SUM($Q20:BB20)),$G20*$E20/12,($G20-SUM($Q20:BB20)))))","v":0},{"$f":"IF($D20>=BD$3,0,IF(SUM($Q20:BC20)=$G20,0,IF($G20*$E20/12<($G20-SUM($Q20:BC20)),$G20*$E20/12,($G20-SUM($Q20:BC20)))))","v":0},{"$f":"IF($D20>=BE$3,0,IF(SUM($Q20:BD20)=$G20,0,IF($G20*$E20/12<($G20-SUM($Q20:BD20)),$G20*$E20/12,($G20-SUM($Q20:BD20)))))","v":0},{"$f":"IF($D20>=BF$3,0,IF(SUM($Q20:BE20)=$G20,0,IF($G20*$E20/12<($G20-SUM($Q20:BE20)),$G20*$E20/12,($G20-SUM($Q20:BE20)))))","v":0},{"$f":"IF($D20>=BG$3,0,IF(SUM($Q20:BF20)=$G20,0,IF($G20*$E20/12<($G20-SUM($Q20:BF20)),$G20*$E20/12,($G20-SUM($Q20:BF20)))))","v":0},{"$f":"IF($D20>=BH$3,0,IF(SUM($Q20:BG20)=$G20,0,IF($G20*$E20/12<($G20-SUM($Q20:BG20)),$G20*$E20/12,($G20-SUM($Q20:BG20)))))","v":0},{"$f":"IF($D20>=BI$3,0,IF(SUM($Q20:BH20)=$G20,0,IF($G20*$E20/12<($G20-SUM($Q20:BH20)),$G20*$E20/12,($G20-SUM($Q20:BH20)))))","v":0},{"$f":"IF($D20>=BJ$3,0,IF(SUM($Q20:BI20)=$G20,0,IF($G20*$E20/12<($G20-SUM($Q20:BI20)),$G20*$E20/12,($G20-SUM($Q20:BI20)))))","v":0},{"$f":"IF($D20>=BK$3,0,IF(SUM($Q20:BJ20)=$G20,0,IF($G20*$E20/12<($G20-SUM($Q20:BJ20)),$G20*$E20/12,($G20-SUM($Q20:BJ20)))))","v":0},{"$f":"IF($D20>=BL$3,0,IF(SUM($Q20:BK20)=$G20,0,IF($G20*$E20/12<($G20-SUM($Q20:BK20)),$G20*$E20/12,($G20-SUM($Q20:BK20)))))","v":0},{"$f":"IF($D20>=BM$3,0,IF(SUM($Q20:BL20)=$G20,0,IF($G20*$E20/12<($G20-SUM($Q20:BL20)),$G20*$E20/12,($G20-SUM($Q20:BL20)))))","v":0},{"$f":"IF($D20>=BN$3,0,IF(SUM($Q20:BM20)=$G20,0,IF($G20*$E20/12<($G20-SUM($Q20:BM20)),$G20*$E20/12,($G20-SUM($Q20:BM20)))))","v":0},{"$f":"IF($D20>=BO$3,0,IF(SUM($Q20:BN20)=$G20,0,IF($G20*$E20/12<($G20-SUM($Q20:BN20)),$G20*$E20/12,($G20-SUM($Q20:BN20)))))","v":0},{"$f":"IF($D20>=BP$3,0,IF(SUM($Q20:BO20)=$G20,0,IF($G20*$E20/12<($G20-SUM($Q20:BO20)),$G20*$E20/12,($G20-SUM($Q20:BO20)))))","v":0},{"$f":"IF($D20>=BQ$3,0,IF(SUM($Q20:BP20)=$G20,0,IF($G20*$E20/12<($G20-SUM($Q20:BP20)),$G20*$E20/12,($G20-SUM($Q20:BP20)))))","v":0},{"$f":"IF($D20>=BR$3,0,IF(SUM($Q20:BQ20)=$G20,0,IF($G20*$E20/12<($G20-SUM($Q20:BQ20)),$G20*$E20/12,($G20-SUM($Q20:BQ20)))))","v":0},{"$f":"IF($D20>=BS$3,0,IF(SUM($Q20:BR20)=$G20,0,IF($G20*$E20/12<($G20-SUM($Q20:BR20)),$G20*$E20/12,($G20-SUM($Q20:BR20)))))","v":0},{"$f":"IF($D20>=BT$3,0,IF(SUM($Q20:BS20)=$G20,0,IF($G20*$E20/12<($G20-SUM($Q20:BS20)),$G20*$E20/12,($G20-SUM($Q20:BS20)))))","v":0},{"$f":"IF($D20>=BU$3,0,IF(SUM($Q20:BT20)=$G20,0,IF($G20*$E20/12<($G20-SUM($Q20:BT20)),$G20*$E20/12,($G20-SUM($Q20:BT20)))))","v":0},{"$f":"IF($D20>=BV$3,0,IF(SUM($Q20:BU20)=$G20,0,IF($G20*$E20/12<($G20-SUM($Q20:BU20)),$G20*$E20/12,($G20-SUM($Q20:BU20)))))","v":0},{"$f":"IF($D20>=BW$3,0,IF(SUM($Q20:BV20)=$G20,0,IF($G20*$E20/12<($G20-SUM($Q20:BV20)),$G20*$E20/12,($G20-SUM($Q20:BV20)))))","v":0},{"$f":"IF($D20>=BX$3,0,IF(SUM($Q20:BW20)=$G20,0,IF($G20*$E20/12<($G20-SUM($Q20:BW20)),$G20*$E20/12,($G20-SUM($Q20:BW20)))))","v":0},{"$f":"IF($D20>=BY$3,0,IF(SUM($Q20:BX20)=$G20,0,IF($G20*$E20/12<($G20-SUM($Q20:BX20)),$G20*$E20/12,($G20-SUM($Q20:BX20)))))","v":0},{"$f":"IF($D20>=BZ$3,0,IF(SUM($Q20:BY20)=$G20,0,IF($G20*$E20/12<($G20-SUM($Q20:BY20)),$G20*$E20/12,($G20-SUM($Q20:BY20)))))","v":0},{"$f":"IF($D20>=CA$3,0,IF(SUM($Q20:BZ20)=$G20,0,IF($G20*$E20/12<($G20-SUM($Q20:BZ20)),$G20*$E20/12,($G20-SUM($Q20:BZ20)))))","v":0},{"$f":"IF($D20>=CB$3,0,IF(SUM($Q20:CA20)=$G20,0,IF($G20*$E20/12<($G20-SUM($Q20:CA20)),$G20*$E20/12,($G20-SUM($Q20:CA20)))))","v":0},{"$f":"IF($D20>=CC$3,0,IF(SUM($Q20:CB20)=$G20,0,IF($G20*$E20/12<($G20-SUM($Q20:CB20)),$G20*$E20/12,($G20-SUM($Q20:CB20)))))","v":0},{"$f":"IF($D20>=CD$3,0,IF(SUM($Q20:CC20)=$G20,0,IF($G20*$E20/12<($G20-SUM($Q20:CC20)),$G20*$E20/12,($G20-SUM($Q20:CC20)))))","v":0},{"$f":"IF($D20>=CE$3,0,IF(SUM($Q20:CD20)=$G20,0,IF($G20*$E20/12<($G20-SUM($Q20:CD20)),$G20*$E20/12,($G20-SUM($Q20:CD20)))))","v":0},{"$f":"IF($D20>=CF$3,0,IF(SUM($Q20:CE20)=$G20,0,IF($G20*$E20/12<($G20-SUM($Q20:CE20)),$G20*$E20/12,($G20-SUM($Q20:CE20)))))","v":0},{"$f":"IF($D20>=CG$3,0,IF(SUM($Q20:CF20)=$G20,0,IF($G20*$E20/12<($G20-SUM($Q20:CF20)),$G20*$E20/12,($G20-SUM($Q20:CF20)))))","v":0},{"$f":"IF($D20>=CH$3,0,IF(SUM($Q20:CG20)=$G20,0,IF($G20*$E20/12<($G20-SUM($Q20:CG20)),$G20*$E20/12,($G20-SUM($Q20:CG20)))))","v":0},{"$f":"IF($D20>=CI$3,0,IF(SUM($Q20:CH20)=$G20,0,IF($G20*$E20/12<($G20-SUM($Q20:CH20)),$G20*$E20/12,($G20-SUM($Q20:CH20)))))","v":0},{"$f":"IF($D20>=CJ$3,0,IF(SUM($Q20:CI20)=$G20,0,IF($G20*$E20/12<($G20-SUM($Q20:CI20)),$G20*$E20/12,($G20-SUM($Q20:CI20)))))","v":0},{"$f":"IF($D20>=CK$3,0,IF(SUM($Q20:CJ20)=$G20,0,IF($G20*$E20/12<($G20-SUM($Q20:CJ20)),$G20*$E20/12,($G20-SUM($Q20:CJ20)))))","v":0},{"$f":"IF($D20>=CL$3,0,IF(SUM($Q20:CK20)=$G20,0,IF($G20*$E20/12<($G20-SUM($Q20:CK20)),$G20*$E20/12,($G20-SUM($Q20:CK20)))))","v":0},{"$f":"IF($D20>=CM$3,0,IF(SUM($Q20:CL20)=$G20,0,IF($G20*$E20/12<($G20-SUM($Q20:CL20)),$G20*$E20/12,($G20-SUM($Q20:CL20)))))","v":0},{"$f":"IF($D20>=CN$3,0,IF(SUM($Q20:CM20)=$G20,0,IF($G20*$E20/12<($G20-SUM($Q20:CM20)),$G20*$E20/12,($G20-SUM($Q20:CM20)))))","v":0},{"$f":"IF($D20>=CO$3,0,IF(SUM($Q20:CN20)=$G20,0,IF($G20*$E20/12<($G20-SUM($Q20:CN20)),$G20*$E20/12,($G20-SUM($Q20:CN20)))))","v":0},{"$f":"IF($D20>=CP$3,0,IF(SUM($Q20:CO20)=$G20,0,IF($G20*$E20/12<($G20-SUM($Q20:CO20)),$G20*$E20/12,($G20-SUM($Q20:CO20)))))","v":0},{"$f":"IF($D20>=CQ$3,0,IF(SUM($Q20:CP20)=$G20,0,IF($G20*$E20/12<($G20-SUM($Q20:CP20)),$G20*$E20/12,($G20-SUM($Q20:CP20)))))","v":0},{"$f":"IF($D20>=CR$3,0,IF(SUM($Q20:CQ20)=$G20,0,IF($G20*$E20/12<($G20-SUM($Q20:CQ20)),$G20*$E20/12,($G20-SUM($Q20:CQ20)))))","v":0},{"$f":"IF($D20>=CS$3,0,IF(SUM($Q20:CR20)=$G20,0,IF($G20*$E20/12<($G20-SUM($Q20:CR20)),$G20*$E20/12,($G20-SUM($Q20:CR20)))))","v":0},{"$f":"IF($D20>=CT$3,0,IF(SUM($Q20:CS20)=$G20,0,IF($G20*$E20/12<($G20-SUM($Q20:CS20)),$G20*$E20/12,($G20-SUM($Q20:CS20)))))","v":0},{"$f":"IF($D20>=CU$3,0,IF(SUM($Q20:CT20)=$G20,0,IF($G20*$E20/12<($G20-SUM($Q20:CT20)),$G20*$E20/12,($G20-SUM($Q20:CT20)))))","v":0},{"$f":"IF($D20>=CV$3,0,IF(SUM($Q20:CU20)=$G20,0,IF($G20*$E20/12<($G20-SUM($Q20:CU20)),$G20*$E20/12,($G20-SUM($Q20:CU20)))))","v":0}]
[null,"INMOVILIZADO INTANGIBLE"]
[{"$f":"IF(D22<EOMONTH($D$2,-12),\"Fuera de plazo\",IF(D22>BALANCE!$J$3,\"Fuera de plazo\",\"\"))","v":""},"Patentes",null,"2013-11-30",0.2,0.21,{"$f":"IF(YEAR(D22)<=YEAR($D$2),C22*RIESGO!$C$4,C22*RIESGO!$C$4*(1+CONTROL!$H$4)^(YEAR(D22)-YEAR($D$2)))","v":0},{"$f":"G22*F22","v":0},{"$f":"SUMIF($Q$2:$CV$2,I$3,$Q22:$CV22)","v":0},0,0,0,0,0,0,null,0,{"$f":"IF($D22>=R$3,0,IF(SUM($Q22:Q22)=$G22,0,IF($G22*$E22/12<($G22-SUM($Q22:Q22)),$G22*$E22/12,($G22-SUM($Q22:Q22)))))","v":0},{"$f":"IF($D22>=S$3,0,IF(SUM($Q22:R22)=$G22,0,IF($G22*$E22/12<($G22-SUM($Q22:R22)),$G22*$E22/12,($G22-SUM($Q22:R22)))))","v":0},{"$f":"IF($D22>=T$3,0,IF(SUM($Q22:S22)=$G22,0,IF($G22*$E22/12<($G22-SUM($Q22:S22)),$G22*$E22/12,($G22-SUM($Q22:S22)))))","v":0},{"$f":"IF($D22>=U$3,0,IF(SUM($Q22:T22)=$G22,0,IF($G22*$E22/12<($G22-SUM($Q22:T22)),$G22*$E22/12,($G22-SUM($Q22:T22)))))","v":0},{"$f":"IF($D22>=V$3,0,IF(SUM($Q22:U22)=$G22,0,IF($G22*$E22/12<($G22-SUM($Q22:U22)),$G22*$E22/12,($G22-SUM($Q22:U22)))))","v":0},{"$f":"IF($D22>=W$3,0,IF(SUM($Q22:V22)=$G22,0,IF($G22*$E22/12<($G22-SUM($Q22:V22)),$G22*$E22/12,($G22-SUM($Q22:V22)))))","v":0},{"$f":"IF($D22>=X$3,0,IF(SUM($Q22:W22)=$G22,0,IF($G22*$E22/12<($G22-SUM($Q22:W22)),$G22*$E22/12,($G22-SUM($Q22:W22)))))","v":0},{"$f":"IF($D22>=Y$3,0,IF(SUM($Q22:X22)=$G22,0,IF($G22*$E22/12<($G22-SUM($Q22:X22)),$G22*$E22/12,($G22-SUM($Q22:X22)))))","v":0},{"$f":"IF($D22>=Z$3,0,IF(SUM($Q22:Y22)=$G22,0,IF($G22*$E22/12<($G22-SUM($Q22:Y22)),$G22*$E22/12,($G22-SUM($Q22:Y22)))))","v":0},{"$f":"IF($D22>=AA$3,0,IF(SUM($Q22:Z22)=$G22,0,IF($G22*$E22/12<($G22-SUM($Q22:Z22)),$G22*$E22/12,($G22-SUM($Q22:Z22)))))","v":0},{"$f":"IF($D22>=AB$3,0,IF(SUM($Q22:AA22)=$G22,0,IF($G22*$E22/12<($G22-SUM($Q22:AA22)),$G22*$E22/12,($G22-SUM($Q22:AA22)))))","v":0},{"$f":"IF($D22>=AC$3,0,IF(SUM($Q22:AB22)=$G22,0,IF($G22*$E22/12<($G22-SUM($Q22:AB22)),$G22*$E22/12,($G22-SUM($Q22:AB22)))))","v":0},{"$f":"IF($D22>=AD$3,0,IF(SUM($Q22:AC22)=$G22,0,IF($G22*$E22/12<($G22-SUM($Q22:AC22)),$G22*$E22/12,($G22-SUM($Q22:AC22)))))","v":0},{"$f":"IF($D22>=AE$3,0,IF(SUM($Q22:AD22)=$G22,0,IF($G22*$E22/12<($G22-SUM($Q22:AD22)),$G22*$E22/12,($G22-SUM($Q22:AD22)))))","v":0},{"$f":"IF($D22>=AF$3,0,IF(SUM($Q22:AE22)=$G22,0,IF($G22*$E22/12<($G22-SUM($Q22:AE22)),$G22*$E22/12,($G22-SUM($Q22:AE22)))))","v":0},{"$f":"IF($D22>=AG$3,0,IF(SUM($Q22:AF22)=$G22,0,IF($G22*$E22/12<($G22-SUM($Q22:AF22)),$G22*$E22/12,($G22-SUM($Q22:AF22)))))","v":0},{"$f":"IF($D22>=AH$3,0,IF(SUM($Q22:AG22)=$G22,0,IF($G22*$E22/12<($G22-SUM($Q22:AG22)),$G22*$E22/12,($G22-SUM($Q22:AG22)))))","v":0},{"$f":"IF($D22>=AI$3,0,IF(SUM($Q22:AH22)=$G22,0,IF($G22*$E22/12<($G22-SUM($Q22:AH22)),$G22*$E22/12,($G22-SUM($Q22:AH22)))))","v":0},{"$f":"IF($D22>=AJ$3,0,IF(SUM($Q22:AI22)=$G22,0,IF($G22*$E22/12<($G22-SUM($Q22:AI22)),$G22*$E22/12,($G22-SUM($Q22:AI22)))))","v":0},{"$f":"IF($D22>=AK$3,0,IF(SUM($Q22:AJ22)=$G22,0,IF($G22*$E22/12<($G22-SUM($Q22:AJ22)),$G22*$E22/12,($G22-SUM($Q22:AJ22)))))","v":0},{"$f":"IF($D22>=AL$3,0,IF(SUM($Q22:AK22)=$G22,0,IF($G22*$E22/12<($G22-SUM($Q22:AK22)),$G22*$E22/12,($G22-SUM($Q22:AK22)))))","v":0},{"$f":"IF($D22>=AM$3,0,IF(SUM($Q22:AL22)=$G22,0,IF($G22*$E22/12<($G22-SUM($Q22:AL22)),$G22*$E22/12,($G22-SUM($Q22:AL22)))))","v":0},{"$f":"IF($D22>=AN$3,0,IF(SUM($Q22:AM22)=$G22,0,IF($G22*$E22/12<($G22-SUM($Q22:AM22)),$G22*$E22/12,($G22-SUM($Q22:AM22)))))","v":0},{"$f":"IF($D22>=AO$3,0,IF(SUM($Q22:AN22)=$G22,0,IF($G22*$E22/12<($G22-SUM($Q22:AN22)),$G22*$E22/12,($G22-SUM($Q22:AN22)))))","v":0},{"$f":"IF($D22>=AP$3,0,IF(SUM($Q22:AO22)=$G22,0,IF($G22*$E22/12<($G22-SUM($Q22:AO22)),$G22*$E22/12,($G22-SUM($Q22:AO22)))))","v":0},{"$f":"IF($D22>=AQ$3,0,IF(SUM($Q22:AP22)=$G22,0,IF($G22*$E22/12<($G22-SUM($Q22:AP22)),$G22*$E22/12,($G22-SUM($Q22:AP22)))))","v":0},{"$f":"IF($D22>=AR$3,0,IF(SUM($Q22:AQ22)=$G22,0,IF($G22*$E22/12<($G22-SUM($Q22:AQ22)),$G22*$E22/12,($G22-SUM($Q22:AQ22)))))","v":0},{"$f":"IF($D22>=AS$3,0,IF(SUM($Q22:AR22)=$G22,0,IF($G22*$E22/12<($G22-SUM($Q22:AR22)),$G22*$E22/12,($G22-SUM($Q22:AR22)))))","v":0},{"$f":"IF($D22>=AT$3,0,IF(SUM($Q22:AS22)=$G22,0,IF($G22*$E22/12<($G22-SUM($Q22:AS22)),$G22*$E22/12,($G22-SUM($Q22:AS22)))))","v":0},{"$f":"IF($D22>=AU$3,0,IF(SUM($Q22:AT22)=$G22,0,IF($G22*$E22/12<($G22-SUM($Q22:AT22)),$G22*$E22/12,($G22-SUM($Q22:AT22)))))","v":0},{"$f":"IF($D22>=AV$3,0,IF(SUM($Q22:AU22)=$G22,0,IF($G22*$E22/12<($G22-SUM($Q22:AU22)),$G22*$E22/12,($G22-SUM($Q22:AU22)))))","v":0},{"$f":"IF($D22>=AW$3,0,IF(SUM($Q22:AV22)=$G22,0,IF($G22*$E22/12<($G22-SUM($Q22:AV22)),$G22*$E22/12,($G22-SUM($Q22:AV22)))))","v":0},{"$f":"IF($D22>=AX$3,0,IF(SUM($Q22:AW22)=$G22,0,IF($G22*$E22/12<($G22-SUM($Q22:AW22)),$G22*$E22/12,($G22-SUM($Q22:AW22)))))","v":0},{"$f":"IF($D22>=AY$3,0,IF(SUM($Q22:AX22)=$G22,0,IF($G22*$E22/12<($G22-SUM($Q22:AX22)),$G22*$E22/12,($G22-SUM($Q22:AX22)))))","v":0},{"$f":"IF($D22>=AZ$3,0,IF(SUM($Q22:AY22)=$G22,0,IF($G22*$E22/12<($G22-SUM($Q22:AY22)),$G22*$E22/12,($G22-SUM($Q22:AY22)))))","v":0},{"$f":"IF($D22>=BA$3,0,IF(SUM($Q22:AZ22)=$G22,0,IF($G22*$E22/12<($G22-SUM($Q22:AZ22)),$G22*$E22/12,($G22-SUM($Q22:AZ22)))))","v":0},{"$f":"IF($D22>=BB$3,0,IF(SUM($Q22:BA22)=$G22,0,IF($G22*$E22/12<($G22-SUM($Q22:BA22)),$G22*$E22/12,($G22-SUM($Q22:BA22)))))","v":0},{"$f":"IF($D22>=BC$3,0,IF(SUM($Q22:BB22)=$G22,0,IF($G22*$E22/12<($G22-SUM($Q22:BB22)),$G22*$E22/12,($G22-SUM($Q22:BB22)))))","v":0},{"$f":"IF($D22>=BD$3,0,IF(SUM($Q22:BC22)=$G22,0,IF($G22*$E22/12<($G22-SUM($Q22:BC22)),$G22*$E22/12,($G22-SUM($Q22:BC22)))))","v":0},{"$f":"IF($D22>=BE$3,0,IF(SUM($Q22:BD22)=$G22,0,IF($G22*$E22/12<($G22-SUM($Q22:BD22)),$G22*$E22/12,($G22-SUM($Q22:BD22)))))","v":0},{"$f":"IF($D22>=BF$3,0,IF(SUM($Q22:BE22)=$G22,0,IF($G22*$E22/12<($G22-SUM($Q22:BE22)),$G22*$E22/12,($G22-SUM($Q22:BE22)))))","v":0},{"$f":"IF($D22>=BG$3,0,IF(SUM($Q22:BF22)=$G22,0,IF($G22*$E22/12<($G22-SUM($Q22:BF22)),$G22*$E22/12,($G22-SUM($Q22:BF22)))))","v":0},{"$f":"IF($D22>=BH$3,0,IF(SUM($Q22:BG22)=$G22,0,IF($G22*$E22/12<($G22-SUM($Q22:BG22)),$G22*$E22/12,($G22-SUM($Q22:BG22)))))","v":0},{"$f":"IF($D22>=BI$3,0,IF(SUM($Q22:BH22)=$G22,0,IF($G22*$E22/12<($G22-SUM($Q22:BH22)),$G22*$E22/12,($G22-SUM($Q22:BH22)))))","v":0},{"$f":"IF($D22>=BJ$3,0,IF(SUM($Q22:BI22)=$G22,0,IF($G22*$E22/12<($G22-SUM($Q22:BI22)),$G22*$E22/12,($G22-SUM($Q22:BI22)))))","v":0},{"$f":"IF($D22>=BK$3,0,IF(SUM($Q22:BJ22)=$G22,0,IF($G22*$E22/12<($G22-SUM($Q22:BJ22)),$G22*$E22/12,($G22-SUM($Q22:BJ22)))))","v":0},{"$f":"IF($D22>=BL$3,0,IF(SUM($Q22:BK22)=$G22,0,IF($G22*$E22/12<($G22-SUM($Q22:BK22)),$G22*$E22/12,($G22-SUM($Q22:BK22)))))","v":0},{"$f":"IF($D22>=BM$3,0,IF(SUM($Q22:BL22)=$G22,0,IF($G22*$E22/12<($G22-SUM($Q22:BL22)),$G22*$E22/12,($G22-SUM($Q22:BL22)))))","v":0},{"$f":"IF($D22>=BN$3,0,IF(SUM($Q22:BM22)=$G22,0,IF($G22*$E22/12<($G22-SUM($Q22:BM22)),$G22*$E22/12,($G22-SUM($Q22:BM22)))))","v":0},{"$f":"IF($D22>=BO$3,0,IF(SUM($Q22:BN22)=$G22,0,IF($G22*$E22/12<($G22-SUM($Q22:BN22)),$G22*$E22/12,($G22-SUM($Q22:BN22)))))","v":0},{"$f":"IF($D22>=BP$3,0,IF(SUM($Q22:BO22)=$G22,0,IF($G22*$E22/12<($G22-SUM($Q22:BO22)),$G22*$E22/12,($G22-SUM($Q22:BO22)))))","v":0},{"$f":"IF($D22>=BQ$3,0,IF(SUM($Q22:BP22)=$G22,0,IF($G22*$E22/12<($G22-SUM($Q22:BP22)),$G22*$E22/12,($G22-SUM($Q22:BP22)))))","v":0},{"$f":"IF($D22>=BR$3,0,IF(SUM($Q22:BQ22)=$G22,0,IF($G22*$E22/12<($G22-SUM($Q22:BQ22)),$G22*$E22/12,($G22-SUM($Q22:BQ22)))))","v":0},{"$f":"IF($D22>=BS$3,0,IF(SUM($Q22:BR22)=$G22,0,IF($G22*$E22/12<($G22-SUM($Q22:BR22)),$G22*$E22/12,($G22-SUM($Q22:BR22)))))","v":0},{"$f":"IF($D22>=BT$3,0,IF(SUM($Q22:BS22)=$G22,0,IF($G22*$E22/12<($G22-SUM($Q22:BS22)),$G22*$E22/12,($G22-SUM($Q22:BS22)))))","v":0},{"$f":"IF($D22>=BU$3,0,IF(SUM($Q22:BT22)=$G22,0,IF($G22*$E22/12<($G22-SUM($Q22:BT22)),$G22*$E22/12,($G22-SUM($Q22:BT22)))))","v":0},{"$f":"IF($D22>=BV$3,0,IF(SUM($Q22:BU22)=$G22,0,IF($G22*$E22/12<($G22-SUM($Q22:BU22)),$G22*$E22/12,($G22-SUM($Q22:BU22)))))","v":0},{"$f":"IF($D22>=BW$3,0,IF(SUM($Q22:BV22)=$G22,0,IF($G22*$E22/12<($G22-SUM($Q22:BV22)),$G22*$E22/12,($G22-SUM($Q22:BV22)))))","v":0},{"$f":"IF($D22>=BX$3,0,IF(SUM($Q22:BW22)=$G22,0,IF($G22*$E22/12<($G22-SUM($Q22:BW22)),$G22*$E22/12,($G22-SUM($Q22:BW22)))))","v":0},{"$f":"IF($D22>=BY$3,0,IF(SUM($Q22:BX22)=$G22,0,IF($G22*$E22/12<($G22-SUM($Q22:BX22)),$G22*$E22/12,($G22-SUM($Q22:BX22)))))","v":0},{"$f":"IF($D22>=BZ$3,0,IF(SUM($Q22:BY22)=$G22,0,IF($G22*$E22/12<($G22-SUM($Q22:BY22)),$G22*$E22/12,($G22-SUM($Q22:BY22)))))","v":0},{"$f":"IF($D22>=CA$3,0,IF(SUM($Q22:BZ22)=$G22,0,IF($G22*$E22/12<($G22-SUM($Q22:BZ22)),$G22*$E22/12,($G22-SUM($Q22:BZ22)))))","v":0},{"$f":"IF($D22>=CB$3,0,IF(SUM($Q22:CA22)=$G22,0,IF($G22*$E22/12<($G22-SUM($Q22:CA22)),$G22*$E22/12,($G22-SUM($Q22:CA22)))))","v":0},{"$f":"IF($D22>=CC$3,0,IF(SUM($Q22:CB22)=$G22,0,IF($G22*$E22/12<($G22-SUM($Q22:CB22)),$G22*$E22/12,($G22-SUM($Q22:CB22)))))","v":0},{"$f":"IF($D22>=CD$3,0,IF(SUM($Q22:CC22)=$G22,0,IF($G22*$E22/12<($G22-SUM($Q22:CC22)),$G22*$E22/12,($G22-SUM($Q22:CC22)))))","v":0},{"$f":"IF($D22>=CE$3,0,IF(SUM($Q22:CD22)=$G22,0,IF($G22*$E22/12<($G22-SUM($Q22:CD22)),$G22*$E22/12,($G22-SUM($Q22:CD22)))))","v":0},{"$f":"IF($D22>=CF$3,0,IF(SUM($Q22:CE22)=$G22,0,IF($G22*$E22/12<($G22-SUM($Q22:CE22)),$G22*$E22/12,($G22-SUM($Q22:CE22)))))","v":0},{"$f":"IF($D22>=CG$3,0,IF(SUM($Q22:CF22)=$G22,0,IF($G22*$E22/12<($G22-SUM($Q22:CF22)),$G22*$E22/12,($G22-SUM($Q22:CF22)))))","v":0},{"$f":"IF($D22>=CH$3,0,IF(SUM($Q22:CG22)=$G22,0,IF($G22*$E22/12<($G22-SUM($Q22:CG22)),$G22*$E22/12,($G22-SUM($Q22:CG22)))))","v":0},{"$f":"IF($D22>=CI$3,0,IF(SUM($Q22:CH22)=$G22,0,IF($G22*$E22/12<($G22-SUM($Q22:CH22)),$G22*$E22/12,($G22-SUM($Q22:CH22)))))","v":0},{"$f":"IF($D22>=CJ$3,0,IF(SUM($Q22:CI22)=$G22,0,IF($G22*$E22/12<($G22-SUM($Q22:CI22)),$G22*$E22/12,($G22-SUM($Q22:CI22)))))","v":0},{"$f":"IF($D22>=CK$3,0,IF(SUM($Q22:CJ22)=$G22,0,IF($G22*$E22/12<($G22-SUM($Q22:CJ22)),$G22*$E22/12,($G22-SUM($Q22:CJ22)))))","v":0},{"$f":"IF($D22>=CL$3,0,IF(SUM($Q22:CK22)=$G22,0,IF($G22*$E22/12<($G22-SUM($Q22:CK22)),$G22*$E22/12,($G22-SUM($Q22:CK22)))))","v":0},{"$f":"IF($D22>=CM$3,0,IF(SUM($Q22:CL22)=$G22,0,IF($G22*$E22/12<($G22-SUM($Q22:CL22)),$G22*$E22/12,($G22-SUM($Q22:CL22)))))","v":0},{"$f":"IF($D22>=CN$3,0,IF(SUM($Q22:CM22)=$G22,0,IF($G22*$E22/12<($G22-SUM($Q22:CM22)),$G22*$E22/12,($G22-SUM($Q22:CM22)))))","v":0},{"$f":"IF($D22>=CO$3,0,IF(SUM($Q22:CN22)=$G22,0,IF($G22*$E22/12<($G22-SUM($Q22:CN22)),$G22*$E22/12,($G22-SUM($Q22:CN22)))))","v":0},{"$f":"IF($D22>=CP$3,0,IF(SUM($Q22:CO22)=$G22,0,IF($G22*$E22/12<($G22-SUM($Q22:CO22)),$G22*$E22/12,($G22-SUM($Q22:CO22)))))","v":0},{"$f":"IF($D22>=CQ$3,0,IF(SUM($Q22:CP22)=$G22,0,IF($G22*$E22/12<($G22-SUM($Q22:CP22)),$G22*$E22/12,($G22-SUM($Q22:CP22)))))","v":0},{"$f":"IF($D22>=CR$3,0,IF(SUM($Q22:CQ22)=$G22,0,IF($G22*$E22/12<($G22-SUM($Q22:CQ22)),$G22*$E22/12,($G22-SUM($Q22:CQ22)))))","v":0},{"$f":"IF($D22>=CS$3,0,IF(SUM($Q22:CR22)=$G22,0,IF($G22*$E22/12<($G22-SUM($Q22:CR22)),$G22*$E22/12,($G22-SUM($Q22:CR22)))))","v":0},{"$f":"IF($D22>=CT$3,0,IF(SUM($Q22:CS22)=$G22,0,IF($G22*$E22/12<($G22-SUM($Q22:CS22)),$G22*$E22/12,($G22-SUM($Q22:CS22)))))","v":0},{"$f":"IF($D22>=CU$3,0,IF(SUM($Q22:CT22)=$G22,0,IF($G22*$E22/12<($G22-SUM($Q22:CT22)),$G22*$E22/12,($G22-SUM($Q22:CT22)))))","v":0},{"$f":"IF($D22>=CV$3,0,IF(SUM($Q22:CU22)=$G22,0,IF($G22*$E22/12<($G22-SUM($Q22:CU22)),$G22*$E22/12,($G22-SUM($Q22:CU22)))))","v":0}]
[{"$f":"IF(D23<EOMONTH($D$2,-12),\"Fuera de plazo\",IF(D23>BALANCE!$J$3,\"Fuera de plazo\",\"\"))","v":""},"Aplicaciones Informáticas",null,"2013-12-31",0.2,0.21,{"$f":"IF(YEAR(D23)<=YEAR($D$2),C23*RIESGO!$C$4,C23*RIESGO!$C$4*(1+CONTROL!$H$4)^(YEAR(D23)-YEAR($D$2)))","v":0},0,0,0,0,0,0,0,0,null,0,{"$f":"IF($D23>=R$3,0,IF(SUM($Q23:Q23)=$G23,0,IF($G23*$E23/12<($G23-SUM($Q23:Q23)),$G23*$E23/12,($G23-SUM($Q23:Q23)))))","v":0},{"$f":"IF($D23>=S$3,0,IF(SUM($Q23:R23)=$G23,0,IF($G23*$E23/12<($G23-SUM($Q23:R23)),$G23*$E23/12,($G23-SUM($Q23:R23)))))","v":0},{"$f":"IF($D23>=T$3,0,IF(SUM($Q23:S23)=$G23,0,IF($G23*$E23/12<($G23-SUM($Q23:S23)),$G23*$E23/12,($G23-SUM($Q23:S23)))))","v":0},{"$f":"IF($D23>=U$3,0,IF(SUM($Q23:T23)=$G23,0,IF($G23*$E23/12<($G23-SUM($Q23:T23)),$G23*$E23/12,($G23-SUM($Q23:T23)))))","v":0},{"$f":"IF($D23>=V$3,0,IF(SUM($Q23:U23)=$G23,0,IF($G23*$E23/12<($G23-SUM($Q23:U23)),$G23*$E23/12,($G23-SUM($Q23:U23)))))","v":0},{"$f":"IF($D23>=W$3,0,IF(SUM($Q23:V23)=$G23,0,IF($G23*$E23/12<($G23-SUM($Q23:V23)),$G23*$E23/12,($G23-SUM($Q23:V23)))))","v":0},{"$f":"IF($D23>=X$3,0,IF(SUM($Q23:W23)=$G23,0,IF($G23*$E23/12<($G23-SUM($Q23:W23)),$G23*$E23/12,($G23-SUM($Q23:W23)))))","v":0},{"$f":"IF($D23>=Y$3,0,IF(SUM($Q23:X23)=$G23,0,IF($G23*$E23/12<($G23-SUM($Q23:X23)),$G23*$E23/12,($G23-SUM($Q23:X23)))))","v":0},{"$f":"IF($D23>=Z$3,0,IF(SUM($Q23:Y23)=$G23,0,IF($G23*$E23/12<($G23-SUM($Q23:Y23)),$G23*$E23/12,($G23-SUM($Q23:Y23)))))","v":0},{"$f":"IF($D23>=AA$3,0,IF(SUM($Q23:Z23)=$G23,0,IF($G23*$E23/12<($G23-SUM($Q23:Z23)),$G23*$E23/12,($G23-SUM($Q23:Z23)))))","v":0},{"$f":"IF($D23>=AB$3,0,IF(SUM($Q23:AA23)=$G23,0,IF($G23*$E23/12<($G23-SUM($Q23:AA23)),$G23*$E23/12,($G23-SUM($Q23:AA23)))))","v":0},{"$f":"IF($D23>=AC$3,0,IF(SUM($Q23:AB23)=$G23,0,IF($G23*$E23/12<($G23-SUM($Q23:AB23)),$G23*$E23/12,($G23-SUM($Q23:AB23)))))","v":0},{"$f":"IF($D23>=AD$3,0,IF(SUM($Q23:AC23)=$G23,0,IF($G23*$E23/12<($G23-SUM($Q23:AC23)),$G23*$E23/12,($G23-SUM($Q23:AC23)))))","v":0},{"$f":"IF($D23>=AE$3,0,IF(SUM($Q23:AD23)=$G23,0,IF($G23*$E23/12<($G23-SUM($Q23:AD23)),$G23*$E23/12,($G23-SUM($Q23:AD23)))))","v":0},{"$f":"IF($D23>=AF$3,0,IF(SUM($Q23:AE23)=$G23,0,IF($G23*$E23/12<($G23-SUM($Q23:AE23)),$G23*$E23/12,($G23-SUM($Q23:AE23)))))","v":0},{"$f":"IF($D23>=AG$3,0,IF(SUM($Q23:AF23)=$G23,0,IF($G23*$E23/12<($G23-SUM($Q23:AF23)),$G23*$E23/12,($G23-SUM($Q23:AF23)))))","v":0},{"$f":"IF($D23>=AH$3,0,IF(SUM($Q23:AG23)=$G23,0,IF($G23*$E23/12<($G23-SUM($Q23:AG23)),$G23*$E23/12,($G23-SUM($Q23:AG23)))))","v":0},{"$f":"IF($D23>=AI$3,0,IF(SUM($Q23:AH23)=$G23,0,IF($G23*$E23/12<($G23-SUM($Q23:AH23)),$G23*$E23/12,($G23-SUM($Q23:AH23)))))","v":0},{"$f":"IF($D23>=AJ$3,0,IF(SUM($Q23:AI23)=$G23,0,IF($G23*$E23/12<($G23-SUM($Q23:AI23)),$G23*$E23/12,($G23-SUM($Q23:AI23)))))","v":0},{"$f":"IF($D23>=AK$3,0,IF(SUM($Q23:AJ23)=$G23,0,IF($G23*$E23/12<($G23-SUM($Q23:AJ23)),$G23*$E23/12,($G23-SUM($Q23:AJ23)))))","v":0},{"$f":"IF($D23>=AL$3,0,IF(SUM($Q23:AK23)=$G23,0,IF($G23*$E23/12<($G23-SUM($Q23:AK23)),$G23*$E23/12,($G23-SUM($Q23:AK23)))))","v":0},{"$f":"IF($D23>=AM$3,0,IF(SUM($Q23:AL23)=$G23,0,IF($G23*$E23/12<($G23-SUM($Q23:AL23)),$G23*$E23/12,($G23-SUM($Q23:AL23)))))","v":0},{"$f":"IF($D23>=AN$3,0,IF(SUM($Q23:AM23)=$G23,0,IF($G23*$E23/12<($G23-SUM($Q23:AM23)),$G23*$E23/12,($G23-SUM($Q23:AM23)))))","v":0},{"$f":"IF($D23>=AO$3,0,IF(SUM($Q23:AN23)=$G23,0,IF($G23*$E23/12<($G23-SUM($Q23:AN23)),$G23*$E23/12,($G23-SUM($Q23:AN23)))))","v":0},{"$f":"IF($D23>=AP$3,0,IF(SUM($Q23:AO23)=$G23,0,IF($G23*$E23/12<($G23-SUM($Q23:AO23)),$G23*$E23/12,($G23-SUM($Q23:AO23)))))","v":0},{"$f":"IF($D23>=AQ$3,0,IF(SUM($Q23:AP23)=$G23,0,IF($G23*$E23/12<($G23-SUM($Q23:AP23)),$G23*$E23/12,($G23-SUM($Q23:AP23)))))","v":0},{"$f":"IF($D23>=AR$3,0,IF(SUM($Q23:AQ23)=$G23,0,IF($G23*$E23/12<($G23-SUM($Q23:AQ23)),$G23*$E23/12,($G23-SUM($Q23:AQ23)))))","v":0},{"$f":"IF($D23>=AS$3,0,IF(SUM($Q23:AR23)=$G23,0,IF($G23*$E23/12<($G23-SUM($Q23:AR23)),$G23*$E23/12,($G23-SUM($Q23:AR23)))))","v":0},{"$f":"IF($D23>=AT$3,0,IF(SUM($Q23:AS23)=$G23,0,IF($G23*$E23/12<($G23-SUM($Q23:AS23)),$G23*$E23/12,($G23-SUM($Q23:AS23)))))","v":0},{"$f":"IF($D23>=AU$3,0,IF(SUM($Q23:AT23)=$G23,0,IF($G23*$E23/12<($G23-SUM($Q23:AT23)),$G23*$E23/12,($G23-SUM($Q23:AT23)))))","v":0},{"$f":"IF($D23>=AV$3,0,IF(SUM($Q23:AU23)=$G23,0,IF($G23*$E23/12<($G23-SUM($Q23:AU23)),$G23*$E23/12,($G23-SUM($Q23:AU23)))))","v":0},{"$f":"IF($D23>=AW$3,0,IF(SUM($Q23:AV23)=$G23,0,IF($G23*$E23/12<($G23-SUM($Q23:AV23)),$G23*$E23/12,($G23-SUM($Q23:AV23)))))","v":0},{"$f":"IF($D23>=AX$3,0,IF(SUM($Q23:AW23)=$G23,0,IF($G23*$E23/12<($G23-SUM($Q23:AW23)),$G23*$E23/12,($G23-SUM($Q23:AW23)))))","v":0},{"$f":"IF($D23>=AY$3,0,IF(SUM($Q23:AX23)=$G23,0,IF($G23*$E23/12<($G23-SUM($Q23:AX23)),$G23*$E23/12,($G23-SUM($Q23:AX23)))))","v":0},{"$f":"IF($D23>=AZ$3,0,IF(SUM($Q23:AY23)=$G23,0,IF($G23*$E23/12<($G23-SUM($Q23:AY23)),$G23*$E23/12,($G23-SUM($Q23:AY23)))))","v":0},{"$f":"IF($D23>=BA$3,0,IF(SUM($Q23:AZ23)=$G23,0,IF($G23*$E23/12<($G23-SUM($Q23:AZ23)),$G23*$E23/12,($G23-SUM($Q23:AZ23)))))","v":0},{"$f":"IF($D23>=BB$3,0,IF(SUM($Q23:BA23)=$G23,0,IF($G23*$E23/12<($G23-SUM($Q23:BA23)),$G23*$E23/12,($G23-SUM($Q23:BA23)))))","v":0},{"$f":"IF($D23>=BC$3,0,IF(SUM($Q23:BB23)=$G23,0,IF($G23*$E23/12<($G23-SUM($Q23:BB23)),$G23*$E23/12,($G23-SUM($Q23:BB23)))))","v":0},{"$f":"IF($D23>=BD$3,0,IF(SUM($Q23:BC23)=$G23,0,IF($G23*$E23/12<($G23-SUM($Q23:BC23)),$G23*$E23/12,($G23-SUM($Q23:BC23)))))","v":0},{"$f":"IF($D23>=BE$3,0,IF(SUM($Q23:BD23)=$G23,0,IF($G23*$E23/12<($G23-SUM($Q23:BD23)),$G23*$E23/12,($G23-SUM($Q23:BD23)))))","v":0},{"$f":"IF($D23>=BF$3,0,IF(SUM($Q23:BE23)=$G23,0,IF($G23*$E23/12<($G23-SUM($Q23:BE23)),$G23*$E23/12,($G23-SUM($Q23:BE23)))))","v":0},{"$f":"IF($D23>=BG$3,0,IF(SUM($Q23:BF23)=$G23,0,IF($G23*$E23/12<($G23-SUM($Q23:BF23)),$G23*$E23/12,($G23-SUM($Q23:BF23)))))","v":0},{"$f":"IF($D23>=BH$3,0,IF(SUM($Q23:BG23)=$G23,0,IF($G23*$E23/12<($G23-SUM($Q23:BG23)),$G23*$E23/12,($G23-SUM($Q23:BG23)))))","v":0},{"$f":"IF($D23>=BI$3,0,IF(SUM($Q23:BH23)=$G23,0,IF($G23*$E23/12<($G23-SUM($Q23:BH23)),$G23*$E23/12,($G23-SUM($Q23:BH23)))))","v":0},{"$f":"IF($D23>=BJ$3,0,IF(SUM($Q23:BI23)=$G23,0,IF($G23*$E23/12<($G23-SUM($Q23:BI23)),$G23*$E23/12,($G23-SUM($Q23:BI23)))))","v":0},{"$f":"IF($D23>=BK$3,0,IF(SUM($Q23:BJ23)=$G23,0,IF($G23*$E23/12<($G23-SUM($Q23:BJ23)),$G23*$E23/12,($G23-SUM($Q23:BJ23)))))","v":0},{"$f":"IF($D23>=BL$3,0,IF(SUM($Q23:BK23)=$G23,0,IF($G23*$E23/12<($G23-SUM($Q23:BK23)),$G23*$E23/12,($G23-SUM($Q23:BK23)))))","v":0},{"$f":"IF($D23>=BM$3,0,IF(SUM($Q23:BL23)=$G23,0,IF($G23*$E23/12<($G23-SUM($Q23:BL23)),$G23*$E23/12,($G23-SUM($Q23:BL23)))))","v":0},{"$f":"IF($D23>=BN$3,0,IF(SUM($Q23:BM23)=$G23,0,IF($G23*$E23/12<($G23-SUM($Q23:BM23)),$G23*$E23/12,($G23-SUM($Q23:BM23)))))","v":0},{"$f":"IF($D23>=BO$3,0,IF(SUM($Q23:BN23)=$G23,0,IF($G23*$E23/12<($G23-SUM($Q23:BN23)),$G23*$E23/12,($G23-SUM($Q23:BN23)))))","v":0},{"$f":"IF($D23>=BP$3,0,IF(SUM($Q23:BO23)=$G23,0,IF($G23*$E23/12<($G23-SUM($Q23:BO23)),$G23*$E23/12,($G23-SUM($Q23:BO23)))))","v":0},{"$f":"IF($D23>=BQ$3,0,IF(SUM($Q23:BP23)=$G23,0,IF($G23*$E23/12<($G23-SUM($Q23:BP23)),$G23*$E23/12,($G23-SUM($Q23:BP23)))))","v":0},{"$f":"IF($D23>=BR$3,0,IF(SUM($Q23:BQ23)=$G23,0,IF($G23*$E23/12<($G23-SUM($Q23:BQ23)),$G23*$E23/12,($G23-SUM($Q23:BQ23)))))","v":0},{"$f":"IF($D23>=BS$3,0,IF(SUM($Q23:BR23)=$G23,0,IF($G23*$E23/12<($G23-SUM($Q23:BR23)),$G23*$E23/12,($G23-SUM($Q23:BR23)))))","v":0},{"$f":"IF($D23>=BT$3,0,IF(SUM($Q23:BS23)=$G23,0,IF($G23*$E23/12<($G23-SUM($Q23:BS23)),$G23*$E23/12,($G23-SUM($Q23:BS23)))))","v":0},{"$f":"IF($D23>=BU$3,0,IF(SUM($Q23:BT23)=$G23,0,IF($G23*$E23/12<($G23-SUM($Q23:BT23)),$G23*$E23/12,($G23-SUM($Q23:BT23)))))","v":0},{"$f":"IF($D23>=BV$3,0,IF(SUM($Q23:BU23)=$G23,0,IF($G23*$E23/12<($G23-SUM($Q23:BU23)),$G23*$E23/12,($G23-SUM($Q23:BU23)))))","v":0},{"$f":"IF($D23>=BW$3,0,IF(SUM($Q23:BV23)=$G23,0,IF($G23*$E23/12<($G23-SUM($Q23:BV23)),$G23*$E23/12,($G23-SUM($Q23:BV23)))))","v":0},{"$f":"IF($D23>=BX$3,0,IF(SUM($Q23:BW23)=$G23,0,IF($G23*$E23/12<($G23-SUM($Q23:BW23)),$G23*$E23/12,($G23-SUM($Q23:BW23)))))","v":0},{"$f":"IF($D23>=BY$3,0,IF(SUM($Q23:BX23)=$G23,0,IF($G23*$E23/12<($G23-SUM($Q23:BX23)),$G23*$E23/12,($G23-SUM($Q23:BX23)))))","v":0},{"$f":"IF($D23>=BZ$3,0,IF(SUM($Q23:BY23)=$G23,0,IF($G23*$E23/12<($G23-SUM($Q23:BY23)),$G23*$E23/12,($G23-SUM($Q23:BY23)))))","v":0},{"$f":"IF($D23>=CA$3,0,IF(SUM($Q23:BZ23)=$G23,0,IF($G23*$E23/12<($G23-SUM($Q23:BZ23)),$G23*$E23/12,($G23-SUM($Q23:BZ23)))))","v":0},{"$f":"IF($D23>=CB$3,0,IF(SUM($Q23:CA23)=$G23,0,IF($G23*$E23/12<($G23-SUM($Q23:CA23)),$G23*$E23/12,($G23-SUM($Q23:CA23)))))","v":0},{"$f":"IF($D23>=CC$3,0,IF(SUM($Q23:CB23)=$G23,0,IF($G23*$E23/12<($G23-SUM($Q23:CB23)),$G23*$E23/12,($G23-SUM($Q23:CB23)))))","v":0},{"$f":"IF($D23>=CD$3,0,IF(SUM($Q23:CC23)=$G23,0,IF($G23*$E23/12<($G23-SUM($Q23:CC23)),$G23*$E23/12,($G23-SUM($Q23:CC23)))))","v":0},{"$f":"IF($D23>=CE$3,0,IF(SUM($Q23:CD23)=$G23,0,IF($G23*$E23/12<($G23-SUM($Q23:CD23)),$G23*$E23/12,($G23-SUM($Q23:CD23)))))","v":0},{"$f":"IF($D23>=CF$3,0,IF(SUM($Q23:CE23)=$G23,0,IF($G23*$E23/12<($G23-SUM($Q23:CE23)),$G23*$E23/12,($G23-SUM($Q23:CE23)))))","v":0},{"$f":"IF($D23>=CG$3,0,IF(SUM($Q23:CF23)=$G23,0,IF($G23*$E23/12<($G23-SUM($Q23:CF23)),$G23*$E23/12,($G23-SUM($Q23:CF23)))))","v":0},{"$f":"IF($D23>=CH$3,0,IF(SUM($Q23:CG23)=$G23,0,IF($G23*$E23/12<($G23-SUM($Q23:CG23)),$G23*$E23/12,($G23-SUM($Q23:CG23)))))","v":0},{"$f":"IF($D23>=CI$3,0,IF(SUM($Q23:CH23)=$G23,0,IF($G23*$E23/12<($G23-SUM($Q23:CH23)),$G23*$E23/12,($G23-SUM($Q23:CH23)))))","v":0},{"$f":"IF($D23>=CJ$3,0,IF(SUM($Q23:CI23)=$G23,0,IF($G23*$E23/12<($G23-SUM($Q23:CI23)),$G23*$E23/12,($G23-SUM($Q23:CI23)))))","v":0},{"$f":"IF($D23>=CK$3,0,IF(SUM($Q23:CJ23)=$G23,0,IF($G23*$E23/12<($G23-SUM($Q23:CJ23)),$G23*$E23/12,($G23-SUM($Q23:CJ23)))))","v":0},{"$f":"IF($D23>=CL$3,0,IF(SUM($Q23:CK23)=$G23,0,IF($G23*$E23/12<($G23-SUM($Q23:CK23)),$G23*$E23/12,($G23-SUM($Q23:CK23)))))","v":0},{"$f":"IF($D23>=CM$3,0,IF(SUM($Q23:CL23)=$G23,0,IF($G23*$E23/12<($G23-SUM($Q23:CL23)),$G23*$E23/12,($G23-SUM($Q23:CL23)))))","v":0},{"$f":"IF($D23>=CN$3,0,IF(SUM($Q23:CM23)=$G23,0,IF($G23*$E23/12<($G23-SUM($Q23:CM23)),$G23*$E23/12,($G23-SUM($Q23:CM23)))))","v":0},{"$f":"IF($D23>=CO$3,0,IF(SUM($Q23:CN23)=$G23,0,IF($G23*$E23/12<($G23-SUM($Q23:CN23)),$G23*$E23/12,($G23-SUM($Q23:CN23)))))","v":0},{"$f":"IF($D23>=CP$3,0,IF(SUM($Q23:CO23)=$G23,0,IF($G23*$E23/12<($G23-SUM($Q23:CO23)),$G23*$E23/12,($G23-SUM($Q23:CO23)))))","v":0},{"$f":"IF($D23>=CQ$3,0,IF(SUM($Q23:CP23)=$G23,0,IF($G23*$E23/12<($G23-SUM($Q23:CP23)),$G23*$E23/12,($G23-SUM($Q23:CP23)))))","v":0},{"$f":"IF($D23>=CR$3,0,IF(SUM($Q23:CQ23)=$G23,0,IF($G23*$E23/12<($G23-SUM($Q23:CQ23)),$G23*$E23/12,($G23-SUM($Q23:CQ23)))))","v":0},{"$f":"IF($D23>=CS$3,0,IF(SUM($Q23:CR23)=$G23,0,IF($G23*$E23/12<($G23-SUM($Q23:CR23)),$G23*$E23/12,($G23-SUM($Q23:CR23)))))","v":0},{"$f":"IF($D23>=CT$3,0,IF(SUM($Q23:CS23)=$G23,0,IF($G23*$E23/12<($G23-SUM($Q23:CS23)),$G23*$E23/12,($G23-SUM($Q23:CS23)))))","v":0},{"$f":"IF($D23>=CU$3,0,IF(SUM($Q23:CT23)=$G23,0,IF($G23*$E23/12<($G23-SUM($Q23:CT23)),$G23*$E23/12,($G23-SUM($Q23:CT23)))))","v":0},{"$f":"IF($D23>=CV$3,0,IF(SUM($Q23:CU23)=$G23,0,IF($G23*$E23/12<($G23-SUM($Q23:CU23)),$G23*$E23/12,($G23-SUM($Q23:CU23)))))","v":0}]
[{"$f":"IF(D24<EOMONTH($D$2,-12),\"Fuera de plazo\",IF(D24>BALANCE!$J$3,\"Fuera de plazo\",\"\"))","v":""},"Otros",null,"2013-11-30",0.2,0.21,{"$f":"IF(YEAR(D24)<=YEAR($D$2),C24*RIESGO!$C$4,C24*RIESGO!$C$4*(1+CONTROL!$H$4)^(YEAR(D24)-YEAR($D$2)))","v":0},0,0,0,0,0,0,0,0,null,0,{"$f":"IF($D24>=R$3,0,IF(SUM($Q24:Q24)=$G24,0,IF($G24*$E24/12<($G24-SUM($Q24:Q24)),$G24*$E24/12,($G24-SUM($Q24:Q24)))))","v":0},{"$f":"IF($D24>=S$3,0,IF(SUM($Q24:R24)=$G24,0,IF($G24*$E24/12<($G24-SUM($Q24:R24)),$G24*$E24/12,($G24-SUM($Q24:R24)))))","v":0},{"$f":"IF($D24>=T$3,0,IF(SUM($Q24:S24)=$G24,0,IF($G24*$E24/12<($G24-SUM($Q24:S24)),$G24*$E24/12,($G24-SUM($Q24:S24)))))","v":0},{"$f":"IF($D24>=U$3,0,IF(SUM($Q24:T24)=$G24,0,IF($G24*$E24/12<($G24-SUM($Q24:T24)),$G24*$E24/12,($G24-SUM($Q24:T24)))))","v":0},{"$f":"IF($D24>=V$3,0,IF(SUM($Q24:U24)=$G24,0,IF($G24*$E24/12<($G24-SUM($Q24:U24)),$G24*$E24/12,($G24-SUM($Q24:U24)))))","v":0},{"$f":"IF($D24>=W$3,0,IF(SUM($Q24:V24)=$G24,0,IF($G24*$E24/12<($G24-SUM($Q24:V24)),$G24*$E24/12,($G24-SUM($Q24:V24)))))","v":0},{"$f":"IF($D24>=X$3,0,IF(SUM($Q24:W24)=$G24,0,IF($G24*$E24/12<($G24-SUM($Q24:W24)),$G24*$E24/12,($G24-SUM($Q24:W24)))))","v":0},{"$f":"IF($D24>=Y$3,0,IF(SUM($Q24:X24)=$G24,0,IF($G24*$E24/12<($G24-SUM($Q24:X24)),$G24*$E24/12,($G24-SUM($Q24:X24)))))","v":0},{"$f":"IF($D24>=Z$3,0,IF(SUM($Q24:Y24)=$G24,0,IF($G24*$E24/12<($G24-SUM($Q24:Y24)),$G24*$E24/12,($G24-SUM($Q24:Y24)))))","v":0},{"$f":"IF($D24>=AA$3,0,IF(SUM($Q24:Z24)=$G24,0,IF($G24*$E24/12<($G24-SUM($Q24:Z24)),$G24*$E24/12,($G24-SUM($Q24:Z24)))))","v":0},{"$f":"IF($D24>=AB$3,0,IF(SUM($Q24:AA24)=$G24,0,IF($G24*$E24/12<($G24-SUM($Q24:AA24)),$G24*$E24/12,($G24-SUM($Q24:AA24)))))","v":0},{"$f":"IF($D24>=AC$3,0,IF(SUM($Q24:AB24)=$G24,0,IF($G24*$E24/12<($G24-SUM($Q24:AB24)),$G24*$E24/12,($G24-SUM($Q24:AB24)))))","v":0},{"$f":"IF($D24>=AD$3,0,IF(SUM($Q24:AC24)=$G24,0,IF($G24*$E24/12<($G24-SUM($Q24:AC24)),$G24*$E24/12,($G24-SUM($Q24:AC24)))))","v":0},{"$f":"IF($D24>=AE$3,0,IF(SUM($Q24:AD24)=$G24,0,IF($G24*$E24/12<($G24-SUM($Q24:AD24)),$G24*$E24/12,($G24-SUM($Q24:AD24)))))","v":0},{"$f":"IF($D24>=AF$3,0,IF(SUM($Q24:AE24)=$G24,0,IF($G24*$E24/12<($G24-SUM($Q24:AE24)),$G24*$E24/12,($G24-SUM($Q24:AE24)))))","v":0},{"$f":"IF($D24>=AG$3,0,IF(SUM($Q24:AF24)=$G24,0,IF($G24*$E24/12<($G24-SUM($Q24:AF24)),$G24*$E24/12,($G24-SUM($Q24:AF24)))))","v":0},{"$f":"IF($D24>=AH$3,0,IF(SUM($Q24:AG24)=$G24,0,IF($G24*$E24/12<($G24-SUM($Q24:AG24)),$G24*$E24/12,($G24-SUM($Q24:AG24)))))","v":0},{"$f":"IF($D24>=AI$3,0,IF(SUM($Q24:AH24)=$G24,0,IF($G24*$E24/12<($G24-SUM($Q24:AH24)),$G24*$E24/12,($G24-SUM($Q24:AH24)))))","v":0},{"$f":"IF($D24>=AJ$3,0,IF(SUM($Q24:AI24)=$G24,0,IF($G24*$E24/12<($G24-SUM($Q24:AI24)),$G24*$E24/12,($G24-SUM($Q24:AI24)))))","v":0},{"$f":"IF($D24>=AK$3,0,IF(SUM($Q24:AJ24)=$G24,0,IF($G24*$E24/12<($G24-SUM($Q24:AJ24)),$G24*$E24/12,($G24-SUM($Q24:AJ24)))))","v":0},{"$f":"IF($D24>=AL$3,0,IF(SUM($Q24:AK24)=$G24,0,IF($G24*$E24/12<($G24-SUM($Q24:AK24)),$G24*$E24/12,($G24-SUM($Q24:AK24)))))","v":0},{"$f":"IF($D24>=AM$3,0,IF(SUM($Q24:AL24)=$G24,0,IF($G24*$E24/12<($G24-SUM($Q24:AL24)),$G24*$E24/12,($G24-SUM($Q24:AL24)))))","v":0},{"$f":"IF($D24>=AN$3,0,IF(SUM($Q24:AM24)=$G24,0,IF($G24*$E24/12<($G24-SUM($Q24:AM24)),$G24*$E24/12,($G24-SUM($Q24:AM24)))))","v":0},{"$f":"IF($D24>=AO$3,0,IF(SUM($Q24:AN24)=$G24,0,IF($G24*$E24/12<($G24-SUM($Q24:AN24)),$G24*$E24/12,($G24-SUM($Q24:AN24)))))","v":0},{"$f":"IF($D24>=AP$3,0,IF(SUM($Q24:AO24)=$G24,0,IF($G24*$E24/12<($G24-SUM($Q24:AO24)),$G24*$E24/12,($G24-SUM($Q24:AO24)))))","v":0},{"$f":"IF($D24>=AQ$3,0,IF(SUM($Q24:AP24)=$G24,0,IF($G24*$E24/12<($G24-SUM($Q24:AP24)),$G24*$E24/12,($G24-SUM($Q24:AP24)))))","v":0},{"$f":"IF($D24>=AR$3,0,IF(SUM($Q24:AQ24)=$G24,0,IF($G24*$E24/12<($G24-SUM($Q24:AQ24)),$G24*$E24/12,($G24-SUM($Q24:AQ24)))))","v":0},{"$f":"IF($D24>=AS$3,0,IF(SUM($Q24:AR24)=$G24,0,IF($G24*$E24/12<($G24-SUM($Q24:AR24)),$G24*$E24/12,($G24-SUM($Q24:AR24)))))","v":0},{"$f":"IF($D24>=AT$3,0,IF(SUM($Q24:AS24)=$G24,0,IF($G24*$E24/12<($G24-SUM($Q24:AS24)),$G24*$E24/12,($G24-SUM($Q24:AS24)))))","v":0},{"$f":"IF($D24>=AU$3,0,IF(SUM($Q24:AT24)=$G24,0,IF($G24*$E24/12<($G24-SUM($Q24:AT24)),$G24*$E24/12,($G24-SUM($Q24:AT24)))))","v":0},{"$f":"IF($D24>=AV$3,0,IF(SUM($Q24:AU24)=$G24,0,IF($G24*$E24/12<($G24-SUM($Q24:AU24)),$G24*$E24/12,($G24-SUM($Q24:AU24)))))","v":0},{"$f":"IF($D24>=AW$3,0,IF(SUM($Q24:AV24)=$G24,0,IF($G24*$E24/12<($G24-SUM($Q24:AV24)),$G24*$E24/12,($G24-SUM($Q24:AV24)))))","v":0},{"$f":"IF($D24>=AX$3,0,IF(SUM($Q24:AW24)=$G24,0,IF($G24*$E24/12<($G24-SUM($Q24:AW24)),$G24*$E24/12,($G24-SUM($Q24:AW24)))))","v":0},{"$f":"IF($D24>=AY$3,0,IF(SUM($Q24:AX24)=$G24,0,IF($G24*$E24/12<($G24-SUM($Q24:AX24)),$G24*$E24/12,($G24-SUM($Q24:AX24)))))","v":0},{"$f":"IF($D24>=AZ$3,0,IF(SUM($Q24:AY24)=$G24,0,IF($G24*$E24/12<($G24-SUM($Q24:AY24)),$G24*$E24/12,($G24-SUM($Q24:AY24)))))","v":0},{"$f":"IF($D24>=BA$3,0,IF(SUM($Q24:AZ24)=$G24,0,IF($G24*$E24/12<($G24-SUM($Q24:AZ24)),$G24*$E24/12,($G24-SUM($Q24:AZ24)))))","v":0},{"$f":"IF($D24>=BB$3,0,IF(SUM($Q24:BA24)=$G24,0,IF($G24*$E24/12<($G24-SUM($Q24:BA24)),$G24*$E24/12,($G24-SUM($Q24:BA24)))))","v":0},{"$f":"IF($D24>=BC$3,0,IF(SUM($Q24:BB24)=$G24,0,IF($G24*$E24/12<($G24-SUM($Q24:BB24)),$G24*$E24/12,($G24-SUM($Q24:BB24)))))","v":0},{"$f":"IF($D24>=BD$3,0,IF(SUM($Q24:BC24)=$G24,0,IF($G24*$E24/12<($G24-SUM($Q24:BC24)),$G24*$E24/12,($G24-SUM($Q24:BC24)))))","v":0},{"$f":"IF($D24>=BE$3,0,IF(SUM($Q24:BD24)=$G24,0,IF($G24*$E24/12<($G24-SUM($Q24:BD24)),$G24*$E24/12,($G24-SUM($Q24:BD24)))))","v":0},{"$f":"IF($D24>=BF$3,0,IF(SUM($Q24:BE24)=$G24,0,IF($G24*$E24/12<($G24-SUM($Q24:BE24)),$G24*$E24/12,($G24-SUM($Q24:BE24)))))","v":0},{"$f":"IF($D24>=BG$3,0,IF(SUM($Q24:BF24)=$G24,0,IF($G24*$E24/12<($G24-SUM($Q24:BF24)),$G24*$E24/12,($G24-SUM($Q24:BF24)))))","v":0},{"$f":"IF($D24>=BH$3,0,IF(SUM($Q24:BG24)=$G24,0,IF($G24*$E24/12<($G24-SUM($Q24:BG24)),$G24*$E24/12,($G24-SUM($Q24:BG24)))))","v":0},{"$f":"IF($D24>=BI$3,0,IF(SUM($Q24:BH24)=$G24,0,IF($G24*$E24/12<($G24-SUM($Q24:BH24)),$G24*$E24/12,($G24-SUM($Q24:BH24)))))","v":0},{"$f":"IF($D24>=BJ$3,0,IF(SUM($Q24:BI24)=$G24,0,IF($G24*$E24/12<($G24-SUM($Q24:BI24)),$G24*$E24/12,($G24-SUM($Q24:BI24)))))","v":0},{"$f":"IF($D24>=BK$3,0,IF(SUM($Q24:BJ24)=$G24,0,IF($G24*$E24/12<($G24-SUM($Q24:BJ24)),$G24*$E24/12,($G24-SUM($Q24:BJ24)))))","v":0},{"$f":"IF($D24>=BL$3,0,IF(SUM($Q24:BK24)=$G24,0,IF($G24*$E24/12<($G24-SUM($Q24:BK24)),$G24*$E24/12,($G24-SUM($Q24:BK24)))))","v":0},{"$f":"IF($D24>=BM$3,0,IF(SUM($Q24:BL24)=$G24,0,IF($G24*$E24/12<($G24-SUM($Q24:BL24)),$G24*$E24/12,($G24-SUM($Q24:BL24)))))","v":0},{"$f":"IF($D24>=BN$3,0,IF(SUM($Q24:BM24)=$G24,0,IF($G24*$E24/12<($G24-SUM($Q24:BM24)),$G24*$E24/12,($G24-SUM($Q24:BM24)))))","v":0},{"$f":"IF($D24>=BO$3,0,IF(SUM($Q24:BN24)=$G24,0,IF($G24*$E24/12<($G24-SUM($Q24:BN24)),$G24*$E24/12,($G24-SUM($Q24:BN24)))))","v":0},{"$f":"IF($D24>=BP$3,0,IF(SUM($Q24:BO24)=$G24,0,IF($G24*$E24/12<($G24-SUM($Q24:BO24)),$G24*$E24/12,($G24-SUM($Q24:BO24)))))","v":0},{"$f":"IF($D24>=BQ$3,0,IF(SUM($Q24:BP24)=$G24,0,IF($G24*$E24/12<($G24-SUM($Q24:BP24)),$G24*$E24/12,($G24-SUM($Q24:BP24)))))","v":0},{"$f":"IF($D24>=BR$3,0,IF(SUM($Q24:BQ24)=$G24,0,IF($G24*$E24/12<($G24-SUM($Q24:BQ24)),$G24*$E24/12,($G24-SUM($Q24:BQ24)))))","v":0},{"$f":"IF($D24>=BS$3,0,IF(SUM($Q24:BR24)=$G24,0,IF($G24*$E24/12<($G24-SUM($Q24:BR24)),$G24*$E24/12,($G24-SUM($Q24:BR24)))))","v":0},{"$f":"IF($D24>=BT$3,0,IF(SUM($Q24:BS24)=$G24,0,IF($G24*$E24/12<($G24-SUM($Q24:BS24)),$G24*$E24/12,($G24-SUM($Q24:BS24)))))","v":0},{"$f":"IF($D24>=BU$3,0,IF(SUM($Q24:BT24)=$G24,0,IF($G24*$E24/12<($G24-SUM($Q24:BT24)),$G24*$E24/12,($G24-SUM($Q24:BT24)))))","v":0},{"$f":"IF($D24>=BV$3,0,IF(SUM($Q24:BU24)=$G24,0,IF($G24*$E24/12<($G24-SUM($Q24:BU24)),$G24*$E24/12,($G24-SUM($Q24:BU24)))))","v":0},{"$f":"IF($D24>=BW$3,0,IF(SUM($Q24:BV24)=$G24,0,IF($G24*$E24/12<($G24-SUM($Q24:BV24)),$G24*$E24/12,($G24-SUM($Q24:BV24)))))","v":0},{"$f":"IF($D24>=BX$3,0,IF(SUM($Q24:BW24)=$G24,0,IF($G24*$E24/12<($G24-SUM($Q24:BW24)),$G24*$E24/12,($G24-SUM($Q24:BW24)))))","v":0},{"$f":"IF($D24>=BY$3,0,IF(SUM($Q24:BX24)=$G24,0,IF($G24*$E24/12<($G24-SUM($Q24:BX24)),$G24*$E24/12,($G24-SUM($Q24:BX24)))))","v":0},{"$f":"IF($D24>=BZ$3,0,IF(SUM($Q24:BY24)=$G24,0,IF($G24*$E24/12<($G24-SUM($Q24:BY24)),$G24*$E24/12,($G24-SUM($Q24:BY24)))))","v":0},{"$f":"IF($D24>=CA$3,0,IF(SUM($Q24:BZ24)=$G24,0,IF($G24*$E24/12<($G24-SUM($Q24:BZ24)),$G24*$E24/12,($G24-SUM($Q24:BZ24)))))","v":0},{"$f":"IF($D24>=CB$3,0,IF(SUM($Q24:CA24)=$G24,0,IF($G24*$E24/12<($G24-SUM($Q24:CA24)),$G24*$E24/12,($G24-SUM($Q24:CA24)))))","v":0},{"$f":"IF($D24>=CC$3,0,IF(SUM($Q24:CB24)=$G24,0,IF($G24*$E24/12<($G24-SUM($Q24:CB24)),$G24*$E24/12,($G24-SUM($Q24:CB24)))))","v":0},{"$f":"IF($D24>=CD$3,0,IF(SUM($Q24:CC24)=$G24,0,IF($G24*$E24/12<($G24-SUM($Q24:CC24)),$G24*$E24/12,($G24-SUM($Q24:CC24)))))","v":0},{"$f":"IF($D24>=CE$3,0,IF(SUM($Q24:CD24)=$G24,0,IF($G24*$E24/12<($G24-SUM($Q24:CD24)),$G24*$E24/12,($G24-SUM($Q24:CD24)))))","v":0},{"$f":"IF($D24>=CF$3,0,IF(SUM($Q24:CE24)=$G24,0,IF($G24*$E24/12<($G24-SUM($Q24:CE24)),$G24*$E24/12,($G24-SUM($Q24:CE24)))))","v":0},{"$f":"IF($D24>=CG$3,0,IF(SUM($Q24:CF24)=$G24,0,IF($G24*$E24/12<($G24-SUM($Q24:CF24)),$G24*$E24/12,($G24-SUM($Q24:CF24)))))","v":0},{"$f":"IF($D24>=CH$3,0,IF(SUM($Q24:CG24)=$G24,0,IF($G24*$E24/12<($G24-SUM($Q24:CG24)),$G24*$E24/12,($G24-SUM($Q24:CG24)))))","v":0},{"$f":"IF($D24>=CI$3,0,IF(SUM($Q24:CH24)=$G24,0,IF($G24*$E24/12<($G24-SUM($Q24:CH24)),$G24*$E24/12,($G24-SUM($Q24:CH24)))))","v":0},{"$f":"IF($D24>=CJ$3,0,IF(SUM($Q24:CI24)=$G24,0,IF($G24*$E24/12<($G24-SUM($Q24:CI24)),$G24*$E24/12,($G24-SUM($Q24:CI24)))))","v":0},{"$f":"IF($D24>=CK$3,0,IF(SUM($Q24:CJ24)=$G24,0,IF($G24*$E24/12<($G24-SUM($Q24:CJ24)),$G24*$E24/12,($G24-SUM($Q24:CJ24)))))","v":0},{"$f":"IF($D24>=CL$3,0,IF(SUM($Q24:CK24)=$G24,0,IF($G24*$E24/12<($G24-SUM($Q24:CK24)),$G24*$E24/12,($G24-SUM($Q24:CK24)))))","v":0},{"$f":"IF($D24>=CM$3,0,IF(SUM($Q24:CL24)=$G24,0,IF($G24*$E24/12<($G24-SUM($Q24:CL24)),$G24*$E24/12,($G24-SUM($Q24:CL24)))))","v":0},{"$f":"IF($D24>=CN$3,0,IF(SUM($Q24:CM24)=$G24,0,IF($G24*$E24/12<($G24-SUM($Q24:CM24)),$G24*$E24/12,($G24-SUM($Q24:CM24)))))","v":0},{"$f":"IF($D24>=CO$3,0,IF(SUM($Q24:CN24)=$G24,0,IF($G24*$E24/12<($G24-SUM($Q24:CN24)),$G24*$E24/12,($G24-SUM($Q24:CN24)))))","v":0},{"$f":"IF($D24>=CP$3,0,IF(SUM($Q24:CO24)=$G24,0,IF($G24*$E24/12<($G24-SUM($Q24:CO24)),$G24*$E24/12,($G24-SUM($Q24:CO24)))))","v":0},{"$f":"IF($D24>=CQ$3,0,IF(SUM($Q24:CP24)=$G24,0,IF($G24*$E24/12<($G24-SUM($Q24:CP24)),$G24*$E24/12,($G24-SUM($Q24:CP24)))))","v":0},{"$f":"IF($D24>=CR$3,0,IF(SUM($Q24:CQ24)=$G24,0,IF($G24*$E24/12<($G24-SUM($Q24:CQ24)),$G24*$E24/12,($G24-SUM($Q24:CQ24)))))","v":0},{"$f":"IF($D24>=CS$3,0,IF(SUM($Q24:CR24)=$G24,0,IF($G24*$E24/12<($G24-SUM($Q24:CR24)),$G24*$E24/12,($G24-SUM($Q24:CR24)))))","v":0},{"$f":"IF($D24>=CT$3,0,IF(SUM($Q24:CS24)=$G24,0,IF($G24*$E24/12<($G24-SUM($Q24:CS24)),$G24*$E24/12,($G24-SUM($Q24:CS24)))))","v":0},{"$f":"IF($D24>=CU$3,0,IF(SUM($Q24:CT24)=$G24,0,IF($G24*$E24/12<($G24-SUM($Q24:CT24)),$G24*$E24/12,($G24-SUM($Q24:CT24)))))","v":0},{"$f":"IF($D24>=CV$3,0,IF(SUM($Q24:CU24)=$G24,0,IF($G24*$E24/12<($G24-SUM($Q24:CU24)),$G24*$E24/12,($G24-SUM($Q24:CU24)))))","v":0}]
[{"$f":"IF(D25<EOMONTH($D$2,-12),\"Fuera de plazo\",IF(D25>BALANCE!$J$3,\"Fuera de plazo\",\"\"))","v":""},"Otros",null,"2013-12-31",0.2,0.21,{"$f":"IF(YEAR(D25)<=YEAR($D$2),C25*RIESGO!$C$4,C25*RIESGO!$C$4*(1+CONTROL!$H$4)^(YEAR(D25)-YEAR($D$2)))","v":0},0,0,0,0,0,0,0,0,null,0,{"$f":"IF($D25>=R$3,0,IF(SUM($Q25:Q25)=$G25,0,IF($G25*$E25/12<($G25-SUM($Q25:Q25)),$G25*$E25/12,($G25-SUM($Q25:Q25)))))","v":0},{"$f":"IF($D25>=S$3,0,IF(SUM($Q25:R25)=$G25,0,IF($G25*$E25/12<($G25-SUM($Q25:R25)),$G25*$E25/12,($G25-SUM($Q25:R25)))))","v":0},{"$f":"IF($D25>=T$3,0,IF(SUM($Q25:S25)=$G25,0,IF($G25*$E25/12<($G25-SUM($Q25:S25)),$G25*$E25/12,($G25-SUM($Q25:S25)))))","v":0},{"$f":"IF($D25>=U$3,0,IF(SUM($Q25:T25)=$G25,0,IF($G25*$E25/12<($G25-SUM($Q25:T25)),$G25*$E25/12,($G25-SUM($Q25:T25)))))","v":0},{"$f":"IF($D25>=V$3,0,IF(SUM($Q25:U25)=$G25,0,IF($G25*$E25/12<($G25-SUM($Q25:U25)),$G25*$E25/12,($G25-SUM($Q25:U25)))))","v":0},{"$f":"IF($D25>=W$3,0,IF(SUM($Q25:V25)=$G25,0,IF($G25*$E25/12<($G25-SUM($Q25:V25)),$G25*$E25/12,($G25-SUM($Q25:V25)))))","v":0},{"$f":"IF($D25>=X$3,0,IF(SUM($Q25:W25)=$G25,0,IF($G25*$E25/12<($G25-SUM($Q25:W25)),$G25*$E25/12,($G25-SUM($Q25:W25)))))","v":0},{"$f":"IF($D25>=Y$3,0,IF(SUM($Q25:X25)=$G25,0,IF($G25*$E25/12<($G25-SUM($Q25:X25)),$G25*$E25/12,($G25-SUM($Q25:X25)))))","v":0},{"$f":"IF($D25>=Z$3,0,IF(SUM($Q25:Y25)=$G25,0,IF($G25*$E25/12<($G25-SUM($Q25:Y25)),$G25*$E25/12,($G25-SUM($Q25:Y25)))))","v":0},{"$f":"IF($D25>=AA$3,0,IF(SUM($Q25:Z25)=$G25,0,IF($G25*$E25/12<($G25-SUM($Q25:Z25)),$G25*$E25/12,($G25-SUM($Q25:Z25)))))","v":0},{"$f":"IF($D25>=AB$3,0,IF(SUM($Q25:AA25)=$G25,0,IF($G25*$E25/12<($G25-SUM($Q25:AA25)),$G25*$E25/12,($G25-SUM($Q25:AA25)))))","v":0},{"$f":"IF($D25>=AC$3,0,IF(SUM($Q25:AB25)=$G25,0,IF($G25*$E25/12<($G25-SUM($Q25:AB25)),$G25*$E25/12,($G25-SUM($Q25:AB25)))))","v":0},{"$f":"IF($D25>=AD$3,0,IF(SUM($Q25:AC25)=$G25,0,IF($G25*$E25/12<($G25-SUM($Q25:AC25)),$G25*$E25/12,($G25-SUM($Q25:AC25)))))","v":0},{"$f":"IF($D25>=AE$3,0,IF(SUM($Q25:AD25)=$G25,0,IF($G25*$E25/12<($G25-SUM($Q25:AD25)),$G25*$E25/12,($G25-SUM($Q25:AD25)))))","v":0},{"$f":"IF($D25>=AF$3,0,IF(SUM($Q25:AE25)=$G25,0,IF($G25*$E25/12<($G25-SUM($Q25:AE25)),$G25*$E25/12,($G25-SUM($Q25:AE25)))))","v":0},{"$f":"IF($D25>=AG$3,0,IF(SUM($Q25:AF25)=$G25,0,IF($G25*$E25/12<($G25-SUM($Q25:AF25)),$G25*$E25/12,($G25-SUM($Q25:AF25)))))","v":0},{"$f":"IF($D25>=AH$3,0,IF(SUM($Q25:AG25)=$G25,0,IF($G25*$E25/12<($G25-SUM($Q25:AG25)),$G25*$E25/12,($G25-SUM($Q25:AG25)))))","v":0},{"$f":"IF($D25>=AI$3,0,IF(SUM($Q25:AH25)=$G25,0,IF($G25*$E25/12<($G25-SUM($Q25:AH25)),$G25*$E25/12,($G25-SUM($Q25:AH25)))))","v":0},{"$f":"IF($D25>=AJ$3,0,IF(SUM($Q25:AI25)=$G25,0,IF($G25*$E25/12<($G25-SUM($Q25:AI25)),$G25*$E25/12,($G25-SUM($Q25:AI25)))))","v":0},{"$f":"IF($D25>=AK$3,0,IF(SUM($Q25:AJ25)=$G25,0,IF($G25*$E25/12<($G25-SUM($Q25:AJ25)),$G25*$E25/12,($G25-SUM($Q25:AJ25)))))","v":0},{"$f":"IF($D25>=AL$3,0,IF(SUM($Q25:AK25)=$G25,0,IF($G25*$E25/12<($G25-SUM($Q25:AK25)),$G25*$E25/12,($G25-SUM($Q25:AK25)))))","v":0},{"$f":"IF($D25>=AM$3,0,IF(SUM($Q25:AL25)=$G25,0,IF($G25*$E25/12<($G25-SUM($Q25:AL25)),$G25*$E25/12,($G25-SUM($Q25:AL25)))))","v":0},{"$f":"IF($D25>=AN$3,0,IF(SUM($Q25:AM25)=$G25,0,IF($G25*$E25/12<($G25-SUM($Q25:AM25)),$G25*$E25/12,($G25-SUM($Q25:AM25)))))","v":0},{"$f":"IF($D25>=AO$3,0,IF(SUM($Q25:AN25)=$G25,0,IF($G25*$E25/12<($G25-SUM($Q25:AN25)),$G25*$E25/12,($G25-SUM($Q25:AN25)))))","v":0},{"$f":"IF($D25>=AP$3,0,IF(SUM($Q25:AO25)=$G25,0,IF($G25*$E25/12<($G25-SUM($Q25:AO25)),$G25*$E25/12,($G25-SUM($Q25:AO25)))))","v":0},{"$f":"IF($D25>=AQ$3,0,IF(SUM($Q25:AP25)=$G25,0,IF($G25*$E25/12<($G25-SUM($Q25:AP25)),$G25*$E25/12,($G25-SUM($Q25:AP25)))))","v":0},{"$f":"IF($D25>=AR$3,0,IF(SUM($Q25:AQ25)=$G25,0,IF($G25*$E25/12<($G25-SUM($Q25:AQ25)),$G25*$E25/12,($G25-SUM($Q25:AQ25)))))","v":0},{"$f":"IF($D25>=AS$3,0,IF(SUM($Q25:AR25)=$G25,0,IF($G25*$E25/12<($G25-SUM($Q25:AR25)),$G25*$E25/12,($G25-SUM($Q25:AR25)))))","v":0},{"$f":"IF($D25>=AT$3,0,IF(SUM($Q25:AS25)=$G25,0,IF($G25*$E25/12<($G25-SUM($Q25:AS25)),$G25*$E25/12,($G25-SUM($Q25:AS25)))))","v":0},{"$f":"IF($D25>=AU$3,0,IF(SUM($Q25:AT25)=$G25,0,IF($G25*$E25/12<($G25-SUM($Q25:AT25)),$G25*$E25/12,($G25-SUM($Q25:AT25)))))","v":0},{"$f":"IF($D25>=AV$3,0,IF(SUM($Q25:AU25)=$G25,0,IF($G25*$E25/12<($G25-SUM($Q25:AU25)),$G25*$E25/12,($G25-SUM($Q25:AU25)))))","v":0},{"$f":"IF($D25>=AW$3,0,IF(SUM($Q25:AV25)=$G25,0,IF($G25*$E25/12<($G25-SUM($Q25:AV25)),$G25*$E25/12,($G25-SUM($Q25:AV25)))))","v":0},{"$f":"IF($D25>=AX$3,0,IF(SUM($Q25:AW25)=$G25,0,IF($G25*$E25/12<($G25-SUM($Q25:AW25)),$G25*$E25/12,($G25-SUM($Q25:AW25)))))","v":0},{"$f":"IF($D25>=AY$3,0,IF(SUM($Q25:AX25)=$G25,0,IF($G25*$E25/12<($G25-SUM($Q25:AX25)),$G25*$E25/12,($G25-SUM($Q25:AX25)))))","v":0},{"$f":"IF($D25>=AZ$3,0,IF(SUM($Q25:AY25)=$G25,0,IF($G25*$E25/12<($G25-SUM($Q25:AY25)),$G25*$E25/12,($G25-SUM($Q25:AY25)))))","v":0},{"$f":"IF($D25>=BA$3,0,IF(SUM($Q25:AZ25)=$G25,0,IF($G25*$E25/12<($G25-SUM($Q25:AZ25)),$G25*$E25/12,($G25-SUM($Q25:AZ25)))))","v":0},{"$f":"IF($D25>=BB$3,0,IF(SUM($Q25:BA25)=$G25,0,IF($G25*$E25/12<($G25-SUM($Q25:BA25)),$G25*$E25/12,($G25-SUM($Q25:BA25)))))","v":0},{"$f":"IF($D25>=BC$3,0,IF(SUM($Q25:BB25)=$G25,0,IF($G25*$E25/12<($G25-SUM($Q25:BB25)),$G25*$E25/12,($G25-SUM($Q25:BB25)))))","v":0},{"$f":"IF($D25>=BD$3,0,IF(SUM($Q25:BC25)=$G25,0,IF($G25*$E25/12<($G25-SUM($Q25:BC25)),$G25*$E25/12,($G25-SUM($Q25:BC25)))))","v":0},{"$f":"IF($D25>=BE$3,0,IF(SUM($Q25:BD25)=$G25,0,IF($G25*$E25/12<($G25-SUM($Q25:BD25)),$G25*$E25/12,($G25-SUM($Q25:BD25)))))","v":0},{"$f":"IF($D25>=BF$3,0,IF(SUM($Q25:BE25)=$G25,0,IF($G25*$E25/12<($G25-SUM($Q25:BE25)),$G25*$E25/12,($G25-SUM($Q25:BE25)))))","v":0},{"$f":"IF($D25>=BG$3,0,IF(SUM($Q25:BF25)=$G25,0,IF($G25*$E25/12<($G25-SUM($Q25:BF25)),$G25*$E25/12,($G25-SUM($Q25:BF25)))))","v":0},{"$f":"IF($D25>=BH$3,0,IF(SUM($Q25:BG25)=$G25,0,IF($G25*$E25/12<($G25-SUM($Q25:BG25)),$G25*$E25/12,($G25-SUM($Q25:BG25)))))","v":0},{"$f":"IF($D25>=BI$3,0,IF(SUM($Q25:BH25)=$G25,0,IF($G25*$E25/12<($G25-SUM($Q25:BH25)),$G25*$E25/12,($G25-SUM($Q25:BH25)))))","v":0},{"$f":"IF($D25>=BJ$3,0,IF(SUM($Q25:BI25)=$G25,0,IF($G25*$E25/12<($G25-SUM($Q25:BI25)),$G25*$E25/12,($G25-SUM($Q25:BI25)))))","v":0},{"$f":"IF($D25>=BK$3,0,IF(SUM($Q25:BJ25)=$G25,0,IF($G25*$E25/12<($G25-SUM($Q25:BJ25)),$G25*$E25/12,($G25-SUM($Q25:BJ25)))))","v":0},{"$f":"IF($D25>=BL$3,0,IF(SUM($Q25:BK25)=$G25,0,IF($G25*$E25/12<($G25-SUM($Q25:BK25)),$G25*$E25/12,($G25-SUM($Q25:BK25)))))","v":0},{"$f":"IF($D25>=BM$3,0,IF(SUM($Q25:BL25)=$G25,0,IF($G25*$E25/12<($G25-SUM($Q25:BL25)),$G25*$E25/12,($G25-SUM($Q25:BL25)))))","v":0},{"$f":"IF($D25>=BN$3,0,IF(SUM($Q25:BM25)=$G25,0,IF($G25*$E25/12<($G25-SUM($Q25:BM25)),$G25*$E25/12,($G25-SUM($Q25:BM25)))))","v":0},{"$f":"IF($D25>=BO$3,0,IF(SUM($Q25:BN25)=$G25,0,IF($G25*$E25/12<($G25-SUM($Q25:BN25)),$G25*$E25/12,($G25-SUM($Q25:BN25)))))","v":0},{"$f":"IF($D25>=BP$3,0,IF(SUM($Q25:BO25)=$G25,0,IF($G25*$E25/12<($G25-SUM($Q25:BO25)),$G25*$E25/12,($G25-SUM($Q25:BO25)))))","v":0},{"$f":"IF($D25>=BQ$3,0,IF(SUM($Q25:BP25)=$G25,0,IF($G25*$E25/12<($G25-SUM($Q25:BP25)),$G25*$E25/12,($G25-SUM($Q25:BP25)))))","v":0},{"$f":"IF($D25>=BR$3,0,IF(SUM($Q25:BQ25)=$G25,0,IF($G25*$E25/12<($G25-SUM($Q25:BQ25)),$G25*$E25/12,($G25-SUM($Q25:BQ25)))))","v":0},{"$f":"IF($D25>=BS$3,0,IF(SUM($Q25:BR25)=$G25,0,IF($G25*$E25/12<($G25-SUM($Q25:BR25)),$G25*$E25/12,($G25-SUM($Q25:BR25)))))","v":0},{"$f":"IF($D25>=BT$3,0,IF(SUM($Q25:BS25)=$G25,0,IF($G25*$E25/12<($G25-SUM($Q25:BS25)),$G25*$E25/12,($G25-SUM($Q25:BS25)))))","v":0},{"$f":"IF($D25>=BU$3,0,IF(SUM($Q25:BT25)=$G25,0,IF($G25*$E25/12<($G25-SUM($Q25:BT25)),$G25*$E25/12,($G25-SUM($Q25:BT25)))))","v":0},{"$f":"IF($D25>=BV$3,0,IF(SUM($Q25:BU25)=$G25,0,IF($G25*$E25/12<($G25-SUM($Q25:BU25)),$G25*$E25/12,($G25-SUM($Q25:BU25)))))","v":0},{"$f":"IF($D25>=BW$3,0,IF(SUM($Q25:BV25)=$G25,0,IF($G25*$E25/12<($G25-SUM($Q25:BV25)),$G25*$E25/12,($G25-SUM($Q25:BV25)))))","v":0},{"$f":"IF($D25>=BX$3,0,IF(SUM($Q25:BW25)=$G25,0,IF($G25*$E25/12<($G25-SUM($Q25:BW25)),$G25*$E25/12,($G25-SUM($Q25:BW25)))))","v":0},{"$f":"IF($D25>=BY$3,0,IF(SUM($Q25:BX25)=$G25,0,IF($G25*$E25/12<($G25-SUM($Q25:BX25)),$G25*$E25/12,($G25-SUM($Q25:BX25)))))","v":0},{"$f":"IF($D25>=BZ$3,0,IF(SUM($Q25:BY25)=$G25,0,IF($G25*$E25/12<($G25-SUM($Q25:BY25)),$G25*$E25/12,($G25-SUM($Q25:BY25)))))","v":0},{"$f":"IF($D25>=CA$3,0,IF(SUM($Q25:BZ25)=$G25,0,IF($G25*$E25/12<($G25-SUM($Q25:BZ25)),$G25*$E25/12,($G25-SUM($Q25:BZ25)))))","v":0},{"$f":"IF($D25>=CB$3,0,IF(SUM($Q25:CA25)=$G25,0,IF($G25*$E25/12<($G25-SUM($Q25:CA25)),$G25*$E25/12,($G25-SUM($Q25:CA25)))))","v":0},{"$f":"IF($D25>=CC$3,0,IF(SUM($Q25:CB25)=$G25,0,IF($G25*$E25/12<($G25-SUM($Q25:CB25)),$G25*$E25/12,($G25-SUM($Q25:CB25)))))","v":0},{"$f":"IF($D25>=CD$3,0,IF(SUM($Q25:CC25)=$G25,0,IF($G25*$E25/12<($G25-SUM($Q25:CC25)),$G25*$E25/12,($G25-SUM($Q25:CC25)))))","v":0},{"$f":"IF($D25>=CE$3,0,IF(SUM($Q25:CD25)=$G25,0,IF($G25*$E25/12<($G25-SUM($Q25:CD25)),$G25*$E25/12,($G25-SUM($Q25:CD25)))))","v":0},{"$f":"IF($D25>=CF$3,0,IF(SUM($Q25:CE25)=$G25,0,IF($G25*$E25/12<($G25-SUM($Q25:CE25)),$G25*$E25/12,($G25-SUM($Q25:CE25)))))","v":0},{"$f":"IF($D25>=CG$3,0,IF(SUM($Q25:CF25)=$G25,0,IF($G25*$E25/12<($G25-SUM($Q25:CF25)),$G25*$E25/12,($G25-SUM($Q25:CF25)))))","v":0},{"$f":"IF($D25>=CH$3,0,IF(SUM($Q25:CG25)=$G25,0,IF($G25*$E25/12<($G25-SUM($Q25:CG25)),$G25*$E25/12,($G25-SUM($Q25:CG25)))))","v":0},{"$f":"IF($D25>=CI$3,0,IF(SUM($Q25:CH25)=$G25,0,IF($G25*$E25/12<($G25-SUM($Q25:CH25)),$G25*$E25/12,($G25-SUM($Q25:CH25)))))","v":0},{"$f":"IF($D25>=CJ$3,0,IF(SUM($Q25:CI25)=$G25,0,IF($G25*$E25/12<($G25-SUM($Q25:CI25)),$G25*$E25/12,($G25-SUM($Q25:CI25)))))","v":0},{"$f":"IF($D25>=CK$3,0,IF(SUM($Q25:CJ25)=$G25,0,IF($G25*$E25/12<($G25-SUM($Q25:CJ25)),$G25*$E25/12,($G25-SUM($Q25:CJ25)))))","v":0},{"$f":"IF($D25>=CL$3,0,IF(SUM($Q25:CK25)=$G25,0,IF($G25*$E25/12<($G25-SUM($Q25:CK25)),$G25*$E25/12,($G25-SUM($Q25:CK25)))))","v":0},{"$f":"IF($D25>=CM$3,0,IF(SUM($Q25:CL25)=$G25,0,IF($G25*$E25/12<($G25-SUM($Q25:CL25)),$G25*$E25/12,($G25-SUM($Q25:CL25)))))","v":0},{"$f":"IF($D25>=CN$3,0,IF(SUM($Q25:CM25)=$G25,0,IF($G25*$E25/12<($G25-SUM($Q25:CM25)),$G25*$E25/12,($G25-SUM($Q25:CM25)))))","v":0},{"$f":"IF($D25>=CO$3,0,IF(SUM($Q25:CN25)=$G25,0,IF($G25*$E25/12<($G25-SUM($Q25:CN25)),$G25*$E25/12,($G25-SUM($Q25:CN25)))))","v":0},{"$f":"IF($D25>=CP$3,0,IF(SUM($Q25:CO25)=$G25,0,IF($G25*$E25/12<($G25-SUM($Q25:CO25)),$G25*$E25/12,($G25-SUM($Q25:CO25)))))","v":0},{"$f":"IF($D25>=CQ$3,0,IF(SUM($Q25:CP25)=$G25,0,IF($G25*$E25/12<($G25-SUM($Q25:CP25)),$G25*$E25/12,($G25-SUM($Q25:CP25)))))","v":0},{"$f":"IF($D25>=CR$3,0,IF(SUM($Q25:CQ25)=$G25,0,IF($G25*$E25/12<($G25-SUM($Q25:CQ25)),$G25*$E25/12,($G25-SUM($Q25:CQ25)))))","v":0},{"$f":"IF($D25>=CS$3,0,IF(SUM($Q25:CR25)=$G25,0,IF($G25*$E25/12<($G25-SUM($Q25:CR25)),$G25*$E25/12,($G25-SUM($Q25:CR25)))))","v":0},{"$f":"IF($D25>=CT$3,0,IF(SUM($Q25:CS25)=$G25,0,IF($G25*$E25/12<($G25-SUM($Q25:CS25)),$G25*$E25/12,($G25-SUM($Q25:CS25)))))","v":0},{"$f":"IF($D25>=CU$3,0,IF(SUM($Q25:CT25)=$G25,0,IF($G25*$E25/12<($G25-SUM($Q25:CT25)),$G25*$E25/12,($G25-SUM($Q25:CT25)))))","v":0},{"$f":"IF($D25>=CV$3,0,IF(SUM($Q25:CU25)=$G25,0,IF($G25*$E25/12<($G25-SUM($Q25:CU25)),$G25*$E25/12,($G25-SUM($Q25:CU25)))))","v":0}]
[{"$f":"IF(D26<EOMONTH($D$2,-12),\"Fuera de plazo\",IF(D26>BALANCE!$J$3,\"Fuera de plazo\",\"\"))","v":""},"Otros",null,"2013-11-30",0.2,0.21,{"$f":"IF(YEAR(D26)<=YEAR($D$2),C26*RIESGO!$C$4,C26*RIESGO!$C$4*(1+CONTROL!$H$4)^(YEAR(D26)-YEAR($D$2)))","v":0},0,0,0,0,0,0,0,0,null,0,{"$f":"IF($D26>=R$3,0,IF(SUM($Q26:Q26)=$G26,0,IF($G26*$E26/12<($G26-SUM($Q26:Q26)),$G26*$E26/12,($G26-SUM($Q26:Q26)))))","v":0},{"$f":"IF($D26>=S$3,0,IF(SUM($Q26:R26)=$G26,0,IF($G26*$E26/12<($G26-SUM($Q26:R26)),$G26*$E26/12,($G26-SUM($Q26:R26)))))","v":0},{"$f":"IF($D26>=T$3,0,IF(SUM($Q26:S26)=$G26,0,IF($G26*$E26/12<($G26-SUM($Q26:S26)),$G26*$E26/12,($G26-SUM($Q26:S26)))))","v":0},{"$f":"IF($D26>=U$3,0,IF(SUM($Q26:T26)=$G26,0,IF($G26*$E26/12<($G26-SUM($Q26:T26)),$G26*$E26/12,($G26-SUM($Q26:T26)))))","v":0},{"$f":"IF($D26>=V$3,0,IF(SUM($Q26:U26)=$G26,0,IF($G26*$E26/12<($G26-SUM($Q26:U26)),$G26*$E26/12,($G26-SUM($Q26:U26)))))","v":0},{"$f":"IF($D26>=W$3,0,IF(SUM($Q26:V26)=$G26,0,IF($G26*$E26/12<($G26-SUM($Q26:V26)),$G26*$E26/12,($G26-SUM($Q26:V26)))))","v":0},{"$f":"IF($D26>=X$3,0,IF(SUM($Q26:W26)=$G26,0,IF($G26*$E26/12<($G26-SUM($Q26:W26)),$G26*$E26/12,($G26-SUM($Q26:W26)))))","v":0},{"$f":"IF($D26>=Y$3,0,IF(SUM($Q26:X26)=$G26,0,IF($G26*$E26/12<($G26-SUM($Q26:X26)),$G26*$E26/12,($G26-SUM($Q26:X26)))))","v":0},{"$f":"IF($D26>=Z$3,0,IF(SUM($Q26:Y26)=$G26,0,IF($G26*$E26/12<($G26-SUM($Q26:Y26)),$G26*$E26/12,($G26-SUM($Q26:Y26)))))","v":0},{"$f":"IF($D26>=AA$3,0,IF(SUM($Q26:Z26)=$G26,0,IF($G26*$E26/12<($G26-SUM($Q26:Z26)),$G26*$E26/12,($G26-SUM($Q26:Z26)))))","v":0},{"$f":"IF($D26>=AB$3,0,IF(SUM($Q26:AA26)=$G26,0,IF($G26*$E26/12<($G26-SUM($Q26:AA26)),$G26*$E26/12,($G26-SUM($Q26:AA26)))))","v":0},{"$f":"IF($D26>=AC$3,0,IF(SUM($Q26:AB26)=$G26,0,IF($G26*$E26/12<($G26-SUM($Q26:AB26)),$G26*$E26/12,($G26-SUM($Q26:AB26)))))","v":0},{"$f":"IF($D26>=AD$3,0,IF(SUM($Q26:AC26)=$G26,0,IF($G26*$E26/12<($G26-SUM($Q26:AC26)),$G26*$E26/12,($G26-SUM($Q26:AC26)))))","v":0},{"$f":"IF($D26>=AE$3,0,IF(SUM($Q26:AD26)=$G26,0,IF($G26*$E26/12<($G26-SUM($Q26:AD26)),$G26*$E26/12,($G26-SUM($Q26:AD26)))))","v":0},{"$f":"IF($D26>=AF$3,0,IF(SUM($Q26:AE26)=$G26,0,IF($G26*$E26/12<($G26-SUM($Q26:AE26)),$G26*$E26/12,($G26-SUM($Q26:AE26)))))","v":0},{"$f":"IF($D26>=AG$3,0,IF(SUM($Q26:AF26)=$G26,0,IF($G26*$E26/12<($G26-SUM($Q26:AF26)),$G26*$E26/12,($G26-SUM($Q26:AF26)))))","v":0},{"$f":"IF($D26>=AH$3,0,IF(SUM($Q26:AG26)=$G26,0,IF($G26*$E26/12<($G26-SUM($Q26:AG26)),$G26*$E26/12,($G26-SUM($Q26:AG26)))))","v":0},{"$f":"IF($D26>=AI$3,0,IF(SUM($Q26:AH26)=$G26,0,IF($G26*$E26/12<($G26-SUM($Q26:AH26)),$G26*$E26/12,($G26-SUM($Q26:AH26)))))","v":0},{"$f":"IF($D26>=AJ$3,0,IF(SUM($Q26:AI26)=$G26,0,IF($G26*$E26/12<($G26-SUM($Q26:AI26)),$G26*$E26/12,($G26-SUM($Q26:AI26)))))","v":0},{"$f":"IF($D26>=AK$3,0,IF(SUM($Q26:AJ26)=$G26,0,IF($G26*$E26/12<($G26-SUM($Q26:AJ26)),$G26*$E26/12,($G26-SUM($Q26:AJ26)))))","v":0},{"$f":"IF($D26>=AL$3,0,IF(SUM($Q26:AK26)=$G26,0,IF($G26*$E26/12<($G26-SUM($Q26:AK26)),$G26*$E26/12,($G26-SUM($Q26:AK26)))))","v":0},{"$f":"IF($D26>=AM$3,0,IF(SUM($Q26:AL26)=$G26,0,IF($G26*$E26/12<($G26-SUM($Q26:AL26)),$G26*$E26/12,($G26-SUM($Q26:AL26)))))","v":0},{"$f":"IF($D26>=AN$3,0,IF(SUM($Q26:AM26)=$G26,0,IF($G26*$E26/12<($G26-SUM($Q26:AM26)),$G26*$E26/12,($G26-SUM($Q26:AM26)))))","v":0},{"$f":"IF($D26>=AO$3,0,IF(SUM($Q26:AN26)=$G26,0,IF($G26*$E26/12<($G26-SUM($Q26:AN26)),$G26*$E26/12,($G26-SUM($Q26:AN26)))))","v":0},{"$f":"IF($D26>=AP$3,0,IF(SUM($Q26:AO26)=$G26,0,IF($G26*$E26/12<($G26-SUM($Q26:AO26)),$G26*$E26/12,($G26-SUM($Q26:AO26)))))","v":0},{"$f":"IF($D26>=AQ$3,0,IF(SUM($Q26:AP26)=$G26,0,IF($G26*$E26/12<($G26-SUM($Q26:AP26)),$G26*$E26/12,($G26-SUM($Q26:AP26)))))","v":0},{"$f":"IF($D26>=AR$3,0,IF(SUM($Q26:AQ26)=$G26,0,IF($G26*$E26/12<($G26-SUM($Q26:AQ26)),$G26*$E26/12,($G26-SUM($Q26:AQ26)))))","v":0},{"$f":"IF($D26>=AS$3,0,IF(SUM($Q26:AR26)=$G26,0,IF($G26*$E26/12<($G26-SUM($Q26:AR26)),$G26*$E26/12,($G26-SUM($Q26:AR26)))))","v":0},{"$f":"IF($D26>=AT$3,0,IF(SUM($Q26:AS26)=$G26,0,IF($G26*$E26/12<($G26-SUM($Q26:AS26)),$G26*$E26/12,($G26-SUM($Q26:AS26)))))","v":0},{"$f":"IF($D26>=AU$3,0,IF(SUM($Q26:AT26)=$G26,0,IF($G26*$E26/12<($G26-SUM($Q26:AT26)),$G26*$E26/12,($G26-SUM($Q26:AT26)))))","v":0},{"$f":"IF($D26>=AV$3,0,IF(SUM($Q26:AU26)=$G26,0,IF($G26*$E26/12<($G26-SUM($Q26:AU26)),$G26*$E26/12,($G26-SUM($Q26:AU26)))))","v":0},{"$f":"IF($D26>=AW$3,0,IF(SUM($Q26:AV26)=$G26,0,IF($G26*$E26/12<($G26-SUM($Q26:AV26)),$G26*$E26/12,($G26-SUM($Q26:AV26)))))","v":0},{"$f":"IF($D26>=AX$3,0,IF(SUM($Q26:AW26)=$G26,0,IF($G26*$E26/12<($G26-SUM($Q26:AW26)),$G26*$E26/12,($G26-SUM($Q26:AW26)))))","v":0},{"$f":"IF($D26>=AY$3,0,IF(SUM($Q26:AX26)=$G26,0,IF($G26*$E26/12<($G26-SUM($Q26:AX26)),$G26*$E26/12,($G26-SUM($Q26:AX26)))))","v":0},{"$f":"IF($D26>=AZ$3,0,IF(SUM($Q26:AY26)=$G26,0,IF($G26*$E26/12<($G26-SUM($Q26:AY26)),$G26*$E26/12,($G26-SUM($Q26:AY26)))))","v":0},{"$f":"IF($D26>=BA$3,0,IF(SUM($Q26:AZ26)=$G26,0,IF($G26*$E26/12<($G26-SUM($Q26:AZ26)),$G26*$E26/12,($G26-SUM($Q26:AZ26)))))","v":0},{"$f":"IF($D26>=BB$3,0,IF(SUM($Q26:BA26)=$G26,0,IF($G26*$E26/12<($G26-SUM($Q26:BA26)),$G26*$E26/12,($G26-SUM($Q26:BA26)))))","v":0},{"$f":"IF($D26>=BC$3,0,IF(SUM($Q26:BB26)=$G26,0,IF($G26*$E26/12<($G26-SUM($Q26:BB26)),$G26*$E26/12,($G26-SUM($Q26:BB26)))))","v":0},{"$f":"IF($D26>=BD$3,0,IF(SUM($Q26:BC26)=$G26,0,IF($G26*$E26/12<($G26-SUM($Q26:BC26)),$G26*$E26/12,($G26-SUM($Q26:BC26)))))","v":0},{"$f":"IF($D26>=BE$3,0,IF(SUM($Q26:BD26)=$G26,0,IF($G26*$E26/12<($G26-SUM($Q26:BD26)),$G26*$E26/12,($G26-SUM($Q26:BD26)))))","v":0},{"$f":"IF($D26>=BF$3,0,IF(SUM($Q26:BE26)=$G26,0,IF($G26*$E26/12<($G26-SUM($Q26:BE26)),$G26*$E26/12,($G26-SUM($Q26:BE26)))))","v":0},{"$f":"IF($D26>=BG$3,0,IF(SUM($Q26:BF26)=$G26,0,IF($G26*$E26/12<($G26-SUM($Q26:BF26)),$G26*$E26/12,($G26-SUM($Q26:BF26)))))","v":0},{"$f":"IF($D26>=BH$3,0,IF(SUM($Q26:BG26)=$G26,0,IF($G26*$E26/12<($G26-SUM($Q26:BG26)),$G26*$E26/12,($G26-SUM($Q26:BG26)))))","v":0},{"$f":"IF($D26>=BI$3,0,IF(SUM($Q26:BH26)=$G26,0,IF($G26*$E26/12<($G26-SUM($Q26:BH26)),$G26*$E26/12,($G26-SUM($Q26:BH26)))))","v":0},{"$f":"IF($D26>=BJ$3,0,IF(SUM($Q26:BI26)=$G26,0,IF($G26*$E26/12<($G26-SUM($Q26:BI26)),$G26*$E26/12,($G26-SUM($Q26:BI26)))))","v":0},{"$f":"IF($D26>=BK$3,0,IF(SUM($Q26:BJ26)=$G26,0,IF($G26*$E26/12<($G26-SUM($Q26:BJ26)),$G26*$E26/12,($G26-SUM($Q26:BJ26)))))","v":0},{"$f":"IF($D26>=BL$3,0,IF(SUM($Q26:BK26)=$G26,0,IF($G26*$E26/12<($G26-SUM($Q26:BK26)),$G26*$E26/12,($G26-SUM($Q26:BK26)))))","v":0},{"$f":"IF($D26>=BM$3,0,IF(SUM($Q26:BL26)=$G26,0,IF($G26*$E26/12<($G26-SUM($Q26:BL26)),$G26*$E26/12,($G26-SUM($Q26:BL26)))))","v":0},{"$f":"IF($D26>=BN$3,0,IF(SUM($Q26:BM26)=$G26,0,IF($G26*$E26/12<($G26-SUM($Q26:BM26)),$G26*$E26/12,($G26-SUM($Q26:BM26)))))","v":0},{"$f":"IF($D26>=BO$3,0,IF(SUM($Q26:BN26)=$G26,0,IF($G26*$E26/12<($G26-SUM($Q26:BN26)),$G26*$E26/12,($G26-SUM($Q26:BN26)))))","v":0},{"$f":"IF($D26>=BP$3,0,IF(SUM($Q26:BO26)=$G26,0,IF($G26*$E26/12<($G26-SUM($Q26:BO26)),$G26*$E26/12,($G26-SUM($Q26:BO26)))))","v":0},{"$f":"IF($D26>=BQ$3,0,IF(SUM($Q26:BP26)=$G26,0,IF($G26*$E26/12<($G26-SUM($Q26:BP26)),$G26*$E26/12,($G26-SUM($Q26:BP26)))))","v":0},{"$f":"IF($D26>=BR$3,0,IF(SUM($Q26:BQ26)=$G26,0,IF($G26*$E26/12<($G26-SUM($Q26:BQ26)),$G26*$E26/12,($G26-SUM($Q26:BQ26)))))","v":0},{"$f":"IF($D26>=BS$3,0,IF(SUM($Q26:BR26)=$G26,0,IF($G26*$E26/12<($G26-SUM($Q26:BR26)),$G26*$E26/12,($G26-SUM($Q26:BR26)))))","v":0},{"$f":"IF($D26>=BT$3,0,IF(SUM($Q26:BS26)=$G26,0,IF($G26*$E26/12<($G26-SUM($Q26:BS26)),$G26*$E26/12,($G26-SUM($Q26:BS26)))))","v":0},{"$f":"IF($D26>=BU$3,0,IF(SUM($Q26:BT26)=$G26,0,IF($G26*$E26/12<($G26-SUM($Q26:BT26)),$G26*$E26/12,($G26-SUM($Q26:BT26)))))","v":0},{"$f":"IF($D26>=BV$3,0,IF(SUM($Q26:BU26)=$G26,0,IF($G26*$E26/12<($G26-SUM($Q26:BU26)),$G26*$E26/12,($G26-SUM($Q26:BU26)))))","v":0},{"$f":"IF($D26>=BW$3,0,IF(SUM($Q26:BV26)=$G26,0,IF($G26*$E26/12<($G26-SUM($Q26:BV26)),$G26*$E26/12,($G26-SUM($Q26:BV26)))))","v":0},{"$f":"IF($D26>=BX$3,0,IF(SUM($Q26:BW26)=$G26,0,IF($G26*$E26/12<($G26-SUM($Q26:BW26)),$G26*$E26/12,($G26-SUM($Q26:BW26)))))","v":0},{"$f":"IF($D26>=BY$3,0,IF(SUM($Q26:BX26)=$G26,0,IF($G26*$E26/12<($G26-SUM($Q26:BX26)),$G26*$E26/12,($G26-SUM($Q26:BX26)))))","v":0},{"$f":"IF($D26>=BZ$3,0,IF(SUM($Q26:BY26)=$G26,0,IF($G26*$E26/12<($G26-SUM($Q26:BY26)),$G26*$E26/12,($G26-SUM($Q26:BY26)))))","v":0},{"$f":"IF($D26>=CA$3,0,IF(SUM($Q26:BZ26)=$G26,0,IF($G26*$E26/12<($G26-SUM($Q26:BZ26)),$G26*$E26/12,($G26-SUM($Q26:BZ26)))))","v":0},{"$f":"IF($D26>=CB$3,0,IF(SUM($Q26:CA26)=$G26,0,IF($G26*$E26/12<($G26-SUM($Q26:CA26)),$G26*$E26/12,($G26-SUM($Q26:CA26)))))","v":0},{"$f":"IF($D26>=CC$3,0,IF(SUM($Q26:CB26)=$G26,0,IF($G26*$E26/12<($G26-SUM($Q26:CB26)),$G26*$E26/12,($G26-SUM($Q26:CB26)))))","v":0},{"$f":"IF($D26>=CD$3,0,IF(SUM($Q26:CC26)=$G26,0,IF($G26*$E26/12<($G26-SUM($Q26:CC26)),$G26*$E26/12,($G26-SUM($Q26:CC26)))))","v":0},{"$f":"IF($D26>=CE$3,0,IF(SUM($Q26:CD26)=$G26,0,IF($G26*$E26/12<($G26-SUM($Q26:CD26)),$G26*$E26/12,($G26-SUM($Q26:CD26)))))","v":0},{"$f":"IF($D26>=CF$3,0,IF(SUM($Q26:CE26)=$G26,0,IF($G26*$E26/12<($G26-SUM($Q26:CE26)),$G26*$E26/12,($G26-SUM($Q26:CE26)))))","v":0},{"$f":"IF($D26>=CG$3,0,IF(SUM($Q26:CF26)=$G26,0,IF($G26*$E26/12<($G26-SUM($Q26:CF26)),$G26*$E26/12,($G26-SUM($Q26:CF26)))))","v":0},{"$f":"IF($D26>=CH$3,0,IF(SUM($Q26:CG26)=$G26,0,IF($G26*$E26/12<($G26-SUM($Q26:CG26)),$G26*$E26/12,($G26-SUM($Q26:CG26)))))","v":0},{"$f":"IF($D26>=CI$3,0,IF(SUM($Q26:CH26)=$G26,0,IF($G26*$E26/12<($G26-SUM($Q26:CH26)),$G26*$E26/12,($G26-SUM($Q26:CH26)))))","v":0},{"$f":"IF($D26>=CJ$3,0,IF(SUM($Q26:CI26)=$G26,0,IF($G26*$E26/12<($G26-SUM($Q26:CI26)),$G26*$E26/12,($G26-SUM($Q26:CI26)))))","v":0},{"$f":"IF($D26>=CK$3,0,IF(SUM($Q26:CJ26)=$G26,0,IF($G26*$E26/12<($G26-SUM($Q26:CJ26)),$G26*$E26/12,($G26-SUM($Q26:CJ26)))))","v":0},{"$f":"IF($D26>=CL$3,0,IF(SUM($Q26:CK26)=$G26,0,IF($G26*$E26/12<($G26-SUM($Q26:CK26)),$G26*$E26/12,($G26-SUM($Q26:CK26)))))","v":0},{"$f":"IF($D26>=CM$3,0,IF(SUM($Q26:CL26)=$G26,0,IF($G26*$E26/12<($G26-SUM($Q26:CL26)),$G26*$E26/12,($G26-SUM($Q26:CL26)))))","v":0},{"$f":"IF($D26>=CN$3,0,IF(SUM($Q26:CM26)=$G26,0,IF($G26*$E26/12<($G26-SUM($Q26:CM26)),$G26*$E26/12,($G26-SUM($Q26:CM26)))))","v":0},{"$f":"IF($D26>=CO$3,0,IF(SUM($Q26:CN26)=$G26,0,IF($G26*$E26/12<($G26-SUM($Q26:CN26)),$G26*$E26/12,($G26-SUM($Q26:CN26)))))","v":0},{"$f":"IF($D26>=CP$3,0,IF(SUM($Q26:CO26)=$G26,0,IF($G26*$E26/12<($G26-SUM($Q26:CO26)),$G26*$E26/12,($G26-SUM($Q26:CO26)))))","v":0},{"$f":"IF($D26>=CQ$3,0,IF(SUM($Q26:CP26)=$G26,0,IF($G26*$E26/12<($G26-SUM($Q26:CP26)),$G26*$E26/12,($G26-SUM($Q26:CP26)))))","v":0},{"$f":"IF($D26>=CR$3,0,IF(SUM($Q26:CQ26)=$G26,0,IF($G26*$E26/12<($G26-SUM($Q26:CQ26)),$G26*$E26/12,($G26-SUM($Q26:CQ26)))))","v":0},{"$f":"IF($D26>=CS$3,0,IF(SUM($Q26:CR26)=$G26,0,IF($G26*$E26/12<($G26-SUM($Q26:CR26)),$G26*$E26/12,($G26-SUM($Q26:CR26)))))","v":0},{"$f":"IF($D26>=CT$3,0,IF(SUM($Q26:CS26)=$G26,0,IF($G26*$E26/12<($G26-SUM($Q26:CS26)),$G26*$E26/12,($G26-SUM($Q26:CS26)))))","v":0},{"$f":"IF($D26>=CU$3,0,IF(SUM($Q26:CT26)=$G26,0,IF($G26*$E26/12<($G26-SUM($Q26:CT26)),$G26*$E26/12,($G26-SUM($Q26:CT26)))))","v":0},{"$f":"IF($D26>=CV$3,0,IF(SUM($Q26:CU26)=$G26,0,IF($G26*$E26/12<($G26-SUM($Q26:CU26)),$G26*$E26/12,($G26-SUM($Q26:CU26)))))","v":0}]
[{"$f":"IF(D27<EOMONTH($D$2,-12),\"Fuera de plazo\",IF(D27>BALANCE!$J$3,\"Fuera de plazo\",\"\"))","v":""},"Otros",null,"2018-08-31",0.2,0.21,{"$f":"IF(YEAR(D27)<=YEAR($D$2),C27*RIESGO!$C$4,C27*RIESGO!$C$4*(1+CONTROL!$H$4)^(YEAR(D27)-YEAR($D$2)))","v":0},0,0,0,0,0,0,0,0,null,0,{"$f":"IF($D27>=R$3,0,IF(SUM($Q27:Q27)=$G27,0,IF($G27*$E27/12<($G27-SUM($Q27:Q27)),$G27*$E27/12,($G27-SUM($Q27:Q27)))))","v":0},{"$f":"IF($D27>=S$3,0,IF(SUM($Q27:R27)=$G27,0,IF($G27*$E27/12<($G27-SUM($Q27:R27)),$G27*$E27/12,($G27-SUM($Q27:R27)))))","v":0},{"$f":"IF($D27>=T$3,0,IF(SUM($Q27:S27)=$G27,0,IF($G27*$E27/12<($G27-SUM($Q27:S27)),$G27*$E27/12,($G27-SUM($Q27:S27)))))","v":0},{"$f":"IF($D27>=U$3,0,IF(SUM($Q27:T27)=$G27,0,IF($G27*$E27/12<($G27-SUM($Q27:T27)),$G27*$E27/12,($G27-SUM($Q27:T27)))))","v":0},{"$f":"IF($D27>=V$3,0,IF(SUM($Q27:U27)=$G27,0,IF($G27*$E27/12<($G27-SUM($Q27:U27)),$G27*$E27/12,($G27-SUM($Q27:U27)))))","v":0},{"$f":"IF($D27>=W$3,0,IF(SUM($Q27:V27)=$G27,0,IF($G27*$E27/12<($G27-SUM($Q27:V27)),$G27*$E27/12,($G27-SUM($Q27:V27)))))","v":0},{"$f":"IF($D27>=X$3,0,IF(SUM($Q27:W27)=$G27,0,IF($G27*$E27/12<($G27-SUM($Q27:W27)),$G27*$E27/12,($G27-SUM($Q27:W27)))))","v":0},{"$f":"IF($D27>=Y$3,0,IF(SUM($Q27:X27)=$G27,0,IF($G27*$E27/12<($G27-SUM($Q27:X27)),$G27*$E27/12,($G27-SUM($Q27:X27)))))","v":0},{"$f":"IF($D27>=Z$3,0,IF(SUM($Q27:Y27)=$G27,0,IF($G27*$E27/12<($G27-SUM($Q27:Y27)),$G27*$E27/12,($G27-SUM($Q27:Y27)))))","v":0},{"$f":"IF($D27>=AA$3,0,IF(SUM($Q27:Z27)=$G27,0,IF($G27*$E27/12<($G27-SUM($Q27:Z27)),$G27*$E27/12,($G27-SUM($Q27:Z27)))))","v":0},{"$f":"IF($D27>=AB$3,0,IF(SUM($Q27:AA27)=$G27,0,IF($G27*$E27/12<($G27-SUM($Q27:AA27)),$G27*$E27/12,($G27-SUM($Q27:AA27)))))","v":0},{"$f":"IF($D27>=AC$3,0,IF(SUM($Q27:AB27)=$G27,0,IF($G27*$E27/12<($G27-SUM($Q27:AB27)),$G27*$E27/12,($G27-SUM($Q27:AB27)))))","v":0},{"$f":"IF($D27>=AD$3,0,IF(SUM($Q27:AC27)=$G27,0,IF($G27*$E27/12<($G27-SUM($Q27:AC27)),$G27*$E27/12,($G27-SUM($Q27:AC27)))))","v":0},{"$f":"IF($D27>=AE$3,0,IF(SUM($Q27:AD27)=$G27,0,IF($G27*$E27/12<($G27-SUM($Q27:AD27)),$G27*$E27/12,($G27-SUM($Q27:AD27)))))","v":0},{"$f":"IF($D27>=AF$3,0,IF(SUM($Q27:AE27)=$G27,0,IF($G27*$E27/12<($G27-SUM($Q27:AE27)),$G27*$E27/12,($G27-SUM($Q27:AE27)))))","v":0},{"$f":"IF($D27>=AG$3,0,IF(SUM($Q27:AF27)=$G27,0,IF($G27*$E27/12<($G27-SUM($Q27:AF27)),$G27*$E27/12,($G27-SUM($Q27:AF27)))))","v":0},{"$f":"IF($D27>=AH$3,0,IF(SUM($Q27:AG27)=$G27,0,IF($G27*$E27/12<($G27-SUM($Q27:AG27)),$G27*$E27/12,($G27-SUM($Q27:AG27)))))","v":0},{"$f":"IF($D27>=AI$3,0,IF(SUM($Q27:AH27)=$G27,0,IF($G27*$E27/12<($G27-SUM($Q27:AH27)),$G27*$E27/12,($G27-SUM($Q27:AH27)))))","v":0},{"$f":"IF($D27>=AJ$3,0,IF(SUM($Q27:AI27)=$G27,0,IF($G27*$E27/12<($G27-SUM($Q27:AI27)),$G27*$E27/12,($G27-SUM($Q27:AI27)))))","v":0},{"$f":"IF($D27>=AK$3,0,IF(SUM($Q27:AJ27)=$G27,0,IF($G27*$E27/12<($G27-SUM($Q27:AJ27)),$G27*$E27/12,($G27-SUM($Q27:AJ27)))))","v":0},{"$f":"IF($D27>=AL$3,0,IF(SUM($Q27:AK27)=$G27,0,IF($G27*$E27/12<($G27-SUM($Q27:AK27)),$G27*$E27/12,($G27-SUM($Q27:AK27)))))","v":0},{"$f":"IF($D27>=AM$3,0,IF(SUM($Q27:AL27)=$G27,0,IF($G27*$E27/12<($G27-SUM($Q27:AL27)),$G27*$E27/12,($G27-SUM($Q27:AL27)))))","v":0},{"$f":"IF($D27>=AN$3,0,IF(SUM($Q27:AM27)=$G27,0,IF($G27*$E27/12<($G27-SUM($Q27:AM27)),$G27*$E27/12,($G27-SUM($Q27:AM27)))))","v":0},{"$f":"IF($D27>=AO$3,0,IF(SUM($Q27:AN27)=$G27,0,IF($G27*$E27/12<($G27-SUM($Q27:AN27)),$G27*$E27/12,($G27-SUM($Q27:AN27)))))","v":0},{"$f":"IF($D27>=AP$3,0,IF(SUM($Q27:AO27)=$G27,0,IF($G27*$E27/12<($G27-SUM($Q27:AO27)),$G27*$E27/12,($G27-SUM($Q27:AO27)))))","v":0},{"$f":"IF($D27>=AQ$3,0,IF(SUM($Q27:AP27)=$G27,0,IF($G27*$E27/12<($G27-SUM($Q27:AP27)),$G27*$E27/12,($G27-SUM($Q27:AP27)))))","v":0},{"$f":"IF($D27>=AR$3,0,IF(SUM($Q27:AQ27)=$G27,0,IF($G27*$E27/12<($G27-SUM($Q27:AQ27)),$G27*$E27/12,($G27-SUM($Q27:AQ27)))))","v":0},{"$f":"IF($D27>=AS$3,0,IF(SUM($Q27:AR27)=$G27,0,IF($G27*$E27/12<($G27-SUM($Q27:AR27)),$G27*$E27/12,($G27-SUM($Q27:AR27)))))","v":0},{"$f":"IF($D27>=AT$3,0,IF(SUM($Q27:AS27)=$G27,0,IF($G27*$E27/12<($G27-SUM($Q27:AS27)),$G27*$E27/12,($G27-SUM($Q27:AS27)))))","v":0},{"$f":"IF($D27>=AU$3,0,IF(SUM($Q27:AT27)=$G27,0,IF($G27*$E27/12<($G27-SUM($Q27:AT27)),$G27*$E27/12,($G27-SUM($Q27:AT27)))))","v":0},{"$f":"IF($D27>=AV$3,0,IF(SUM($Q27:AU27)=$G27,0,IF($G27*$E27/12<($G27-SUM($Q27:AU27)),$G27*$E27/12,($G27-SUM($Q27:AU27)))))","v":0},{"$f":"IF($D27>=AW$3,0,IF(SUM($Q27:AV27)=$G27,0,IF($G27*$E27/12<($G27-SUM($Q27:AV27)),$G27*$E27/12,($G27-SUM($Q27:AV27)))))","v":0},{"$f":"IF($D27>=AX$3,0,IF(SUM($Q27:AW27)=$G27,0,IF($G27*$E27/12<($G27-SUM($Q27:AW27)),$G27*$E27/12,($G27-SUM($Q27:AW27)))))","v":0},{"$f":"IF($D27>=AY$3,0,IF(SUM($Q27:AX27)=$G27,0,IF($G27*$E27/12<($G27-SUM($Q27:AX27)),$G27*$E27/12,($G27-SUM($Q27:AX27)))))","v":0},{"$f":"IF($D27>=AZ$3,0,IF(SUM($Q27:AY27)=$G27,0,IF($G27*$E27/12<($G27-SUM($Q27:AY27)),$G27*$E27/12,($G27-SUM($Q27:AY27)))))","v":0},{"$f":"IF($D27>=BA$3,0,IF(SUM($Q27:AZ27)=$G27,0,IF($G27*$E27/12<($G27-SUM($Q27:AZ27)),$G27*$E27/12,($G27-SUM($Q27:AZ27)))))","v":0},{"$f":"IF($D27>=BB$3,0,IF(SUM($Q27:BA27)=$G27,0,IF($G27*$E27/12<($G27-SUM($Q27:BA27)),$G27*$E27/12,($G27-SUM($Q27:BA27)))))","v":0},{"$f":"IF($D27>=BC$3,0,IF(SUM($Q27:BB27)=$G27,0,IF($G27*$E27/12<($G27-SUM($Q27:BB27)),$G27*$E27/12,($G27-SUM($Q27:BB27)))))","v":0},{"$f":"IF($D27>=BD$3,0,IF(SUM($Q27:BC27)=$G27,0,IF($G27*$E27/12<($G27-SUM($Q27:BC27)),$G27*$E27/12,($G27-SUM($Q27:BC27)))))","v":0},{"$f":"IF($D27>=BE$3,0,IF(SUM($Q27:BD27)=$G27,0,IF($G27*$E27/12<($G27-SUM($Q27:BD27)),$G27*$E27/12,($G27-SUM($Q27:BD27)))))","v":0},{"$f":"IF($D27>=BF$3,0,IF(SUM($Q27:BE27)=$G27,0,IF($G27*$E27/12<($G27-SUM($Q27:BE27)),$G27*$E27/12,($G27-SUM($Q27:BE27)))))","v":0},{"$f":"IF($D27>=BG$3,0,IF(SUM($Q27:BF27)=$G27,0,IF($G27*$E27/12<($G27-SUM($Q27:BF27)),$G27*$E27/12,($G27-SUM($Q27:BF27)))))","v":0},{"$f":"IF($D27>=BH$3,0,IF(SUM($Q27:BG27)=$G27,0,IF($G27*$E27/12<($G27-SUM($Q27:BG27)),$G27*$E27/12,($G27-SUM($Q27:BG27)))))","v":0},{"$f":"IF($D27>=BI$3,0,IF(SUM($Q27:BH27)=$G27,0,IF($G27*$E27/12<($G27-SUM($Q27:BH27)),$G27*$E27/12,($G27-SUM($Q27:BH27)))))","v":0},{"$f":"IF($D27>=BJ$3,0,IF(SUM($Q27:BI27)=$G27,0,IF($G27*$E27/12<($G27-SUM($Q27:BI27)),$G27*$E27/12,($G27-SUM($Q27:BI27)))))","v":0},{"$f":"IF($D27>=BK$3,0,IF(SUM($Q27:BJ27)=$G27,0,IF($G27*$E27/12<($G27-SUM($Q27:BJ27)),$G27*$E27/12,($G27-SUM($Q27:BJ27)))))","v":0},{"$f":"IF($D27>=BL$3,0,IF(SUM($Q27:BK27)=$G27,0,IF($G27*$E27/12<($G27-SUM($Q27:BK27)),$G27*$E27/12,($G27-SUM($Q27:BK27)))))","v":0},{"$f":"IF($D27>=BM$3,0,IF(SUM($Q27:BL27)=$G27,0,IF($G27*$E27/12<($G27-SUM($Q27:BL27)),$G27*$E27/12,($G27-SUM($Q27:BL27)))))","v":0},{"$f":"IF($D27>=BN$3,0,IF(SUM($Q27:BM27)=$G27,0,IF($G27*$E27/12<($G27-SUM($Q27:BM27)),$G27*$E27/12,($G27-SUM($Q27:BM27)))))","v":0},{"$f":"IF($D27>=BO$3,0,IF(SUM($Q27:BN27)=$G27,0,IF($G27*$E27/12<($G27-SUM($Q27:BN27)),$G27*$E27/12,($G27-SUM($Q27:BN27)))))","v":0},{"$f":"IF($D27>=BP$3,0,IF(SUM($Q27:BO27)=$G27,0,IF($G27*$E27/12<($G27-SUM($Q27:BO27)),$G27*$E27/12,($G27-SUM($Q27:BO27)))))","v":0},{"$f":"IF($D27>=BQ$3,0,IF(SUM($Q27:BP27)=$G27,0,IF($G27*$E27/12<($G27-SUM($Q27:BP27)),$G27*$E27/12,($G27-SUM($Q27:BP27)))))","v":0},{"$f":"IF($D27>=BR$3,0,IF(SUM($Q27:BQ27)=$G27,0,IF($G27*$E27/12<($G27-SUM($Q27:BQ27)),$G27*$E27/12,($G27-SUM($Q27:BQ27)))))","v":0},{"$f":"IF($D27>=BS$3,0,IF(SUM($Q27:BR27)=$G27,0,IF($G27*$E27/12<($G27-SUM($Q27:BR27)),$G27*$E27/12,($G27-SUM($Q27:BR27)))))","v":0},{"$f":"IF($D27>=BT$3,0,IF(SUM($Q27:BS27)=$G27,0,IF($G27*$E27/12<($G27-SUM($Q27:BS27)),$G27*$E27/12,($G27-SUM($Q27:BS27)))))","v":0},{"$f":"IF($D27>=BU$3,0,IF(SUM($Q27:BT27)=$G27,0,IF($G27*$E27/12<($G27-SUM($Q27:BT27)),$G27*$E27/12,($G27-SUM($Q27:BT27)))))","v":0},{"$f":"IF($D27>=BV$3,0,IF(SUM($Q27:BU27)=$G27,0,IF($G27*$E27/12<($G27-SUM($Q27:BU27)),$G27*$E27/12,($G27-SUM($Q27:BU27)))))","v":0},{"$f":"IF($D27>=BW$3,0,IF(SUM($Q27:BV27)=$G27,0,IF($G27*$E27/12<($G27-SUM($Q27:BV27)),$G27*$E27/12,($G27-SUM($Q27:BV27)))))","v":0},{"$f":"IF($D27>=BX$3,0,IF(SUM($Q27:BW27)=$G27,0,IF($G27*$E27/12<($G27-SUM($Q27:BW27)),$G27*$E27/12,($G27-SUM($Q27:BW27)))))","v":0},{"$f":"IF($D27>=BY$3,0,IF(SUM($Q27:BX27)=$G27,0,IF($G27*$E27/12<($G27-SUM($Q27:BX27)),$G27*$E27/12,($G27-SUM($Q27:BX27)))))","v":0},{"$f":"IF($D27>=BZ$3,0,IF(SUM($Q27:BY27)=$G27,0,IF($G27*$E27/12<($G27-SUM($Q27:BY27)),$G27*$E27/12,($G27-SUM($Q27:BY27)))))","v":0},{"$f":"IF($D27>=CA$3,0,IF(SUM($Q27:BZ27)=$G27,0,IF($G27*$E27/12<($G27-SUM($Q27:BZ27)),$G27*$E27/12,($G27-SUM($Q27:BZ27)))))","v":0},{"$f":"IF($D27>=CB$3,0,IF(SUM($Q27:CA27)=$G27,0,IF($G27*$E27/12<($G27-SUM($Q27:CA27)),$G27*$E27/12,($G27-SUM($Q27:CA27)))))","v":0},{"$f":"IF($D27>=CC$3,0,IF(SUM($Q27:CB27)=$G27,0,IF($G27*$E27/12<($G27-SUM($Q27:CB27)),$G27*$E27/12,($G27-SUM($Q27:CB27)))))","v":0},{"$f":"IF($D27>=CD$3,0,IF(SUM($Q27:CC27)=$G27,0,IF($G27*$E27/12<($G27-SUM($Q27:CC27)),$G27*$E27/12,($G27-SUM($Q27:CC27)))))","v":0},{"$f":"IF($D27>=CE$3,0,IF(SUM($Q27:CD27)=$G27,0,IF($G27*$E27/12<($G27-SUM($Q27:CD27)),$G27*$E27/12,($G27-SUM($Q27:CD27)))))","v":0},{"$f":"IF($D27>=CF$3,0,IF(SUM($Q27:CE27)=$G27,0,IF($G27*$E27/12<($G27-SUM($Q27:CE27)),$G27*$E27/12,($G27-SUM($Q27:CE27)))))","v":0},{"$f":"IF($D27>=CG$3,0,IF(SUM($Q27:CF27)=$G27,0,IF($G27*$E27/12<($G27-SUM($Q27:CF27)),$G27*$E27/12,($G27-SUM($Q27:CF27)))))","v":0},{"$f":"IF($D27>=CH$3,0,IF(SUM($Q27:CG27)=$G27,0,IF($G27*$E27/12<($G27-SUM($Q27:CG27)),$G27*$E27/12,($G27-SUM($Q27:CG27)))))","v":0},{"$f":"IF($D27>=CI$3,0,IF(SUM($Q27:CH27)=$G27,0,IF($G27*$E27/12<($G27-SUM($Q27:CH27)),$G27*$E27/12,($G27-SUM($Q27:CH27)))))","v":0},{"$f":"IF($D27>=CJ$3,0,IF(SUM($Q27:CI27)=$G27,0,IF($G27*$E27/12<($G27-SUM($Q27:CI27)),$G27*$E27/12,($G27-SUM($Q27:CI27)))))","v":0},{"$f":"IF($D27>=CK$3,0,IF(SUM($Q27:CJ27)=$G27,0,IF($G27*$E27/12<($G27-SUM($Q27:CJ27)),$G27*$E27/12,($G27-SUM($Q27:CJ27)))))","v":0},{"$f":"IF($D27>=CL$3,0,IF(SUM($Q27:CK27)=$G27,0,IF($G27*$E27/12<($G27-SUM($Q27:CK27)),$G27*$E27/12,($G27-SUM($Q27:CK27)))))","v":0},{"$f":"IF($D27>=CM$3,0,IF(SUM($Q27:CL27)=$G27,0,IF($G27*$E27/12<($G27-SUM($Q27:CL27)),$G27*$E27/12,($G27-SUM($Q27:CL27)))))","v":0},{"$f":"IF($D27>=CN$3,0,IF(SUM($Q27:CM27)=$G27,0,IF($G27*$E27/12<($G27-SUM($Q27:CM27)),$G27*$E27/12,($G27-SUM($Q27:CM27)))))","v":0},{"$f":"IF($D27>=CO$3,0,IF(SUM($Q27:CN27)=$G27,0,IF($G27*$E27/12<($G27-SUM($Q27:CN27)),$G27*$E27/12,($G27-SUM($Q27:CN27)))))","v":0},{"$f":"IF($D27>=CP$3,0,IF(SUM($Q27:CO27)=$G27,0,IF($G27*$E27/12<($G27-SUM($Q27:CO27)),$G27*$E27/12,($G27-SUM($Q27:CO27)))))","v":0},{"$f":"IF($D27>=CQ$3,0,IF(SUM($Q27:CP27)=$G27,0,IF($G27*$E27/12<($G27-SUM($Q27:CP27)),$G27*$E27/12,($G27-SUM($Q27:CP27)))))","v":0},{"$f":"IF($D27>=CR$3,0,IF(SUM($Q27:CQ27)=$G27,0,IF($G27*$E27/12<($G27-SUM($Q27:CQ27)),$G27*$E27/12,($G27-SUM($Q27:CQ27)))))","v":0},{"$f":"IF($D27>=CS$3,0,IF(SUM($Q27:CR27)=$G27,0,IF($G27*$E27/12<($G27-SUM($Q27:CR27)),$G27*$E27/12,($G27-SUM($Q27:CR27)))))","v":0},{"$f":"IF($D27>=CT$3,0,IF(SUM($Q27:CS27)=$G27,0,IF($G27*$E27/12<($G27-SUM($Q27:CS27)),$G27*$E27/12,($G27-SUM($Q27:CS27)))))","v":0},{"$f":"IF($D27>=CU$3,0,IF(SUM($Q27:CT27)=$G27,0,IF($G27*$E27/12<($G27-SUM($Q27:CT27)),$G27*$E27/12,($G27-SUM($Q27:CT27)))))","v":0},{"$f":"IF($D27>=CV$3,0,IF(SUM($Q27:CU27)=$G27,0,IF($G27*$E27/12<($G27-SUM($Q27:CU27)),$G27*$E27/12,($G27-SUM($Q27:CU27)))))","v":0}]
[]
[null,"Gastos de Apertura",null,null,null,null,{"$f":"C29*RIESGO!C4","v":0}]
[]
[null,null,null,null,null,null,null,"Amortización Inmovilizado Material",{"$f":"SUM(I6:I20)","v":0},{"$f":"SUM(J6:J20)","v":0},0,0,0,0,0,null,{"$f":"SUM(Q6:Q20)","v":0},{"$f":"SUM(R6:R20)","v":0},0,0,0,0,0,0,0,0,0,0,0,0,0,0,0,0,0,0,0,0,0,0,0,0,0,0,0,0,0,0,0,0,0,0,0,0,0,0,0,0,0,0,0,0,0,0,0,0,0,0,0,0,0,0,0,0,0,0,0,0,0,0,0,{"$f":"SUM(CD6:CD20)","v":0},0,0,0,0,0,0,0,0,0,0,0,0,0,0,0,0,0,0]
[null,null,null,null,null,null,null,"Amortización Inmovilizado Intangible",{"$f":"SUM(I22:I27)","v":0},{"$f":"SUM(J22:J27)","v":0},0,0,0,0,0,null,{"$f":"SUM(Q22:Q27)","v":0},{"$f":"SUM(R22:R27)","v":0},0,0,0,0,0,0,0,0,0,0,0,0,0,0,0,0,0,0,0,0,0,0,0,0,0,0,0,0,0,0,0,0,0,0,0,0,0,0,0,0,0,0,0,0,0,0,0,0,0,0,0,0,0,0,0,0,0,0,0,0,0,0,0,{"$f":"SUM(CD22:CD27)","v":0},0,0,0,0,0,0,0,0,0,0,0,0,0,0,0,0,0,0]
[null,null,null,null,null,null,null,"Amortización",{"$f":"SUM(I31:I32)","v":0},0,0,0,0,0,0,null,{"$f":"SUM(Q31:Q32)","v":0},0,0,0,0,0,0,0,0,0,0,0,0,0,0,0,0,0,0,0,0,0,0,0,0,0,0,0,0,0,0,0,{"$f":"SUM(AW31:AW32)","v":0},0,0,0,0,0,0,0,0,0,0,0,0,0,0,0,0,0,0,0,0,0,0,0,0,0,0,0,0,0,0,0,{"$f":"SUM(CC31:CC32)","v":0},0,0,0,0,0,0,0,0,0,0,0,0,0,0,0,0,0,0,0]
[]
[null,null,null,"RESUMEN ANUAL DE INVERSIONES",null,null,null,null,null,null,null,null,null,null,null,null,null,null,"RESUMEN MENSUAL DE INVERSIONES"]
[null,null,null,null,null,null,null,null,null,null,null,null,null,null,null,null,{"$f":"YEAR(Q37)","v":2013},2013,2013,2013,2013,2013,2013,2013,2013,2013,2013,2013,2014,2014,2014,2014,2014,2014,2014,2014,2014,2014,2014,2014,2015,2015,2015,2015,2015,2015,2015,2015,2015,2015,2015,2015,2016,2016,2016,2016,2016,2016,2016,2016,2016,2016,2016,2016,2017,2017,2017,2017,2017,2017,2017,2017,2017,2017,2017,2017,2018,2018,2018,2018,{"$f":"YEAR(CC37)","v":2018},2018,2018,2018,2018,2018,2018,2018,2019,2019,2019,2019,2019,2019,2019,2019,2019,2019,2019,2019,2020,2020,2020,2020,2020,2020,2020,2020,2020,2020,2020,{"$f":"YEAR(DH37)","v":2020}]
[null,null,{"$f":"I3-1","v":2013},{"$f":"C37+1","v":2014},2015,2016,2017,2018,2019,2020,null,null,null,null,null,null,{"$f":"EOMONTH(R37,-1)","v":"2013-01-31"},"2013-02-28","2013-03-31","2013-04-30","2013-05-31","2013-06-30","2013-07-31","2013-08-31","2013-09-30","2013-10-31","2013-11-30",{"$f":"EOMONTH(AC37,-1)","v":"2013-12-31"},{"$f":"D2","v":"2014-01-31"},{"$f":"EOMONTH(AC37,1)","v":"2014-02-28"},{"$f":"EOMONTH(AD37,1)","v":"2014-03-31"},"2014-04-30","2014-05-31","2014-06-30","2014-07-31","2014-08-31","2014-09-30","2014-10-31","2014-11-30","2014-12-31","2015-01-31","2015-02-28","2015-03-31","2015-04-30","2015-05-31","2015-06-30","2015-07-31","2015-08-31","2015-09-30","2015-10-31","2015-11-30","2015-12-31","2016-01-31","2016-02-29","2016-03-31","2016-04-30","2016-05-31","2016-06-30","2016-07-31","2016-08-31","2016-09-30","2016-10-31","2016-11-30","2016-12-31","2017-01-31","2017-02-28","2017-03-31","2017-04-30","2017-05-31","2017-06-30","2017-07-31","2017-08-31","2017-09-30","2017-10-31","2017-11-30","2017-12-31","2018-01-31","2018-02-28","2018-03-31","2018-04-30","2018-05-31","2018-06-30","2018-07-31","2018-08-31","2018-09-30","2018-10-31","2018-11-30","2018-12-31","2019-01-31","2019-02-28","2019-03-31","2019-04-30","2019-05-31","2019-06-30",{"$f":"EOMONTH(CP37,1)","v":"2019-07-31"},"2019-08-31","2019-09-30","2019-10-31","2019-11-30","2019-12-31","2020-01-31","2020-02-29","2020-03-31","2020-04-30","2020-05-31","2020-06-30","2020-07-31","2020-08-31","2020-09-30","2020-10-31","2020-11-30","2020-12-31"]
[null,"Inmovilizado Material",{"$f":"SUMIF($Q$36:$DH$36,C$37,$Q38:$DH38)","v":1},{"$f":"SUMIF($Q$36:$DH$36,D$37,$Q38:$DH38)","v":0},0,0,0,0,0,0,null,null,null,null,null,"Inmovilizado Material",{"$f":"SUMIF($D$5:$D$20,Q37,$G$5:$G$20)","v":0},0,0,1,0,0,0,0,0,0,0,0,{"$f":"SUMIF($D$5:$D$20,AC37,$G$5:$G$20)","v":0},0,0,0,0,0,0,0,0,0,0,0,0,0,0,0,0,0,0,0,{"$f":"SUMIF($D$5:$D$20,AW37,$G$5:$G$20)","v":0},0,0,0,0,0,0,0,0,0,0,0,0,0,0,0,0,0,0,0,0,0,0,0,0,0,0,0,0,0,0,0,{"$f":"SUMIF($D$5:$D$20,CC37,$G$5:$G$20)","v":0},0,0,0,0,0,0,0,0,0,0,0,0,0,0,0,0,0,0,0,0,0,0,0,0,0,0,0,0,0,0,0]
[null,"Inmovilizado Intangible",0,0,0,0,0,0,0,0,null,null,null,null,null,"Inmovilizado Intangible",{"$f":"SUMIF($D$22:$D$27,Q37,$G$22:$G$27)","v":0},{"$f":"SUMIF($D$22:$D$27,R37,$G$22:$G$27)","v":0},0,0,0,0,0,0,0,0,0,0,0,0,0,0,0,0,0,0,0,0,0,0,0,0,0,0,0,0,0,0,{"$f":"SUMIF($D$22:$D$27,AW37,$G$22:$G$27)","v":0},0,0,0,0,0,0,0,0,0,0,0,0,0,0,0,0,0,0,0,0,0,0,0,0,0,0,0,0,0,0,0,{"$f":"SUMIF($D$22:$D$27,CC37,$G$22:$G$27)","v":0},0,0,0,0,0,0,0,0,0,0,0,0,0,0,0,0,0,0,0,0,0,0,0,0,0,0,0,0,0,0,0]
[null,"TOTAL",{"$f":"SUM(C38:C39)","v":1},0,0,0,0,0,0,0,null,null,null,null,null,"TOTAL",{"$f":"SUM(Q38:Q39)","v":0},0,0,1,0,0,0,0,0,0,0,0,0,0,0,0,0,0,0,0,0,0,0,0,0,0,0,0,0,0,0,0,{"$f":"SUM(AW38:AW39)","v":0},0,0,0,0,0,0,0,0,0,0,0,0,0,0,0,0,0,0,0,0,0,0,0,0,0,0,0,0,0,0,0,{"$f":"SUM(CC38:CC39)","v":0},0,0,0,0,0,0,0,0,0,0,0,0,0,0,0,0,0,0,0,0,0,0,0,0,0,0,0,0,0,0,0]
[]
[null,"IVA",{"$f":"SUMIF($Q$36:$DH$36,C$37,$Q42:$DH42)","v":0},0,0,0,0,0,0,0,null,null,null,null,null,"IVA",{"$f":"SUMIF(INV!$D$5:$D$27,Q37,INV!$H$5:$H$27)","v":0},{"$f":"SUMIF(INV!$D$5:$D$27,R37,INV!$H$5:$H$27)","v":0},{"$f":"SUMIF(INV!$D$5:$D$27,S37,INV!$H$5:$H$27)","v":0},{"$f":"SUMIF(INV!$D$5:$D$27,T37,INV!$H$5:$H$27)","v":0},{"$f":"SUMIF(INV!$D$5:$D$27,U37,INV!$H$5:$H$27)","v":0},{"$f":"SUMIF(INV!$D$5:$D$27,V37,INV!$H$5:$H$27)","v":0},{"$f":"SUMIF(INV!$D$5:$D$27,W37,INV!$H$5:$H$27)","v":0},{"$f":"SUMIF(INV!$D$5:$D$27,X37,INV!$H$5:$H$27)","v":0},{"$f":"SUMIF(INV!$D$5:$D$27,Y37,INV!$H$5:$H$27)","v":0},{"$f":"SUMIF(INV!$D$5:$D$27,Z37,INV!$H$5:$H$27)","v":0},{"$f":"SUMIF(INV!$D$5:$D$27,AA37,INV!$H$5:$H$27)","v":0},{"$f":"SUMIF(INV!$D$5:$D$27,AB37,INV!$H$5:$H$27)","v":0},{"$f":"SUMIF(INV!$D$5:$D$27,AC37,INV!$H$5:$H$27)","v":0},{"$f":"SUMIF(INV!$D$5:$D$27,AD37,INV!$H$5:$H$27)","v":0},{"$f":"SUMIF(INV!$D$5:$D$27,AE37,INV!$H$5:$H$27)","v":0},{"$f":"SUMIF(INV!$D$5:$D$27,AF37,INV!$H$5:$H$27)","v":0},{"$f":"SUMIF(INV!$D$5:$D$27,AG37,INV!$H$5:$H$27)","v":0},{"$f":"SUMIF(INV!$D$5:$D$27,AH37,INV!$H$5:$H$27)","v":0},{"$f":"SUMIF(INV!$D$5:$D$27,AI37,INV!$H$5:$H$27)","v":0},{"$f":"SUMIF(INV!$D$5:$D$27,AJ37,INV!$H$5:$H$27)","v":0},{"$f":"SUMIF(INV!$D$5:$D$27,AK37,INV!$H$5:$H$27)","v":0},{"$f":"SUMIF(INV!$D$5:$D$27,AL37,INV!$H$5:$H$27)","v":0},{"$f":"SUMIF(INV!$D$5:$D$27,AM37,INV!$H$5:$H$27)","v":0},{"$f":"SUMIF(INV!$D$5:$D$27,AN37,INV!$H$5:$H$27)","v":0},{"$f":"SUMIF(INV!$D$5:$D$27,AO37,INV!$H$5:$H$27)","v":0},{"$f":"SUMIF(INV!$D$5:$D$27,AP37,INV!$H$5:$H$27)","v":0},{"$f":"SUMIF(INV!$D$5:$D$27,AQ37,INV!$H$5:$H$27)","v":0},{"$f":"SUMIF(INV!$D$5:$D$27,AR37,INV!$H$5:$H$27)","v":0},{"$f":"SUMIF(INV!$D$5:$D$27,AS37,INV!$H$5:$H$27)","v":0},{"$f":"SUMIF(INV!$D$5:$D$27,AT37,INV!$H$5:$H$27)","v":0},{"$f":"SUMIF(INV!$D$5:$D$27,AU37,INV!$H$5:$H$27)","v":0},{"$f":"SUMIF(INV!$D$5:$D$27,AV37,INV!$H$5:$H$27)","v":0},{"$f":"SUMIF(INV!$D$5:$D$27,AW37,INV!$H$5:$H$27)","v":0},{"$f":"SUMIF(INV!$D$5:$D$27,AX37,INV!$H$5:$H$27)","v":0},{"$f":"SUMIF(INV!$D$5:$D$27,AY37,INV!$H$5:$H$27)","v":0},{"$f":"SUMIF(INV!$D$5:$D$27,AZ37,INV!$H$5:$H$27)","v":0},{"$f":"SUMIF(INV!$D$5:$D$27,BA37,INV!$H$5:$H$27)","v":0},{"$f":"SUMIF(INV!$D$5:$D$27,BB37,INV!$H$5:$H$27)","v":0},{"$f":"SUMIF(INV!$D$5:$D$27,BC37,INV!$H$5:$H$27)","v":0},{"$f":"SUMIF(INV!$D$5:$D$27,BD37,INV!$H$5:$H$27)","v":0},{"$f":"SUMIF(INV!$D$5:$D$27,BE37,INV!$H$5:$H$27)","v":0},{"$f":"SUMIF(INV!$D$5:$D$27,BF37,INV!$H$5:$H$27)","v":0},{"$f":"SUMIF(INV!$D$5:$D$27,BG37,INV!$H$5:$H$27)","v":0},{"$f":"SUMIF(INV!$D$5:$D$27,BH37,INV!$H$5:$H$27)","v":0},{"$f":"SUMIF(INV!$D$5:$D$27,BI37,INV!$H$5:$H$27)","v":0},{"$f":"SUMIF(INV!$D$5:$D$27,BJ37,INV!$H$5:$H$27)","v":0},{"$f":"SUMIF(INV!$D$5:$D$27,BK37,INV!$H$5:$H$27)","v":0},{"$f":"SUMIF(INV!$D$5:$D$27,BL37,INV!$H$5:$H$27)","v":0},{"$f":"SUMIF(INV!$D$5:$D$27,BM37,INV!$H$5:$H$27)","v":0},{"$f":"SUMIF(INV!$D$5:$D$27,BN37,INV!$H$5:$H$27)","v":0},{"$f":"SUMIF(INV!$D$5:$D$27,BO37,INV!$H$5:$H$27)","v":0},{"$f":"SUMIF(INV!$D$5:$D$27,BP37,INV!$H$5:$H$27)","v":0},{"$f":"SUMIF(INV!$D$5:$D$27,BQ37,INV!$H$5:$H$27)","v":0},{"$f":"SUMIF(INV!$D$5:$D$27,BR37,INV!$H$5:$H$27)","v":0},{"$f":"SUMIF(INV!$D$5:$D$27,BS37,INV!$H$5:$H$27)","v":0},{"$f":"SUMIF(INV!$D$5:$D$27,BT37,INV!$H$5:$H$27)","v":0},{"$f":"SUMIF(INV!$D$5:$D$27,BU37,INV!$H$5:$H$27)","v":0},{"$f":"SUMIF(INV!$D$5:$D$27,BV37,INV!$H$5:$H$27)","v":0},{"$f":"SUMIF(INV!$D$5:$D$27,BW37,INV!$H$5:$H$27)","v":0},{"$f":"SUMIF(INV!$D$5:$D$27,BX37,INV!$H$5:$H$27)","v":0},{"$f":"SUMIF(INV!$D$5:$D$27,BY37,INV!$H$5:$H$27)","v":0},{"$f":"SUMIF(INV!$D$5:$D$27,BZ37,INV!$H$5:$H$27)","v":0},{"$f":"SUMIF(INV!$D$5:$D$27,CA37,INV!$H$5:$H$27)","v":0},{"$f":"SUMIF(INV!$D$5:$D$27,CB37,INV!$H$5:$H$27)","v":0},{"$f":"SUMIF(INV!$D$5:$D$27,CC37,INV!$H$5:$H$27)","v":0},{"$f":"SUMIF(INV!$D$5:$D$27,CD37,INV!$H$5:$H$27)","v":0},{"$f":"SUMIF(INV!$D$5:$D$27,CE37,INV!$H$5:$H$27)","v":0},{"$f":"SUMIF(INV!$D$5:$D$27,CF37,INV!$H$5:$H$27)","v":0},{"$f":"SUMIF(INV!$D$5:$D$27,CG37,INV!$H$5:$H$27)","v":0},{"$f":"SUMIF(INV!$D$5:$D$27,CH37,INV!$H$5:$H$27)","v":0},{"$f":"SUMIF(INV!$D$5:$D$27,CI37,INV!$H$5:$H$27)","v":0},{"$f":"SUMIF(INV!$D$5:$D$27,CJ37,INV!$H$5:$H$27)","v":0},{"$f":"SUMIF(INV!$D$5:$D$27,CK37,INV!$H$5:$H$27)","v":0},{"$f":"SUMIF(INV!$D$5:$D$27,CL37,INV!$H$5:$H$27)","v":0},{"$f":"SUMIF(INV!$D$5:$D$27,CM37,INV!$H$5:$H$27)","v":0},{"$f":"SUMIF(INV!$D$5:$D$27,CN37,INV!$H$5:$H$27)","v":0},{"$f":"SUMIF(INV!$D$5:$D$27,CO37,INV!$H$5:$H$27)","v":0},{"$f":"SUMIF(INV!$D$5:$D$27,CP37,INV!$H$5:$H$27)","v":0},{"$f":"SUMIF(INV!$D$5:$D$27,CQ37,INV!$H$5:$H$27)","v":0},{"$f":"SUMIF(INV!$D$5:$D$27,CR37,INV!$H$5:$H$27)","v":0},{"$f":"SUMIF(INV!$D$5:$D$27,CS37,INV!$H$5:$H$27)","v":0},{"$f":"SUMIF(INV!$D$5:$D$27,CT37,INV!$H$5:$H$27)","v":0},{"$f":"SUMIF(INV!$D$5:$D$27,CU37,INV!$H$5:$H$27)","v":0},{"$f":"SUMIF(INV!$D$5:$D$27,CV37,INV!$H$5:$H$27)","v":0},{"$f":"SUMIF(INV!$D$5:$D$27,CW37,INV!$H$5:$H$27)","v":0},{"$f":"SUMIF(INV!$D$5:$D$27,CX37,INV!$H$5:$H$27)","v":0},{"$f":"SUMIF(INV!$D$5:$D$27,CY37,INV!$H$5:$H$27)","v":0},{"$f":"SUMIF(INV!$D$5:$D$27,CZ37,INV!$H$5:$H$27)","v":0},{"$f":"SUMIF(INV!$D$5:$D$27,DA37,INV!$H$5:$H$27)","v":0},{"$f":"SUMIF(INV!$D$5:$D$27,DB37,INV!$H$5:$H$27)","v":0},{"$f":"SUMIF(INV!$D$5:$D$27,DC37,INV!$H$5:$H$27)","v":0},{"$f":"SUMIF(INV!$D$5:$D$27,DD37,INV!$H$5:$H$27)","v":0},{"$f":"SUMIF(INV!$D$5:$D$27,DE37,INV!$H$5:$H$27)","v":0},{"$f":"SUMIF(INV!$D$5:$D$27,DF37,INV!$H$5:$H$27)","v":0},{"$f":"SUMIF(INV!$D$5:$D$27,DG37,INV!$H$5:$H$27)","v":0},{"$f":"SUMIF(INV!$D$5:$D$27,DH37,INV!$H$5:$H$27)","v":0}]

{"sheet":"FIN","index":3,"n_rows":64,"n_cols":87,"rows_kept":64,"cut":false,"hidden":false,"merged":[]}
[null,{"$f":"CONTROL!C2","v":"Proyecto "}]
[]
[null,null,"DETERMINACIÓN DE NECESIDADES INICIALES Y FINANCIACIÓN"]
[null,null,null,null,null,null,"% Inicial","Cuantía"]
[null,null,"Concepto","Cuantía",null,"Recursos Propios",{"$f":"CONTROL!C5","v":0},{"$f":"$D$9*G5","v":0}]
[null,null,"Inmovilizado  Inicial",{"$f":"BALANCE!C8","v":1},null,"Subvención",{"$f":"CONTROL!C6","v":0},{"$f":"$D$9*G6","v":0}]
[null,null,"Fondo Maniobra Inicial",{"$f":"BALANCE!C35+INV!G29","v":0},null,"Deuda 1",{"$f":"CONTROL!C7","v":0},{"$f":"$D$9*G7","v":0}]
[null,null,"Financiación Extra",{"$f":"IF(CONTROL!C17=\"1 año\",IF(CTA.RES!C10<0,-CTA.RES!C10,0),IF(CONTROL!C17=\"2 años\",IF(CTA.RES!C10<0,-CTA.RES!C10,0)+IF(CTA.RES!D10<0,-CTA.RES!D10,0),0))","v":0},null,"Deuda 2",{"$f":"CONTROL!C8","v":1},{"$f":"$D$9*G8","v":1}]
[null,null,"Necesidad Total Inicial",{"$f":"SUM(D6:D8)","v":1},null,"Total",{"$f":"SUM(G5:G8)","v":1},{"$f":"SUM(H5:H8)","v":1}]
[]
[]
[null,null,"CÁLCULO DEL CCMP",{"$f":"CONTROL!E2","v":2014},{"$f":"D12+1","v":2015},2016,2017,2018,2019,2020]
[null,null,"Recursos Propios Medios",{"$f":"SUMIF(BALANCE!$X$2:$DC$2,FIN!D12,BALANCE!$X$20:$DC$20)/COUNTIF(BALANCE!$X$2:$DC$2,FIN!D12)","v":0.54166666666666663},{"$f":"SUMIF(BALANCE!$X$2:$DC$2,FIN!E12,BALANCE!$X$20:$DC$20)/COUNTIF(BALANCE!$X$2:$DC$2,FIN!E12)","v":1.5416666666666661},{"$f":"SUMIF(BALANCE!$X$2:$DC$2,FIN!F12,BALANCE!$X$20:$DC$20)/COUNTIF(BALANCE!$X$2:$DC$2,FIN!F12)","v":2.541666666666667},{"$f":"SUMIF(BALANCE!$X$2:$DC$2,FIN!G12,BALANCE!$X$20:$DC$20)/COUNTIF(BALANCE!$X$2:$DC$2,FIN!G12)","v":3.5416666666666683},{"$f":"SUMIF(BALANCE!$X$2:$DC$2,FIN!H12,BALANCE!$X$20:$DC$20)/COUNTIF(BALANCE!$X$2:$DC$2,FIN!H12)","v":4.541666666666667},{"$f":"SUMIF(BALANCE!$X$2:$DC$2,FIN!I12,BALANCE!$X$20:$DC$20)/COUNTIF(BALANCE!$X$2:$DC$2,FIN!I12)","v":5.5416666666666634},{"$f":"SUMIF(BALANCE!$X$2:$DC$2,FIN!J12,BALANCE!$X$20:$DC$20)/COUNTIF(BALANCE!$X$2:$DC$2,FIN!J12)","v":6.5416666666666599}]
[null,null,"Deuda Media",{"$f":"SUMIF(BALANCE!$X$2:$DC$2,FIN!D12,BALANCE!$X$25:$DC$25)/COUNTIF(BALANCE!$X$2:$DC$2,FIN!D12)","v":1},{"$f":"SUMIF(BALANCE!$X$2:$DC$2,FIN!E12,BALANCE!$X$25:$DC$25)/COUNTIF(BALANCE!$X$2:$DC$2,FIN!E12)","v":1},{"$f":"SUMIF(BALANCE!$X$2:$DC$2,FIN!F12,BALANCE!$X$25:$DC$25)/COUNTIF(BALANCE!$X$2:$DC$2,FIN!F12)","v":1},{"$f":"SUMIF(BALANCE!$X$2:$DC$2,FIN!G12,BALANCE!$X$25:$DC$25)/COUNTIF(BALANCE!$X$2:$DC$2,FIN!G12)","v":1},{"$f":"SUMIF(BALANCE!$X$2:$DC$2,FIN!H12,BALANCE!$X$25:$DC$25)/COUNTIF(BALANCE!$X$2:$DC$2,FIN!H12)","v":1},{"$f":"SUMIF(BALANCE!$X$2:$DC$2,FIN!I12,BALANCE!$X$25:$DC$25)/COUNTIF(BALANCE!$X$2:$DC$2,FIN!I12)","v":1},{"$f":"SUMIF(BALANCE!$X$2:$DC$2,FIN!J12,BALANCE!$X$25:$DC$25)/COUNTIF(BALANCE!$X$2:$DC$2,FIN!J12)","v":1}]
[null,null,"Subvención Media",{"$f":"SUMIF(BALANCE!$X$2:$DC$2,FIN!D12,BALANCE!$X$21:$DC$21)/COUNTIF(BALANCE!$X$2:$DC$2,FIN!D12)","v":0},{"$f":"SUMIF(BALANCE!$X$2:$DC$2,FIN!E12,BALANCE!$X$21:$DC$21)/COUNTIF(BALANCE!$X$2:$DC$2,FIN!E12)","v":0},{"$f":"SUMIF(BALANCE!$X$2:$DC$2,FIN!F12,BALANCE!$X$21:$DC$21)/COUNTIF(BALANCE!$X$2:$DC$2,FIN!F12)","v":0},{"$f":"SUMIF(BALANCE!$X$2:$DC$2,FIN!G12,BALANCE!$X$21:$DC$21)/COUNTIF(BALANCE!$X$2:$DC$2,FIN!G12)","v":0},{"$f":"SUMIF(BALANCE!$X$2:$DC$2,FIN!H12,BALANCE!$X$21:$DC$21)/COUNTIF(BALANCE!$X$2:$DC$2,FIN!H12)","v":0},{"$f":"SUMIF(BALANCE!$X$2:$DC$2,FIN!I12,BALANCE!$X$21:$DC$21)/COUNTIF(BALANCE!$X$2:$DC$2,FIN!I12)","v":0},{"$f":"SUMIF(BALANCE!$X$2:$DC$2,FIN!J12,BALANCE!$X$21:$DC$21)/COUNTIF(BALANCE!$X$2:$DC$2,FIN!J12)","v":0}]
[null,null,"Coste Recursos Propios",{"$f":"E16*(13-Mes_Ini)/12","v":0.12},{"$f":"CONTROL!$C$4*RIESGO!$C$9","v":0.12},{"$f":"CONTROL!$C$4*RIESGO!$C$9","v":0.12},{"$f":"CONTROL!$C$4*RIESGO!$C$9","v":0.12},{"$f":"CONTROL!$C$4*RIESGO!$C$9","v":0.12},{"$f":"CONTROL!$C$4*RIESGO!$C$9","v":0.12},{"$f":"CONTROL!$C$4*RIESGO!$C$9","v":0.12}]
[null,null,"Coste Deuda",{"$f":"IFERROR(CTA.RES!C12*(1-CTA.RES!C20)/D14,0)","v":0},{"$f":"IFERROR(CTA.RES!D12*(1-CTA.RES!D20)/E14,0)","v":0},{"$f":"IFERROR(CTA.RES!E12*(1-CTA.RES!E20)/F14,0)","v":0},{"$f":"IFERROR(CTA.RES!F12*(1-CTA.RES!F20)/G14,0)","v":0},{"$f":"IFERROR(CTA.RES!G12*(1-CTA.RES!G20)/H14,0)","v":0},{"$f":"IFERROR(CTA.RES!H12*(1-CTA.RES!H20)/I14,0)","v":0},{"$f":"IFERROR(CTA.RES!I12*(1-CTA.RES!I20)/J14,0)","v":0}]
[null,null,"CCMP",{"$f":"IFERROR(D16*D13/(D13+D14+D15)+D17*D14/(D13+D14+D15),D16)","v":4.2162162162162162E-2},{"$f":"IFERROR(E16*E13/(E13+E14+E15)+E17*E14/(E13+E14+E15),E16)","v":7.2786885245901628E-2},8.6117647058823535E-2,9.3577981651376152E-2,9.8345864661654139E-2,0.101656050955414,0.10408839779005523]
[null,null,"CCMP Promedio",{"$f":"AVERAGE(D18:J18)","v":8.5533569932198114E-2}]
[]
[null,null,"CUADROS AMORTIZACIÓN DEUDAS INICIALES"]
[]
[null,null,"DEUDA 1",{"$f":"CONTROL!C10","v":0}]
[null,null,"Cuantía  ",{"$f":"H7","v":0},"Pagos anuales  ",{"$f":"CONTROL!C13","v":0}]
[null,null,"Años  ",{"$f":"CONTROL!C11","v":0},"Periodos Totales  ",{"$f":"F24*D25","v":0}]
[null,null,"Tipo de Interés  ",{"$f":"CONTROL!C12*RIESGO!C9","v":0},"Periodos Carencia  ",{"$f":"F24*CONTROL!C14","v":0}]
[null,null,"Tipo Interés Periódico  ",{"$f":"D26/F24","v":{"$error":"#DIV/0!"}},"Comisiones  ",{"$f":"CONTROL!C15*FIN!D24","v":0}]
[]
[null,null,{"$f":"C52","v":"2013-12-31"},{"$f":"EOMONTH(C29,12/$F$24)","v":{"$error":"#DIV/0!"}},{"$error":"#DIV/0!"},{"$error":"#DIV/0!"},{"$error":"#DIV/0!"},{"$error":"#DIV/0!"},{"$error":"#DIV/0!"},{"$error":"#DIV/0!"},{"$error":"#DIV/0!"},{"$error":"#DIV/0!"},{"$error":"#DIV/0!"},{"$error":"#DIV/0!"},{"$error":"#DIV/0!"},{"$error":"#DIV/0!"},{"$error":"#DIV/0!"},{"$error":"#DIV/0!"},{"$error":"#DIV/0!"},{"$error":"#DIV/0!"},{"$error":"#DIV/0!"},{"$error":"#DIV/0!"},{"$error":"#DIV/0!"},{"$error":"#DIV/0!"},{"$error":"#DIV/0!"},{"$error":"#DIV/0!"},{"$error":"#DIV/0!"},{"$error":"#DIV/0!"},{"$error":"#DIV/0!"},{"$error":"#DIV/0!"},{"$error":"#DIV/0!"},{"$error":"#DIV/0!"},{"$error":"#DIV/0!"},{"$error":"#DIV/0!"},{"$error":"#DIV/0!"},{"$f":"EOMONTH(AI29,12/$F$24)","v":{"$error":"#DIV/0!"}},{"$error":"#DIV/0!"},{"$error":"#DIV/0!"},{"$error":"#DIV/0!"},{"$error":"#DIV/0!"},{"$error":"#DIV/0!"},{"$error":"#DIV/0!"},{"$error":"#DIV/0!"},{"$error":"#DIV/0!"},{"$error":"#DIV/0!"},{"$error":"#DIV/0!"},{"$error":"#DIV/0!"},{"$error":"#DIV/0!"},{"$error":"#DIV/0!"},{"$error":"#DIV/0!"},{"$error":"#DIV/0!"},{"$error":"#DIV/0!"},{"$error":"#DIV/0!"},{"$error":"#DIV/0!"},{"$error":"#DIV/0!"},{"$error":"#DIV/0!"},{"$error":"#DIV/0!"},{"$error":"#DIV/0!"},{"$error":"#DIV/0!"},{"$error":"#DIV/0!"},{"$error":"#DIV/0!"},{"$error":"#DIV/0!"},{"$error":"#DIV/0!"},{"$error":"#DIV/0!"},{"$error":"#DIV/0!"},{"$error":"#DIV/0!"},{"$error":"#DIV/0!"},{"$f":"EOMONTH(BO29,12/$F$24)","v":{"$error":"#DIV/0!"}},{"$error":"#DIV/0!"},{"$error":"#DIV/0!"},{"$error":"#DIV/0!"},{"$error":"#DIV/0!"},{"$error":"#DIV/0!"},{"$error":"#DIV/0!"},{"$error":"#DIV/0!"},{"$error":"#DIV/0!"},{"$error":"#DIV/0!"},{"$error":"#DIV/0!"},{"$error":"#DIV/0!"},{"$error":"#DIV/0!"},{"$error":"#DIV/0!"},{"$error":"#DIV/0!"},{"$error":"#DIV/0!"},{"$error":"#DIV/0!"},{"$error":"#DIV/0!"},{"$error":"#DIV/0!"},{"$error":"#DIV/0!"}]
[null,"Periodo",null,1,2,3,4,5,6,7,8,9,10,11,12,13,14,15,16,17,18,19,20,21,22,23,24,25,26,27,28,29,30,31,32,33,34,35,36,37,38,39,40,41,42,43,44,45,46,47,48,49,50,51,52,53,54,55,56,57,58,59,60,61,62,63,64,65,66,67,68,69,70,71,72,73,74,75,76,77,78,79,80,81,82,83,84]
[null,"Capital Pendiente",{"$f":"H7","v":0},{"$f":"C31-D32","v":0},0,0,0,0,0,0,0,0,0,0,0,0,0,0,0,0,0,0,0,0,0,0,0,0,0,0,0,0,0,0,0,{"$f":"AI31-AJ32","v":0},0,0,0,0,0,0,{"$f":"AP31-AQ32","v":0},0,0,0,0,0,0,0,0,0,0,0,0,0,0,0,0,0,0,0,0,0,0,0,0,{"$f":"BO31-BP32","v":0},0,0,0,0,0,0,0,0,0,0,0,0,0,0,0,0,0,0,0]
[null,"Amortización",null,{"$f":"IF(D30<=$F$26,0,IF(D30>$F$25,0,IF($D$23=\"Francés\",-PPMT($D$27,D30-$F$26,$F$25-$F$26,$D$24),$D$24/($F$25-$F$26))))","v":0},0,0,0,0,0,0,0,0,0,0,0,0,0,0,0,0,0,0,0,0,0,0,0,0,0,0,0,0,0,0,0,{"$f":"IF(AJ30<=$F$26,0,IF(AJ30>$F$25,0,IF($D$23=\"Francés\",-PPMT($D$27,AJ30-$F$26,$F$25-$F$26,$D$24),$D$24/($F$25-$F$26))))","v":0},0,0,0,0,0,0,0,0,0,0,0,0,0,0,0,0,0,0,0,0,0,0,0,0,0,0,0,0,0,0,0,{"$f":"IF(BP30<=$F$26,0,IF(BP30>$F$25,0,IF($D$23=\"Francés\",-PPMT($D$27,BP30-$F$26,$F$25-$F$26,$D$24),$D$24/($F$25-$F$26))))","v":0},0,0,0,0,0,0,0,0,0,0,0,0,0,0,0,0,0,0,0]
[null,"Intereses",null,{"$f":"$D$27*C31","v":{"$error":"#DIV/0!"}},{"$error":"#DIV/0!"},{"$error":"#DIV/0!"},{"$error":"#DIV/0!"},{"$error":"#DIV/0!"},{"$error":"#DIV/0!"},{"$error":"#DIV/0!"},{"$error":"#DIV/0!"},{"$error":"#DIV/0!"},{"$error":"#DIV/0!"},{"$error":"#DIV/0!"},{"$error":"#DIV/0!"},{"$error":"#DIV/0!"},{"$error":"#DIV/0!"},{"$error":"#DIV/0!"},{"$error":"#DIV/0!"},{"$error":"#DIV/0!"},{"$error":"#DIV/0!"},{"$error":"#DIV/0!"},{"$error":"#DIV/0!"},{"$error":"#DIV/0!"},{"$error":"#DIV/0!"},{"$error":"#DIV/0!"},{"$error":"#DIV/0!"},{"$error":"#DIV/0!"},{"$error":"#DIV/0!"},{"$error":"#DIV/0!"},{"$error":"#DIV/0!"},{"$error":"#DIV/0!"},{"$error":"#DIV/0!"},{"$error":"#DIV/0!"},{"$error":"#DIV/0!"},{"$f":"$D$27*AI31","v":{"$error":"#DIV/0!"}},{"$error":"#DIV/0!"},{"$error":"#DIV/0!"},{"$error":"#DIV/0!"},{"$error":"#DIV/0!"},{"$error":"#DIV/0!"},{"$error":"#DIV/0!"},{"$error":"#DIV/0!"},{"$error":"#DIV/0!"},{"$error":"#DIV/0!"},{"$error":"#DIV/0!"},{"$error":"#DIV/0!"},{"$error":"#DIV/0!"},{"$error":"#DIV/0!"},{"$error":"#DIV/0!"},{"$error":"#DIV/0!"},{"$error":"#DIV/0!"},{"$error":"#DIV/0!"},{"$error":"#DIV/0!"},{"$error":"#DIV/0!"},{"$error":"#DIV/0!"},{"$error":"#DIV/0!"},{"$error":"#DIV/0!"},{"$error":"#DIV/0!"},{"$error":"#DIV/0!"},{"$error":"#DIV/0!"},{"$error":"#DIV/0!"},{"$error":"#DIV/0!"},{"$error":"#DIV/0!"},{"$error":"#DIV/0!"},{"$error":"#DIV/0!"},{"$error":"#DIV/0!"},{"$f":"$D$27*BO31","v":{"$error":"#DIV/0!"}},{"$error":"#DIV/0!"},{"$error":"#DIV/0!"},{"$error":"#DIV/0!"},{"$error":"#DIV/0!"},{"$error":"#DIV/0!"},{"$error":"#DIV/0!"},{"$error":"#DIV/0!"},{"$error":"#DIV/0!"},{"$error":"#DIV/0!"},{"$error":"#DIV/0!"},{"$error":"#DIV/0!"},{"$error":"#DIV/0!"},{"$error":"#DIV/0!"},{"$error":"#DIV/0!"},{"$error":"#DIV/0!"},{"$error":"#DIV/0!"},{"$error":"#DIV/0!"},{"$error":"#DIV/0!"},{"$error":"#DIV/0!"}]
[null,"Cuota",null,{"$f":"D32+D33","v":{"$error":"#DIV/0!"}},{"$f":"E32+E33","v":{"$error":"#DIV/0!"}},{"$error":"#DIV/0!"},{"$error":"#DIV/0!"},{"$error":"#DIV/0!"},{"$error":"#DIV/0!"},{"$error":"#DIV/0!"},{"$error":"#DIV/0!"},{"$error":"#DIV/0!"},{"$error":"#DIV/0!"},{"$error":"#DIV/0!"},{"$error":"#DIV/0!"},{"$error":"#DIV/0!"},{"$error":"#DIV/0!"},{"$error":"#DIV/0!"},{"$error":"#DIV/0!"},{"$error":"#DIV/0!"},{"$error":"#DIV/0!"},{"$error":"#DIV/0!"},{"$error":"#DIV/0!"},{"$error":"#DIV/0!"},{"$error":"#DIV/0!"},{"$error":"#DIV/0!"},{"$error":"#DIV/0!"},{"$error":"#DIV/0!"},{"$error":"#DIV/0!"},{"$error":"#DIV/0!"},{"$error":"#DIV/0!"},{"$error":"#DIV/0!"},{"$error":"#DIV/0!"},{"$error":"#DIV/0!"},{"$error":"#DIV/0!"},{"$error":"#DIV/0!"},{"$error":"#DIV/0!"},{"$error":"#DIV/0!"},{"$error":"#DIV/0!"},{"$error":"#DIV/0!"},{"$error":"#DIV/0!"},{"$error":"#DIV/0!"},{"$error":"#DIV/0!"},{"$error":"#DIV/0!"},{"$error":"#DIV/0!"},{"$error":"#DIV/0!"},{"$error":"#DIV/0!"},{"$error":"#DIV/0!"},{"$error":"#DIV/0!"},{"$error":"#DIV/0!"},{"$error":"#DIV/0!"},{"$error":"#DIV/0!"},{"$error":"#DIV/0!"},{"$error":"#DIV/0!"},{"$error":"#DIV/0!"},{"$error":"#DIV/0!"},{"$error":"#DIV/0!"},{"$error":"#DIV/0!"},{"$error":"#DIV/0!"},{"$error":"#DIV/0!"},{"$error":"#DIV/0!"},{"$error":"#DIV/0!"},{"$error":"#DIV/0!"},{"$error":"#DIV/0!"},{"$error":"#DIV/0!"},{"$error":"#DIV/0!"},{"$error":"#DIV/0!"},{"$error":"#DIV/0!"},{"$f":"BQ32+BQ33","v":{"$error":"#DIV/0!"}},{"$error":"#DIV/0!"},{"$error":"#DIV/0!"},{"$error":"#DIV/0!"},{"$error":"#DIV/0!"},{"$error":"#DIV/0!"},{"$error":"#DIV/0!"},{"$error":"#DIV/0!"},{"$error":"#DIV/0!"},{"$error":"#DIV/0!"},{"$error":"#DIV/0!"},{"$error":"#DIV/0!"},{"$error":"#DIV/0!"},{"$error":"#DIV/0!"},{"$error":"#DIV/0!"},{"$error":"#DIV/0!"},{"$error":"#DIV/0!"},{"$error":"#DIV/0!"},{"$error":"#DIV/0!"}]
[]
[null,null,"DEUDA 2",{"$f":"CONTROL!D10","v":0}]
[null,null,"Cuantía  ",{"$f":"H8","v":1},"Pagos anuales  ",{"$f":"CONTROL!D13","v":0}]
[null,null,"Años  ",{"$f":"CONTROL!D11","v":0},"Periodos Totales  ",{"$f":"F37*D38","v":0}]
[null,null,"Tipo de Interés  ",{"$f":"CONTROL!D12*RIESGO!C9","v":0},"Periodos Carencia  ",{"$f":"F37*CONTROL!D14","v":0}]
[null,null,"Tipo Interés Periódico  ",{"$f":"D39/F37","v":{"$error":"#DIV/0!"}},"Comisiones  ",{"$f":"CONTROL!D15*FIN!D37","v":0}]
[]
[null,null,{"$f":"C29","v":"2013-12-31"},{"$f":"EOMONTH(C42,12/$F$37)","v":{"$error":"#DIV/0!"}},{"$error":"#DIV/0!"},{"$error":"#DIV/0!"},{"$error":"#DIV/0!"},{"$error":"#DIV/0!"},{"$error":"#DIV/0!"},{"$error":"#DIV/0!"},{"$error":"#DIV/0!"},{"$error":"#DIV/0!"},{"$error":"#DIV/0!"},{"$error":"#DIV/0!"},{"$error":"#DIV/0!"},{"$error":"#DIV/0!"},{"$error":"#DIV/0!"},{"$error":"#DIV/0!"},{"$error":"#DIV/0!"},{"$error":"#DIV/0!"},{"$error":"#DIV/0!"},{"$error":"#DIV/0!"},{"$error":"#DIV/0!"},{"$error":"#DIV/0!"},{"$error":"#DIV/0!"},{"$error":"#DIV/0!"},{"$error":"#DIV/0!"},{"$error":"#DIV/0!"},{"$error":"#DIV/0!"},{"$error":"#DIV/0!"},{"$error":"#DIV/0!"},{"$error":"#DIV/0!"},{"$error":"#DIV/0!"},{"$error":"#DIV/0!"},{"$error":"#DIV/0!"},{"$f":"EOMONTH(AI42,12/$F$37)","v":{"$error":"#DIV/0!"}},{"$error":"#DIV/0!"},{"$error":"#DIV/0!"},{"$error":"#DIV/0!"},{"$error":"#DIV/0!"},{"$error":"#DIV/0!"},{"$error":"#DIV/0!"},{"$error":"#DIV/0!"},{"$error":"#DIV/0!"},{"$error":"#DIV/0!"},{"$error":"#DIV/0!"},{"$error":"#DIV/0!"},{"$error":"#DIV/0!"},{"$error":"#DIV/0!"},{"$error":"#DIV/0!"},{"$error":"#DIV/0!"},{"$error":"#DIV/0!"},{"$error":"#DIV/0!"},{"$error":"#DIV/0!"},{"$error":"#DIV/0!"},{"$error":"#DIV/0!"},{"$error":"#DIV/0!"},{"$error":"#DIV/0!"},{"$error":"#DIV/0!"},{"$error":"#DIV/0!"},{"$error":"#DIV/0!"},{"$error":"#DIV/0!"},{"$error":"#DIV/0!"},{"$error":"#DIV/0!"},{"$error":"#DIV/0!"},{"$error":"#DIV/0!"},{"$error":"#DIV/0!"},{"$f":"EOMONTH(BO42,12/$F$37)","v":{"$error":"#DIV/0!"}},{"$error":"#DIV/0!"},{"$error":"#DIV/0!"},{"$error":"#DIV/0!"},{"$error":"#DIV/0!"},{"$error":"#DIV/0!"},{"$error":"#DIV/0!"},{"$error":"#DIV/0!"},{"$error":"#DIV/0!"},{"$error":"#DIV/0!"},{"$error":"#DIV/0!"},{"$error":"#DIV/0!"},{"$error":"#DIV/0!"},{"$error":"#DIV/0!"},{"$error":"#DIV/0!"},{"$error":"#DIV/0!"},{"$error":"#DIV/0!"},{"$error":"#DIV/0!"},{"$error":"#DIV/0!"},{"$error":"#DIV/0!"}]
[null,"Periodo",null,1,2,3,4,5,6,7,8,9,10,11,12,13,14,15,16,17,18,19,20,21,22,23,24,25,26,27,28,29,30,31,32,33,34,35,36,37,38,39,40,41,42,43,44,45,46,47,48,49,50,51,52,53,54,55,56,57,58,59,60,61,62,63,64,65,66,67,68,69,70,71,72,73,74,75,76,77,78,79,80,81,82,83,84]
[null,"Capital Pendiente",{"$f":"D37","v":1},{"$f":"C44-D45","v":1},{"$f":"D44-E45","v":1},1,1,1,1,1,1,1,1,1,1,1,1,1,1,1,1,1,1,1,1,1,1,1,1,1,1,1,1,1,1,1,1,1,1,1,1,1,1,1,1,1,1,1,1,1,1,{"$f":"AY44-AZ45","v":1},1,1,1,1,1,1,1,1,1,1,1,1,1,1,1,1,1,1,1,1,1,1,1,1,1,1,1,1,1,1,1,1,1,1,1]
[null,"Amortización",null,{"$f":"IF(D43<=$F$39,0,IF(D43>$F$38,0,IF($D$36=\"Francés\",-PPMT($D$40,D43-$F$39,$F$38-$F$39,$D$37),$D$37/($F$38-$F$39))))","v":0},0,0,0,0,0,0,0,0,0,0,0,0,0,0,0,0,0,0,0,0,0,0,0,0,0,0,0,0,0,0,0,{"$f":"IF(AJ43<=$F$39,0,IF(AJ43>$F$38,0,IF($D$36=\"Francés\",-PPMT($D$40,AJ43-$F$39,$F$38-$F$39,$D$37),$D$37/($F$38-$F$39))))","v":0},0,0,0,0,0,0,0,0,0,0,0,0,0,0,0,0,0,0,0,0,0,0,0,0,0,0,0,0,0,0,0,{"$f":"IF(BP43<=$F$39,0,IF(BP43>$F$38,0,IF($D$36=\"Francés\",-PPMT($D$40,BP43-$F$39,$F$38-$F$39,$D$37),$D$37/($F$38-$F$39))))","v":0},0,0,0,0,0,0,0,0,0,0,0,0,0,0,0,0,0,0,0]
[null,"Intereses",null,{"$f":"$D$40*C44","v":{"$error":"#DIV/0!"}},{"$error":"#DIV/0!"},{"$error":"#DIV/0!"},{"$error":"#DIV/0!"},{"$error":"#DIV/0!"},{"$error":"#DIV/0!"},{"$error":"#DIV/0!"},{"$error":"#DIV/0!"},{"$error":"#DIV/0!"},{"$error":"#DIV/0!"},{"$error":"#DIV/0!"},{"$error":"#DIV/0!"},{"$error":"#DIV/0!"},{"$error":"#DIV/0!"},{"$error":"#DIV/0!"},{"$error":"#DIV/0!"},{"$error":"#DIV/0!"},{"$error":"#DIV/0!"},{"$error":"#DIV/0!"},{"$error":"#DIV/0!"},{"$error":"#DIV/0!"},{"$error":"#DIV/0!"},{"$error":"#DIV/0!"},{"$error":"#DIV/0!"},{"$error":"#DIV/0!"},{"$error":"#DIV/0!"},{"$error":"#DIV/0!"},{"$error":"#DIV/0!"},{"$error":"#DIV/0!"},{"$error":"#DIV/0!"},{"$error":"#DIV/0!"},{"$error":"#DIV/0!"},{"$f":"$D$40*AI44","v":{"$error":"#DIV/0!"}},{"$error":"#DIV/0!"},{"$error":"#DIV/0!"},{"$error":"#DIV/0!"},{"$error":"#DIV/0!"},{"$error":"#DIV/0!"},{"$error":"#DIV/0!"},{"$error":"#DIV/0!"},{"$error":"#DIV/0!"},{"$error":"#DIV/0!"},{"$error":"#DIV/0!"},{"$error":"#DIV/0!"},{"$error":"#DIV/0!"},{"$error":"#DIV/0!"},{"$error":"#DIV/0!"},{"$error":"#DIV/0!"},{"$error":"#DIV/0!"},{"$error":"#DIV/0!"},{"$error":"#DIV/0!"},{"$error":"#DIV/0!"},{"$error":"#DIV/0!"},{"$error":"#DIV/0!"},{"$error":"#DIV/0!"},{"$error":"#DIV/0!"},{"$error":"#DIV/0!"},{"$error":"#DIV/0!"},{"$error":"#DIV/0!"},{"$error":"#DIV/0!"},{"$error":"#DIV/0!"},{"$error":"#DIV/0!"},{"$error":"#DIV/0!"},{"$error":"#DIV/0!"},{"$f":"$D$40*BO44","v":{"$error":"#DIV/0!"}},{"$error":"#DIV/0!"},{"$error":"#DIV/0!"},{"$error":"#DIV/0!"},{"$error":"#DIV/0!"},{"$error":"#DIV/0!"},{"$error":"#DIV/0!"},{"$error":"#DIV/0!"},{"$error":"#DIV/0!"},{"$error":"#DIV/0!"},{"$error":"#DIV/0!"},{"$error":"#DIV/0!"},{"$error":"#DIV/0!"},{"$error":"#DIV/0!"},{"$error":"#DIV/0!"},{"$error":"#DIV/0!"},{"$error":"#DIV/0!"},{"$error":"#DIV/0!"},{"$error":"#DIV/0!"},{"$error":"#DIV/0!"}]
[null,"Cuota",null,{"$f":"D45+D46","v":{"$error":"#DIV/0!"}},{"$f":"E45+E46","v":{"$error":"#DIV/0!"}},{"$error":"#DIV/0!"},{"$error":"#DIV/0!"},{"$error":"#DIV/0!"},{"$error":"#DIV/0!"},{"$error":"#DIV/0!"},{"$error":"#DIV/0!"},{"$error":"#DIV/0!"},{"$error":"#DIV/0!"},{"$error":"#DIV/0!"},{"$error":"#DIV/0!"},{"$error":"#DIV/0!"},{"$error":"#DIV/0!"},{"$error":"#DIV/0!"},{"$error":"#DIV/0!"},{"$error":"#DIV/0!"},{"$error":"#DIV/0!"},{"$error":"#DIV/0!"},{"$error":"#DIV/0!"},{"$error":"#DIV/0!"},{"$error":"#DIV/0!"},{"$error":"#DIV/0!"},{"$error":"#DIV/0!"},{"$error":"#DIV/0!"},{"$error":"#DIV/0!"},{"$error":"#DIV/0!"},{"$error":"#DIV/0!"},{"$error":"#DIV/0!"},{"$error":"#DIV/0!"},{"$error":"#DIV/0!"},{"$error":"#DIV/0!"},{"$error":"#DIV/0!"},{"$error":"#DIV/0!"},{"$error":"#DIV/0!"},{"$error":"#DIV/0!"},{"$error":"#DIV/0!"},{"$error":"#DIV/0!"},{"$error":"#DIV/0!"},{"$error":"#DIV/0!"},{"$error":"#DIV/0!"},{"$error":"#DIV/0!"},{"$error":"#DIV/0!"},{"$error":"#DIV/0!"},{"$error":"#DIV/0!"},{"$error":"#DIV/0!"},{"$error":"#DIV/0!"},{"$error":"#DIV/0!"},{"$error":"#DIV/0!"},{"$error":"#DIV/0!"},{"$error":"#DIV/0!"},{"$error":"#DIV/0!"},{"$error":"#DIV/0!"},{"$error":"#DIV/0!"},{"$error":"#DIV/0!"},{"$error":"#DIV/0!"},{"$error":"#DIV/0!"},{"$error":"#DIV/0!"},{"$error":"#DIV/0!"},{"$error":"#DIV/0!"},{"$error":"#DIV/0!"},{"$error":"#DIV/0!"},{"$error":"#DIV/0!"},{"$error":"#DIV/0!"},{"$error":"#DIV/0!"},{"$f":"BQ45+BQ46","v":{"$error":"#DIV/0!"}},{"$error":"#DIV/0!"},{"$error":"#DIV/0!"},{"$error":"#DIV/0!"},{"$error":"#DIV/0!"},{"$error":"#DIV/0!"},{"$error":"#DIV/0!"},{"$error":"#DIV/0!"},{"$error":"#DIV/0!"},{"$error":"#DIV/0!"},{"$error":"#DIV/0!"},{"$error":"#DIV/0!"},{"$error":"#DIV/0!"},{"$error":"#DIV/0!"},{"$error":"#DIV/0!"},{"$error":"#DIV/0!"},{"$error":"#DIV/0!"},{"$error":"#DIV/0!"},{"$error":"#DIV/0!"}]
[]
[]
[null,null,"CUADRO RESUMEN DEUDA INICIAL, MENSUAL"]
[null,null,null,{"$f":"INCO!N1","v":2014},{"$f":"INCO!O1","v":2014},{"$f":"INCO!P1","v":2014},{"$f":"INCO!Q1","v":2014},{"$f":"INCO!R1","v":2014},{"$f":"INCO!S1","v":2014},{"$f":"INCO!T1","v":2014},{"$f":"INCO!U1","v":2014},{"$f":"INCO!V1","v":2014},{"$f":"INCO!W1","v":2014},{"$f":"INCO!X1","v":2014},{"$f":"INCO!Y1","v":2014},{"$f":"INCO!Z1","v":2015},{"$f":"INCO!AA1","v":2015},{"$f":"INCO!AB1","v":2015},{"$f":"INCO!AC1","v":2015},{"$f":"INCO!AD1","v":2015},{"$f":"INCO!AE1","v":2015},{"$f":"INCO!AF1","v":2015},{"$f":"INCO!AG1","v":2015},{"$f":"INCO!AH1","v":2015},{"$f":"INCO!AI1","v":2015},{"$f":"INCO!AJ1","v":2015},{"$f":"INCO!AK1","v":2015},{"$f":"INCO!AL1","v":2016},{"$f":"INCO!AM1","v":2016},{"$f":"INCO!AN1","v":2016},{"$f":"INCO!AO1","v":2016},{"$f":"INCO!AP1","v":2016},{"$f":"INCO!AQ1","v":2016},{"$f":"INCO!AR1","v":2016},{"$f":"INCO!AS1","v":2016},{"$f":"INCO!AT1","v":2016},{"$f":"INCO!AU1","v":2016},{"$f":"INCO!AV1","v":2016},{"$f":"INCO!AW1","v":2016},{"$f":"INCO!AX1","v":2017},{"$f":"INCO!AY1","v":2017},{"$f":"INCO!AZ1","v":2017},{"$f":"INCO!BA1","v":2017},{"$f":"INCO!BB1","v":2017},{"$f":"INCO!BC1","v":2017},{"$f":"INCO!BD1","v":2017},{"$f":"INCO!BE1","v":2017},{"$f":"INCO!BF1","v":2017},{"$f":"INCO!BG1","v":2017},{"$f":"INCO!BH1","v":2017},{"$f":"INCO!BI1","v":2017},{"$f":"INCO!BJ1","v":2018},{"$f":"INCO!BK1","v":2018},{"$f":"INCO!BL1","v":2018},{"$f":"INCO!BM1","v":2018},{"$f":"INCO!BN1","v":2018},{"$f":"INCO!BO1","v":2018},{"$f":"INCO!BP1","v":2018},{"$f":"INCO!BQ1","v":2018},{"$f":"INCO!BR1","v":2018},{"$f":"INCO!BS1","v":2018},{"$f":"INCO!BT1","v":2018},{"$f":"INCO!BU1","v":2018},{"$f":"INCO!BV1","v":2019},{"$f":"INCO!BW1","v":2019},{"$f":"INCO!BX1","v":2019},{"$f":"INCO!BY1","v":2019},{"$f":"INCO!BZ1","v":2019},{"$f":"INCO!CA1","v":2019},{"$f":"INCO!CB1","v":2019},{"$f":"INCO!CC1","v":2019},{"$f":"INCO!CD1","v":2019},{"$f":"INCO!CE1","v":2019},{"$f":"INCO!CF1","v":2019},{"$f":"INCO!CG1","v":2019},{"$f":"INCO!CH1","v":2020},{"$f":"INCO!CI1","v":2020},{"$f":"INCO!CJ1","v":2020},{"$f":"INCO!CK1","v":2020},{"$f":"INCO!CL1","v":2020},{"$f":"INCO!CM1","v":2020},{"$f":"INCO!CN1","v":2020},{"$f":"INCO!CO1","v":2020},{"$f":"INCO!CP1","v":2020},{"$f":"INCO!CQ1","v":2020},{"$f":"INCO!CR1","v":2020},{"$f":"INCO!CS1","v":2020}]
[null,null,{"$f":"EOMONTH(D52,-1)","v":"2013-12-31"},{"$f":"CONTROL!H2","v":"2014-01-31"},{"$f":"EOMONTH(D52,1)","v":"2014-02-28"},{"$f":"EOMONTH(E52,1)","v":"2014-03-31"},"2014-04-30","2014-05-31","2014-06-30","2014-07-31","2014-08-31","2014-09-30","2014-10-31","2014-11-30","2014-12-31","2015-01-31","2015-02-28","2015-03-31","2015-04-30","2015-05-31","2015-06-30","2015-07-31","2015-08-31","2015-09-30","2015-10-31","2015-11-30","2015-12-31","2016-01-31","2016-02-29","2016-03-31","2016-04-30","2016-05-31","2016-06-30","2016-07-31","2016-08-31","2016-09-30","2016-10-31","2016-11-30","2016-12-31","2017-01-31","2017-02-28","2017-03-31","2017-04-30","2017-05-31","2017-06-30","2017-07-31","2017-08-31","2017-09-30","2017-10-31","2017-11-30","2017-12-31","2018-01-31","2018-02-28","2018-03-31","2018-04-30","2018-05-31","2018-06-30","2018-07-31","2018-08-31","2018-09-30","2018-10-31","2018-11-30","2018-12-31","2019-01-31","2019-02-28","2019-03-31","2019-04-30","2019-05-31","2019-06-30",{"$f":"EOMONTH(BQ52,1)","v":"2019-07-31"},"2019-08-31","2019-09-30","2019-10-31","2019-11-30","2019-12-31","2020-01-31","2020-02-29","2020-03-31","2020-04-30","2020-05-31","2020-06-30","2020-07-31","2020-08-31","2020-09-30","2020-10-31","2020-11-30","2020-12-31"]
[null,"Capital Pendiente",{"$f":"LOOKUP(C52,$C$29:$CI$29,$C$31:$CI$31)+LOOKUP(C52,$C$42:$CI$42,$C$44:$CI$44)","v":1},1,1,1,1,1,1,1,1,1,1,1,1,1,1,1,1,1,1,1,1,1,1,1,1,1,1,1,1,1,1,1,{"$f":"LOOKUP(AI52,$C$29:$CI$29,$C$31:$CI$31)+LOOKUP(AI52,$C$42:$CI$42,$C$44:$CI$44)","v":1},1,1,1,1,1,1,1,1,1,1,1,1,1,1,1,1,1,1,1,1,1,1,1,1,1,1,1,1,1,1,1,{"$f":"LOOKUP(BO52,$C$29:$CI$29,$C$31:$CI$31)+LOOKUP(BO52,$C$42:$CI$42,$C$44:$CI$44)","v":1},1,1,1,1,1,1,1,1,1,1,1,1,1,1,1,1,1,1,1,1]
[null,"Amortización",null,{"$f":"SUMIF($D$29:$CI$29,D$52,$D32:$CI32)+SUMIF($D$42:$CI$42,D$52,$D45:$CI45)","v":0},0,0,0,0,0,0,0,0,0,0,0,0,0,0,0,0,0,0,0,0,0,0,0,0,0,0,0,0,0,0,0,{"$f":"SUMIF($D$29:$CI$29,AJ$52,$D32:$CI32)+SUMIF($D$42:$CI$42,AJ$52,$D45:$CI45)","v":0},0,0,0,0,0,0,0,0,0,0,0,0,0,0,0,0,0,0,0,0,0,0,0,0,0,0,0,0,0,0,0,{"$f":"SUMIF($D$29:$CI$29,BP$52,$D32:$CI32)+SUMIF($D$42:$CI$42,BP$52,$D45:$CI45)","v":0},0,0,0,0,0,0,0,0,0,0,0,0,0,0,0,0,0,0,0]
[null,"Intereses",null,{"$f":"SUMIF($D$29:$CI$29,D$52,$D33:$CI33)+SUMIF($D$42:$CI$42,D$52,$D46:$CI46)","v":0},0,0,0,0,0,0,0,0,0,0,0,0,0,0,0,0,0,0,0,0,0,0,0,0,0,0,0,0,0,0,0,{"$f":"SUMIF($D$29:$CI$29,AJ$52,$D33:$CI33)+SUMIF($D$42:$CI$42,AJ$52,$D46:$CI46)","v":0},0,0,0,0,0,0,0,0,0,0,0,0,0,0,0,0,0,0,0,0,0,0,0,0,0,0,0,0,0,0,0,{"$f":"SUMIF($D$29:$CI$29,BP$52,$D33:$CI33)+SUMIF($D$42:$CI$42,BP$52,$D46:$CI46)","v":0},0,0,0,0,0,0,0,0,0,0,0,0,0,0,0,0,0,0,0]
[null,"Cuota",null,{"$f":"D54+D55","v":0},{"$f":"E54+E55","v":0},0,0,0,0,0,0,0,0,0,0,0,0,0,0,0,0,0,0,0,0,0,0,0,0,0,0,0,0,0,0,0,0,0,0,0,0,0,0,0,0,0,0,0,0,0,0,0,0,0,0,0,0,0,0,0,0,0,0,0,0,0,0,0,{"$f":"BQ54+BQ55","v":0},0,0,0,0,0,0,0,0,0,0,0,0,0,0,0,0,0,0]
[null,"Comisiones",{"$f":"F27+F40","v":0}]
[]
[null,null,"CUADRO RESUMEN DEUDA INICIAL, ANUAL"]
[null,null,{"$f":"C52","v":"2013-12-31"},{"$f":"D12","v":2014},2015,2016,2017,2018,2019,2020]
[null,"Capital Pendiente",{"$f":"C53","v":1},{"$f":"C61-D62","v":1},{"$f":"D61-E62","v":1},1,1,1,1,1]
[null,"Amortización",null,{"$f":"SUMIF($D$51:$CI$51,D$60,$D54:$CI54)","v":0},0,0,0,0,0,0]
[null,"Intereses",null,0,0,0,0,0,0,0]
[null,"Cuota",null,{"$f":"D63+D62","v":0},{"$f":"E63+E62","v":0},0,0,0,0,0]

{"sheet":"INCO","index":4,"n_rows":115,"n_cols":103,"rows_kept":115,"cut":false,"hidden":false,"merged":[]}
[null,null,{"$f":"CONTROL!C2","v":"Proyecto "},null,null,null,null,null,null,null,null,null,null,{"$f":"YEAR(N2)","v":2014},2014,2014,2014,2014,2014,2014,2014,2014,2014,2014,2014,2015,2015,2015,2015,2015,2015,2015,2015,2015,2015,2015,2015,2016,2016,2016,2016,2016,2016,2016,2016,{"$f":"YEAR(AT2)","v":2016},2016,2016,2016,2017,2017,2017,2017,2017,2017,2017,2017,2017,2017,2017,2017,2018,2018,2018,2018,2018,2018,2018,2018,2018,2018,2018,2018,2019,2019,2019,2019,{"$f":"YEAR(BZ2)","v":2019},2019,2019,2019,2019,2019,2019,2019,2020,2020,2020,2020,2020,2020,2020,2020,2020,2020,2020,2020]
[null,null,null,null,null,null,null,null,null,null,null,null,null,{"$f":"CONTROL!H2","v":"2014-01-31"},{"$f":"EOMONTH(N2,1)","v":"2014-02-28"},{"$f":"EOMONTH(O2,1)","v":"2014-03-31"},"2014-04-30","2014-05-31","2014-06-30","2014-07-31","2014-08-31","2014-09-30","2014-10-31","2014-11-30","2014-12-31","2015-01-31","2015-02-28","2015-03-31","2015-04-30","2015-05-31","2015-06-30","2015-07-31","2015-08-31","2015-09-30","2015-10-31","2015-11-30","2015-12-31","2016-01-31","2016-02-29","2016-03-31","2016-04-30","2016-05-31","2016-06-30","2016-07-31","2016-08-31","2016-09-30","2016-10-31","2016-11-30","2016-12-31","2017-01-31","2017-02-28","2017-03-31","2017-04-30","2017-05-31","2017-06-30","2017-07-31","2017-08-31","2017-09-30","2017-10-31","2017-11-30","2017-12-31","2018-01-31","2018-02-28","2018-03-31","2018-04-30","2018-05-31","2018-06-30","2018-07-31","2018-08-31","2018-09-30","2018-10-31","2018-11-30","2018-12-31","2019-01-31","2019-02-28","2019-03-31","2019-04-30","2019-05-31","2019-06-30",{"$f":"EOMONTH(CA2,1)","v":"2019-07-31"},"2019-08-31","2019-09-30","2019-10-31","2019-11-30","2019-12-31","2020-01-31","2020-02-29","2020-03-31","2020-04-30","2020-05-31","2020-06-30","2020-07-31","2020-08-31","2020-09-30","2020-10-31","2020-11-30","2020-12-31"]
[null,null,null,null,null,null,null,null,null,null,null,null,"Mensualización Libre Ventas",null,null,null,null,null,null,null,null,null,null,null,null,null,null,null,null,null,null,null,null,null,null,null,null,{"$f":"Z3","v":0},{"$f":"AA3","v":0},0,0,0,0,0,0,0,0,0,0,0,0,0,0,0,0,0,0,0,0,0,0,0,0,0,0,0,0,0,0,0,0,0,0,0,0,0,0,0,0,0,0,0,0,0,0,0,0,0,0,0,0,0,0,{"$f":"CD3","v":0},0,0,0]
[null,"Mensualización","Automática",{"$f":"CONTROL!E2","v":2014},{"$f":"D4+1","v":2015},2016,2017,2018,2019,{"$f":"I4+1","v":2020},{"$f":"J4+1","v":2021},null,"Mensualización Libre Costes Fijos",null,null,null,null,null,null,null,null,null,null,null,null,null,null,null,null,null,null,null,null,null,null,null,null,{"$f":"Z4","v":0},0,0,0,0,0,0,0,0,0,0,0,0,0,0,0,0,0,0,0,0,0,0,0,0,0,0,0,0,0,0,0,0,0,0,0,0,0,0,0,0,0,0,0,0,0,0,0,0,0,0,0,0,0,0,0,0,0,0,0]
[null,null,null,null,null,null,null,null,null,null,null,null,"Mensualización Ventas",{"$f":"IF($C$4=\"Automática\",IF(YEAR(N2)=$D$11,1/(13-Mes_Ini),1/12),N3)","v":8.3333333333333329E-2},8.3333333333333329E-2,8.3333333333333329E-2,8.3333333333333329E-2,8.3333333333333329E-2,8.3333333333333329E-2,8.3333333333333329E-2,8.3333333333333329E-2,8.3333333333333329E-2,8.3333333333333329E-2,8.3333333333333329E-2,8.3333333333333329E-2,8.3333333333333329E-2,8.3333333333333329E-2,8.3333333333333329E-2,8.3333333333333329E-2,8.3333333333333329E-2,8.3333333333333329E-2,8.3333333333333329E-2,8.3333333333333329E-2,8.3333333333333329E-2,8.3333333333333329E-2,8.3333333333333329E-2,8.3333333333333329E-2,8.3333333333333329E-2,8.3333333333333329E-2,8.3333333333333329E-2,8.3333333333333329E-2,8.3333333333333329E-2,8.3333333333333329E-2,8.3333333333333329E-2,8.3333333333333329E-2,{"$f":"IF($C$4=\"Automática\",IF(YEAR(AT2)=$D$11,1/(13-Mes_Ini),1/12),AT3)","v":8.3333333333333329E-2},8.3333333333333329E-2,8.3333333333333329E-2,8.3333333333333329E-2,8.3333333333333329E-2,8.3333333333333329E-2,8.3333333333333329E-2,8.3333333333333329E-2,8.3333333333333329E-2,8.3333333333333329E-2,8.3333333333333329E-2,8.3333333333333329E-2,8.3333333333333329E-2,8.3333333333333329E-2,8.3333333333333329E-2,8.3333333333333329E-2,8.3333333333333329E-2,8.3333333333333329E-2,8.3333333333333329E-2,8.3333333333333329E-2,8.3333333333333329E-2,8.3333333333333329E-2,8.3333333333333329E-2,8.3333333333333329E-2,8.3333333333333329E-2,8.3333333333333329E-2,8.3333333333333329E-2,8.3333333333333329E-2,8.3333333333333329E-2,8.3333333333333329E-2,8.3333333333333329E-2,8.3333333333333329E-2,{"$f":"IF($C$4=\"Automática\",IF(YEAR(BZ2)=$D$11,1/(13-Mes_Ini),1/12),BZ3)","v":8.3333333333333329E-2},8.3333333333333329E-2,8.3333333333333329E-2,8.3333333333333329E-2,8.3333333333333329E-2,8.3333333333333329E-2,8.3333333333333329E-2,8.3333333333333329E-2,8.3333333333333329E-2,8.3333333333333329E-2,8.3333333333333329E-2,8.3333333333333329E-2,8.3333333333333329E-2,8.3333333333333329E-2,8.3333333333333329E-2,8.3333333333333329E-2,8.3333333333333329E-2,8.3333333333333329E-2,8.3333333333333329E-2,8.3333333333333329E-2]
[null,null,"Dato base",null,null,null,null,null,null,null,null,null,"Mensualización Costes Fijos",{"$f":"IF($C$4=\"Automática\",IF(YEAR(N2)=$D$11,1/(13-Mes_Ini),1/12),N4)","v":8.3333333333333329E-2},8.3333333333333329E-2,8.3333333333333329E-2,8.3333333333333329E-2,8.3333333333333329E-2,8.3333333333333329E-2,8.3333333333333329E-2,8.3333333333333329E-2,8.3333333333333329E-2,8.3333333333333329E-2,8.3333333333333329E-2,8.3333333333333329E-2,8.3333333333333329E-2,8.3333333333333329E-2,8.3333333333333329E-2,8.3333333333333329E-2,8.3333333333333329E-2,8.3333333333333329E-2,8.3333333333333329E-2,8.3333333333333329E-2,8.3333333333333329E-2,8.3333333333333329E-2,8.3333333333333329E-2,8.3333333333333329E-2,8.3333333333333329E-2,8.3333333333333329E-2,8.3333333333333329E-2,8.3333333333333329E-2,8.3333333333333329E-2,8.3333333333333329E-2,8.3333333333333329E-2,8.3333333333333329E-2,{"$f":"IF($C$4=\"Automática\",IF(YEAR(AT2)=$D$11,1/(13-Mes_Ini),1/12),AT4)","v":8.3333333333333329E-2},8.3333333333333329E-2,8.3333333333333329E-2,8.3333333333333329E-2,8.3333333333333329E-2,8.3333333333333329E-2,8.3333333333333329E-2,8.3333333333333329E-2,8.3333333333333329E-2,8.3333333333333329E-2,8.3333333333333329E-2,8.3333333333333329E-2,8.3333333333333329E-2,8.3333333333333329E-2,8.3333333333333329E-2,8.3333333333333329E-2,8.3333333333333329E-2,8.3333333333333329E-2,8.3333333333333329E-2,8.3333333333333329E-2,8.3333333333333329E-2,8.3333333333333329E-2,8.3333333333333329E-2,8.3333333333333329E-2,8.3333333333333329E-2,8.3333333333333329E-2,8.3333333333333329E-2,8.3333333333333329E-2,8.3333333333333329E-2,8.3333333333333329E-2,8.3333333333333329E-2,8.3333333333333329E-2,{"$f":"IF($C$4=\"Automática\",IF(YEAR(BZ2)=$D$11,1/(13-Mes_Ini),1/12),BZ4)","v":8.3333333333333329E-2},8.3333333333333329E-2,8.3333333333333329E-2,8.3333333333333329E-2,8.3333333333333329E-2,8.3333333333333329E-2,8.3333333333333329E-2,8.3333333333333329E-2,8.3333333333333329E-2,8.3333333333333329E-2,8.3333333333333329E-2,8.3333333333333329E-2,8.3333333333333329E-2,8.3333333333333329E-2,8.3333333333333329E-2,8.3333333333333329E-2,8.3333333333333329E-2,8.3333333333333329E-2,8.3333333333333329E-2,8.3333333333333329E-2]
[null,"IPC",{"$f":"CONTROL!H4","v":0},null,{"$f":"$C$7","v":0},{"$f":"$C$7","v":0},0,0,0,0,0,null,null,{"$f":"D4","v":2014},{"$f":"N7+1","v":2015},2016,2017,2018,2019,2020]
[null,"IPC Ingresos",{"$f":"CONTROL!H5","v":0},1,{"$f":"D8*(1+E7*$C$8)","v":1},1,1,1,1,1,1,null,null,{"$f":"SUMIF($N$1:$CS$1,N$7,$N5:$CS5)","v":1},1,1,1,1,1,1]
[null,"IPC Costes",{"$f":"CONTROL!H6","v":0},1,{"$f":"D9*(1+E7*$C$9)","v":1},1,1,1,1,1,1,null,null,1,1,1,1,1,1,1]
[null,null,null,null,null,null,null,null,null,null,null,null,null,{"$f":"IF(OR(N8<>1,O8<>1,P8<>1,Q8<>1,R8<>1,S8<>1,T8<>1),\"Estacionalidad de ventas incorrecta\",\"\")","v":""},{"$f":"IF(OR(N9<>1,O9<>1,P9<>1,Q9<>1,R9<>1,S9<>1,T9<>1),\"Estacionalidad de costes fijos incorrecta\",\"\")","v":""}]
[null,"AÑO","Dato base",{"$f":"D4","v":2014},2015,2016,2017,2018,2019,2020,2021,null,null,{"$f":"N2","v":"2014-01-31"},"2014-02-28","2014-03-31","2014-04-30","2014-05-31","2014-06-30","2014-07-31","2014-08-31","2014-09-30","2014-10-31","2014-11-30","2014-12-31","2015-01-31","2015-02-28","2015-03-31","2015-04-30","2015-05-31","2015-06-30","2015-07-31","2015-08-31","2015-09-30","2015-10-31","2015-11-30","2015-12-31","2016-01-31","2016-02-29","2016-03-31","2016-04-30","2016-05-31","2016-06-30","2016-07-31","2016-08-31",{"$f":"AT2","v":"2016-09-30"},"2016-10-31","2016-11-30","2016-12-31","2017-01-31","2017-02-28","2017-03-31","2017-04-30","2017-05-31","2017-06-30","2017-07-31","2017-08-31","2017-09-30","2017-10-31","2017-11-30","2017-12-31","2018-01-31","2018-02-28","2018-03-31","2018-04-30","2018-05-31","2018-06-30","2018-07-31","2018-08-31","2018-09-30","2018-10-31","2018-11-30","2018-12-31","2019-01-31","2019-02-28","2019-03-31","2019-04-30",{"$f":"BZ2","v":"2019-05-31"},"2019-06-30","2019-07-31","2019-08-31","2019-09-30","2019-10-31","2019-11-30","2019-12-31","2020-01-31","2020-02-29","2020-03-31","2020-04-30","2020-05-31","2020-06-30","2020-07-31","2020-08-31","2020-09-30","2020-10-31","2020-11-30","2020-12-31"]
[null,{"$f":"CONTROL!C22","v":"Línea A"}]
[null,"Ingresos",{"$f":"CONTROL!C23","v":2014},{"$f":"D15*D14","v":1},1,1,1,1,1,1,{"$f":"K15*K14","v":1},null,null,{"$f":"N$5*OFFSET($D13,0,N$1-$D$11)","v":8.3333333333333329E-2},8.3333333333333329E-2,8.3333333333333329E-2,8.3333333333333329E-2,8.3333333333333329E-2,8.3333333333333329E-2,8.3333333333333329E-2,8.3333333333333329E-2,8.3333333333333329E-2,8.3333333333333329E-2,8.3333333333333329E-2,8.3333333333333329E-2,8.3333333333333329E-2,8.3333333333333329E-2,8.3333333333333329E-2,8.3333333333333329E-2,8.3333333333333329E-2,8.3333333333333329E-2,8.3333333333333329E-2,8.3333333333333329E-2,8.3333333333333329E-2,8.3333333333333329E-2,8.3333333333333329E-2,8.3333333333333329E-2,8.3333333333333329E-2,8.3333333333333329E-2,8.3333333333333329E-2,8.3333333333333329E-2,8.3333333333333329E-2,8.3333333333333329E-2,8.3333333333333329E-2,8.3333333333333329E-2,{"$f":"AT$5*OFFSET($D13,0,AT$1-$D$11)","v":8.3333333333333329E-2},8.3333333333333329E-2,8.3333333333333329E-2,8.3333333333333329E-2,8.3333333333333329E-2,8.3333333333333329E-2,8.3333333333333329E-2,8.3333333333333329E-2,8.3333333333333329E-2,8.3333333333333329E-2,8.3333333333333329E-2,8.3333333333333329E-2,8.3333333333333329E-2,8.3333333333333329E-2,8.3333333333333329E-2,8.3333333333333329E-2,8.3333333333333329E-2,8.3333333333333329E-2,8.3333333333333329E-2,8.3333333333333329E-2,8.3333333333333329E-2,8.3333333333333329E-2,8.3333333333333329E-2,8.3333333333333329E-2,8.3333333333333329E-2,8.3333333333333329E-2,8.3333333333333329E-2,8.3333333333333329E-2,8.3333333333333329E-2,8.3333333333333329E-2,8.3333333333333329E-2,8.3333333333333329E-2,{"$f":"BZ$5*OFFSET($D13,0,BZ$1-$D$11)","v":8.3333333333333329E-2},8.3333333333333329E-2,8.3333333333333329E-2,8.3333333333333329E-2,8.3333333333333329E-2,8.3333333333333329E-2,8.3333333333333329E-2,8.3333333333333329E-2,8.3333333333333329E-2,8.3333333333333329E-2,8.3333333333333329E-2,8.3333333333333329E-2,8.3333333333333329E-2,8.3333333333333329E-2,8.3333333333333329E-2,8.3333333333333329E-2,8.3333333333333329E-2,8.3333333333333329E-2,8.3333333333333329E-2,8.3333333333333329E-2]
[null,"Precio",{"$f":"CONTROL!C24*RIESGO!C6","v":1},{"$f":"$C14*D$8","v":1},1,1,1,1,1,1,1]
[null,"Unidades",{"$f":"CONTROL!C25*RIESGO!C5","v":1},{"$f":"IF(D$11<$C13,0,IF(D$11=$C13,$C15,C15*(1+D17)))","v":1},1,{"$f":"IF(F$11<$C13,0,IF(F$11=$C13,$C15,E15*(1+F17)))","v":1},{"$f":"IF(G$11<$C13,0,IF(G$11=$C13,$C15,F15*(1+G17)))","v":1},{"$f":"IF(H$11<$C13,0,IF(H$11=$C13,$C15,G15*(1+H17)))","v":1},{"$f":"IF(I$11<$C13,0,IF(I$11=$C13,$C15,H15*(1+I17)))","v":1},{"$f":"IF(J$11<$C13,0,IF(J$11=$C13,$C15,I15*(1+J17)))","v":1},{"$f":"IF(K$11<$C13,0,IF(K$11=$C13,$C15,J15*(1+K17)))","v":1}]
[null,"Crecimiento",null,null,{"$f":"TRANSPOSE(CONTROL!C27:C32)*RIESGO!$C$10","v":0},0,0,0,0,0,{"$f":"CONTROL!$C$21*RIESGO!$C$10","v":0}]
[null,null,null,null,{"$f":"IF(D15=0,0,E16)","v":0},{"$f":"IF(E15=0,0,F16)","v":0},0,0,0,0,{"$f":"K16","v":0}]
[null,{"$f":"CONTROL!D22","v":"Línea B"}]
[null,"Ingresos",{"$f":"CONTROL!D23","v":0},{"$f":"D21*D20","v":0},0,0,0,0,0,0,{"$f":"K21*K20","v":0},null,null,{"$f":"N$5*OFFSET($D19,0,N$1-$D$11)","v":0},0,0,0,0,0,0,0,0,0,0,0,0,0,0,0,0,0,0,0,0,0,0,0,0,0,0,0,0,0,0,0,{"$f":"AT$5*OFFSET($D19,0,AT$1-$D$11)","v":0},0,0,0,0,0,0,0,0,0,0,0,0,0,0,0,0,0,0,0,0,0,0,0,0,0,0,0,0,0,0,0,{"$f":"BZ$5*OFFSET($D19,0,BZ$1-$D$11)","v":0},0,0,0,0,0,0,0,0,0,0,0,0,0,0,0,0,0,0,0]
[null,"Precio",{"$f":"CONTROL!D24*RIESGO!C6","v":0},{"$f":"$C20*D$8","v":0},0,0,0,0,0,0,0]
[null,"Unidades",{"$f":"CONTROL!D25*RIESGO!C5","v":0},{"$f":"IF(D$11<$C19,0,IF(D$11=$C19,$C21,C21*(1+D23)))","v":0},0,0,0,0,0,0,0]
[null,"Crecimiento",null,null,{"$f":"TRANSPOSE(CONTROL!D27:D32)*RIESGO!$C$10","v":0},0,0,0,0,0,{"$f":"CONTROL!$C$21*RIESGO!$C$10","v":0}]
[null,null,null,null,{"$f":"IF(D21=0,0,E22)","v":0},{"$f":"IF(E21=0,0,F22)","v":0},0,0,0,0,{"$f":"K22","v":0}]
[null,{"$f":"CONTROL!E22","v":"Línea C"}]
[null,"Ingresos",{"$f":"CONTROL!E23","v":0},{"$f":"D26*D27","v":0},0,0,0,0,0,0,{"$f":"K26*K27","v":0},null,null,{"$f":"N$5*OFFSET($D25,0,N$1-$D$11)","v":0},0,0,0,0,0,0,0,0,0,0,0,0,0,0,0,0,0,0,0,0,0,0,0,0,0,0,0,0,0,0,0,{"$f":"AT$5*OFFSET($D25,0,AT$1-$D$11)","v":0},0,0,0,0,0,0,0,0,0,0,0,0,0,0,0,0,0,0,0,0,0,0,0,0,0,0,0,0,0,0,0,{"$f":"BZ$5*OFFSET($D25,0,BZ$1-$D$11)","v":0},0,0,0,0,0,0,0,0,0,0,0,0,0,0,0,0,0,0,0]
[null,"Precio",{"$f":"CONTROL!E24*RIESGO!C6","v":0},{"$f":"$C26*D$8","v":0},0,0,0,0,0,0,0]
[null,"Unidades",{"$f":"CONTROL!E25*RIESGO!C5","v":0},{"$f":"IF(D$11<$C25,0,IF(D$11=$C25,$C27,C27*(1+D29)))","v":0},0,0,0,0,0,0,0]
[null,"Crecimiento",null,null,{"$f":"TRANSPOSE(CONTROL!E27:E32)*RIESGO!$C$10","v":0},0,0,0,0,0,{"$f":"CONTROL!$C$21*RIESGO!$C$10","v":0}]
[null,null,null,null,{"$f":"IF(D27=0,0,E28)","v":0},{"$f":"IF(E27=0,0,F28)","v":0},{"$f":"IF(F27=0,0,G28)","v":0},{"$f":"IF(G27=0,0,H28)","v":0},{"$f":"IF(H27=0,0,I28)","v":0},{"$f":"IF(I27=0,0,J28)","v":0},{"$f":"K28","v":0}]
[null,{"$f":"CONTROL!F22","v":"Línea D"}]
[null,"Ingresos",{"$f":"CONTROL!F23","v":0},{"$f":"D32*D33","v":0},0,0,0,0,0,0,{"$f":"K32*K33","v":0},null,null,{"$f":"N$5*OFFSET($D31,0,N$1-$D$11)","v":0},0,0,0,0,0,0,0,0,0,0,0,0,0,0,0,0,0,0,0,0,0,0,0,0,0,0,0,0,0,0,0,{"$f":"AT$5*OFFSET($D31,0,AT$1-$D$11)","v":0},0,0,0,0,0,0,0,0,0,0,0,0,0,0,0,0,0,0,0,0,0,0,0,0,0,0,0,0,0,0,0,{"$f":"BZ$5*OFFSET($D31,0,BZ$1-$D$11)","v":0},0,0,0,0,0,0,0,0,0,0,0,0,0,0,0,0,0,0,0]
[null,"Precio",{"$f":"CONTROL!F24*RIESGO!C6","v":0},{"$f":"$C32*D$8","v":0},0,0,0,0,0,0,0]
[null,"Unidades",{"$f":"CONTROL!F25*RIESGO!C5","v":0},{"$f":"IF(D$11<$C31,0,IF(D$11=$C31,$C33,C33*(1+D35)))","v":0},0,0,0,0,0,0,0]
[null,"Crecimiento",null,null,{"$f":"TRANSPOSE(CONTROL!F27:F32)*RIESGO!$C$10","v":0},0,0,0,0,0,{"$f":"CONTROL!$C$21*RIESGO!$C$10","v":0}]
[null,null,null,null,{"$f":"IF(D33=0,0,E34)","v":0},{"$f":"IF(E33=0,0,F34)","v":0},{"$f":"IF(F33=0,0,G34)","v":0},{"$f":"IF(G33=0,0,H34)","v":0},{"$f":"IF(H33=0,0,I34)","v":0},{"$f":"IF(I33=0,0,J34)","v":0},{"$f":"K34","v":0}]
[null,{"$f":"CONTROL!G22","v":"Línea E"},{"$f":"CONTROL!G23","v":0}]
[null,"Ingresos",{"$f":"CONTROL!G24*RIESGO!C6*RIESGO!C5","v":0},{"$f":"IF(D4<C36,0,C37)","v":0},{"$f":"IF(E4<$C$36,0,IF(E4=$C$36,$C$37*E8,D37*(1+E39)*E8/D8))","v":0},0,0,0,0,0,0,null,null,{"$f":"N$5*OFFSET($D37,0,N$1-$D$11)","v":0},0,0,0,0,0,0,0,0,0,0,0,0,0,0,0,0,0,0,0,0,0,0,0,0,0,0,0,0,0,0,0,{"$f":"AT$5*OFFSET($D37,0,AT$1-$D$11)","v":0},0,0,0,0,0,0,0,0,0,0,0,0,0,0,0,0,0,0,0,0,0,0,0,0,0,0,0,0,0,0,0,{"$f":"BZ$5*OFFSET($D37,0,BZ$1-$D$11)","v":0},0,0,0,0,0,0,0,0,0,0,0,0,0,0,0,0,0,0,0]
[null,"Crecimiento",null,null,{"$f":"TRANSPOSE(CONTROL!G27:G32)*RIESGO!$C$10","v":0},0,0,0,0,0,{"$f":"CONTROL!$C$21*RIESGO!$C$10","v":0}]
[null,null,null,null,{"$f":"IF(D37=0,0,E38)","v":0},{"$f":"IF(E37=0,0,F38)","v":0},{"$f":"IF(F37=0,0,G38)","v":0},0,0,0,{"$f":"K38","v":0}]
[null,{"$f":"CONTROL!H22","v":"Línea F"},{"$f":"CONTROL!H23","v":0}]
[null,"Ingresos",{"$f":"CONTROL!H24*RIESGO!C6*RIESGO!C5","v":0},{"$f":"D43*(D13+D19+D25+D31+D37)","v":0},0,0,0,0,0,0,0,null,null,{"$f":"N$5*OFFSET($D41,0,N$1-$D$11)","v":0},0,0,0,0,0,0,0,0,0,0,0,0,0,0,0,0,0,0,0,0,0,0,0,0,0,0,0,0,0,0,0,{"$f":"AT$5*OFFSET($D41,0,AT$1-$D$11)","v":0},0,0,0,0,0,0,0,0,0,0,0,0,0,0,0,0,0,0,0,0,0,0,0,0,0,0,0,0,0,0,0,{"$f":"BZ$5*OFFSET($D41,0,BZ$1-$D$11)","v":0},0,0,0,0,0,0,0,0,0,0,0,0,0,0,0,0,0,0,0]
[null,"Crecimiento",null,null,{"$f":"TRANSPOSE(CONTROL!H27:H32)*RIESGO!$C$10","v":0},0,0,0,0,0,{"$f":"CONTROL!$C$21*RIESGO!$C$10","v":0}]
[null,null,null,{"$f":"IF(D4<C40,0,C41)","v":0},{"$f":"IF(E4<$C$40,0,IF(E4=$C$40,$C$41,D43*(1+E42)))","v":0},{"$f":"IF(F4<$C$40,0,IF(F4=$C$40,$C$41,E43*(1+F42)))","v":0},0,0,0,0,0]
[]
[null,null,"Ingresos Totales",{"$f":"D13+D19+D25+D31+D37+D41","v":1},1,1,1,1,1,1,1,null,null,{"$f":"N13+N19+N25+N31+N37+N41","v":8.3333333333333329E-2},8.3333333333333329E-2,8.3333333333333329E-2,8.3333333333333329E-2,8.3333333333333329E-2,8.3333333333333329E-2,8.3333333333333329E-2,8.3333333333333329E-2,8.3333333333333329E-2,8.3333333333333329E-2,8.3333333333333329E-2,8.3333333333333329E-2,8.3333333333333329E-2,8.3333333333333329E-2,8.3333333333333329E-2,8.3333333333333329E-2,8.3333333333333329E-2,8.3333333333333329E-2,8.3333333333333329E-2,8.3333333333333329E-2,8.3333333333333329E-2,8.3333333333333329E-2,8.3333333333333329E-2,8.3333333333333329E-2,8.3333333333333329E-2,8.3333333333333329E-2,8.3333333333333329E-2,8.3333333333333329E-2,8.3333333333333329E-2,8.3333333333333329E-2,8.3333333333333329E-2,8.3333333333333329E-2,{"$f":"AT13+AT19+AT25+AT31+AT37+AT41","v":8.3333333333333329E-2},8.3333333333333329E-2,8.3333333333333329E-2,8.3333333333333329E-2,8.3333333333333329E-2,8.3333333333333329E-2,8.3333333333333329E-2,8.3333333333333329E-2,8.3333333333333329E-2,8.3333333333333329E-2,8.3333333333333329E-2,8.3333333333333329E-2,8.3333333333333329E-2,8.3333333333333329E-2,8.3333333333333329E-2,8.3333333333333329E-2,8.3333333333333329E-2,8.3333333333333329E-2,8.3333333333333329E-2,8.3333333333333329E-2,8.3333333333333329E-2,8.3333333333333329E-2,8.3333333333333329E-2,8.3333333333333329E-2,8.3333333333333329E-2,8.3333333333333329E-2,8.3333333333333329E-2,8.3333333333333329E-2,8.3333333333333329E-2,8.3333333333333329E-2,8.3333333333333329E-2,8.3333333333333329E-2,{"$f":"BZ13+BZ19+BZ25+BZ31+BZ37+BZ41","v":8.3333333333333329E-2},8.3333333333333329E-2,8.3333333333333329E-2,8.3333333333333329E-2,8.3333333333333329E-2,8.3333333333333329E-2,8.3333333333333329E-2,8.3333333333333329E-2,8.3333333333333329E-2,8.3333333333333329E-2,8.3333333333333329E-2,8.3333333333333329E-2,8.3333333333333329E-2,8.3333333333333329E-2,8.3333333333333329E-2,8.3333333333333329E-2,8.3333333333333329E-2,8.3333333333333329E-2,8.3333333333333329E-2,8.3333333333333329E-2]
[null,null,"Crecimiento ",null,{"$f":"E45/D45-1","v":0},0,0,0,0,0,0]
[]
[null,"Nivel primer año",{"$f":"1-(Mes_Ini-1)/12","v":1}]
[null,"Costes Fijos","Datos Base",{"$f":"D11","v":2014},2015,2016,2017,2018,2019,{"$f":"J11","v":2020},2021,null,null,{"$f":"N2","v":"2014-01-31"},"2014-02-28","2014-03-31","2014-04-30","2014-05-31","2014-06-30","2014-07-31","2014-08-31","2014-09-30","2014-10-31","2014-11-30","2014-12-31","2015-01-31","2015-02-28","2015-03-31","2015-04-30","2015-05-31","2015-06-30","2015-07-31","2015-08-31","2015-09-30","2015-10-31","2015-11-30","2015-12-31","2016-01-31","2016-02-29","2016-03-31","2016-04-30","2016-05-31","2016-06-30","2016-07-31","2016-08-31",{"$f":"AT2","v":"2016-09-30"},"2016-10-31","2016-11-30","2016-12-31","2017-01-31","2017-02-28","2017-03-31","2017-04-30","2017-05-31","2017-06-30","2017-07-31","2017-08-31","2017-09-30","2017-10-31","2017-11-30","2017-12-31","2018-01-31","2018-02-28","2018-03-31","2018-04-30","2018-05-31","2018-06-30","2018-07-31","2018-08-31","2018-09-30","2018-10-31","2018-11-30","2018-12-31","2019-01-31","2019-02-28","2019-03-31","2019-04-30",{"$f":"BZ2","v":"2019-05-31"},"2019-06-30","2019-07-31","2019-08-31","2019-09-30","2019-10-31","2019-11-30","2019-12-31","2020-01-31","2020-02-29","2020-03-31","2020-04-30","2020-05-31","2020-06-30","2020-07-31","2020-08-31","2020-09-30","2020-10-31","2020-11-30","2020-12-31"]
[null,"Personal",null,{"$f":"C50*RIESGO!$C$8*$C$48","v":0},{"$f":"$C50*RIESGO!$C$8*E$9","v":0},{"$f":"$C50*RIESGO!$C$8*F$9","v":0},{"$f":"$C50*RIESGO!$C$8*G$9","v":0},{"$f":"$C50*RIESGO!$C$8*H$9","v":0},{"$f":"$C50*RIESGO!$C$8*I$9","v":0},{"$f":"$C50*RIESGO!$C$8*J$9","v":0},{"$f":"$C50*RIESGO!$C$8*K$9","v":0},null,null,{"$f":"N$6*OFFSET($D50,0,N$1-$D$49)","v":0},0,0,0,0,0,0,0,0,0,{"$f":"X$6*OFFSET($D50,0,X$1-$D$49)","v":0},0,0,0,0,0,0,0,0,0,{"$f":"AH$6*OFFSET($D50,0,AH$1-$D$49)","v":0},0,0,0,0,0,0,0,0,0,{"$f":"AR$6*OFFSET($D50,0,AR$1-$D$49)","v":0},0,0,0,0,0,0,0,0,0,{"$f":"BB$6*OFFSET($D50,0,BB$1-$D$49)","v":0},0,0,0,0,0,0,0,0,0,{"$f":"BL$6*OFFSET($D50,0,BL$1-$D$49)","v":0},0,0,0,0,0,0,0,0,0,{"$f":"BV$6*OFFSET($D50,0,BV$1-$D$49)","v":0},0,0,0,0,0,0,0,0,0,{"$f":"CF$6*OFFSET($D50,0,CF$1-$D$49)","v":0},0,0,0,0,0,0,0,0,0,0,0,0,0]
[null,"Seguros y Tributos",null,{"$f":"C51*RIESGO!$C$8*$C$48","v":0},{"$f":"$C51*RIESGO!$C$8*E$9","v":0},{"$f":"$C51*RIESGO!$C$8*F$9","v":0},{"$f":"$C51*RIESGO!$C$8*G$9","v":0},{"$f":"$C51*RIESGO!$C$8*H$9","v":0},{"$f":"$C51*RIESGO!$C$8*I$9","v":0},{"$f":"$C51*RIESGO!$C$8*J$9","v":0},{"$f":"$C51*RIESGO!$C$8*K$9","v":0},null,null,0,0,0,0,0,0,0,0,0,0,0,0,0,0,0,0,0,0,0,0,0,0,0,0,0,0,0,0,0,0,0,0,0,0,0,0,0,0,0,0,0,0,0,0,0,0,0,0,0,0,0,0,0,0,0,0,0,0,0,0,0,0,0,0,0,0,0,0,0,0,0,0,0,0,0,0,0,0,0,0,0,0,0,0]
[null,"Alquileres",null,{"$f":"C52*RIESGO!$C$8*$C$48","v":0},{"$f":"$C52*RIESGO!$C$8*E$9","v":0},{"$f":"$C52*RIESGO!$C$8*F$9","v":0},{"$f":"$C52*RIESGO!$C$8*G$9","v":0},{"$f":"$C52*RIESGO!$C$8*H$9","v":0},{"$f":"$C52*RIESGO!$C$8*I$9","v":0},{"$f":"$C52*RIESGO!$C$8*J$9","v":0},{"$f":"$C52*RIESGO!$C$8*K$9","v":0},null,null,0,0,0,0,0,0,0,0,0,0,0,0,0,0,0,0,0,0,0,0,0,0,0,0,0,0,0,0,0,0,0,0,0,0,0,0,0,0,0,0,0,0,0,0,0,0,0,0,0,0,0,0,0,0,0,0,0,0,0,0,0,0,0,0,0,0,0,0,0,0,0,0,0,0,0,0,0,0,0,0,0,0,0,0]
[null,"Gastos Generales",null,{"$f":"C53*RIESGO!$C$8*$C$48","v":0},{"$f":"$C53*RIESGO!$C$8*E$9","v":0},{"$f":"$C53*RIESGO!$C$8*F$9","v":0},{"$f":"$C53*RIESGO!$C$8*G$9","v":0},{"$f":"$C53*RIESGO!$C$8*H$9","v":0},{"$f":"$C53*RIESGO!$C$8*I$9","v":0},{"$f":"$C53*RIESGO!$C$8*J$9","v":0},{"$f":"$C53*RIESGO!$C$8*K$9","v":0},null,null,0,0,0,0,0,0,0,0,0,0,0,0,0,0,0,0,0,0,0,0,0,0,0,0,0,0,0,0,0,0,0,0,0,0,0,0,0,0,0,0,0,0,0,0,0,0,0,0,0,0,0,0,0,0,0,0,0,0,0,0,0,0,0,0,0,0,0,0,0,0,0,0,0,0,0,0,0,0,0,0,0,0,0,0]
[null,"Suministros",null,{"$f":"C54*RIESGO!$C$8*$C$48","v":0},{"$f":"$C54*RIESGO!$C$8*E$9","v":0},{"$f":"$C54*RIESGO!$C$8*F$9","v":0},{"$f":"$C54*RIESGO!$C$8*G$9","v":0},{"$f":"$C54*RIESGO!$C$8*H$9","v":0},{"$f":"$C54*RIESGO!$C$8*I$9","v":0},{"$f":"$C54*RIESGO!$C$8*J$9","v":0},{"$f":"$C54*RIESGO!$C$8*K$9","v":0},null,null,0,0,0,0,0,0,0,0,0,0,0,0,0,0,0,0,0,0,0,0,0,0,0,0,0,0,0,0,0,0,0,0,0,0,0,0,0,0,0,0,0,0,0,0,0,0,0,0,0,0,0,0,0,0,0,0,0,0,0,0,0,0,0,0,0,0,0,0,0,0,0,0,0,0,0,0,0,0,0,0,0,0,0,0]
[null,"Otros",null,{"$f":"C55*RIESGO!$C$8*$C$48","v":0},{"$f":"$C55*RIESGO!$C$8*E$9","v":0},{"$f":"$C55*RIESGO!$C$8*F$9","v":0},{"$f":"$C55*RIESGO!$C$8*G$9","v":0},{"$f":"$C55*RIESGO!$C$8*H$9","v":0},{"$f":"$C55*RIESGO!$C$8*I$9","v":0},{"$f":"$C55*RIESGO!$C$8*J$9","v":0},{"$f":"$C55*RIESGO!$C$8*K$9","v":0},null,null,0,0,0,0,0,0,0,0,0,0,0,0,0,0,0,0,0,0,0,0,0,0,0,0,0,0,0,0,0,0,0,0,0,0,0,0,0,0,0,0,0,0,0,0,0,0,0,0,0,0,0,0,0,0,0,0,0,0,0,0,0,0,0,0,0,0,0,0,0,0,0,0,0,0,0,0,0,0,0,0,0,0,0,0]
[null,"TOTAL FIJOS",null,{"$f":"SUM(D50:D55)","v":0},0,0,0,0,0,0,0,null,null,{"$f":"SUM(N50:N55)","v":0},0,0,0,0,0,0,0,0,0,0,0,0,0,0,0,0,0,0,0,0,0,0,0,0,0,0,0,0,0,0,0,{"$f":"SUM(AT50:AT55)","v":0},0,0,0,0,0,0,0,0,0,0,0,0,0,0,0,0,0,0,0,0,0,0,0,0,0,0,0,0,0,0,0,{"$f":"SUM(BZ50:BZ55)","v":0},0,0,0,0,0,0,0,0,0,0,0,0,0,0,0,0,0,0,0]
[]
[null,"COSTES VARIABLES",null,{"$f":"D4","v":2014},2015,2016,2017,2018,2019,2020,2021,null,null,{"$f":"N49","v":"2014-01-31"},"2014-02-28","2014-03-31","2014-04-30","2014-05-31","2014-06-30","2014-07-31","2014-08-31","2014-09-30","2014-10-31","2014-11-30","2014-12-31","2015-01-31","2015-02-28","2015-03-31","2015-04-30","2015-05-31","2015-06-30","2015-07-31","2015-08-31","2015-09-30","2015-10-31","2015-11-30","2015-12-31","2016-01-31","2016-02-29","2016-03-31","2016-04-30","2016-05-31","2016-06-30","2016-07-31","2016-08-31",{"$f":"AT49","v":"2016-09-30"},"2016-10-31","2016-11-30","2016-12-31","2017-01-31","2017-02-28","2017-03-31","2017-04-30","2017-05-31","2017-06-30","2017-07-31","2017-08-31","2017-09-30","2017-10-31","2017-11-30","2017-12-31","2018-01-31","2018-02-28","2018-03-31","2018-04-30","2018-05-31","2018-06-30","2018-07-31","2018-08-31","2018-09-30","2018-10-31","2018-11-30","2018-12-31","2019-01-31","2019-02-28","2019-03-31","2019-04-30",{"$f":"BZ49","v":"2019-05-31"},"2019-06-30","2019-07-31","2019-08-31","2019-09-30","2019-10-31","2019-11-30","2019-12-31","2020-01-31","2020-02-29","2020-03-31","2020-04-30","2020-05-31","2020-06-30","2020-07-31","2020-08-31","2020-09-30","2020-10-31","2020-11-30","2020-12-31"]
[null,{"$f":"B12","v":"Línea A"},"DATO BASE",{"$f":"SUM(D60:D65)","v":0},0,0,0,0,0,0,{"$f":"SUM(K60:K65)","v":0},null,null,0,0,0,0,0,0,0,0,0,0,0,0,0,0,0,0,0,0,0,0,0,0,0,0,0,0,0,0,0,0,0,0,0,0,0,0,0,0,0,0,0,0,0,0,0,0,0,0,0,0,0,0,0,0,0,0,{"$f":"SUM(BR60:BR65)","v":0},0,0,0,0,0,0,0,0,0,0,0,0,0,0,0,0,0,0,0,0,0,0,0,0,0,0,0]
[null,"Materiales",null,{"$f":"$C60*RIESGO!$C$7*D$15*D$9","v":0},{"$f":"$C60*RIESGO!$C$7*E$9*E$15","v":0},{"$f":"$C60*RIESGO!$C$7*F$9*F$15","v":0},{"$f":"$C60*RIESGO!$C$7*G$9*G$15","v":0},{"$f":"$C60*RIESGO!$C$7*H$9*H$15","v":0},{"$f":"$C60*RIESGO!$C$7*I$9*I$15","v":0},{"$f":"$C60*RIESGO!$C$7*J$9*J$15","v":0},{"$f":"$C60*RIESGO!$C$7*K$9*K$15","v":0},null,null,{"$f":"N$5*OFFSET($D60,0,N$1-$D$49)","v":0},0,0,0,0,0,0,0,0,0,{"$f":"X$5*OFFSET($D60,0,X$1-$D$49)","v":0},0,0,0,0,0,0,0,0,0,{"$f":"AH$5*OFFSET($D60,0,AH$1-$D$49)","v":0},0,0,0,0,0,0,0,0,0,{"$f":"AR$5*OFFSET($D60,0,AR$1-$D$49)","v":0},0,0,0,0,0,0,0,0,0,{"$f":"BB$5*OFFSET($D60,0,BB$1-$D$49)","v":0},0,0,0,0,0,0,0,0,0,{"$f":"BL$5*OFFSET($D60,0,BL$1-$D$49)","v":0},0,0,0,0,0,0,0,0,0,{"$f":"BV$5*OFFSET($D60,0,BV$1-$D$49)","v":0},0,0,0,0,0,0,0,0,0,{"$f":"CF$5*OFFSET($D60,0,CF$1-$D$49)","v":0},0,0,0,0,0,0,0,0,0,0,0,0,0]
[null,"Materiales (%)",null,{"$f":"$C61*RIESGO!$C$7*D$13","v":0},{"$f":"$C61*RIESGO!$C$7*E$13","v":0},{"$f":"$C61*RIESGO!$C$7*F$13","v":0},{"$f":"$C61*RIESGO!$C$7*G$13","v":0},{"$f":"$C61*RIESGO!$C$7*H$13","v":0},{"$f":"$C61*RIESGO!$C$7*I$13","v":0},{"$f":"$C61*RIESGO!$C$7*J$13","v":0},{"$f":"$C61*RIESGO!$C$7*K$13","v":0},null,null,0,0,0,0,0,0,0,0,0,0,0,0,0,0,0,0,0,0,0,0,0,0,0,0,0,0,0,0,0,0,0,0,0,0,0,0,0,0,0,0,0,0,0,0,0,0,0,0,0,0,0,0,0,0,0,0,0,0,0,0,0,0,0,0,0,0,0,0,0,0,0,0,0,0,0,0,0,0,0,0,0,0,0,0]
[null,"Otros de Explotación",null,{"$f":"$C62*RIESGO!$C$7*D$15*D$9","v":0},{"$f":"$C62*RIESGO!$C$7*E$9*E$15","v":0},{"$f":"$C62*RIESGO!$C$7*F$9*F$15","v":0},{"$f":"$C62*RIESGO!$C$7*G$9*G$15","v":0},{"$f":"$C62*RIESGO!$C$7*H$9*H$15","v":0},{"$f":"$C62*RIESGO!$C$7*I$9*I$15","v":0},{"$f":"$C62*RIESGO!$C$7*J$9*J$15","v":0},{"$f":"$C62*RIESGO!$C$7*K$9*K$15","v":0},null,null,0,0,0,0,0,0,0,0,0,0,0,0,0,0,0,0,0,0,0,0,0,0,0,0,0,0,0,0,0,0,0,0,0,0,0,0,0,0,0,0,0,0,0,0,0,0,0,0,0,0,0,0,0,0,0,0,0,0,0,0,0,0,0,0,0,0,0,0,0,0,0,0,0,0,0,0,0,0,0,0,0,0,0,0]
[null,"Otros de Explotación (%)",null,{"$f":"$C63*RIESGO!$C$7*D$13","v":0},{"$f":"$C63*RIESGO!$C$7*E$13","v":0},{"$f":"$C63*RIESGO!$C$7*F$13","v":0},{"$f":"$C63*RIESGO!$C$7*G$13","v":0},{"$f":"$C63*RIESGO!$C$7*H$13","v":0},{"$f":"$C63*RIESGO!$C$7*I$13","v":0},{"$f":"$C63*RIESGO!$C$7*J$13","v":0},{"$f":"$C63*RIESGO!$C$7*K$13","v":0},null,null,0,0,0,0,0,0,0,0,0,0,0,0,0,0,0,0,0,0,0,0,0,0,0,0,0,0,0,0,0,0,0,0,0,0,0,0,0,0,0,0,0,0,0,0,0,0,0,0,0,0,0,0,0,0,0,0,0,0,0,0,0,0,0,0,0,0,0,0,0,0,0,0,0,0,0,0,0,0,0,0,0,0,0,0]
[null,"Comercialización",null,{"$f":"$C64*RIESGO!$C$7*D$15*D$9","v":0},{"$f":"$C64*RIESGO!$C$7*E$9*E$15","v":0},{"$f":"$C64*RIESGO!$C$7*F$9*F$15","v":0},{"$f":"$C64*RIESGO!$C$7*G$9*G$15","v":0},{"$f":"$C64*RIESGO!$C$7*H$9*H$15","v":0},{"$f":"$C64*RIESGO!$C$7*I$9*I$15","v":0},{"$f":"$C64*RIESGO!$C$7*J$9*J$15","v":0},{"$f":"$C64*RIESGO!$C$7*K$9*K$15","v":0},null,null,0,0,0,0,0,0,0,0,0,0,0,0,0,0,0,0,0,0,0,0,0,0,0,0,0,0,0,0,0,0,0,0,0,0,0,0,0,0,0,0,0,0,0,0,0,0,0,0,0,0,0,0,0,0,0,0,0,0,0,0,0,0,0,0,0,0,0,0,0,0,0,0,0,0,0,0,0,0,0,0,0,0,0,0]
[null,"Comercialización (%)",null,{"$f":"$C65*RIESGO!$C$7*D$13","v":0},{"$f":"$C65*RIESGO!$C$7*E$13","v":0},{"$f":"$C65*RIESGO!$C$7*F$13","v":0},{"$f":"$C65*RIESGO!$C$7*G$13","v":0},{"$f":"$C65*RIESGO!$C$7*H$13","v":0},{"$f":"$C65*RIESGO!$C$7*I$13","v":0},{"$f":"$C65*RIESGO!$C$7*J$13","v":0},{"$f":"$C65*RIESGO!$C$7*K$13","v":0},null,null,0,0,0,0,0,0,0,0,0,0,0,0,0,0,0,0,0,0,0,0,0,0,0,0,0,0,0,0,0,0,0,0,0,0,0,0,0,0,0,0,0,0,0,0,0,0,0,0,0,0,0,0,0,0,0,0,0,0,0,0,0,0,0,0,0,0,0,0,0,0,0,0,0,0,0,0,0,0,0,0,0,0,0,0]
[]
[null,{"$f":"B18","v":"Línea B"},null,{"$f":"SUM(D68:D73)","v":0},0,0,0,0,0,0,{"$f":"SUM(K68:K73)","v":0},null,null,0,0,0,0,0,0,0,0,0,0,0,0,0,0,0,0,0,0,0,0,0,0,0,0,0,0,0,0,0,0,0,0,0,0,0,0,0,0,0,0,0,0,0,0,0,0,0,0,0,0,0,0,0,0,0,0,{"$f":"SUM(BR68:BR73)","v":0},0,0,0,0,0,0,0,0,0,0,0,0,0,0,0,0,0,0,0,0,0,0,0,0,0,0,0]
[null,"Materiales",null,{"$f":"$C68*RIESGO!$C$7*D$9*D$21","v":0},{"$f":"$C68*RIESGO!$C$7*E$9*E$21","v":0},{"$f":"$C68*RIESGO!$C$7*F$9*F$21","v":0},{"$f":"$C68*RIESGO!$C$7*G$9*G$21","v":0},{"$f":"$C68*RIESGO!$C$7*H$9*H$21","v":0},{"$f":"$C68*RIESGO!$C$7*I$9*I$21","v":0},{"$f":"$C68*RIESGO!$C$7*J$9*J$21","v":0},{"$f":"$C68*RIESGO!$C$7*K$9*K$21","v":0},null,null,{"$f":"N$5*OFFSET($D68,0,N$1-$D$49)","v":0},0,0,0,0,0,0,0,0,0,{"$f":"X$5*OFFSET($D68,0,X$1-$D$49)","v":0},0,0,0,0,0,0,0,0,0,{"$f":"AH$5*OFFSET($D68,0,AH$1-$D$49)","v":0},0,0,0,0,0,0,0,0,0,{"$f":"AR$5*OFFSET($D68,0,AR$1-$D$49)","v":0},0,0,0,0,0,0,0,0,0,{"$f":"BB$5*OFFSET($D68,0,BB$1-$D$49)","v":0},0,0,0,0,0,0,0,0,0,{"$f":"BL$5*OFFSET($D68,0,BL$1-$D$49)","v":0},0,0,0,0,0,0,0,0,0,{"$f":"BV$5*OFFSET($D68,0,BV$1-$D$49)","v":0},0,0,0,0,0,0,0,0,0,{"$f":"CF$5*OFFSET($D68,0,CF$1-$D$49)","v":0},0,0,0,0,0,0,0,0,0,0,0,0,0]
[null,"Materiales (%)",null,{"$f":"$C69*RIESGO!$C$7*D$19","v":0},{"$f":"$C69*RIESGO!$C$7*E$19","v":0},{"$f":"$C69*RIESGO!$C$7*F$19","v":0},{"$f":"$C69*RIESGO!$C$7*G$19","v":0},{"$f":"$C69*RIESGO!$C$7*H$19","v":0},{"$f":"$C69*RIESGO!$C$7*I$19","v":0},{"$f":"$C69*RIESGO!$C$7*J$19","v":0},{"$f":"$C69*RIESGO!$C$7*K$19","v":0},null,null,0,0,0,0,0,0,0,0,0,0,0,0,0,0,0,0,0,0,0,0,0,0,0,0,0,0,0,0,0,0,0,0,0,0,0,0,0,0,0,0,0,0,0,0,0,0,0,0,0,0,0,0,0,0,0,0,0,0,0,0,0,0,0,0,0,0,0,0,0,0,0,0,0,0,0,0,0,0,0,0,0,0,0,0]
[null,"Otros de Explotación",null,{"$f":"$C70*RIESGO!$C$7*D$9*D$21","v":0},{"$f":"$C70*RIESGO!$C$7*E$9*E$21","v":0},{"$f":"$C70*RIESGO!$C$7*F$9*F$21","v":0},{"$f":"$C70*RIESGO!$C$7*G$9*G$21","v":0},{"$f":"$C70*RIESGO!$C$7*H$9*H$21","v":0},{"$f":"$C70*RIESGO!$C$7*I$9*I$21","v":0},{"$f":"$C70*RIESGO!$C$7*J$9*J$21","v":0},{"$f":"$C70*RIESGO!$C$7*K$9*K$21","v":0},null,null,0,0,0,0,0,0,0,0,0,0,0,0,0,0,0,0,0,0,0,0,0,0,0,0,0,0,0,0,0,0,0,0,0,0,0,0,0,0,0,0,0,0,0,0,0,0,0,0,0,0,0,0,0,0,0,0,0,0,0,0,0,0,0,0,0,0,0,0,0,0,0,0,0,0,0,0,0,0,0,0,0,0,0,0]
[null,"Otros de Explotación (%)",null,{"$f":"$C71*RIESGO!$C$7*D$19","v":0},{"$f":"$C71*RIESGO!$C$7*E$19","v":0},{"$f":"$C71*RIESGO!$C$7*F$19","v":0},{"$f":"$C71*RIESGO!$C$7*G$19","v":0},{"$f":"$C71*RIESGO!$C$7*H$19","v":0},{"$f":"$C71*RIESGO!$C$7*I$19","v":0},{"$f":"$C71*RIESGO!$C$7*J$19","v":0},{"$f":"$C71*RIESGO!$C$7*K$19","v":0},null,null,0,0,0,0,0,0,0,0,0,0,0,0,0,0,0,0,0,0,0,0,0,0,0,0,0,0,0,0,0,0,0,0,0,0,0,0,0,0,0,0,0,0,0,0,0,0,0,0,0,0,0,0,0,0,0,0,0,0,0,0,0,0,0,0,0,0,0,0,0,0,0,0,0,0,0,0,0,0,0,0,0,0,0,0]
[null,"Comercialización",null,{"$f":"$C72*RIESGO!$C$7*D$9*D$21","v":0},{"$f":"$C72*RIESGO!$C$7*E$9*E$21","v":0},{"$f":"$C72*RIESGO!$C$7*F$9*F$21","v":0},{"$f":"$C72*RIESGO!$C$7*G$9*G$21","v":0},{"$f":"$C72*RIESGO!$C$7*H$9*H$21","v":0},{"$f":"$C72*RIESGO!$C$7*I$9*I$21","v":0},{"$f":"$C72*RIESGO!$C$7*J$9*J$21","v":0},{"$f":"$C72*RIESGO!$C$7*K$9*K$21","v":0},null,null,0,0,0,0,0,0,0,0,0,0,0,0,0,0,0,0,0,0,0,0,0,0,0,0,0,0,0,0,0,0,0,0,0,0,0,0,0,0,0,0,0,0,0,0,0,0,0,0,0,0,0,0,0,0,0,0,0,0,0,0,0,0,0,0,0,0,0,0,0,0,0,0,0,0,0,0,0,0,0,0,0,0,0,0]
[null,"Comercialización (%)",null,{"$f":"$C73*RIESGO!$C$7*D$19","v":0},{"$f":"$C73*RIESGO!$C$7*E$19","v":0},{"$f":"$C73*RIESGO!$C$7*F$19","v":0},{"$f":"$C73*RIESGO!$C$7*G$19","v":0},{"$f":"$C73*RIESGO!$C$7*H$19","v":0},{"$f":"$C73*RIESGO!$C$7*I$19","v":0},{"$f":"$C73*RIESGO!$C$7*J$19","v":0},{"$f":"$C73*RIESGO!$C$7*K$19","v":0},null,null,0,0,0,0,0,0,0,0,0,0,0,0,0,0,0,0,0,0,0,0,0,0,0,0,0,0,0,0,0,0,0,0,0,0,0,0,0,0,0,0,0,0,0,0,0,0,0,0,0,0,0,0,0,0,0,0,0,0,0,0,0,0,0,0,0,0,0,0,0,0,0,0,0,0,0,0,0,0,0,0,0,0,0,0]
[]
[null,{"$f":"B24","v":"Línea C"},null,{"$f":"SUM(D76:D81)","v":0},0,0,0,0,0,0,{"$f":"SUM(K76:K81)","v":0},null,null,0,0,0,0,0,0,0,0,0,0,0,0,0,0,0,0,0,0,0,0,0,0,0,0,0,0,0,0,0,0,0,0,0,0,0,0,0,0,0,0,0,0,0,0,0,0,0,0,0,0,0,0,0,0,0,0,{"$f":"SUM(BR76:BR81)","v":0},0,0,0,0,0,0,0,0,0,0,0,0,0,0,0,0,0,0,0,0,0,0,0,0,0,0,0]
[null,"Materiales",null,{"$f":"$C76*RIESGO!$C$7*D$9*D$27","v":0},{"$f":"$C76*RIESGO!$C$7*E$9*E$27","v":0},{"$f":"$C76*RIESGO!$C$7*F$9*F$27","v":0},{"$f":"$C76*RIESGO!$C$7*G$9*G$27","v":0},{"$f":"$C76*RIESGO!$C$7*H$9*H$27","v":0},{"$f":"$C76*RIESGO!$C$7*I$9*I$27","v":0},{"$f":"$C76*RIESGO!$C$7*J$9*J$27","v":0},{"$f":"$C76*RIESGO!$C$7*K$9*K$27","v":0},null,null,{"$f":"N$5*OFFSET($D76,0,N$1-$D$49)","v":0},0,0,0,0,0,0,0,0,0,{"$f":"X$5*OFFSET($D76,0,X$1-$D$49)","v":0},0,0,0,0,0,0,0,0,0,{"$f":"AH$5*OFFSET($D76,0,AH$1-$D$49)","v":0},0,0,0,0,0,0,0,0,0,{"$f":"AR$5*OFFSET($D76,0,AR$1-$D$49)","v":0},0,0,0,0,0,0,0,0,0,{"$f":"BB$5*OFFSET($D76,0,BB$1-$D$49)","v":0},0,0,0,0,0,0,0,0,0,{"$f":"BL$5*OFFSET($D76,0,BL$1-$D$49)","v":0},0,0,0,0,0,0,0,0,0,{"$f":"BV$5*OFFSET($D76,0,BV$1-$D$49)","v":0},0,0,0,0,0,0,0,0,0,{"$f":"CF$5*OFFSET($D76,0,CF$1-$D$49)","v":0},0,0,0,0,0,0,0,0,0,0,0,0,0]
[null,"Materiales (%)",null,{"$f":"$C77*RIESGO!$C$7*D$25","v":0},{"$f":"$C77*RIESGO!$C$7*E$25","v":0},{"$f":"$C77*RIESGO!$C$7*F$25","v":0},{"$f":"$C77*RIESGO!$C$7*G$25","v":0},{"$f":"$C77*RIESGO!$C$7*H$25","v":0},{"$f":"$C77*RIESGO!$C$7*I$25","v":0},{"$f":"$C77*RIESGO!$C$7*J$25","v":0},{"$f":"$C77*RIESGO!$C$7*K$25","v":0},null,null,0,0,0,0,0,0,0,0,0,0,0,0,0,0,0,0,0,0,0,0,0,0,0,0,0,0,0,0,0,0,0,0,0,0,0,0,0,0,0,0,0,0,0,0,0,0,0,0,0,0,0,0,0,0,0,0,0,0,0,0,0,0,0,0,0,0,0,0,0,0,0,0,0,0,0,0,0,0,0,0,0,0,0,0]
[null,"Otros de Explotación",null,{"$f":"$C78*RIESGO!$C$7*D$9*D$27","v":0},{"$f":"$C78*RIESGO!$C$7*E$9*E$27","v":0},{"$f":"$C78*RIESGO!$C$7*F$9*F$27","v":0},{"$f":"$C78*RIESGO!$C$7*G$9*G$27","v":0},{"$f":"$C78*RIESGO!$C$7*H$9*H$27","v":0},{"$f":"$C78*RIESGO!$C$7*I$9*I$27","v":0},{"$f":"$C78*RIESGO!$C$7*J$9*J$27","v":0},{"$f":"$C78*RIESGO!$C$7*K$9*K$27","v":0},null,null,0,0,0,0,0,0,0,0,0,0,0,0,0,0,0,0,0,0,0,0,0,0,0,0,0,0,0,0,0,0,0,0,0,0,0,0,0,0,0,0,0,0,0,0,0,0,0,0,0,0,0,0,0,0,0,0,0,0,0,0,0,0,0,0,0,0,0,0,0,0,0,0,0,0,0,0,0,0,0,0,0,0,0,0]
[null,"Otros de Explotación (%)",null,{"$f":"$C79*RIESGO!$C$7*D$25","v":0},{"$f":"$C79*RIESGO!$C$7*E$25","v":0},{"$f":"$C79*RIESGO!$C$7*F$25","v":0},{"$f":"$C79*RIESGO!$C$7*G$25","v":0},{"$f":"$C79*RIESGO!$C$7*H$25","v":0},{"$f":"$C79*RIESGO!$C$7*I$25","v":0},{"$f":"$C79*RIESGO!$C$7*J$25","v":0},{"$f":"$C79*RIESGO!$C$7*K$25","v":0},null,null,0,0,0,0,0,0,0,0,0,0,0,0,0,0,0,0,0,0,0,0,0,0,0,0,0,0,0,0,0,0,0,0,0,0,0,0,0,0,0,0,0,0,0,0,0,0,0,0,0,0,0,0,0,0,0,0,0,0,0,0,0,0,0,0,0,0,0,0,0,0,0,0,0,0,0,0,0,0,0,0,0,0,0,0]
[null,"Comercialización",null,{"$f":"$C80*RIESGO!$C$7*D$9*D$27","v":0},{"$f":"$C80*RIESGO!$C$7*E$9*E$27","v":0},{"$f":"$C80*RIESGO!$C$7*F$9*F$27","v":0},{"$f":"$C80*RIESGO!$C$7*G$9*G$27","v":0},{"$f":"$C80*RIESGO!$C$7*H$9*H$27","v":0},{"$f":"$C80*RIESGO!$C$7*I$9*I$27","v":0},{"$f":"$C80*RIESGO!$C$7*J$9*J$27","v":0},{"$f":"$C80*RIESGO!$C$7*K$9*K$27","v":0},null,null,0,0,0,0,0,0,0,0,0,0,0,0,0,0,0,0,0,0,0,0,0,0,0,0,0,0,0,0,0,0,0,0,0,0,0,0,0,0,0,0,0,0,0,0,0,0,0,0,0,0,0,0,0,0,0,0,0,0,0,0,0,0,0,0,0,0,0,0,0,0,0,0,0,0,0,0,0,0,0,0,0,0,0,0]
[null,"Comercialización (%)",null,{"$f":"$C81*RIESGO!$C$7*D$25","v":0},{"$f":"$C81*RIESGO!$C$7*E$25","v":0},{"$f":"$C81*RIESGO!$C$7*F$25","v":0},{"$f":"$C81*RIESGO!$C$7*G$25","v":0},{"$f":"$C81*RIESGO!$C$7*H$25","v":0},{"$f":"$C81*RIESGO!$C$7*I$25","v":0},{"$f":"$C81*RIESGO!$C$7*J$25","v":0},{"$f":"$C81*RIESGO!$C$7*K$25","v":0},null,null,0,0,0,0,0,0,0,0,0,0,0,0,0,0,0,0,0,0,0,0,0,0,0,0,0,0,0,0,0,0,0,0,0,0,0,0,0,0,0,0,0,0,0,0,0,0,0,0,0,0,0,0,0,0,0,0,0,0,0,0,0,0,0,0,0,0,0,0,0,0,0,0,0,0,0,0,0,0,0,0,0,0,0,0]
[]
[null,{"$f":"B30","v":"Línea D"},null,{"$f":"SUM(D84:D89)","v":0},0,0,0,0,0,0,{"$f":"SUM(K84:K89)","v":0},null,null,0,0,0,0,0,0,0,0,0,0,0,0,0,0,0,0,0,0,0,0,0,0,0,0,0,0,0,0,0,0,0,0,0,0,0,0,0,0,0,0,0,0,0,0,0,0,0,0,0,0,0,0,0,0,0,0,{"$f":"SUM(BR84:BR89)","v":0},0,0,0,0,0,0,0,0,0,0,0,0,0,0,0,0,0,0,0,0,0,0,0,0,0,0,0]
[null,"Materiales",null,{"$f":"$C84*RIESGO!$C$7*D$9*D$33","v":0},{"$f":"$C84*RIESGO!$C$7*E$9*E$33","v":0},{"$f":"$C84*RIESGO!$C$7*F$9*F$33","v":0},{"$f":"$C84*RIESGO!$C$7*G$9*G$33","v":0},{"$f":"$C84*RIESGO!$C$7*H$9*H$33","v":0},{"$f":"$C84*RIESGO!$C$7*I$9*I$33","v":0},{"$f":"$C84*RIESGO!$C$7*J$9*J$33","v":0},{"$f":"$C84*RIESGO!$C$7*K$9*K$33","v":0},null,null,{"$f":"N$5*OFFSET($D84,0,N$1-$D$49)","v":0},0,0,0,0,0,0,0,0,0,{"$f":"X$5*OFFSET($D84,0,X$1-$D$49)","v":0},0,0,0,0,0,0,0,0,0,{"$f":"AH$5*OFFSET($D84,0,AH$1-$D$49)","v":0},0,0,0,0,0,0,0,0,0,{"$f":"AR$5*OFFSET($D84,0,AR$1-$D$49)","v":0},0,0,0,0,0,0,0,0,0,{"$f":"BB$5*OFFSET($D84,0,BB$1-$D$49)","v":0},0,0,0,0,0,0,0,0,0,{"$f":"BL$5*OFFSET($D84,0,BL$1-$D$49)","v":0},0,0,0,0,0,0,0,0,0,{"$f":"BV$5*OFFSET($D84,0,BV$1-$D$49)","v":0},0,0,0,0,0,0,0,0,0,{"$f":"CF$5*OFFSET($D84,0,CF$1-$D$49)","v":0},0,0,0,0,0,0,0,0,0,0,0,0,0]
[null,"Materiales (%)",null,{"$f":"$C85*RIESGO!$C$7*D$31","v":0},{"$f":"$C85*RIESGO!$C$7*E$31","v":0},{"$f":"$C85*RIESGO!$C$7*F$31","v":0},{"$f":"$C85*RIESGO!$C$7*G$31","v":0},{"$f":"$C85*RIESGO!$C$7*H$31","v":0},{"$f":"$C85*RIESGO!$C$7*I$31","v":0},{"$f":"$C85*RIESGO!$C$7*J$31","v":0},{"$f":"$C85*RIESGO!$C$7*K$31","v":0},null,null,0,0,0,0,0,0,0,0,0,0,0,0,0,0,0,0,0,0,0,0,0,0,0,0,0,0,0,0,0,0,0,0,0,0,0,0,0,0,0,0,0,0,0,0,0,0,0,0,0,0,0,0,0,0,0,0,0,0,0,0,0,0,0,0,0,0,0,0,0,0,0,0,0,0,0,0,0,0,0,0,0,0,0,0]
[null,"Otros de Explotación",null,{"$f":"$C86*RIESGO!$C$7*D$9*D$33","v":0},{"$f":"$C86*RIESGO!$C$7*E$9*E$33","v":0},{"$f":"$C86*RIESGO!$C$7*F$9*F$33","v":0},{"$f":"$C86*RIESGO!$C$7*G$9*G$33","v":0},{"$f":"$C86*RIESGO!$C$7*H$9*H$33","v":0},{"$f":"$C86*RIESGO!$C$7*I$9*I$33","v":0},{"$f":"$C86*RIESGO!$C$7*J$9*J$33","v":0},{"$f":"$C86*RIESGO!$C$7*K$9*K$33","v":0},null,null,0,0,0,0,0,0,0,0,0,0,0,0,0,0,0,0,0,0,0,0,0,0,0,0,0,0,0,0,0,0,0,0,0,0,0,0,0,0,0,0,0,0,0,0,0,0,0,0,0,0,0,0,0,0,0,0,0,0,0,0,0,0,0,0,0,0,0,0,0,0,0,0,0,0,0,0,0,0,0,0,0,0,0,0]
[null,"Otros de Explotación (%)",null,{"$f":"$C87*RIESGO!$C$7*D$31","v":0},{"$f":"$C87*RIESGO!$C$7*E$31","v":0},{"$f":"$C87*RIESGO!$C$7*F$31","v":0},{"$f":"$C87*RIESGO!$C$7*G$31","v":0},{"$f":"$C87*RIESGO!$C$7*H$31","v":0},{"$f":"$C87*RIESGO!$C$7*I$31","v":0},{"$f":"$C87*RIESGO!$C$7*J$31","v":0},{"$f":"$C87*RIESGO!$C$7*K$31","v":0},null,null,0,0,0,0,0,0,0,0,0,0,0,0,0,0,0,0,0,0,0,0,0,0,0,0,0,0,0,0,0,0,0,0,0,0,0,0,0,0,0,0,0,0,0,0,0,0,0,0,0,0,0,0,0,0,0,0,0,0,0,0,0,0,0,0,0,0,0,0,0,0,0,0,0,0,0,0,0,0,0,0,0,0,0,0]
[null,"Comercialización",null,{"$f":"$C88*RIESGO!$C$7*D$9*D$33","v":0},{"$f":"$C88*RIESGO!$C$7*E$9*E$33","v":0},{"$f":"$C88*RIESGO!$C$7*F$9*F$33","v":0},{"$f":"$C88*RIESGO!$C$7*G$9*G$33","v":0},{"$f":"$C88*RIESGO!$C$7*H$9*H$33","v":0},{"$f":"$C88*RIESGO!$C$7*I$9*I$33","v":0},{"$f":"$C88*RIESGO!$C$7*J$9*J$33","v":0},{"$f":"$C88*RIESGO!$C$7*K$9*K$33","v":0},null,null,0,0,0,0,0,0,0,0,0,0,0,0,0,0,0,0,0,0,0,0,0,0,0,0,0,0,0,0,0,0,0,0,0,0,0,0,0,0,0,0,0,0,0,0,0,0,0,0,0,0,0,0,0,0,0,0,0,0,0,0,0,0,0,0,0,0,0,0,0,0,0,0,0,0,0,0,0,0,0,0,0,0,0,0]
[null,"Comercialización (%)",null,{"$f":"$C89*RIESGO!$C$7*D$31","v":0},{"$f":"$C89*RIESGO!$C$7*E$31","v":0},{"$f":"$C89*RIESGO!$C$7*F$31","v":0},{"$f":"$C89*RIESGO!$C$7*G$31","v":0},{"$f":"$C89*RIESGO!$C$7*H$31","v":0},{"$f":"$C89*RIESGO!$C$7*I$31","v":0},{"$f":"$C89*RIESGO!$C$7*J$31","v":0},{"$f":"$C89*RIESGO!$C$7*K$31","v":0},null,null,0,0,0,0,0,0,0,0,0,0,0,0,0,0,0,0,0,0,0,0,0,0,0,0,0,0,0,0,0,0,0,0,0,0,0,0,0,0,0,0,0,0,0,0,0,0,0,0,0,0,0,0,0,0,0,0,0,0,0,0,0,0,0,0,0,0,0,0,0,0,0,0,0,0,0,0,0,0,0,0,0,0,0,0]
[]
[null,{"$f":"CONTROL!G22","v":"Línea E"},null,{"$f":"SUM(D92:D94)","v":0},{"$f":"SUM(E92:E94)","v":0},0,0,0,0,0,{"$f":"SUM(K92:K94)","v":0},null,null,{"$f":"SUM(N92:N94)","v":0},0,0,0,0,0,0,0,0,0,0,0,0,0,0,0,0,0,0,0,0,0,0,0,0,0,0,0,0,0,0,0,{"$f":"SUM(AT92:AT94)","v":0},0,0,0,0,0,0,0,0,0,0,0,0,0,0,0,0,0,0,0,0,0,0,0,0,0,0,0,0,0,0,0,{"$f":"SUM(BZ92:BZ94)","v":0},0,0,0,0,0,0,0,0,0,0,0,0,0,0,0,0,0,0,0]
[null,"Materiales (%)",null,{"$f":"$C92*RIESGO!$C$7*D$37","v":0},{"$f":"$C92*RIESGO!$C$7*E$37","v":0},{"$f":"$C92*RIESGO!$C$7*F$37","v":0},{"$f":"$C92*RIESGO!$C$7*G$37","v":0},{"$f":"$C92*RIESGO!$C$7*H$37","v":0},{"$f":"$C92*RIESGO!$C$7*I$37","v":0},{"$f":"$C92*RIESGO!$C$7*J$37","v":0},{"$f":"$C92*RIESGO!$C$7*K$37","v":0},null,null,{"$f":"N$5*OFFSET($D92,0,N$1-$D$49)","v":0},0,0,0,0,0,0,0,0,0,{"$f":"X$5*OFFSET($D92,0,X$1-$D$49)","v":0},0,0,0,0,0,0,0,0,0,{"$f":"AH$5*OFFSET($D92,0,AH$1-$D$49)","v":0},0,0,0,0,0,0,0,0,0,{"$f":"AR$5*OFFSET($D92,0,AR$1-$D$49)","v":0},0,0,0,0,0,0,0,0,0,{"$f":"BB$5*OFFSET($D92,0,BB$1-$D$49)","v":0},0,0,0,0,0,0,0,0,0,{"$f":"BL$5*OFFSET($D92,0,BL$1-$D$49)","v":0},0,0,0,0,0,0,0,0,0,{"$f":"BV$5*OFFSET($D92,0,BV$1-$D$49)","v":0},0,0,0,0,0,0,0,0,0,{"$f":"CF$5*OFFSET($D92,0,CF$1-$D$49)","v":0},0,0,0,0,0,0,0,0,0,0,0,0,0]
[null,"Otros de Explotación (%)",null,{"$f":"$C93*RIESGO!$C$7*D$37","v":0},{"$f":"$C93*RIESGO!$C$7*E$37","v":0},{"$f":"$C93*RIESGO!$C$7*F$37","v":0},{"$f":"$C93*RIESGO!$C$7*G$37","v":0},{"$f":"$C93*RIESGO!$C$7*H$37","v":0},{"$f":"$C93*RIESGO!$C$7*I$37","v":0},{"$f":"$C93*RIESGO!$C$7*J$37","v":0},{"$f":"$C93*RIESGO!$C$7*K$37","v":0},null,null,0,0,0,0,0,0,0,0,0,0,0,0,0,0,0,0,0,0,0,0,0,0,0,0,0,0,0,0,0,0,0,0,0,0,0,0,0,0,0,0,0,0,0,0,0,0,0,0,0,0,0,0,0,0,0,0,0,0,0,0,0,0,0,0,0,0,0,0,0,0,0,0,0,0,0,0,0,0,0,0,0,0,0,0]
[null,"Comercialización (%)",null,{"$f":"$C94*RIESGO!$C$7*D$37","v":0},{"$f":"$C94*RIESGO!$C$7*E$37","v":0},{"$f":"$C94*RIESGO!$C$7*F$37","v":0},{"$f":"$C94*RIESGO!$C$7*G$37","v":0},{"$f":"$C94*RIESGO!$C$7*H$37","v":0},{"$f":"$C94*RIESGO!$C$7*I$37","v":0},{"$f":"$C94*RIESGO!$C$7*J$37","v":0},{"$f":"$C94*RIESGO!$C$7*K$37","v":0},null,null,0,0,0,0,0,0,0,0,0,0,0,0,0,0,0,0,0,0,0,0,0,0,0,0,0,0,0,0,0,0,0,0,0,0,0,0,0,0,0,0,0,0,0,0,0,0,0,0,0,0,0,0,0,0,0,0,0,0,0,0,0,0,0,0,0,0,0,0,0,0,0,0,0,0,0,0,0,0,0,0,0,0,0,0]
[]
[null,{"$f":"CONTROL!H22","v":"Línea F"},null,{"$f":"SUM(D97:D99)","v":0},{"$f":"SUM(E97:E99)","v":0},0,0,0,0,0,{"$f":"SUM(K97:K99)","v":0},null,null,{"$f":"SUM(N97:N99)","v":0},0,0,0,0,0,0,0,0,0,0,0,0,0,0,0,0,0,0,0,0,0,0,0,0,0,0,0,0,0,0,0,{"$f":"SUM(AT97:AT99)","v":0},0,0,0,0,0,0,0,0,0,0,0,0,0,0,0,0,0,0,0,0,0,0,0,0,0,0,0,0,0,0,0,{"$f":"SUM(BZ97:BZ99)","v":0},0,0,0,0,0,0,0,0,0,0,0,0,0,0,0,0,0,0,0]
[null,"Materiales (%)",null,{"$f":"$C97*RIESGO!$C$7*D$41","v":0},{"$f":"$C97*RIESGO!$C$7*E$41","v":0},{"$f":"$C97*RIESGO!$C$7*F$41","v":0},{"$f":"$C97*RIESGO!$C$7*G$41","v":0},{"$f":"$C97*RIESGO!$C$7*H$41","v":0},{"$f":"$C97*RIESGO!$C$7*I$41","v":0},{"$f":"$C97*RIESGO!$C$7*J$41","v":0},{"$f":"$C97*RIESGO!$C$7*K$41","v":0},null,null,{"$f":"N$5*OFFSET($D97,0,N$1-$D$49)","v":0},0,0,0,0,0,0,0,0,0,{"$f":"X$5*OFFSET($D97,0,X$1-$D$49)","v":0},0,0,0,0,0,0,0,0,0,{"$f":"AH$5*OFFSET($D97,0,AH$1-$D$49)","v":0},0,0,0,0,0,0,0,0,0,{"$f":"AR$5*OFFSET($D97,0,AR$1-$D$49)","v":0},0,0,0,0,0,0,0,0,0,{"$f":"BB$5*OFFSET($D97,0,BB$1-$D$49)","v":0},0,0,0,0,0,0,0,0,0,{"$f":"BL$5*OFFSET($D97,0,BL$1-$D$49)","v":0},0,0,0,0,0,0,0,0,0,{"$f":"BV$5*OFFSET($D97,0,BV$1-$D$49)","v":0},0,0,0,0,0,0,0,0,0,{"$f":"CF$5*OFFSET($D97,0,CF$1-$D$49)","v":0},0,0,0,0,0,0,0,0,0,0,0,0,0]
[null,"Otros de Explotación (%)",null,{"$f":"$C98*RIESGO!$C$7*D$41","v":0},{"$f":"$C98*RIESGO!$C$7*E$41","v":0},{"$f":"$C98*RIESGO!$C$7*F$41","v":0},{"$f":"$C98*RIESGO!$C$7*G$41","v":0},{"$f":"$C98*RIESGO!$C$7*H$41","v":0},{"$f":"$C98*RIESGO!$C$7*I$41","v":0},{"$f":"$C98*RIESGO!$C$7*J$41","v":0},{"$f":"$C98*RIESGO!$C$7*K$41","v":0},null,null,0,0,0,0,0,0,0,0,0,0,0,0,0,0,0,0,0,0,0,0,0,0,0,0,0,0,0,0,0,0,0,0,0,0,0,0,0,0,0,0,0,0,0,0,0,0,0,0,0,0,0,0,0,0,0,0,0,0,0,0,0,0,0,0,0,0,0,0,0,0,0,0,0,0,0,0,0,0,0,0,0,0,0,0]
[null,"Comercialización (%)",null,{"$f":"$C99*RIESGO!$C$7*D$41","v":0},{"$f":"$C99*RIESGO!$C$7*E$41","v":0},{"$f":"$C99*RIESGO!$C$7*F$41","v":0},{"$f":"$C99*RIESGO!$C$7*G$41","v":0},{"$f":"$C99*RIESGO!$C$7*H$41","v":0},{"$f":"$C99*RIESGO!$C$7*I$41","v":0},{"$f":"$C99*RIESGO!$C$7*J$41","v":0},{"$f":"$C99*RIESGO!$C$7*K$41","v":0},null,null,0,0,0,0,0,0,0,0,0,0,0,0,0,0,0,0,0,0,0,0,0,0,0,0,0,0,0,0,0,0,0,0,0,0,0,0,0,0,0,0,0,0,0,0,0,0,0,0,0,0,0,0,0,0,0,0,0,0,0,0,0,0,0,0,0,0,0,0,0,0,0,0,0,0,0,0,0,0,0,0,0,0,0,0]
[]
[null,null,"TOTAL VARIABLES",{"$f":"D59+D67+D75+D83+D91+D96","v":0},0,0,0,0,0,0,{"$f":"K59+K67+K75+K83+K91+K96","v":0},null,null,0,{"$f":"O59+O67+O75+O83+O91+O96","v":0},{"$f":"P59+P67+P75+P83+P91+P96","v":0},{"$f":"Q59+Q67+Q75+Q83+Q91+Q96","v":0},0,0,0,0,0,0,0,0,0,0,0,0,0,0,0,0,0,0,0,0,0,0,0,0,0,0,0,0,0,0,0,0,0,0,0,0,0,0,0,0,0,0,0,0,0,0,0,0,0,0,0,0,0,0,0,0,0,0,0,0,0,0,0,{"$f":"CC59+CC67+CC75+CC83+CC91+CC96","v":0},0,0,0,0,0,0,0,0,0,0,0,0,0,0,0,0]
[]
[null,"RESÚMEN DE COSTES VARIABLES",null,{"$f":"D4","v":2014},2015,2016,2017,2018,2019,2020,null,null,null,{"$f":"N49","v":"2014-01-31"},"2014-02-28","2014-03-31","2014-04-30","2014-05-31","2014-06-30","2014-07-31","2014-08-31","2014-09-30","2014-10-31","2014-11-30","2014-12-31","2015-01-31","2015-02-28","2015-03-31","2015-04-30","2015-05-31","2015-06-30","2015-07-31","2015-08-31","2015-09-30","2015-10-31","2015-11-30","2015-12-31","2016-01-31","2016-02-29","2016-03-31","2016-04-30","2016-05-31","2016-06-30","2016-07-31","2016-08-31",{"$f":"AT49","v":"2016-09-30"},"2016-10-31","2016-11-30","2016-12-31","2017-01-31","2017-02-28","2017-03-31","2017-04-30","2017-05-31","2017-06-30","2017-07-31","2017-08-31","2017-09-30","2017-10-31","2017-11-30","2017-12-31","2018-01-31","2018-02-28","2018-03-31","2018-04-30","2018-05-31","2018-06-30","2018-07-31","2018-08-31","2018-09-30","2018-10-31","2018-11-30","2018-12-31","2019-01-31","2019-02-28","2019-03-31","2019-04-30",{"$f":"BZ49","v":"2019-05-31"},"2019-06-30","2019-07-31","2019-08-31","2019-09-30","2019-10-31","2019-11-30","2019-12-31","2020-01-31","2020-02-29","2020-03-31","2020-04-30","2020-05-31","2020-06-30","2020-07-31","2020-08-31","2020-09-30","2020-10-31","2020-11-30","2020-12-31",{"$f":"EOMONTH(CS103,1)","v":"2021-01-31"},{"$f":"EOMONTH(CT103,1)","v":"2021-02-28"},"2021-03-31","2021-04-30","2021-05-31","2021-06-30"]
[null,null,"Materias Primas y Auxiliares",{"$f":"D60+D61+D68+D69+D76+D77+D84+D85+D92+D97","v":0},0,0,0,0,0,0,null,null,null,{"$f":"N60+N61+N68+N69+N76+N77+N84+N85+N92+N97","v":0},0,0,0,0,0,0,0,0,0,0,0,0,0,0,0,0,0,0,0,0,0,0,0,0,0,0,0,0,0,0,0,{"$f":"AT60+AT61+AT68+AT69+AT76+AT77+AT84+AT85+AT92+AT97","v":0},0,0,0,0,0,0,0,0,0,0,0,0,0,0,0,0,0,0,0,0,0,0,0,0,0,0,0,0,0,0,0,{"$f":"BZ60+BZ61+BZ68+BZ69+BZ76+BZ77+BZ84+BZ85+BZ92+BZ97","v":0},0,0,0,0,0,0,0,0,0,0,0,0,0,0,0,0,0,0,0,{"$f":"CH104*(1+CONTROL!$C$21)","v":0},{"$f":"CI104*(1+CONTROL!$C$21)","v":0},{"$f":"CJ104*(1+CONTROL!$C$21)","v":0},{"$f":"CK104*(1+CONTROL!$C$21)","v":0},{"$f":"CL104*(1+CONTROL!$C$21)","v":0},{"$f":"CM104*(1+CONTROL!$C$21)","v":0}]
[null,null,"Otros de Explotación",{"$f":"D62+D63+D70+D71+D78+D79+D86+D87+D93+D98","v":0},{"$f":"E62+E63+E70+E71+E78+E79+E86+E87+E93+E98","v":0},0,0,0,0,0,null,null,null,{"$f":"N62+N63+N70+N71+N78+N79+N86+N87+N93+N98","v":0},0,0,0,0,0,0,0,0,0,0,0,0,0,0,0,0,0,0,0,0,0,0,0,0,0,0,0,0,0,0,0,{"$f":"AT62+AT63+AT70+AT71+AT78+AT79+AT86+AT87+AT93+AT98","v":0},0,0,0,0,0,0,0,0,0,0,0,0,0,0,0,0,0,0,0,0,0,0,0,0,0,0,0,0,0,0,0,{"$f":"BZ62+BZ63+BZ70+BZ71+BZ78+BZ79+BZ86+BZ87+BZ93+BZ98","v":0},0,0,0,0,0,0,0,0,0,0,0,0,0,0,0,0,0,0,0,{"$f":"CH105*(1+CONTROL!$C$21)","v":0},{"$f":"CI105*(1+CONTROL!$C$21)","v":0},{"$f":"CJ105*(1+CONTROL!$C$21)","v":0}]
[null,null,"Costes de Comercialización",{"$f":"D64+D65+D72+D73+D80+D81+D88+D89+D94+D99","v":0},{"$f":"E64+E65+E72+E73+E80+E81+E88+E89+E94+E99","v":0},0,0,0,0,0,null,null,null,{"$f":"N64+N65+N72+N73+N80+N81+N88+N89+N94+N99","v":0},0,0,0,0,0,0,0,0,0,0,0,0,0,0,0,0,0,0,0,0,0,0,0,0,0,0,0,0,0,0,0,{"$f":"AT64+AT65+AT72+AT73+AT80+AT81+AT88+AT89+AT94+AT99","v":0},0,0,0,0,0,0,0,0,0,0,0,0,0,0,0,0,0,0,0,0,0,0,0,0,0,0,0,0,0,0,0,{"$f":"BZ64+BZ65+BZ72+BZ73+BZ80+BZ81+BZ88+BZ89+BZ94+BZ99","v":0},0,0,0,0,0,0,0,0,0,0,0,0,0,0,0,0,0,0,0]
[null,null,"Costes Variables de Producción",{"$f":"D104+D105","v":0},{"$f":"E104+E105","v":0},0,0,0,0,0,null,null,null,{"$f":"N104+N105","v":0},0,0,0,0,0,0,0,0,0,0,0,0,0,0,0,0,0,0,0,0,0,0,0,0,0,0,0,0,0,0,0,0,0,0,0,0,0,0,0,0,0,0,0,0,0,0,0,0,0,0,0,0,0,0,0,0,0,0,0,0,0,0,0,{"$f":"BZ104+BZ105","v":0},0,0,0,0,0,0,0,0,0,0,0,0,0,0,0,0,0,0,0]
[]
[null,"CONSUMOS, COMPRAS, INVENTARIOS",null,{"$f":"D103","v":2014},{"$f":"E103","v":2015},2016,2017,2018,2019,2020,null,null,{"$f":"EOMONTH(N109,-1)","v":"2013-12-31"},{"$f":"N103","v":"2014-01-31"},{"$f":"O103","v":"2014-02-28"},"2014-03-31","2014-04-30","2014-05-31","2014-06-30","2014-07-31","2014-08-31","2014-09-30","2014-10-31","2014-11-30","2014-12-31","2015-01-31","2015-02-28","2015-03-31","2015-04-30","2015-05-31","2015-06-30","2015-07-31","2015-08-31","2015-09-30","2015-10-31","2015-11-30","2015-12-31","2016-01-31","2016-02-29","2016-03-31","2016-04-30","2016-05-31","2016-06-30","2016-07-31","2016-08-31","2016-09-30","2016-10-31","2016-11-30","2016-12-31","2017-01-31","2017-02-28","2017-03-31","2017-04-30","2017-05-31","2017-06-30","2017-07-31","2017-08-31","2017-09-30","2017-10-31","2017-11-30","2017-12-31","2018-01-31","2018-02-28","2018-03-31","2018-04-30","2018-05-31","2018-06-30","2018-07-31","2018-08-31","2018-09-30","2018-10-31","2018-11-30","2018-12-31","2019-01-31","2019-02-28","2019-03-31","2019-04-30","2019-05-31",{"$f":"CA103","v":"2019-06-30"},"2019-07-31","2019-08-31","2019-09-30","2019-10-31","2019-11-30","2019-12-31","2020-01-31","2020-02-29","2020-03-31","2020-04-30","2020-05-31","2020-06-30","2020-07-31","2020-08-31","2020-09-30","2020-10-31","2020-11-30","2020-12-31","2021-01-31","2021-02-28","2021-03-31"]
[null,null,"Consumo de Materiales",{"$f":"SUMIF($N$1:$CS$1,D$4,$N110:$CS110)","v":0},0,0,0,0,0,0,null,null,null,{"$f":"IF(CONTROL!$H$20=0,INCO!N104,IF(CONTROL!$H$20=1,INCO!N104+INCO!O104,IF(CONTROL!$H$20=2,INCO!N104+INCO!O104+INCO!P104,N104+O104+P104+Q104)))","v":0},{"$f":"IF(CONTROL!$H$20=0,INCO!O104,IF(CONTROL!$H$20=1,INCO!P104,IF(CONTROL!$H$20=2,INCO!Q104,R104)))","v":0},{"$f":"IF(CONTROL!$H$20=0,INCO!P104,IF(CONTROL!$H$20=1,INCO!Q104,IF(CONTROL!$H$20=2,INCO!R104,S104)))","v":0},{"$f":"IF(CONTROL!$H$20=0,INCO!Q104,IF(CONTROL!$H$20=1,INCO!R104,IF(CONTROL!$H$20=2,INCO!S104,T104)))","v":0},{"$f":"IF(CONTROL!$H$20=0,INCO!R104,IF(CONTROL!$H$20=1,INCO!S104,IF(CONTROL!$H$20=2,INCO!T104,U104)))","v":0},{"$f":"IF(CONTROL!$H$20=0,INCO!S104,IF(CONTROL!$H$20=1,INCO!T104,IF(CONTROL!$H$20=2,INCO!U104,V104)))","v":0},{"$f":"IF(CONTROL!$H$20=0,INCO!T104,IF(CONTROL!$H$20=1,INCO!U104,IF(CONTROL!$H$20=2,INCO!V104,W104)))","v":0},{"$f":"IF(CONTROL!$H$20=0,INCO!U104,IF(CONTROL!$H$20=1,INCO!V104,IF(CONTROL!$H$20=2,INCO!W104,X104)))","v":0},{"$f":"IF(CONTROL!$H$20=0,INCO!V104,IF(CONTROL!$H$20=1,INCO!W104,IF(CONTROL!$H$20=2,INCO!X104,Y104)))","v":0},{"$f":"IF(CONTROL!$H$20=0,INCO!W104,IF(CONTROL!$H$20=1,INCO!X104,IF(CONTROL!$H$20=2,INCO!Y104,Z104)))","v":0},{"$f":"IF(CONTROL!$H$20=0,INCO!X104,IF(CONTROL!$H$20=1,INCO!Y104,IF(CONTROL!$H$20=2,INCO!Z104,AA104)))","v":0},{"$f":"IF(CONTROL!$H$20=0,INCO!Y104,IF(CONTROL!$H$20=1,INCO!Z104,IF(CONTROL!$H$20=2,INCO!AA104,AB104)))","v":0},{"$f":"IF(CONTROL!$H$20=0,INCO!Z104,IF(CONTROL!$H$20=1,INCO!AA104,IF(CONTROL!$H$20=2,INCO!AB104,AC104)))","v":0},{"$f":"IF(CONTROL!$H$20=0,INCO!AA104,IF(CONTROL!$H$20=1,INCO!AB104,IF(CONTROL!$H$20=2,INCO!AC104,AD104)))","v":0},{"$f":"IF(CONTROL!$H$20=0,INCO!AB104,IF(CONTROL!$H$20=1,INCO!AC104,IF(CONTROL!$H$20=2,INCO!AD104,AE104)))","v":0},{"$f":"IF(CONTROL!$H$20=0,INCO!AC104,IF(CONTROL!$H$20=1,INCO!AD104,IF(CONTROL!$H$20=2,INCO!AE104,AF104)))","v":0},{"$f":"IF(CONTROL!$H$20=0,INCO!AD104,IF(CONTROL!$H$20=1,INCO!AE104,IF(CONTROL!$H$20=2,INCO!AF104,AG104)))","v":0},{"$f":"IF(CONTROL!$H$20=0,INCO!AE104,IF(CONTROL!$H$20=1,INCO!AF104,IF(CONTROL!$H$20=2,INCO!AG104,AH104)))","v":0},{"$f":"IF(CONTROL!$H$20=0,INCO!AF104,IF(CONTROL!$H$20=1,INCO!AG104,IF(CONTROL!$H$20=2,INCO!AH104,AI104)))","v":0},{"$f":"IF(CONTROL!$H$20=0,INCO!AG104,IF(CONTROL!$H$20=1,INCO!AH104,IF(CONTROL!$H$20=2,INCO!AI104,AJ104)))","v":0},{"$f":"IF(CONTROL!$H$20=0,INCO!AH104,IF(CONTROL!$H$20=1,INCO!AI104,IF(CONTROL!$H$20=2,INCO!AJ104,AK104)))","v":0},{"$f":"IF(CONTROL!$H$20=0,INCO!AI104,IF(CONTROL!$H$20=1,INCO!AJ104,IF(CONTROL!$H$20=2,INCO!AK104,AL104)))","v":0},{"$f":"IF(CONTROL!$H$20=0,INCO!AJ104,IF(CONTROL!$H$20=1,INCO!AK104,IF(CONTROL!$H$20=2,INCO!AL104,AM104)))","v":0},{"$f":"IF(CONTROL!$H$20=0,INCO!AK104,IF(CONTROL!$H$20=1,INCO!AL104,IF(CONTROL!$H$20=2,INCO!AM104,AN104)))","v":0},{"$f":"IF(CONTROL!$H$20=0,INCO!AL104,IF(CONTROL!$H$20=1,INCO!AM104,IF(CONTROL!$H$20=2,INCO!AN104,AO104)))","v":0},{"$f":"IF(CONTROL!$H$20=0,INCO!AM104,IF(CONTROL!$H$20=1,INCO!AN104,IF(CONTROL!$H$20=2,INCO!AO104,AP104)))","v":0},{"$f":"IF(CONTROL!$H$20=0,INCO!AN104,IF(CONTROL!$H$20=1,INCO!AO104,IF(CONTROL!$H$20=2,INCO!AP104,AQ104)))","v":0},{"$f":"IF(CONTROL!$H$20=0,INCO!AO104,IF(CONTROL!$H$20=1,INCO!AP104,IF(CONTROL!$H$20=2,INCO!AQ104,AR104)))","v":0},{"$f":"IF(CONTROL!$H$20=0,INCO!AP104,IF(CONTROL!$H$20=1,INCO!AQ104,IF(CONTROL!$H$20=2,INCO!AR104,AS104)))","v":0},{"$f":"IF(CONTROL!$H$20=0,INCO!AQ104,IF(CONTROL!$H$20=1,INCO!AR104,IF(CONTROL!$H$20=2,INCO!AS104,AT104)))","v":0},{"$f":"IF(CONTROL!$H$20=0,INCO!AR104,IF(CONTROL!$H$20=1,INCO!AS104,IF(CONTROL!$H$20=2,INCO!AT104,AU104)))","v":0},{"$f":"IF(CONTROL!$H$20=0,INCO!AS104,IF(CONTROL!$H$20=1,INCO!AT104,IF(CONTROL!$H$20=2,INCO!AU104,AV104)))","v":0},{"$f":"IF(CONTROL!$H$20=0,INCO!AT104,IF(CONTROL!$H$20=1,INCO!AU104,IF(CONTROL!$H$20=2,INCO!AV104,AW104)))","v":0},{"$f":"IF(CONTROL!$H$20=0,INCO!AU104,IF(CONTROL!$H$20=1,INCO!AV104,IF(CONTROL!$H$20=2,INCO!AW104,AX104)))","v":0},{"$f":"IF(CONTROL!$H$20=0,INCO!AV104,IF(CONTROL!$H$20=1,INCO!AW104,IF(CONTROL!$H$20=2,INCO!AX104,AY104)))","v":0},{"$f":"IF(CONTROL!$H$20=0,INCO!AW104,IF(CONTROL!$H$20=1,INCO!AX104,IF(CONTROL!$H$20=2,INCO!AY104,AZ104)))","v":0},{"$f":"IF(CONTROL!$H$20=0,INCO!AX104,IF(CONTROL!$H$20=1,INCO!AY104,IF(CONTROL!$H$20=2,INCO!AZ104,BA104)))","v":0},{"$f":"IF(CONTROL!$H$20=0,INCO!AY104,IF(CONTROL!$H$20=1,INCO!AZ104,IF(CONTROL!$H$20=2,INCO!BA104,BB104)))","v":0},{"$f":"IF(CONTROL!$H$20=0,INCO!AZ104,IF(CONTROL!$H$20=1,INCO!BA104,IF(CONTROL!$H$20=2,INCO!BB104,BC104)))","v":0},{"$f":"IF(CONTROL!$H$20=0,INCO!BA104,IF(CONTROL!$H$20=1,INCO!BB104,IF(CONTROL!$H$20=2,INCO!BC104,BD104)))","v":0},{"$f":"IF(CONTROL!$H$20=0,INCO!BB104,IF(CONTROL!$H$20=1,INCO!BC104,IF(CONTROL!$H$20=2,INCO!BD104,BE104)))","v":0},{"$f":"IF(CONTROL!$H$20=0,INCO!BC104,IF(CONTROL!$H$20=1,INCO!BD104,IF(CONTROL!$H$20=2,INCO!BE104,BF104)))","v":0},{"$f":"IF(CONTROL!$H$20=0,INCO!BD104,IF(CONTROL!$H$20=1,INCO!BE104,IF(CONTROL!$H$20=2,INCO!BF104,BG104)))","v":0},{"$f":"IF(CONTROL!$H$20=0,INCO!BE104,IF(CONTROL!$H$20=1,INCO!BF104,IF(CONTROL!$H$20=2,INCO!BG104,BH104)))","v":0},{"$f":"IF(CONTROL!$H$20=0,INCO!BF104,IF(CONTROL!$H$20=1,INCO!BG104,IF(CONTROL!$H$20=2,INCO!BH104,BI104)))","v":0},{"$f":"IF(CONTROL!$H$20=0,INCO!BG104,IF(CONTROL!$H$20=1,INCO!BH104,IF(CONTROL!$H$20=2,INCO!BI104,BJ104)))","v":0},{"$f":"IF(CONTROL!$H$20=0,INCO!BH104,IF(CONTROL!$H$20=1,INCO!BI104,IF(CONTROL!$H$20=2,INCO!BJ104,BK104)))","v":0},{"$f":"IF(CONTROL!$H$20=0,INCO!BI104,IF(CONTROL!$H$20=1,INCO!BJ104,IF(CONTROL!$H$20=2,INCO!BK104,BL104)))","v":0},{"$f":"IF(CONTROL!$H$20=0,INCO!BJ104,IF(CONTROL!$H$20=1,INCO!BK104,IF(CONTROL!$H$20=2,INCO!BL104,BM104)))","v":0},{"$f":"IF(CONTROL!$H$20=0,INCO!BK104,IF(CONTROL!$H$20=1,INCO!BL104,IF(CONTROL!$H$20=2,INCO!BM104,BN104)))","v":0},{"$f":"IF(CONTROL!$H$20=0,INCO!BL104,IF(CONTROL!$H$20=1,INCO!BM104,IF(CONTROL!$H$20=2,INCO!BN104,BO104)))","v":0},{"$f":"IF(CONTROL!$H$20=0,INCO!BM104,IF(CONTROL!$H$20=1,INCO!BN104,IF(CONTROL!$H$20=2,INCO!BO104,BP104)))","v":0},{"$f":"IF(CONTROL!$H$20=0,INCO!BN104,IF(CONTROL!$H$20=1,INCO!BO104,IF(CONTROL!$H$20=2,INCO!BP104,BQ104)))","v":0},{"$f":"IF(CONTROL!$H$20=0,INCO!BO104,IF(CONTROL!$H$20=1,INCO!BP104,IF(CONTROL!$H$20=2,INCO!BQ104,BR104)))","v":0},{"$f":"IF(CONTROL!$H$20=0,INCO!BP104,IF(CONTROL!$H$20=1,INCO!BQ104,IF(CONTROL!$H$20=2,INCO!BR104,BS104)))","v":0},{"$f":"IF(CONTROL!$H$20=0,INCO!BQ104,IF(CONTROL!$H$20=1,INCO!BR104,IF(CONTROL!$H$20=2,INCO!BS104,BT104)))","v":0},{"$f":"IF(CONTROL!$H$20=0,INCO!BR104,IF(CONTROL!$H$20=1,INCO!BS104,IF(CONTROL!$H$20=2,INCO!BT104,BU104)))","v":0},{"$f":"IF(CONTROL!$H$20=0,INCO!BS104,IF(CONTROL!$H$20=1,INCO!BT104,IF(CONTROL!$H$20=2,INCO!BU104,BV104)))","v":0},{"$f":"IF(CONTROL!$H$20=0,INCO!BT104,IF(CONTROL!$H$20=1,INCO!BU104,IF(CONTROL!$H$20=2,INCO!BV104,BW104)))","v":0},{"$f":"IF(CONTROL!$H$20=0,INCO!BU104,IF(CONTROL!$H$20=1,INCO!BV104,IF(CONTROL!$H$20=2,INCO!BW104,BX104)))","v":0},{"$f":"IF(CONTROL!$H$20=0,INCO!BV104,IF(CONTROL!$H$20=1,INCO!BW104,IF(CONTROL!$H$20=2,INCO!BX104,BY104)))","v":0},{"$f":"IF(CONTROL!$H$20=0,INCO!BW104,IF(CONTROL!$H$20=1,INCO!BX104,IF(CONTROL!$H$20=2,INCO!BY104,BZ104)))","v":0},{"$f":"IF(CONTROL!$H$20=0,INCO!BX104,IF(CONTROL!$H$20=1,INCO!BY104,IF(CONTROL!$H$20=2,INCO!BZ104,CA104)))","v":0},{"$f":"IF(CONTROL!$H$20=0,INCO!BY104,IF(CONTROL!$H$20=1,INCO!BZ104,IF(CONTROL!$H$20=2,INCO!CA104,CB104)))","v":0},{"$f":"IF(CONTROL!$H$20=0,INCO!BZ104,IF(CONTROL!$H$20=1,INCO!CA104,IF(CONTROL!$H$20=2,INCO!CB104,CC104)))","v":0},{"$f":"IF(CONTROL!$H$20=0,INCO!CA104,IF(CONTROL!$H$20=1,INCO!CB104,IF(CONTROL!$H$20=2,INCO!CC104,CD104)))","v":0},{"$f":"IF(CONTROL!$H$20=0,INCO!CB104,IF(CONTROL!$H$20=1,INCO!CC104,IF(CONTROL!$H$20=2,INCO!CD104,CE104)))","v":0},{"$f":"IF(CONTROL!$H$20=0,INCO!CC104,IF(CONTROL!$H$20=1,INCO!CD104,IF(CONTROL!$H$20=2,INCO!CE104,CF104)))","v":0},{"$f":"IF(CONTROL!$H$20=0,INCO!CD104,IF(CONTROL!$H$20=1,INCO!CE104,IF(CONTROL!$H$20=2,INCO!CF104,CG104)))","v":0},{"$f":"IF(CONTROL!$H$20=0,INCO!CE104,IF(CONTROL!$H$20=1,INCO!CF104,IF(CONTROL!$H$20=2,INCO!CG104,CH104)))","v":0},{"$f":"IF(CONTROL!$H$20=0,INCO!CF104,IF(CONTROL!$H$20=1,INCO!CG104,IF(CONTROL!$H$20=2,INCO!CH104,CI104)))","v":0},{"$f":"IF(CONTROL!$H$20=0,INCO!CG104,IF(CONTROL!$H$20=1,INCO!CH104,IF(CONTROL!$H$20=2,INCO!CI104,CJ104)))","v":0},{"$f":"IF(CONTROL!$H$20=0,INCO!CH104,IF(CONTROL!$H$20=1,INCO!CI104,IF(CONTROL!$H$20=2,INCO!CJ104,CK104)))","v":0},{"$f":"IF(CONTROL!$H$20=0,INCO!CI104,IF(CONTROL!$H$20=1,INCO!CJ104,IF(CONTROL!$H$20=2,INCO!CK104,CL104)))","v":0},{"$f":"IF(CONTROL!$H$20=0,INCO!CJ104,IF(CONTROL!$H$20=1,INCO!CK104,IF(CONTROL!$H$20=2,INCO!CL104,CM104)))","v":0},{"$f":"IF(CONTROL!$H$20=0,INCO!CK104,IF(CONTROL!$H$20=1,INCO!CL104,IF(CONTROL!$H$20=2,INCO!CM104,CN104)))","v":0},{"$f":"IF(CONTROL!$H$20=0,INCO!CL104,IF(CONTROL!$H$20=1,INCO!CM104,IF(CONTROL!$H$20=2,INCO!CN104,CO104)))","v":0},{"$f":"IF(CONTROL!$H$20=0,INCO!CM104,IF(CONTROL!$H$20=1,INCO!CN104,IF(CONTROL!$H$20=2,INCO!CO104,CP104)))","v":0},{"$f":"IF(CONTROL!$H$20=0,INCO!CN104,IF(CONTROL!$H$20=1,INCO!CO104,IF(CONTROL!$H$20=2,INCO!CP104,CQ104)))","v":0},{"$f":"IF(CONTROL!$H$20=0,INCO!CO104,IF(CONTROL!$H$20=1,INCO!CP104,IF(CONTROL!$H$20=2,INCO!CQ104,CR104)))","v":0},{"$f":"IF(CONTROL!$H$20=0,INCO!CP104,IF(CONTROL!$H$20=1,INCO!CQ104,IF(CONTROL!$H$20=2,INCO!CR104,CS104)))","v":0},{"$f":"IF(CONTROL!$H$20=0,INCO!CQ104,IF(CONTROL!$H$20=1,INCO!CR104,IF(CONTROL!$H$20=2,INCO!CS104,CT104)))","v":0},{"$f":"IF(CONTROL!$H$20=0,INCO!CR104,IF(CONTROL!$H$20=1,INCO!CS104,IF(CONTROL!$H$20=2,INCO!CT104,CU104)))","v":0},{"$f":"IF(CONTROL!$H$20=0,INCO!CS104,IF(CONTROL!$H$20=1,INCO!CT104,IF(CONTROL!$H$20=2,INCO!CU104,CV104)))","v":0},{"$f":"IF(CONTROL!$H$20=0,INCO!CT104,IF(CONTROL!$H$20=1,INCO!CU104,IF(CONTROL!$H$20=2,INCO!CV104,CW104)))","v":0},{"$f":"IF(CONTROL!$H$20=0,INCO!CU104,IF(CONTROL!$H$20=1,INCO!CV104,IF(CONTROL!$H$20=2,INCO!CW104,CX104)))","v":0},{"$f":"IF(CONTROL!$H$20=0,INCO!CV104,IF(CONTROL!$H$20=1,INCO!CW104,IF(CONTROL!$H$20=2,INCO!CX104,CY104)))","v":0}]
[null,null,"Consumo Otros de Explotación",0,0,0,0,0,0,0,null,null,null,{"$f":"IF(CONTROL!$H$20=0,INCO!N105,IF(CONTROL!$H$20=1,INCO!N105+INCO!O105,IF(CONTROL!$H$20=2,INCO!N105+INCO!O105+INCO!P105,N105+O105+P105+Q105)))","v":0},{"$f":"IF(CONTROL!$H$20=0,INCO!O105,IF(CONTROL!$H$20=1,INCO!P105,IF(CONTROL!$H$20=2,INCO!Q105,R105)))","v":0},{"$f":"IF(CONTROL!$H$20=0,INCO!P105,IF(CONTROL!$H$20=1,INCO!Q105,IF(CONTROL!$H$20=2,INCO!R105,S105)))","v":0},{"$f":"IF(CONTROL!$H$20=0,INCO!Q105,IF(CONTROL!$H$20=1,INCO!R105,IF(CONTROL!$H$20=2,INCO!S105,T105)))","v":0},{"$f":"IF(CONTROL!$H$20=0,INCO!R105,IF(CONTROL!$H$20=1,INCO!S105,IF(CONTROL!$H$20=2,INCO!T105,U105)))","v":0},{"$f":"IF(CONTROL!$H$20=0,INCO!S105,IF(CONTROL!$H$20=1,INCO!T105,IF(CONTROL!$H$20=2,INCO!U105,V105)))","v":0},{"$f":"IF(CONTROL!$H$20=0,INCO!T105,IF(CONTROL!$H$20=1,INCO!U105,IF(CONTROL!$H$20=2,INCO!V105,W105)))","v":0},{"$f":"IF(CONTROL!$H$20=0,INCO!U105,IF(CONTROL!$H$20=1,INCO!V105,IF(CONTROL!$H$20=2,INCO!W105,X105)))","v":0},{"$f":"IF(CONTROL!$H$20=0,INCO!V105,IF(CONTROL!$H$20=1,INCO!W105,IF(CONTROL!$H$20=2,INCO!X105,Y105)))","v":0},{"$f":"IF(CONTROL!$H$20=0,INCO!W105,IF(CONTROL!$H$20=1,INCO!X105,IF(CONTROL!$H$20=2,INCO!Y105,Z105)))","v":0},{"$f":"IF(CONTROL!$H$20=0,INCO!X105,IF(CONTROL!$H$20=1,INCO!Y105,IF(CONTROL!$H$20=2,INCO!Z105,AA105)))","v":0},{"$f":"IF(CONTROL!$H$20=0,INCO!Y105,IF(CONTROL!$H$20=1,INCO!Z105,IF(CONTROL!$H$20=2,INCO!AA105,AB105)))","v":0},{"$f":"IF(CONTROL!$H$20=0,INCO!Z105,IF(CONTROL!$H$20=1,INCO!AA105,IF(CONTROL!$H$20=2,INCO!AB105,AC105)))","v":0},{"$f":"IF(CONTROL!$H$20=0,INCO!AA105,IF(CONTROL!$H$20=1,INCO!AB105,IF(CONTROL!$H$20=2,INCO!AC105,AD105)))","v":0},{"$f":"IF(CONTROL!$H$20=0,INCO!AB105,IF(CONTROL!$H$20=1,INCO!AC105,IF(CONTROL!$H$20=2,INCO!AD105,AE105)))","v":0},{"$f":"IF(CONTROL!$H$20=0,INCO!AC105,IF(CONTROL!$H$20=1,INCO!AD105,IF(CONTROL!$H$20=2,INCO!AE105,AF105)))","v":0},{"$f":"IF(CONTROL!$H$20=0,INCO!AD105,IF(CONTROL!$H$20=1,INCO!AE105,IF(CONTROL!$H$20=2,INCO!AF105,AG105)))","v":0},{"$f":"IF(CONTROL!$H$20=0,INCO!AE105,IF(CONTROL!$H$20=1,INCO!AF105,IF(CONTROL!$H$20=2,INCO!AG105,AH105)))","v":0},{"$f":"IF(CONTROL!$H$20=0,INCO!AF105,IF(CONTROL!$H$20=1,INCO!AG105,IF(CONTROL!$H$20=2,INCO!AH105,AI105)))","v":0},{"$f":"IF(CONTROL!$H$20=0,INCO!AG105,IF(CONTROL!$H$20=1,INCO!AH105,IF(CONTROL!$H$20=2,INCO!AI105,AJ105)))","v":0},{"$f":"IF(CONTROL!$H$20=0,INCO!AH105,IF(CONTROL!$H$20=1,INCO!AI105,IF(CONTROL!$H$20=2,INCO!AJ105,AK105)))","v":0},{"$f":"IF(CONTROL!$H$20=0,INCO!AI105,IF(CONTROL!$H$20=1,INCO!AJ105,IF(CONTROL!$H$20=2,INCO!AK105,AL105)))","v":0},{"$f":"IF(CONTROL!$H$20=0,INCO!AJ105,IF(CONTROL!$H$20=1,INCO!AK105,IF(CONTROL!$H$20=2,INCO!AL105,AM105)))","v":0},{"$f":"IF(CONTROL!$H$20=0,INCO!AK105,IF(CONTROL!$H$20=1,INCO!AL105,IF(CONTROL!$H$20=2,INCO!AM105,AN105)))","v":0},{"$f":"IF(CONTROL!$H$20=0,INCO!AL105,IF(CONTROL!$H$20=1,INCO!AM105,IF(CONTROL!$H$20=2,INCO!AN105,AO105)))","v":0},{"$f":"IF(CONTROL!$H$20=0,INCO!AM105,IF(CONTROL!$H$20=1,INCO!AN105,IF(CONTROL!$H$20=2,INCO!AO105,AP105)))","v":0},{"$f":"IF(CONTROL!$H$20=0,INCO!AN105,IF(CONTROL!$H$20=1,INCO!AO105,IF(CONTROL!$H$20=2,INCO!AP105,AQ105)))","v":0},{"$f":"IF(CONTROL!$H$20=0,INCO!AO105,IF(CONTROL!$H$20=1,INCO!AP105,IF(CONTROL!$H$20=2,INCO!AQ105,AR105)))","v":0},{"$f":"IF(CONTROL!$H$20=0,INCO!AP105,IF(CONTROL!$H$20=1,INCO!AQ105,IF(CONTROL!$H$20=2,INCO!AR105,AS105)))","v":0},{"$f":"IF(CONTROL!$H$20=0,INCO!AQ105,IF(CONTROL!$H$20=1,INCO!AR105,IF(CONTROL!$H$20=2,INCO!AS105,AT105)))","v":0},{"$f":"IF(CONTROL!$H$20=0,INCO!AR105,IF(CONTROL!$H$20=1,INCO!AS105,IF(CONTROL!$H$20=2,INCO!AT105,AU105)))","v":0},{"$f":"IF(CONTROL!$H$20=0,INCO!AS105,IF(CONTROL!$H$20=1,INCO!AT105,IF(CONTROL!$H$20=2,INCO!AU105,AV105)))","v":0},{"$f":"IF(CONTROL!$H$20=0,INCO!AT105,IF(CONTROL!$H$20=1,INCO!AU105,IF(CONTROL!$H$20=2,INCO!AV105,AW105)))","v":0},{"$f":"IF(CONTROL!$H$20=0,INCO!AU105,IF(CONTROL!$H$20=1,INCO!AV105,IF(CONTROL!$H$20=2,INCO!AW105,AX105)))","v":0},{"$f":"IF(CONTROL!$H$20=0,INCO!AV105,IF(CONTROL!$H$20=1,INCO!AW105,IF(CONTROL!$H$20=2,INCO!AX105,AY105)))","v":0},{"$f":"IF(CONTROL!$H$20=0,INCO!AW105,IF(CONTROL!$H$20=1,INCO!AX105,IF(CONTROL!$H$20=2,INCO!AY105,AZ105)))","v":0},{"$f":"IF(CONTROL!$H$20=0,INCO!AX105,IF(CONTROL!$H$20=1,INCO!AY105,IF(CONTROL!$H$20=2,INCO!AZ105,BA105)))","v":0},{"$f":"IF(CONTROL!$H$20=0,INCO!AY105,IF(CONTROL!$H$20=1,INCO!AZ105,IF(CONTROL!$H$20=2,INCO!BA105,BB105)))","v":0},{"$f":"IF(CONTROL!$H$20=0,INCO!AZ105,IF(CONTROL!$H$20=1,INCO!BA105,IF(CONTROL!$H$20=2,INCO!BB105,BC105)))","v":0},{"$f":"IF(CONTROL!$H$20=0,INCO!BA105,IF(CONTROL!$H$20=1,INCO!BB105,IF(CONTROL!$H$20=2,INCO!BC105,BD105)))","v":0},{"$f":"IF(CONTROL!$H$20=0,INCO!BB105,IF(CONTROL!$H$20=1,INCO!BC105,IF(CONTROL!$H$20=2,INCO!BD105,BE105)))","v":0},{"$f":"IF(CONTROL!$H$20=0,INCO!BC105,IF(CONTROL!$H$20=1,INCO!BD105,IF(CONTROL!$H$20=2,INCO!BE105,BF105)))","v":0},{"$f":"IF(CONTROL!$H$20=0,INCO!BD105,IF(CONTROL!$H$20=1,INCO!BE105,IF(CONTROL!$H$20=2,INCO!BF105,BG105)))","v":0},{"$f":"IF(CONTROL!$H$20=0,INCO!BE105,IF(CONTROL!$H$20=1,INCO!BF105,IF(CONTROL!$H$20=2,INCO!BG105,BH105)))","v":0},{"$f":"IF(CONTROL!$H$20=0,INCO!BF105,IF(CONTROL!$H$20=1,INCO!BG105,IF(CONTROL!$H$20=2,INCO!BH105,BI105)))","v":0},{"$f":"IF(CONTROL!$H$20=0,INCO!BG105,IF(CONTROL!$H$20=1,INCO!BH105,IF(CONTROL!$H$20=2,INCO!BI105,BJ105)))","v":0},{"$f":"IF(CONTROL!$H$20=0,INCO!BH105,IF(CONTROL!$H$20=1,INCO!BI105,IF(CONTROL!$H$20=2,INCO!BJ105,BK105)))","v":0},{"$f":"IF(CONTROL!$H$20=0,INCO!BI105,IF(CONTROL!$H$20=1,INCO!BJ105,IF(CONTROL!$H$20=2,INCO!BK105,BL105)))","v":0},{"$f":"IF(CONTROL!$H$20=0,INCO!BJ105,IF(CONTROL!$H$20=1,INCO!BK105,IF(CONTROL!$H$20=2,INCO!BL105,BM105)))","v":0},{"$f":"IF(CONTROL!$H$20=0,INCO!BK105,IF(CONTROL!$H$20=1,INCO!BL105,IF(CONTROL!$H$20=2,INCO!BM105,BN105)))","v":0},{"$f":"IF(CONTROL!$H$20=0,INCO!BL105,IF(CONTROL!$H$20=1,INCO!BM105,IF(CONTROL!$H$20=2,INCO!BN105,BO105)))","v":0},{"$f":"IF(CONTROL!$H$20=0,INCO!BM105,IF(CONTROL!$H$20=1,INCO!BN105,IF(CONTROL!$H$20=2,INCO!BO105,BP105)))","v":0},{"$f":"IF(CONTROL!$H$20=0,INCO!BN105,IF(CONTROL!$H$20=1,INCO!BO105,IF(CONTROL!$H$20=2,INCO!BP105,BQ105)))","v":0},{"$f":"IF(CONTROL!$H$20=0,INCO!BO105,IF(CONTROL!$H$20=1,INCO!BP105,IF(CONTROL!$H$20=2,INCO!BQ105,BR105)))","v":0},{"$f":"IF(CONTROL!$H$20=0,INCO!BP105,IF(CONTROL!$H$20=1,INCO!BQ105,IF(CONTROL!$H$20=2,INCO!BR105,BS105)))","v":0},{"$f":"IF(CONTROL!$H$20=0,INCO!BQ105,IF(CONTROL!$H$20=1,INCO!BR105,IF(CONTROL!$H$20=2,INCO!BS105,BT105)))","v":0},{"$f":"IF(CONTROL!$H$20=0,INCO!BR105,IF(CONTROL!$H$20=1,INCO!BS105,IF(CONTROL!$H$20=2,INCO!BT105,BU105)))","v":0},{"$f":"IF(CONTROL!$H$20=0,INCO!BS105,IF(CONTROL!$H$20=1,INCO!BT105,IF(CONTROL!$H$20=2,INCO!BU105,BV105)))","v":0},{"$f":"IF(CONTROL!$H$20=0,INCO!BT105,IF(CONTROL!$H$20=1,INCO!BU105,IF(CONTROL!$H$20=2,INCO!BV105,BW105)))","v":0},{"$f":"IF(CONTROL!$H$20=0,INCO!BU105,IF(CONTROL!$H$20=1,INCO!BV105,IF(CONTROL!$H$20=2,INCO!BW105,BX105)))","v":0},{"$f":"IF(CONTROL!$H$20=0,INCO!BV105,IF(CONTROL!$H$20=1,INCO!BW105,IF(CONTROL!$H$20=2,INCO!BX105,BY105)))","v":0},{"$f":"IF(CONTROL!$H$20=0,INCO!BW105,IF(CONTROL!$H$20=1,INCO!BX105,IF(CONTROL!$H$20=2,INCO!BY105,BZ105)))","v":0},{"$f":"IF(CONTROL!$H$20=0,INCO!BX105,IF(CONTROL!$H$20=1,INCO!BY105,IF(CONTROL!$H$20=2,INCO!BZ105,CA105)))","v":0},{"$f":"IF(CONTROL!$H$20=0,INCO!BY105,IF(CONTROL!$H$20=1,INCO!BZ105,IF(CONTROL!$H$20=2,INCO!CA105,CB105)))","v":0},{"$f":"IF(CONTROL!$H$20=0,INCO!BZ105,IF(CONTROL!$H$20=1,INCO!CA105,IF(CONTROL!$H$20=2,INCO!CB105,CC105)))","v":0},{"$f":"IF(CONTROL!$H$20=0,INCO!CA105,IF(CONTROL!$H$20=1,INCO!CB105,IF(CONTROL!$H$20=2,INCO!CC105,CD105)))","v":0},{"$f":"IF(CONTROL!$H$20=0,INCO!CB105,IF(CONTROL!$H$20=1,INCO!CC105,IF(CONTROL!$H$20=2,INCO!CD105,CE105)))","v":0},{"$f":"IF(CONTROL!$H$20=0,INCO!CC105,IF(CONTROL!$H$20=1,INCO!CD105,IF(CONTROL!$H$20=2,INCO!CE105,CF105)))","v":0},{"$f":"IF(CONTROL!$H$20=0,INCO!CD105,IF(CONTROL!$H$20=1,INCO!CE105,IF(CONTROL!$H$20=2,INCO!CF105,CG105)))","v":0},{"$f":"IF(CONTROL!$H$20=0,INCO!CE105,IF(CONTROL!$H$20=1,INCO!CF105,IF(CONTROL!$H$20=2,INCO!CG105,CH105)))","v":0},{"$f":"IF(CONTROL!$H$20=0,INCO!CF105,IF(CONTROL!$H$20=1,INCO!CG105,IF(CONTROL!$H$20=2,INCO!CH105,CI105)))","v":0},{"$f":"IF(CONTROL!$H$20=0,INCO!CG105,IF(CONTROL!$H$20=1,INCO!CH105,IF(CONTROL!$H$20=2,INCO!CI105,CJ105)))","v":0},{"$f":"IF(CONTROL!$H$20=0,INCO!CH105,IF(CONTROL!$H$20=1,INCO!CI105,IF(CONTROL!$H$20=2,INCO!CJ105,CK105)))","v":0},{"$f":"IF(CONTROL!$H$20=0,INCO!CI105,IF(CONTROL!$H$20=1,INCO!CJ105,IF(CONTROL!$H$20=2,INCO!CK105,CL105)))","v":0},{"$f":"IF(CONTROL!$H$20=0,INCO!CJ105,IF(CONTROL!$H$20=1,INCO!CK105,IF(CONTROL!$H$20=2,INCO!CL105,CM105)))","v":0},{"$f":"IF(CONTROL!$H$20=0,INCO!CK105,IF(CONTROL!$H$20=1,INCO!CL105,IF(CONTROL!$H$20=2,INCO!CM105,CN105)))","v":0},{"$f":"IF(CONTROL!$H$20=0,INCO!CL105,IF(CONTROL!$H$20=1,INCO!CM105,IF(CONTROL!$H$20=2,INCO!CN105,CO105)))","v":0},{"$f":"IF(CONTROL!$H$20=0,INCO!CM105,IF(CONTROL!$H$20=1,INCO!CN105,IF(CONTROL!$H$20=2,INCO!CO105,CP105)))","v":0},{"$f":"IF(CONTROL!$H$20=0,INCO!CN105,IF(CONTROL!$H$20=1,INCO!CO105,IF(CONTROL!$H$20=2,INCO!CP105,CQ105)))","v":0},{"$f":"IF(CONTROL!$H$20=0,INCO!CO105,IF(CONTROL!$H$20=1,INCO!CP105,IF(CONTROL!$H$20=2,INCO!CQ105,CR105)))","v":0},{"$f":"IF(CONTROL!$H$20=0,INCO!CP105,IF(CONTROL!$H$20=1,INCO!CQ105,IF(CONTROL!$H$20=2,INCO!CR105,CS105)))","v":0},{"$f":"IF(CONTROL!$H$20=0,INCO!CQ105,IF(CONTROL!$H$20=1,INCO!CR105,IF(CONTROL!$H$20=2,INCO!CS105,CT105)))","v":0},{"$f":"IF(CONTROL!$H$20=0,INCO!CR105,IF(CONTROL!$H$20=1,INCO!CS105,IF(CONTROL!$H$20=2,INCO!CT105,CU105)))","v":0},{"$f":"IF(CONTROL!$H$20=0,INCO!CS105,IF(CONTROL!$H$20=1,INCO!CT105,IF(CONTROL!$H$20=2,INCO!CU105,CV105)))","v":0}]
[null,null,"Consumos Otros de Expl. más C. De Comerc.",0,0,0,0,0,0,0,null,null,null,{"$f":"N111+N106","v":0},0,0,0,0,0,0,0,0,0,0,0,0,0,0,0,0,0,0,0,0,0,0,0,0,0,0,0,0,0,0,0,{"$f":"AT111+AT106","v":0},0,0,0,0,0,0,0,0,0,0,0,0,0,0,0,0,0,0,0,0,0,0,0,0,0,0,0,0,0,0,0,{"$f":"BZ111+BZ106","v":0},0,0,0,0,0,0,0,0,0,0,0,0,0,0,0,0,0,0,0]
[null,null,"Existencias Producto Terminado",{"$f":"OFFSET($M113,0,((D4+1-$D$4)*12+1-Mes_Ini))","v":0},0,0,0,0,0,0,null,null,null,{"$f":"N111+N110-N105-N104","v":0},{"$f":"N113+O111+O110-O105-O104","v":0},0,0,0,0,0,0,0,0,0,0,0,0,0,0,0,0,0,0,0,0,0,0,0,0,0,0,0,0,0,0,0,{"$f":"AT113+AU111+AU110-AU105-AU104","v":0},0,0,0,0,0,0,0,0,0,0,0,0,0,0,0,0,0,0,0,0,0,0,0,0,0,0,0,0,0,0,0,{"$f":"BZ113+CA111+CA110-CA105-CA104","v":0},0,0,0,0,0,0,0,0,0,0,0,0,0,0,0,0,0,0]
[null,null,"Compras de Materias Primas",{"$f":"SUMIF($N$1:$CS$1,D$4,$N114:$CS114)","v":0},{"$f":"SUMIF($N$1:$CS$1,E$4,$N114:$CS114)","v":0},0,0,0,0,0,null,null,{"$f":"IF(CONTROL!$H$19=1,INCO!N110,IF(CONTROL!$H$19=2,INCO!N110+INCO!O110,IF(CONTROL!$H$19=3,INCO!N110+INCO!O110+INCO!P110,0)))","v":0},{"$f":"IF(CONTROL!$H$19=0,N110,IF(CONTROL!$H$19=1,INCO!O110,IF(CONTROL!$H$19=2,INCO!P110,INCO!Q110)))","v":0},{"$f":"IF(CONTROL!$H$19=0,O110,IF(CONTROL!$H$19=1,INCO!P110,IF(CONTROL!$H$19=2,INCO!Q110,INCO!R110)))","v":0},{"$f":"IF(CONTROL!$H$19=0,P110,IF(CONTROL!$H$19=1,INCO!Q110,IF(CONTROL!$H$19=2,INCO!R110,INCO!S110)))","v":0},{"$f":"IF(CONTROL!$H$19=0,Q110,IF(CONTROL!$H$19=1,INCO!R110,IF(CONTROL!$H$19=2,INCO!S110,INCO!T110)))","v":0},{"$f":"IF(CONTROL!$H$19=0,R110,IF(CONTROL!$H$19=1,INCO!S110,IF(CONTROL!$H$19=2,INCO!T110,INCO!U110)))","v":0},{"$f":"IF(CONTROL!$H$19=0,S110,IF(CONTROL!$H$19=1,INCO!T110,IF(CONTROL!$H$19=2,INCO!U110,INCO!V110)))","v":0},{"$f":"IF(CONTROL!$H$19=0,T110,IF(CONTROL!$H$19=1,INCO!U110,IF(CONTROL!$H$19=2,INCO!V110,INCO!W110)))","v":0},{"$f":"IF(CONTROL!$H$19=0,U110,IF(CONTROL!$H$19=1,INCO!V110,IF(CONTROL!$H$19=2,INCO!W110,INCO!X110)))","v":0},{"$f":"IF(CONTROL!$H$19=0,V110,IF(CONTROL!$H$19=1,INCO!W110,IF(CONTROL!$H$19=2,INCO!X110,INCO!Y110)))","v":0},{"$f":"IF(CONTROL!$H$19=0,W110,IF(CONTROL!$H$19=1,INCO!X110,IF(CONTROL!$H$19=2,INCO!Y110,INCO!Z110)))","v":0},{"$f":"IF(CONTROL!$H$19=0,X110,IF(CONTROL!$H$19=1,INCO!Y110,IF(CONTROL!$H$19=2,INCO!Z110,INCO!AA110)))","v":0},{"$f":"IF(CONTROL!$H$19=0,Y110,IF(CONTROL!$H$19=1,INCO!Z110,IF(CONTROL!$H$19=2,INCO!AA110,INCO!AB110)))","v":0},{"$f":"IF(CONTROL!$H$19=0,Z110,IF(CONTROL!$H$19=1,INCO!AA110,IF(CONTROL!$H$19=2,INCO!AB110,INCO!AC110)))","v":0},{"$f":"IF(CONTROL!$H$19=0,AA110,IF(CONTROL!$H$19=1,INCO!AB110,IF(CONTROL!$H$19=2,INCO!AC110,INCO!AD110)))","v":0},{"$f":"IF(CONTROL!$H$19=0,AB110,IF(CONTROL!$H$19=1,INCO!AC110,IF(CONTROL!$H$19=2,INCO!AD110,INCO!AE110)))","v":0},{"$f":"IF(CONTROL!$H$19=0,AC110,IF(CONTROL!$H$19=1,INCO!AD110,IF(CONTROL!$H$19=2,INCO!AE110,INCO!AF110)))","v":0},{"$f":"IF(CONTROL!$H$19=0,AD110,IF(CONTROL!$H$19=1,INCO!AE110,IF(CONTROL!$H$19=2,INCO!AF110,INCO!AG110)))","v":0},{"$f":"IF(CONTROL!$H$19=0,AE110,IF(CONTROL!$H$19=1,INCO!AF110,IF(CONTROL!$H$19=2,INCO!AG110,INCO!AH110)))","v":0},{"$f":"IF(CONTROL!$H$19=0,AF110,IF(CONTROL!$H$19=1,INCO!AG110,IF(CONTROL!$H$19=2,INCO!AH110,INCO!AI110)))","v":0},{"$f":"IF(CONTROL!$H$19=0,AG110,IF(CONTROL!$H$19=1,INCO!AH110,IF(CONTROL!$H$19=2,INCO!AI110,INCO!AJ110)))","v":0},{"$f":"IF(CONTROL!$H$19=0,AH110,IF(CONTROL!$H$19=1,INCO!AI110,IF(CONTROL!$H$19=2,INCO!AJ110,INCO!AK110)))","v":0},{"$f":"IF(CONTROL!$H$19=0,AI110,IF(CONTROL!$H$19=1,INCO!AJ110,IF(CONTROL!$H$19=2,INCO!AK110,INCO!AL110)))","v":0},{"$f":"IF(CONTROL!$H$19=0,AJ110,IF(CONTROL!$H$19=1,INCO!AK110,IF(CONTROL!$H$19=2,INCO!AL110,INCO!AM110)))","v":0},{"$f":"IF(CONTROL!$H$19=0,AK110,IF(CONTROL!$H$19=1,INCO!AL110,IF(CONTROL!$H$19=2,INCO!AM110,INCO!AN110)))","v":0},{"$f":"IF(CONTROL!$H$19=0,AL110,IF(CONTROL!$H$19=1,INCO!AM110,IF(CONTROL!$H$19=2,INCO!AN110,INCO!AO110)))","v":0},{"$f":"IF(CONTROL!$H$19=0,AM110,IF(CONTROL!$H$19=1,INCO!AN110,IF(CONTROL!$H$19=2,INCO!AO110,INCO!AP110)))","v":0},{"$f":"IF(CONTROL!$H$19=0,AN110,IF(CONTROL!$H$19=1,INCO!AO110,IF(CONTROL!$H$19=2,INCO!AP110,INCO!AQ110)))","v":0},{"$f":"IF(CONTROL!$H$19=0,AO110,IF(CONTROL!$H$19=1,INCO!AP110,IF(CONTROL!$H$19=2,INCO!AQ110,INCO!AR110)))","v":0},{"$f":"IF(CONTROL!$H$19=0,AP110,IF(CONTROL!$H$19=1,INCO!AQ110,IF(CONTROL!$H$19=2,INCO!AR110,INCO!AS110)))","v":0},{"$f":"IF(CONTROL!$H$19=0,AQ110,IF(CONTROL!$H$19=1,INCO!AR110,IF(CONTROL!$H$19=2,INCO!AS110,INCO!AT110)))","v":0},{"$f":"IF(CONTROL!$H$19=0,AR110,IF(CONTROL!$H$19=1,INCO!AS110,IF(CONTROL!$H$19=2,INCO!AT110,INCO!AU110)))","v":0},{"$f":"IF(CONTROL!$H$19=0,AS110,IF(CONTROL!$H$19=1,INCO!AT110,IF(CONTROL!$H$19=2,INCO!AU110,INCO!AV110)))","v":0},{"$f":"IF(CONTROL!$H$19=0,AT110,IF(CONTROL!$H$19=1,INCO!AU110,IF(CONTROL!$H$19=2,INCO!AV110,INCO!AW110)))","v":0},{"$f":"IF(CONTROL!$H$19=0,AU110,IF(CONTROL!$H$19=1,INCO!AV110,IF(CONTROL!$H$19=2,INCO!AW110,INCO!AX110)))","v":0},{"$f":"IF(CONTROL!$H$19=0,AV110,IF(CONTROL!$H$19=1,INCO!AW110,IF(CONTROL!$H$19=2,INCO!AX110,INCO!AY110)))","v":0},{"$f":"IF(CONTROL!$H$19=0,AW110,IF(CONTROL!$H$19=1,INCO!AX110,IF(CONTROL!$H$19=2,INCO!AY110,INCO!AZ110)))","v":0},{"$f":"IF(CONTROL!$H$19=0,AX110,IF(CONTROL!$H$19=1,INCO!AY110,IF(CONTROL!$H$19=2,INCO!AZ110,INCO!BA110)))","v":0},{"$f":"IF(CONTROL!$H$19=0,AY110,IF(CONTROL!$H$19=1,INCO!AZ110,IF(CONTROL!$H$19=2,INCO!BA110,INCO!BB110)))","v":0},{"$f":"IF(CONTROL!$H$19=0,AZ110,IF(CONTROL!$H$19=1,INCO!BA110,IF(CONTROL!$H$19=2,INCO!BB110,INCO!BC110)))","v":0},{"$f":"IF(CONTROL!$H$19=0,BA110,IF(CONTROL!$H$19=1,INCO!BB110,IF(CONTROL!$H$19=2,INCO!BC110,INCO!BD110)))","v":0},{"$f":"IF(CONTROL!$H$19=0,BB110,IF(CONTROL!$H$19=1,INCO!BC110,IF(CONTROL!$H$19=2,INCO!BD110,INCO!BE110)))","v":0},{"$f":"IF(CONTROL!$H$19=0,BC110,IF(CONTROL!$H$19=1,INCO!BD110,IF(CONTROL!$H$19=2,INCO!BE110,INCO!BF110)))","v":0},{"$f":"IF(CONTROL!$H$19=0,BD110,IF(CONTROL!$H$19=1,INCO!BE110,IF(CONTROL!$H$19=2,INCO!BF110,INCO!BG110)))","v":0},{"$f":"IF(CONTROL!$H$19=0,BE110,IF(CONTROL!$H$19=1,INCO!BF110,IF(CONTROL!$H$19=2,INCO!BG110,INCO!BH110)))","v":0},{"$f":"IF(CONTROL!$H$19=0,BF110,IF(CONTROL!$H$19=1,INCO!BG110,IF(CONTROL!$H$19=2,INCO!BH110,INCO!BI110)))","v":0},{"$f":"IF(CONTROL!$H$19=0,BG110,IF(CONTROL!$H$19=1,INCO!BH110,IF(CONTROL!$H$19=2,INCO!BI110,INCO!BJ110)))","v":0},{"$f":"IF(CONTROL!$H$19=0,BH110,IF(CONTROL!$H$19=1,INCO!BI110,IF(CONTROL!$H$19=2,INCO!BJ110,INCO!BK110)))","v":0},{"$f":"IF(CONTROL!$H$19=0,BI110,IF(CONTROL!$H$19=1,INCO!BJ110,IF(CONTROL!$H$19=2,INCO!BK110,INCO!BL110)))","v":0},{"$f":"IF(CONTROL!$H$19=0,BJ110,IF(CONTROL!$H$19=1,INCO!BK110,IF(CONTROL!$H$19=2,INCO!BL110,INCO!BM110)))","v":0},{"$f":"IF(CONTROL!$H$19=0,BK110,IF(CONTROL!$H$19=1,INCO!BL110,IF(CONTROL!$H$19=2,INCO!BM110,INCO!BN110)))","v":0},{"$f":"IF(CONTROL!$H$19=0,BL110,IF(CONTROL!$H$19=1,INCO!BM110,IF(CONTROL!$H$19=2,INCO!BN110,INCO!BO110)))","v":0},{"$f":"IF(CONTROL!$H$19=0,BM110,IF(CONTROL!$H$19=1,INCO!BN110,IF(CONTROL!$H$19=2,INCO!BO110,INCO!BP110)))","v":0},{"$f":"IF(CONTROL!$H$19=0,BN110,IF(CONTROL!$H$19=1,INCO!BO110,IF(CONTROL!$H$19=2,INCO!BP110,INCO!BQ110)))","v":0},{"$f":"IF(CONTROL!$H$19=0,BO110,IF(CONTROL!$H$19=1,INCO!BP110,IF(CONTROL!$H$19=2,INCO!BQ110,INCO!BR110)))","v":0},{"$f":"IF(CONTROL!$H$19=0,BP110,IF(CONTROL!$H$19=1,INCO!BQ110,IF(CONTROL!$H$19=2,INCO!BR110,INCO!BS110)))","v":0},{"$f":"IF(CONTROL!$H$19=0,BQ110,IF(CONTROL!$H$19=1,INCO!BR110,IF(CONTROL!$H$19=2,INCO!BS110,INCO!BT110)))","v":0},{"$f":"IF(CONTROL!$H$19=0,BR110,IF(CONTROL!$H$19=1,INCO!BS110,IF(CONTROL!$H$19=2,INCO!BT110,INCO!BU110)))","v":0},{"$f":"IF(CONTROL!$H$19=0,BS110,IF(CONTROL!$H$19=1,INCO!BT110,IF(CONTROL!$H$19=2,INCO!BU110,INCO!BV110)))","v":0},{"$f":"IF(CONTROL!$H$19=0,BT110,IF(CONTROL!$H$19=1,INCO!BU110,IF(CONTROL!$H$19=2,INCO!BV110,INCO!BW110)))","v":0},{"$f":"IF(CONTROL!$H$19=0,BU110,IF(CONTROL!$H$19=1,INCO!BV110,IF(CONTROL!$H$19=2,INCO!BW110,INCO!BX110)))","v":0},{"$f":"IF(CONTROL!$H$19=0,BV110,IF(CONTROL!$H$19=1,INCO!BW110,IF(CONTROL!$H$19=2,INCO!BX110,INCO!BY110)))","v":0},{"$f":"IF(CONTROL!$H$19=0,BW110,IF(CONTROL!$H$19=1,INCO!BX110,IF(CONTROL!$H$19=2,INCO!BY110,INCO!BZ110)))","v":0},{"$f":"IF(CONTROL!$H$19=0,BX110,IF(CONTROL!$H$19=1,INCO!BY110,IF(CONTROL!$H$19=2,INCO!BZ110,INCO!CA110)))","v":0},{"$f":"IF(CONTROL!$H$19=0,BY110,IF(CONTROL!$H$19=1,INCO!BZ110,IF(CONTROL!$H$19=2,INCO!CA110,INCO!CB110)))","v":0},{"$f":"IF(CONTROL!$H$19=0,BZ110,IF(CONTROL!$H$19=1,INCO!CA110,IF(CONTROL!$H$19=2,INCO!CB110,INCO!CC110)))","v":0},{"$f":"IF(CONTROL!$H$19=0,CA110,IF(CONTROL!$H$19=1,INCO!CB110,IF(CONTROL!$H$19=2,INCO!CC110,INCO!CD110)))","v":0},{"$f":"IF(CONTROL!$H$19=0,CB110,IF(CONTROL!$H$19=1,INCO!CC110,IF(CONTROL!$H$19=2,INCO!CD110,INCO!CE110)))","v":0},{"$f":"IF(CONTROL!$H$19=0,CC110,IF(CONTROL!$H$19=1,INCO!CD110,IF(CONTROL!$H$19=2,INCO!CE110,INCO!CF110)))","v":0},{"$f":"IF(CONTROL!$H$19=0,CD110,IF(CONTROL!$H$19=1,INCO!CE110,IF(CONTROL!$H$19=2,INCO!CF110,INCO!CG110)))","v":0},{"$f":"IF(CONTROL!$H$19=0,CE110,IF(CONTROL!$H$19=1,INCO!CF110,IF(CONTROL!$H$19=2,INCO!CG110,INCO!CH110)))","v":0},{"$f":"IF(CONTROL!$H$19=0,CF110,IF(CONTROL!$H$19=1,INCO!CG110,IF(CONTROL!$H$19=2,INCO!CH110,INCO!CI110)))","v":0},{"$f":"IF(CONTROL!$H$19=0,CG110,IF(CONTROL!$H$19=1,INCO!CH110,IF(CONTROL!$H$19=2,INCO!CI110,INCO!CJ110)))","v":0},{"$f":"IF(CONTROL!$H$19=0,CH110,IF(CONTROL!$H$19=1,INCO!CI110,IF(CONTROL!$H$19=2,INCO!CJ110,INCO!CK110)))","v":0},{"$f":"IF(CONTROL!$H$19=0,CI110,IF(CONTROL!$H$19=1,INCO!CJ110,IF(CONTROL!$H$19=2,INCO!CK110,INCO!CL110)))","v":0},{"$f":"IF(CONTROL!$H$19=0,CJ110,IF(CONTROL!$H$19=1,INCO!CK110,IF(CONTROL!$H$19=2,INCO!CL110,INCO!CM110)))","v":0},{"$f":"IF(CONTROL!$H$19=0,CK110,IF(CONTROL!$H$19=1,INCO!CL110,IF(CONTROL!$H$19=2,INCO!CM110,INCO!CN110)))","v":0},{"$f":"IF(CONTROL!$H$19=0,CL110,IF(CONTROL!$H$19=1,INCO!CM110,IF(CONTROL!$H$19=2,INCO!CN110,INCO!CO110)))","v":0},{"$f":"IF(CONTROL!$H$19=0,CM110,IF(CONTROL!$H$19=1,INCO!CN110,IF(CONTROL!$H$19=2,INCO!CO110,INCO!CP110)))","v":0},{"$f":"IF(CONTROL!$H$19=0,CN110,IF(CONTROL!$H$19=1,INCO!CO110,IF(CONTROL!$H$19=2,INCO!CP110,INCO!CQ110)))","v":0},{"$f":"IF(CONTROL!$H$19=0,CO110,IF(CONTROL!$H$19=1,INCO!CP110,IF(CONTROL!$H$19=2,INCO!CQ110,INCO!CR110)))","v":0},{"$f":"IF(CONTROL!$H$19=0,CP110,IF(CONTROL!$H$19=1,INCO!CQ110,IF(CONTROL!$H$19=2,INCO!CR110,INCO!CS110)))","v":0},{"$f":"IF(CONTROL!$H$19=0,CQ110,IF(CONTROL!$H$19=1,INCO!CR110,IF(CONTROL!$H$19=2,INCO!CS110,INCO!CT110)))","v":0},{"$f":"IF(CONTROL!$H$19=0,CR110,IF(CONTROL!$H$19=1,INCO!CS110,IF(CONTROL!$H$19=2,INCO!CT110,INCO!CU110)))","v":0},{"$f":"IF(CONTROL!$H$19=0,CS110,IF(CONTROL!$H$19=1,INCO!CT110,IF(CONTROL!$H$19=2,INCO!CU110,INCO!CV110)))","v":0}]
[null,null,"Existencias de Materias Primas",{"$f":"OFFSET($M115,0,((D4+1-$D$4)*12+1-Mes_Ini))","v":0},0,0,0,0,0,0,null,null,{"$f":"M114","v":0},{"$f":"M115+N114-N110","v":0},0,0,0,0,0,0,0,0,0,0,0,0,0,0,0,0,0,0,0,0,0,0,0,0,0,0,0,0,0,0,0,{"$f":"AS115+AT114-AT110","v":0},0,0,0,0,0,0,0,0,0,0,0,0,0,0,0,0,0,0,0,0,0,0,0,0,0,0,0,0,0,0,0,{"$f":"BY115+BZ114-BZ110","v":0},0,0,0,0,0,0,0,0,0,0,0,0,0,0,0,0,0,0,0]

{"sheet":"CTA.RES","index":5,"n_rows":25,"n_cols":94,"rows_kept":25,"cut":false,"hidden":false,"merged":[]}
[]
[null,{"$f":"CONTROL!C2","v":"Proyecto "},null,null,null,null,null,null,null,null,{"$f":"YEAR(K3)","v":2014},{"$f":"YEAR(L3)","v":2014},{"$f":"YEAR(M3)","v":2014},2014,2014,2014,2014,2014,2014,2014,2014,2014,2015,2015,2015,2015,2015,2015,2015,2015,2015,2015,2015,2015,2016,2016,2016,2016,2016,2016,2016,2016,2016,2016,2016,2016,2017,2017,2017,2017,2017,2017,2017,2017,2017,2017,2017,2017,2018,2018,2018,2018,2018,2018,2018,2018,2018,2018,2018,2018,2019,2019,2019,2019,2019,2019,{"$f":"YEAR(BY3)","v":2019},2019,2019,2019,2019,2019,2020,2020,2020,2020,2020,2020,2020,2020,2020,2020,2020,2020]
[null,null,{"$f":"CONTROL!E2","v":2014},{"$f":"C3+1","v":2015},2016,2017,2018,2019,2020,null,{"$f":"CONTROL!H2","v":"2014-01-31"},{"$f":"EOMONTH(K3,1)","v":"2014-02-28"},{"$f":"EOMONTH(L3,1)","v":"2014-03-31"},"2014-04-30","2014-05-31","2014-06-30","2014-07-31","2014-08-31","2014-09-30","2014-10-31","2014-11-30","2014-12-31","2015-01-31","2015-02-28","2015-03-31","2015-04-30","2015-05-31","2015-06-30","2015-07-31","2015-08-31","2015-09-30","2015-10-31","2015-11-30","2015-12-31","2016-01-31","2016-02-29","2016-03-31","2016-04-30","2016-05-31","2016-06-30","2016-07-31","2016-08-31","2016-09-30","2016-10-31","2016-11-30","2016-12-31","2017-01-31","2017-02-28","2017-03-31","2017-04-30","2017-05-31","2017-06-30","2017-07-31","2017-08-31","2017-09-30","2017-10-31","2017-11-30","2017-12-31","2018-01-31","2018-02-28","2018-03-31","2018-04-30","2018-05-31","2018-06-30","2018-07-31","2018-08-31","2018-09-30","2018-10-31","2018-11-30","2018-12-31","2019-01-31","2019-02-28","2019-03-31","2019-04-30","2019-05-31","2019-06-30",{"$f":"EOMONTH(BX3,1)","v":"2019-07-31"},"2019-08-31","2019-09-30","2019-10-31","2019-11-30","2019-12-31","2020-01-31","2020-02-29","2020-03-31","2020-04-30","2020-05-31","2020-06-30","2020-07-31","2020-08-31","2020-09-30","2020-10-31","2020-11-30","2020-12-31"]
[]
[null,"Ingresos de Explotación",{"$f":"SUMIF($K$2:$CP$2,C$3,$K5:$CP5)","v":1},{"$f":"SUMIF($K$2:$CP$2,D$3,$K5:$CP5)","v":1},{"$f":"SUMIF($K$2:$CP$2,E$3,$K5:$CP5)","v":1},1,1,1,1,null,{"$f":"INCO!N45","v":8.3333333333333329E-2},{"$f":"INCO!O45","v":8.3333333333333329E-2},{"$f":"INCO!P45","v":8.3333333333333329E-2},{"$f":"INCO!Q45","v":8.3333333333333329E-2},{"$f":"INCO!R45","v":8.3333333333333329E-2},{"$f":"INCO!S45","v":8.3333333333333329E-2},{"$f":"INCO!T45","v":8.3333333333333329E-2},{"$f":"INCO!U45","v":8.3333333333333329E-2},{"$f":"INCO!V45","v":8.3333333333333329E-2},{"$f":"INCO!W45","v":8.3333333333333329E-2},{"$f":"INCO!X45","v":8.3333333333333329E-2},{"$f":"INCO!Y45","v":8.3333333333333329E-2},{"$f":"INCO!Z45","v":8.3333333333333329E-2},{"$f":"INCO!AA45","v":8.3333333333333329E-2},{"$f":"INCO!AB45","v":8.3333333333333329E-2},{"$f":"INCO!AC45","v":8.3333333333333329E-2},{"$f":"INCO!AD45","v":8.3333333333333329E-2},{"$f":"INCO!AE45","v":8.3333333333333329E-2},{"$f":"INCO!AF45","v":8.3333333333333329E-2},{"$f":"INCO!AG45","v":8.3333333333333329E-2},{"$f":"INCO!AH45","v":8.3333333333333329E-2},{"$f":"INCO!AI45","v":8.3333333333333329E-2},{"$f":"INCO!AJ45","v":8.3333333333333329E-2},{"$f":"INCO!AK45","v":8.3333333333333329E-2},{"$f":"INCO!AL45","v":8.3333333333333329E-2},{"$f":"INCO!AM45","v":8.3333333333333329E-2},{"$f":"INCO!AN45","v":8.3333333333333329E-2},{"$f":"INCO!AO45","v":8.3333333333333329E-2},{"$f":"INCO!AP45","v":8.3333333333333329E-2},{"$f":"INCO!AQ45","v":8.3333333333333329E-2},{"$f":"INCO!AR45","v":8.3333333333333329E-2},{"$f":"INCO!AS45","v":8.3333333333333329E-2},{"$f":"INCO!AT45","v":8.3333333333333329E-2},{"$f":"INCO!AU45","v":8.3333333333333329E-2},{"$f":"INCO!AV45","v":8.3333333333333329E-2},{"$f":"INCO!AW45","v":8.3333333333333329E-2},{"$f":"INCO!AX45","v":8.3333333333333329E-2},{"$f":"INCO!AY45","v":8.3333333333333329E-2},{"$f":"INCO!AZ45","v":8.3333333333333329E-2},{"$f":"INCO!BA45","v":8.3333333333333329E-2},{"$f":"INCO!BB45","v":8.3333333333333329E-2},{"$f":"INCO!BC45","v":8.3333333333333329E-2},{"$f":"INCO!BD45","v":8.3333333333333329E-2},{"$f":"INCO!BE45","v":8.3333333333333329E-2},{"$f":"INCO!BF45","v":8.3333333333333329E-2},{"$f":"INCO!BG45","v":8.3333333333333329E-2},{"$f":"INCO!BH45","v":8.3333333333333329E-2},{"$f":"INCO!BI45","v":8.3333333333333329E-2},{"$f":"INCO!BJ45","v":8.3333333333333329E-2},{"$f":"INCO!BK45","v":8.3333333333333329E-2},{"$f":"INCO!BL45","v":8.3333333333333329E-2},{"$f":"INCO!BM45","v":8.3333333333333329E-2},{"$f":"INCO!BN45","v":8.3333333333333329E-2},{"$f":"INCO!BO45","v":8.3333333333333329E-2},{"$f":"INCO!BP45","v":8.3333333333333329E-2},{"$f":"INCO!BQ45","v":8.3333333333333329E-2},{"$f":"INCO!BR45","v":8.3333333333333329E-2},{"$f":"INCO!BS45","v":8.3333333333333329E-2},{"$f":"INCO!BT45","v":8.3333333333333329E-2},{"$f":"INCO!BU45","v":8.3333333333333329E-2},{"$f":"INCO!BV45","v":8.3333333333333329E-2},{"$f":"INCO!BW45","v":8.3333333333333329E-2},{"$f":"INCO!BX45","v":8.3333333333333329E-2},{"$f":"INCO!BY45","v":8.3333333333333329E-2},{"$f":"INCO!BZ45","v":8.3333333333333329E-2},{"$f":"INCO!CA45","v":8.3333333333333329E-2},{"$f":"INCO!CB45","v":8.3333333333333329E-2},{"$f":"INCO!CC45","v":8.3333333333333329E-2},{"$f":"INCO!CD45","v":8.3333333333333329E-2},{"$f":"INCO!CE45","v":8.3333333333333329E-2},{"$f":"INCO!CF45","v":8.3333333333333329E-2},{"$f":"INCO!CG45","v":8.3333333333333329E-2},{"$f":"INCO!CH45","v":8.3333333333333329E-2},{"$f":"INCO!CI45","v":8.3333333333333329E-2},{"$f":"INCO!CJ45","v":8.3333333333333329E-2},{"$f":"INCO!CK45","v":8.3333333333333329E-2},{"$f":"INCO!CL45","v":8.3333333333333329E-2},{"$f":"INCO!CM45","v":8.3333333333333329E-2},{"$f":"INCO!CN45","v":8.3333333333333329E-2},{"$f":"INCO!CO45","v":8.3333333333333329E-2},{"$f":"INCO!CP45","v":8.3333333333333329E-2},{"$f":"INCO!CQ45","v":8.3333333333333329E-2},{"$f":"INCO!CR45","v":8.3333333333333329E-2},{"$f":"INCO!CS45","v":8.3333333333333329E-2}]
[null,"Costes Variables",{"$f":"SUMIF($K$2:$CP$2,C$3,$K6:$CP6)","v":0},{"$f":"SUMIF($K$2:$CP$2,D$3,$K6:$CP6)","v":0},0,0,0,0,0,null,{"$f":"INCO!N101","v":0},{"$f":"INCO!O101","v":0},{"$f":"INCO!P101","v":0},{"$f":"INCO!Q101","v":0},{"$f":"INCO!R101","v":0},{"$f":"INCO!S101","v":0},{"$f":"INCO!T101","v":0},{"$f":"INCO!U101","v":0},{"$f":"INCO!V101","v":0},{"$f":"INCO!W101","v":0},{"$f":"INCO!X101","v":0},{"$f":"INCO!Y101","v":0},{"$f":"INCO!Z101","v":0},{"$f":"INCO!AA101","v":0},{"$f":"INCO!AB101","v":0},{"$f":"INCO!AC101","v":0},{"$f":"INCO!AD101","v":0},{"$f":"INCO!AE101","v":0},{"$f":"INCO!AF101","v":0},{"$f":"INCO!AG101","v":0},{"$f":"INCO!AH101","v":0},{"$f":"INCO!AI101","v":0},{"$f":"INCO!AJ101","v":0},{"$f":"INCO!AK101","v":0},{"$f":"INCO!AL101","v":0},{"$f":"INCO!AM101","v":0},{"$f":"INCO!AN101","v":0},{"$f":"INCO!AO101","v":0},{"$f":"INCO!AP101","v":0},{"$f":"INCO!AQ101","v":0},{"$f":"INCO!AR101","v":0},{"$f":"INCO!AS101","v":0},{"$f":"INCO!AT101","v":0},{"$f":"INCO!AU101","v":0},{"$f":"INCO!AV101","v":0},{"$f":"INCO!AW101","v":0},{"$f":"INCO!AX101","v":0},{"$f":"INCO!AY101","v":0},{"$f":"INCO!AZ101","v":0},{"$f":"INCO!BA101","v":0},{"$f":"INCO!BB101","v":0},{"$f":"INCO!BC101","v":0},{"$f":"INCO!BD101","v":0},{"$f":"INCO!BE101","v":0},{"$f":"INCO!BF101","v":0},{"$f":"INCO!BG101","v":0},{"$f":"INCO!BH101","v":0},{"$f":"INCO!BI101","v":0},{"$f":"INCO!BJ101","v":0},{"$f":"INCO!BK101","v":0},{"$f":"INCO!BL101","v":0},{"$f":"INCO!BM101","v":0},{"$f":"INCO!BN101","v":0},{"$f":"INCO!BO101","v":0},{"$f":"INCO!BP101","v":0},{"$f":"INCO!BQ101","v":0},{"$f":"INCO!BR101","v":0},{"$f":"INCO!BS101","v":0},{"$f":"INCO!BT101","v":0},{"$f":"INCO!BU101","v":0},{"$f":"INCO!BV101","v":0},{"$f":"INCO!BW101","v":0},{"$f":"INCO!BX101","v":0},{"$f":"INCO!BY101","v":0},{"$f":"INCO!BZ101","v":0},{"$f":"INCO!CA101","v":0},{"$f":"INCO!CB101","v":0},{"$f":"INCO!CC101","v":0},{"$f":"INCO!CD101","v":0},{"$f":"INCO!CE101","v":0},{"$f":"INCO!CF101","v":0},{"$f":"INCO!CG101","v":0},{"$f":"INCO!CH101","v":0},{"$f":"INCO!CI101","v":0},{"$f":"INCO!CJ101","v":0},{"$f":"INCO!CK101","v":0},{"$f":"INCO!CL101","v":0},{"$f":"INCO!CM101","v":0},{"$f":"INCO!CN101","v":0},{"$f":"INCO!CO101","v":0},{"$f":"INCO!CP101","v":0},{"$f":"INCO!CQ101","v":0},{"$f":"INCO!CR101","v":0},{"$f":"INCO!CS101","v":0}]
[null,"Margen Bruto",{"$f":"C5-C6","v":1},{"$f":"D5-D6","v":1},1,1,1,1,1,null,{"$f":"K5-K6","v":8.3333333333333329E-2},{"$f":"L5-L6","v":8.3333333333333329E-2},8.3333333333333329E-2,8.3333333333333329E-2,8.3333333333333329E-2,8.3333333333333329E-2,8.3333333333333329E-2,8.3333333333333329E-2,8.3333333333333329E-2,8.3333333333333329E-2,8.3333333333333329E-2,8.3333333333333329E-2,8.3333333333333329E-2,8.3333333333333329E-2,8.3333333333333329E-2,8.3333333333333329E-2,8.3333333333333329E-2,8.3333333333333329E-2,8.3333333333333329E-2,8.3333333333333329E-2,8.3333333333333329E-2,8.3333333333333329E-2,8.3333333333333329E-2,8.3333333333333329E-2,8.3333333333333329E-2,8.3333333333333329E-2,8.3333333333333329E-2,8.3333333333333329E-2,8.3333333333333329E-2,8.3333333333333329E-2,8.3333333333333329E-2,8.3333333333333329E-2,8.3333333333333329E-2,8.3333333333333329E-2,8.3333333333333329E-2,8.3333333333333329E-2,8.3333333333333329E-2,8.3333333333333329E-2,8.3333333333333329E-2,8.3333333333333329E-2,8.3333333333333329E-2,8.3333333333333329E-2,8.3333333333333329E-2,8.3333333333333329E-2,8.3333333333333329E-2,8.3333333333333329E-2,8.3333333333333329E-2,8.3333333333333329E-2,8.3333333333333329E-2,8.3333333333333329E-2,8.3333333333333329E-2,8.3333333333333329E-2,8.3333333333333329E-2,8.3333333333333329E-2,8.3333333333333329E-2,8.3333333333333329E-2,8.3333333333333329E-2,8.3333333333333329E-2,8.3333333333333329E-2,8.3333333333333329E-2,8.3333333333333329E-2,8.3333333333333329E-2,8.3333333333333329E-2,8.3333333333333329E-2,8.3333333333333329E-2,{"$f":"BX5-BX6","v":8.3333333333333329E-2},8.3333333333333329E-2,8.3333333333333329E-2,8.3333333333333329E-2,8.3333333333333329E-2,8.3333333333333329E-2,8.3333333333333329E-2,8.3333333333333329E-2,8.3333333333333329E-2,8.3333333333333329E-2,8.3333333333333329E-2,8.3333333333333329E-2,8.3333333333333329E-2,8.3333333333333329E-2,8.3333333333333329E-2,8.3333333333333329E-2,8.3333333333333329E-2,8.3333333333333329E-2,8.3333333333333329E-2]
[null,"Costes Fijos",{"$f":"SUMIF($K$2:$CP$2,C$3,$K8:$CP8)","v":0},{"$f":"SUMIF($K$2:$CP$2,D$3,$K8:$CP8)","v":0},0,0,0,0,0,null,{"$f":"INCO!N56+INV!G29","v":0},{"$f":"INCO!O56","v":0},{"$f":"INCO!P56","v":0},{"$f":"INCO!Q56","v":0},{"$f":"INCO!R56","v":0},{"$f":"INCO!S56","v":0},{"$f":"INCO!T56","v":0},{"$f":"INCO!U56","v":0},{"$f":"INCO!V56","v":0},{"$f":"INCO!W56","v":0},{"$f":"INCO!X56","v":0},{"$f":"INCO!Y56","v":0},{"$f":"INCO!Z56","v":0},{"$f":"INCO!AA56","v":0},{"$f":"INCO!AB56","v":0},{"$f":"INCO!AC56","v":0},{"$f":"INCO!AD56","v":0},{"$f":"INCO!AE56","v":0},{"$f":"INCO!AF56","v":0},{"$f":"INCO!AG56","v":0},{"$f":"INCO!AH56","v":0},{"$f":"INCO!AI56","v":0},{"$f":"INCO!AJ56","v":0},{"$f":"INCO!AK56","v":0},{"$f":"INCO!AL56","v":0},{"$f":"INCO!AM56","v":0},{"$f":"INCO!AN56","v":0},{"$f":"INCO!AO56","v":0},{"$f":"INCO!AP56","v":0},{"$f":"INCO!AQ56","v":0},{"$f":"INCO!AR56","v":0},{"$f":"INCO!AS56","v":0},{"$f":"INCO!AT56","v":0},{"$f":"INCO!AU56","v":0},{"$f":"INCO!AV56","v":0},{"$f":"INCO!AW56","v":0},{"$f":"INCO!AX56","v":0},{"$f":"INCO!AY56","v":0},{"$f":"INCO!AZ56","v":0},{"$f":"INCO!BA56","v":0},{"$f":"INCO!BB56","v":0},{"$f":"INCO!BC56","v":0},{"$f":"INCO!BD56","v":0},{"$f":"INCO!BE56","v":0},{"$f":"INCO!BF56","v":0},{"$f":"INCO!BG56","v":0},{"$f":"INCO!BH56","v":0},{"$f":"INCO!BI56","v":0},{"$f":"INCO!BJ56","v":0},{"$f":"INCO!BK56","v":0},{"$f":"INCO!BL56","v":0},{"$f":"INCO!BM56","v":0},{"$f":"INCO!BN56","v":0},{"$f":"INCO!BO56","v":0},{"$f":"INCO!BP56","v":0},{"$f":"INCO!BQ56","v":0},{"$f":"INCO!BR56","v":0},{"$f":"INCO!BS56","v":0},{"$f":"INCO!BT56","v":0},{"$f":"INCO!BU56","v":0},{"$f":"INCO!BV56","v":0},{"$f":"INCO!BW56","v":0},{"$f":"INCO!BX56","v":0},{"$f":"INCO!BY56","v":0},{"$f":"INCO!BZ56","v":0},{"$f":"INCO!CA56","v":0},{"$f":"INCO!CB56","v":0},{"$f":"INCO!CC56","v":0},{"$f":"INCO!CD56","v":0},{"$f":"INCO!CE56","v":0},{"$f":"INCO!CF56","v":0},{"$f":"INCO!CG56","v":0},{"$f":"INCO!CH56","v":0},{"$f":"INCO!CI56","v":0},{"$f":"INCO!CJ56","v":0},{"$f":"INCO!CK56","v":0},{"$f":"INCO!CL56","v":0},{"$f":"INCO!CM56","v":0},{"$f":"INCO!CN56","v":0},{"$f":"INCO!CO56","v":0},{"$f":"INCO!CP56","v":0},{"$f":"INCO!CQ56","v":0},{"$f":"INCO!CR56","v":0},{"$f":"INCO!CS56","v":0}]
[null,"Amortización",{"$f":"SUMIF($K$2:$CP$2,C$3,$K9:$CP9)","v":0},{"$f":"SUMIF($K$2:$CP$2,D$3,$K9:$CP9)","v":0},0,0,0,0,0,null,{"$f":"INV!Q33","v":0},{"$f":"INV!R33","v":0},{"$f":"INV!S33","v":0},{"$f":"INV!T33","v":0},{"$f":"INV!U33","v":0},{"$f":"INV!V33","v":0},{"$f":"INV!W33","v":0},{"$f":"INV!X33","v":0},{"$f":"INV!Y33","v":0},{"$f":"INV!Z33","v":0},{"$f":"INV!AA33","v":0},{"$f":"INV!AB33","v":0},{"$f":"INV!AC33","v":0},{"$f":"INV!AD33","v":0},{"$f":"INV!AE33","v":0},{"$f":"INV!AF33","v":0},{"$f":"INV!AG33","v":0},{"$f":"INV!AH33","v":0},{"$f":"INV!AI33","v":0},{"$f":"INV!AJ33","v":0},{"$f":"INV!AK33","v":0},{"$f":"INV!AL33","v":0},{"$f":"INV!AM33","v":0},{"$f":"INV!AN33","v":0},{"$f":"INV!AO33","v":0},{"$f":"INV!AP33","v":0},{"$f":"INV!AQ33","v":0},{"$f":"INV!AR33","v":0},{"$f":"INV!AS33","v":0},{"$f":"INV!AT33","v":0},{"$f":"INV!AU33","v":0},{"$f":"INV!AV33","v":0},{"$f":"INV!AW33","v":0},{"$f":"INV!AX33","v":0},{"$f":"INV!AY33","v":0},{"$f":"INV!AZ33","v":0},{"$f":"INV!BA33","v":0},{"$f":"INV!BB33","v":0},{"$f":"INV!BC33","v":0},{"$f":"INV!BD33","v":0},{"$f":"INV!BE33","v":0},{"$f":"INV!BF33","v":0},{"$f":"INV!BG33","v":0},{"$f":"INV!BH33","v":0},{"$f":"INV!BI33","v":0},{"$f":"INV!BJ33","v":0},{"$f":"INV!BK33","v":0},{"$f":"INV!BL33","v":0},{"$f":"INV!BM33","v":0},{"$f":"INV!BN33","v":0},{"$f":"INV!BO33","v":0},{"$f":"INV!BP33","v":0},{"$f":"INV!BQ33","v":0},{"$f":"INV!BR33","v":0},{"$f":"INV!BS33","v":0},{"$f":"INV!BT33","v":0},{"$f":"INV!BU33","v":0},{"$f":"INV!BV33","v":0},{"$f":"INV!BW33","v":0},{"$f":"INV!BX33","v":0},{"$f":"INV!BY33","v":0},{"$f":"INV!BZ33","v":0},{"$f":"INV!CA33","v":0},{"$f":"INV!CB33","v":0},{"$f":"INV!CC33","v":0},{"$f":"INV!CD33","v":0},{"$f":"INV!CE33","v":0},{"$f":"INV!CF33","v":0},{"$f":"INV!CG33","v":0},{"$f":"INV!CH33","v":0},{"$f":"INV!CI33","v":0},{"$f":"INV!CJ33","v":0},{"$f":"INV!CK33","v":0},{"$f":"INV!CL33","v":0},{"$f":"INV!CM33","v":0},{"$f":"INV!CN33","v":0},{"$f":"INV!CO33","v":0},{"$f":"INV!CP33","v":0},{"$f":"INV!CQ33","v":0},{"$f":"INV!CR33","v":0},{"$f":"INV!CS33","v":0},{"$f":"INV!CT33","v":0},{"$f":"INV!CU33","v":0},{"$f":"INV!CV33","v":0}]
[null,"BAIT",{"$f":"C7-C8-C9","v":1},{"$f":"D7-D8-D9","v":1},1,1,1,1,1,null,8.3333333333333329E-2,{"$f":"L7-L8-L9","v":8.3333333333333329E-2},8.3333333333333329E-2,8.3333333333333329E-2,8.3333333333333329E-2,8.3333333333333329E-2,8.3333333333333329E-2,8.3333333333333329E-2,8.3333333333333329E-2,8.3333333333333329E-2,8.3333333333333329E-2,8.3333333333333329E-2,8.3333333333333329E-2,8.3333333333333329E-2,8.3333333333333329E-2,8.3333333333333329E-2,8.3333333333333329E-2,8.3333333333333329E-2,8.3333333333333329E-2,8.3333333333333329E-2,8.3333333333333329E-2,8.3333333333333329E-2,8.3333333333333329E-2,8.3333333333333329E-2,8.3333333333333329E-2,8.3333333333333329E-2,8.3333333333333329E-2,8.3333333333333329E-2,8.3333333333333329E-2,8.3333333333333329E-2,8.3333333333333329E-2,8.3333333333333329E-2,8.3333333333333329E-2,{"$f":"AR7-AR8-AR9","v":8.3333333333333329E-2},8.3333333333333329E-2,8.3333333333333329E-2,8.3333333333333329E-2,8.3333333333333329E-2,8.3333333333333329E-2,8.3333333333333329E-2,8.3333333333333329E-2,8.3333333333333329E-2,8.3333333333333329E-2,8.3333333333333329E-2,8.3333333333333329E-2,8.3333333333333329E-2,8.3333333333333329E-2,8.3333333333333329E-2,8.3333333333333329E-2,8.3333333333333329E-2,8.3333333333333329E-2,8.3333333333333329E-2,8.3333333333333329E-2,8.3333333333333329E-2,8.3333333333333329E-2,8.3333333333333329E-2,8.3333333333333329E-2,8.3333333333333329E-2,8.3333333333333329E-2,8.3333333333333329E-2,8.3333333333333329E-2,8.3333333333333329E-2,8.3333333333333329E-2,8.3333333333333329E-2,8.3333333333333329E-2,{"$f":"BX7-BX8-BX9","v":8.3333333333333329E-2},8.3333333333333329E-2,8.3333333333333329E-2,8.3333333333333329E-2,8.3333333333333329E-2,8.3333333333333329E-2,8.3333333333333329E-2,8.3333333333333329E-2,8.3333333333333329E-2,8.3333333333333329E-2,8.3333333333333329E-2,8.3333333333333329E-2,8.3333333333333329E-2,8.3333333333333329E-2,8.3333333333333329E-2,8.3333333333333329E-2,8.3333333333333329E-2,8.3333333333333329E-2,8.3333333333333329E-2]
[null,"Imputación de Subvención",{"$f":"SUMIF($K$2:$CP$2,C$3,$K11:$CP11)","v":0},0,0,0,0,0,0,null,{"$f":"FIN!H6/(CONTROL!E17*12)","v":0},{"$f":"IF((COLUMN(L3)-COLUMN($J$3))<=CONTROL!$E$17*12,K11,0)","v":0},{"$f":"IF((COLUMN(M3)-COLUMN($J$3))<=CONTROL!$E$17*12,L11,0)","v":0},{"$f":"IF((COLUMN(N3)-COLUMN($J$3))<=CONTROL!$E$17*12,M11,0)","v":0},{"$f":"IF((COLUMN(O3)-COLUMN($J$3))<=CONTROL!$E$17*12,N11,0)","v":0},{"$f":"IF((COLUMN(P3)-COLUMN($J$3))<=CONTROL!$E$17*12,O11,0)","v":0},{"$f":"IF((COLUMN(Q3)-COLUMN($J$3))<=CONTROL!$E$17*12,P11,0)","v":0},{"$f":"IF((COLUMN(R3)-COLUMN($J$3))<=CONTROL!$E$17*12,Q11,0)","v":0},{"$f":"IF((COLUMN(S3)-COLUMN($J$3))<=CONTROL!$E$17*12,R11,0)","v":0},{"$f":"IF((COLUMN(T3)-COLUMN($J$3))<=CONTROL!$E$17*12,S11,0)","v":0},{"$f":"IF((COLUMN(U3)-COLUMN($J$3))<=CONTROL!$E$17*12,T11,0)","v":0},{"$f":"IF((COLUMN(V3)-COLUMN($J$3))<=CONTROL!$E$17*12,U11,0)","v":0},{"$f":"IF((COLUMN(W3)-COLUMN($J$3))<=CONTROL!$E$17*12,V11,0)","v":0},{"$f":"IF((COLUMN(X3)-COLUMN($J$3))<=CONTROL!$E$17*12,W11,0)","v":0},{"$f":"IF((COLUMN(Y3)-COLUMN($J$3))<=CONTROL!$E$17*12,X11,0)","v":0},{"$f":"IF((COLUMN(Z3)-COLUMN($J$3))<=CONTROL!$E$17*12,Y11,0)","v":0},{"$f":"IF((COLUMN(AA3)-COLUMN($J$3))<=CONTROL!$E$17*12,Z11,0)","v":0},{"$f":"IF((COLUMN(AB3)-COLUMN($J$3))<=CONTROL!$E$17*12,AA11,0)","v":0},{"$f":"IF((COLUMN(AC3)-COLUMN($J$3))<=CONTROL!$E$17*12,AB11,0)","v":0},{"$f":"IF((COLUMN(AD3)-COLUMN($J$3))<=CONTROL!$E$17*12,AC11,0)","v":0},{"$f":"IF((COLUMN(AE3)-COLUMN($J$3))<=CONTROL!$E$17*12,AD11,0)","v":0},{"$f":"IF((COLUMN(AF3)-COLUMN($J$3))<=CONTROL!$E$17*12,AE11,0)","v":0},{"$f":"IF((COLUMN(AG3)-COLUMN($J$3))<=CONTROL!$E$17*12,AF11,0)","v":0},{"$f":"IF((COLUMN(AH3)-COLUMN($J$3))<=CONTROL!$E$17*12,AG11,0)","v":0},{"$f":"IF((COLUMN(AI3)-COLUMN($J$3))<=CONTROL!$E$17*12,AH11,0)","v":0},{"$f":"IF((COLUMN(AJ3)-COLUMN($J$3))<=CONTROL!$E$17*12,AI11,0)","v":0},{"$f":"IF((COLUMN(AK3)-COLUMN($J$3))<=CONTROL!$E$17*12,AJ11,0)","v":0},{"$f":"IF((COLUMN(AL3)-COLUMN($J$3))<=CONTROL!$E$17*12,AK11,0)","v":0},{"$f":"IF((COLUMN(AM3)-COLUMN($J$3))<=CONTROL!$E$17*12,AL11,0)","v":0},{"$f":"IF((COLUMN(AN3)-COLUMN($J$3))<=CONTROL!$E$17*12,AM11,0)","v":0},{"$f":"IF((COLUMN(AO3)-COLUMN($J$3))<=CONTROL!$E$17*12,AN11,0)","v":0},{"$f":"IF((COLUMN(AP3)-COLUMN($J$3))<=CONTROL!$E$17*12,AO11,0)","v":0},{"$f":"IF((COLUMN(AQ3)-COLUMN($J$3))<=CONTROL!$E$17*12,AP11,0)","v":0},{"$f":"IF((COLUMN(AR3)-COLUMN($J$3))<=CONTROL!$E$17*12,AQ11,0)","v":0},{"$f":"IF((COLUMN(AS3)-COLUMN($J$3))<=CONTROL!$E$17*12,AR11,0)","v":0},{"$f":"IF((COLUMN(AT3)-COLUMN($J$3))<=CONTROL!$E$17*12,AS11,0)","v":0},{"$f":"IF((COLUMN(AU3)-COLUMN($J$3))<=CONTROL!$E$17*12,AT11,0)","v":0},{"$f":"IF((COLUMN(AV3)-COLUMN($J$3))<=CONTROL!$E$17*12,AU11,0)","v":0},{"$f":"IF((COLUMN(AW3)-COLUMN($J$3))<=CONTROL!$E$17*12,AV11,0)","v":0},{"$f":"IF((COLUMN(AX3)-COLUMN($J$3))<=CONTROL!$E$17*12,AW11,0)","v":0},{"$f":"IF((COLUMN(AY3)-COLUMN($J$3))<=CONTROL!$E$17*12,AX11,0)","v":0},{"$f":"IF((COLUMN(AZ3)-COLUMN($J$3))<=CONTROL!$E$17*12,AY11,0)","v":0},{"$f":"IF((COLUMN(BA3)-COLUMN($J$3))<=CONTROL!$E$17*12,AZ11,0)","v":0},{"$f":"IF((COLUMN(BB3)-COLUMN($J$3))<=CONTROL!$E$17*12,BA11,0)","v":0},{"$f":"IF((COLUMN(BC3)-COLUMN($J$3))<=CONTROL!$E$17*12,BB11,0)","v":0},{"$f":"IF((COLUMN(BD3)-COLUMN($J$3))<=CONTROL!$E$17*12,BC11,0)","v":0},{"$f":"IF((COLUMN(BE3)-COLUMN($J$3))<=CONTROL!$E$17*12,BD11,0)","v":0},{"$f":"IF((COLUMN(BF3)-COLUMN($J$3))<=CONTROL!$E$17*12,BE11,0)","v":0},{"$f":"IF((COLUMN(BG3)-COLUMN($J$3))<=CONTROL!$E$17*12,BF11,0)","v":0},{"$f":"IF((COLUMN(BH3)-COLUMN($J$3))<=CONTROL!$E$17*12,BG11,0)","v":0},{"$f":"IF((COLUMN(BI3)-COLUMN($J$3))<=CONTROL!$E$17*12,BH11,0)","v":0},{"$f":"IF((COLUMN(BJ3)-COLUMN($J$3))<=CONTROL!$E$17*12,BI11,0)","v":0},{"$f":"IF((COLUMN(BK3)-COLUMN($J$3))<=CONTROL!$E$17*12,BJ11,0)","v":0},{"$f":"IF((COLUMN(BL3)-COLUMN($J$3))<=CONTROL!$E$17*12,BK11,0)","v":0},{"$f":"IF((COLUMN(BM3)-COLUMN($J$3))<=CONTROL!$E$17*12,BL11,0)","v":0},{"$f":"IF((COLUMN(BN3)-COLUMN($J$3))<=CONTROL!$E$17*12,BM11,0)","v":0},{"$f":"IF((COLUMN(BO3)-COLUMN($J$3))<=CONTROL!$E$17*12,BN11,0)","v":0},{"$f":"IF((COLUMN(BP3)-COLUMN($J$3))<=CONTROL!$E$17*12,BO11,0)","v":0},{"$f":"IF((COLUMN(BQ3)-COLUMN($J$3))<=CONTROL!$E$17*12,BP11,0)","v":0},{"$f":"IF((COLUMN(BR3)-COLUMN($J$3))<=CONTROL!$E$17*12,BQ11,0)","v":0},{"$f":"IF((COLUMN(BS3)-COLUMN($J$3))<=CONTROL!$E$17*12,BR11,0)","v":0},{"$f":"IF((COLUMN(BT3)-COLUMN($J$3))<=CONTROL!$E$17*12,BS11,0)","v":0},{"$f":"IF((COLUMN(BU3)-COLUMN($J$3))<=CONTROL!$E$17*12,BT11,0)","v":0},{"$f":"IF((COLUMN(BV3)-COLUMN($J$3))<=CONTROL!$E$17*12,BU11,0)","v":0},{"$f":"IF((COLUMN(BW3)-COLUMN($J$3))<=CONTROL!$E$17*12,BV11,0)","v":0},{"$f":"IF((COLUMN(BX3)-COLUMN($J$3))<=CONTROL!$E$17*12,BW11,0)","v":0},{"$f":"IF((COLUMN(BY3)-COLUMN($J$3))<=CONTROL!$E$17*12,BX11,0)","v":0},{"$f":"IF((COLUMN(BZ3)-COLUMN($J$3))<=CONTROL!$E$17*12,BY11,0)","v":0},{"$f":"IF((COLUMN(CA3)-COLUMN($J$3))<=CONTROL!$E$17*12,BZ11,0)","v":0},{"$f":"IF((COLUMN(CB3)-COLUMN($J$3))<=CONTROL!$E$17*12,CA11,0)","v":0},{"$f":"IF((COLUMN(CC3)-COLUMN($J$3))<=CONTROL!$E$17*12,CB11,0)","v":0},{"$f":"IF((COLUMN(CD3)-COLUMN($J$3))<=CONTROL!$E$17*12,CC11,0)","v":0},{"$f":"IF((COLUMN(CE3)-COLUMN($J$3))<=CONTROL!$E$17*12,CD11,0)","v":0},{"$f":"IF((COLUMN(CF3)-COLUMN($J$3))<=CONTROL!$E$17*12,CE11,0)","v":0},{"$f":"IF((COLUMN(CG3)-COLUMN($J$3))<=CONTROL!$E$17*12,CF11,0)","v":0},{"$f":"IF((COLUMN(CH3)-COLUMN($J$3))<=CONTROL!$E$17*12,CG11,0)","v":0},{"$f":"IF((COLUMN(CI3)-COLUMN($J$3))<=CONTROL!$E$17*12,CH11,0)","v":0},{"$f":"IF((COLUMN(CJ3)-COLUMN($J$3))<=CONTROL!$E$17*12,CI11,0)","v":0},{"$f":"IF((COLUMN(CK3)-COLUMN($J$3))<=CONTROL!$E$17*12,CJ11,0)","v":0},{"$f":"IF((COLUMN(CL3)-COLUMN($J$3))<=CONTROL!$E$17*12,CK11,0)","v":0},{"$f":"IF((COLUMN(CM3)-COLUMN($J$3))<=CONTROL!$E$17*12,CL11,0)","v":0},{"$f":"IF((COLUMN(CN3)-COLUMN($J$3))<=CONTROL!$E$17*12,CM11,0)","v":0},{"$f":"IF((COLUMN(CO3)-COLUMN($J$3))<=CONTROL!$E$17*12,CN11,0)","v":0},{"$f":"IF((COLUMN(CP3)-COLUMN($J$3))<=CONTROL!$E$17*12,CO11,0)","v":0}]
[null,"Gastos Financieros",{"$f":"SUMIF($K$2:$CP$2,C$3,$K12:$CP12)","v":0},0,0,{"$f":"SUMIF($K$2:$CP$2,F$3,$K12:$CP12)","v":0},0,{"$f":"SUMIF($K$2:$CP$2,H$3,$K12:$CP12)","v":0},{"$f":"SUMIF($K$2:$CP$2,I$3,$K12:$CP12)","v":0},null,{"$f":"TES!X26","v":0},{"$f":"TES!Y26","v":0},{"$f":"TES!Z26","v":0},{"$f":"TES!AA26","v":0},{"$f":"TES!AB26","v":0},{"$f":"TES!AC26","v":0},{"$f":"TES!AD26","v":0},{"$f":"TES!AE26","v":0},{"$f":"TES!AF26","v":0},{"$f":"TES!AG26","v":0},{"$f":"TES!AH26","v":0},{"$f":"TES!AI26","v":0},{"$f":"TES!AJ26","v":0},{"$f":"TES!AK26","v":0},{"$f":"TES!AL26","v":0},{"$f":"TES!AM26","v":0},{"$f":"TES!AN26","v":0},{"$f":"TES!AO26","v":0},{"$f":"TES!AP26","v":0},{"$f":"TES!AQ26","v":0},{"$f":"TES!AR26","v":0},{"$f":"TES!AS26","v":0},{"$f":"TES!AT26","v":0},{"$f":"TES!AU26","v":0},{"$f":"TES!AV26","v":0},{"$f":"TES!AW26","v":0},{"$f":"TES!AX26","v":0},{"$f":"TES!AY26","v":0},{"$f":"TES!AZ26","v":0},{"$f":"TES!BA26","v":0},{"$f":"TES!BB26","v":0},{"$f":"TES!BC26","v":0},{"$f":"TES!BD26","v":0},{"$f":"TES!BE26","v":0},{"$f":"TES!BF26","v":0},{"$f":"TES!BG26","v":0},{"$f":"TES!BH26","v":0},{"$f":"TES!BI26","v":0},{"$f":"TES!BJ26","v":0},{"$f":"TES!BK26","v":0},{"$f":"TES!BL26","v":0},{"$f":"TES!BM26","v":0},{"$f":"TES!BN26","v":0},{"$f":"TES!BO26","v":0},{"$f":"TES!BP26","v":0},{"$f":"TES!BQ26","v":0},{"$f":"TES!BR26","v":0},{"$f":"TES!BS26","v":0},{"$f":"TES!BT26","v":0},{"$f":"TES!BU26","v":0},{"$f":"TES!BV26","v":0},{"$f":"TES!BW26","v":0},{"$f":"TES!BX26","v":0},{"$f":"TES!BY26","v":0},{"$f":"TES!BZ26","v":0},{"$f":"TES!CA26","v":0},{"$f":"TES!CB26","v":0},{"$f":"TES!CC26","v":0},{"$f":"TES!CD26","v":0},{"$f":"TES!CE26","v":0},{"$f":"TES!CF26","v":0},{"$f":"TES!CG26","v":0},{"$f":"TES!CH26","v":0},{"$f":"TES!CI26","v":0},{"$f":"TES!CJ26","v":0},{"$f":"TES!CK26","v":0},{"$f":"TES!CL26","v":0},{"$f":"TES!CM26","v":0},{"$f":"TES!CN26","v":0},{"$f":"TES!CO26","v":0},{"$f":"TES!CP26","v":0},{"$f":"TES!CQ26","v":0},{"$f":"TES!CR26","v":0},{"$f":"TES!CS26","v":0},{"$f":"TES!CT26","v":0},{"$f":"TES!CU26","v":0},{"$f":"TES!CV26","v":0},{"$f":"TES!CW26","v":0},{"$f":"TES!CX26","v":0},{"$f":"TES!CY26","v":0},{"$f":"TES!CZ26","v":0},{"$f":"TES!DA26","v":0},{"$f":"TES!DB26","v":0},{"$f":"TES!DC26","v":0}]
[null,"Ingresos Financieros",{"$f":"SUMIF($K$2:$CP$2,C$3,$K13:$CP13)","v":0},0,0,0,0,0,0,null,{"$f":"TES!X19","v":0},{"$f":"TES!Y19","v":0},{"$f":"TES!Z19","v":0},{"$f":"TES!AA19","v":0},{"$f":"TES!AB19","v":0},{"$f":"TES!AC19","v":0},{"$f":"TES!AD19","v":0},{"$f":"TES!AE19","v":0},{"$f":"TES!AF19","v":0},{"$f":"TES!AG19","v":0},{"$f":"TES!AH19","v":0},{"$f":"TES!AI19","v":0},{"$f":"TES!AJ19","v":0},{"$f":"TES!AK19","v":0},{"$f":"TES!AL19","v":0},{"$f":"TES!AM19","v":0},{"$f":"TES!AN19","v":0},{"$f":"TES!AO19","v":0},{"$f":"TES!AP19","v":0},{"$f":"TES!AQ19","v":0},{"$f":"TES!AR19","v":0},{"$f":"TES!AS19","v":0},{"$f":"TES!AT19","v":0},{"$f":"TES!AU19","v":0},{"$f":"TES!AV19","v":0},{"$f":"TES!AW19","v":0},{"$f":"TES!AX19","v":0},{"$f":"TES!AY19","v":0},{"$f":"TES!AZ19","v":0},{"$f":"TES!BA19","v":0},{"$f":"TES!BB19","v":0},{"$f":"TES!BC19","v":0},{"$f":"TES!BD19","v":0},{"$f":"TES!BE19","v":0},{"$f":"TES!BF19","v":0},{"$f":"TES!BG19","v":0},{"$f":"TES!BH19","v":0},{"$f":"TES!BI19","v":0},{"$f":"TES!BJ19","v":0},{"$f":"TES!BK19","v":0},{"$f":"TES!BL19","v":0},{"$f":"TES!BM19","v":0},{"$f":"TES!BN19","v":0},{"$f":"TES!BO19","v":0},{"$f":"TES!BP19","v":0},{"$f":"TES!BQ19","v":0},{"$f":"TES!BR19","v":0},{"$f":"TES!BS19","v":0},{"$f":"TES!BT19","v":0},{"$f":"TES!BU19","v":0},{"$f":"TES!BV19","v":0},{"$f":"TES!BW19","v":0},{"$f":"TES!BX19","v":0},{"$f":"TES!BY19","v":0},{"$f":"TES!BZ19","v":0},{"$f":"TES!CA19","v":0},{"$f":"TES!CB19","v":0},{"$f":"TES!CC19","v":0},{"$f":"TES!CD19","v":0},{"$f":"TES!CE19","v":0},{"$f":"TES!CF19","v":0},{"$f":"TES!CG19","v":0},{"$f":"TES!CH19","v":0},{"$f":"TES!CI19","v":0},{"$f":"TES!CJ19","v":0},{"$f":"TES!CK19","v":0},{"$f":"TES!CL19","v":0},{"$f":"TES!CM19","v":0},{"$f":"TES!CN19","v":0},{"$f":"TES!CO19","v":0},{"$f":"TES!CP19","v":0},{"$f":"TES!CQ19","v":0},{"$f":"TES!CR19","v":0},{"$f":"TES!CS19","v":0},{"$f":"TES!CT19","v":0},{"$f":"TES!CU19","v":0},{"$f":"TES!CV19","v":0},{"$f":"TES!CW19","v":0},{"$f":"TES!CX19","v":0},{"$f":"TES!CY19","v":0},{"$f":"TES!CZ19","v":0},{"$f":"TES!DA19","v":0},{"$f":"TES!DB19","v":0},{"$f":"TES!DC19","v":0}]
[null,"BAT",{"$f":"C10+C11-C12+C13","v":1},{"$f":"D10+D11-D12+D13","v":1},1,1,1,1,1,null,{"$f":"K10+K11-K12+K13","v":8.3333333333333329E-2},{"$f":"L10+L11-L12+L13","v":8.3333333333333329E-2},{"$f":"M10+M11-M12+M13","v":8.3333333333333329E-2},8.3333333333333329E-2,8.3333333333333329E-2,8.3333333333333329E-2,8.3333333333333329E-2,8.3333333333333329E-2,8.3333333333333329E-2,8.3333333333333329E-2,8.3333333333333329E-2,8.3333333333333329E-2,8.3333333333333329E-2,8.3333333333333329E-2,8.3333333333333329E-2,8.3333333333333329E-2,8.3333333333333329E-2,8.3333333333333329E-2,8.3333333333333329E-2,8.3333333333333329E-2,8.3333333333333329E-2,8.3333333333333329E-2,8.3333333333333329E-2,8.3333333333333329E-2,8.3333333333333329E-2,8.3333333333333329E-2,8.3333333333333329E-2,8.3333333333333329E-2,8.3333333333333329E-2,8.3333333333333329E-2,8.3333333333333329E-2,8.3333333333333329E-2,8.3333333333333329E-2,8.3333333333333329E-2,8.3333333333333329E-2,8.3333333333333329E-2,8.3333333333333329E-2,8.3333333333333329E-2,8.3333333333333329E-2,8.3333333333333329E-2,8.3333333333333329E-2,8.3333333333333329E-2,8.3333333333333329E-2,8.3333333333333329E-2,8.3333333333333329E-2,8.3333333333333329E-2,8.3333333333333329E-2,8.3333333333333329E-2,8.3333333333333329E-2,8.3333333333333329E-2,8.3333333333333329E-2,8.3333333333333329E-2,8.3333333333333329E-2,8.3333333333333329E-2,8.3333333333333329E-2,8.3333333333333329E-2,8.3333333333333329E-2,8.3333333333333329E-2,8.3333333333333329E-2,8.3333333333333329E-2,8.3333333333333329E-2,8.3333333333333329E-2,8.3333333333333329E-2,8.3333333333333329E-2,8.3333333333333329E-2,8.3333333333333329E-2,{"$f":"BY10+BY11-BY12+BY13","v":8.3333333333333329E-2},8.3333333333333329E-2,8.3333333333333329E-2,8.3333333333333329E-2,8.3333333333333329E-2,8.3333333333333329E-2,8.3333333333333329E-2,8.3333333333333329E-2,8.3333333333333329E-2,8.3333333333333329E-2,8.3333333333333329E-2,8.3333333333333329E-2,8.3333333333333329E-2,8.3333333333333329E-2,8.3333333333333329E-2,8.3333333333333329E-2,8.3333333333333329E-2,8.3333333333333329E-2]
[null,"Base Imponible",{"$f":"C14","v":1},{"$f":"IF(C15<0,C15+D14,D14)","v":1},1,1,1,1,1]
[null,"Impuestos",{"$f":"MAX(0,IF(C15<CONTROL!$H$10,CONTROL!$H$9*CTA.RES!C15,(CTA.RES!C15-CONTROL!$H$10)*CONTROL!$H$8+CONTROL!$H$9*CONTROL!$H$10))","v":0},{"$f":"MAX(0,IF(D15<CONTROL!$H$10,CONTROL!$H$9*CTA.RES!D15,(CTA.RES!D15-CONTROL!$H$10)*CONTROL!$H$8+CONTROL!$H$9*CONTROL!$H$10))","v":0},{"$f":"MAX(0,IF(E15<CONTROL!$H$10,CONTROL!$H$9*CTA.RES!E15,(CTA.RES!E15-CONTROL!$H$10)*CONTROL!$H$8+CONTROL!$H$9*CONTROL!$H$10))","v":0},{"$f":"MAX(0,IF(F15<CONTROL!$H$10,CONTROL!$H$9*CTA.RES!F15,(CTA.RES!F15-CONTROL!$H$10)*CONTROL!$H$8+CONTROL!$H$9*CONTROL!$H$10))","v":0},{"$f":"MAX(0,IF(G15<CONTROL!$H$10,CONTROL!$H$9*CTA.RES!G15,(CTA.RES!G15-CONTROL!$H$10)*CONTROL!$H$8+CONTROL!$H$9*CONTROL!$H$10))","v":0},{"$f":"MAX(0,IF(H15<CONTROL!$H$10,CONTROL!$H$9*CTA.RES!H15,(CTA.RES!H15-CONTROL!$H$10)*CONTROL!$H$8+CONTROL!$H$9*CONTROL!$H$10))","v":0},{"$f":"MAX(0,IF(I15<CONTROL!$H$10,CONTROL!$H$9*CTA.RES!I15,(CTA.RES!I15-CONTROL!$H$10)*CONTROL!$H$8+CONTROL!$H$9*CONTROL!$H$10))","v":0},null,{"$f":"IF(MONTH(K3)=12,LOOKUP(K2,$C$3:$I$3,$C$16:$I$16),0)","v":0},{"$f":"IF(MONTH(L3)=12,LOOKUP(L2,$C$3:$I$3,$C$16:$I$16),0)","v":0},{"$f":"IF(MONTH(M3)=12,LOOKUP(M2,$C$3:$I$3,$C$16:$I$16),0)","v":0},0,0,0,0,0,0,0,0,0,0,0,0,0,0,0,0,0,0,0,0,0,{"$f":"IF(MONTH(AI3)=12,LOOKUP(AI2,$C$3:$I$3,$C$16:$I$16),0)","v":0},0,0,0,0,0,0,0,0,0,0,0,{"$f":"IF(MONTH(AU3)=12,LOOKUP(AU2,$C$3:$I$3,$C$16:$I$16),0)","v":0},0,0,0,0,0,0,0,0,0,0,0,0,0,0,0,0,{"$f":"IF(MONTH(BL3)=12,LOOKUP(BL2,$C$3:$I$3,$C$16:$I$16),0)","v":0},0,0,0,0,0,0,0,0,0,0,0,0,{"$f":"IF(MONTH(BY3)=12,LOOKUP(BY2,$C$3:$I$3,$C$16:$I$16),0)","v":0},0,0,0,0,0,0,0,0,0,{"$f":"IF(MONTH(CI3)=12,LOOKUP(CI2,$C$3:$I$3,$C$16:$I$16),0)","v":0},0,0,0,0,0,0,0]
[null,"BDT",{"$f":"C14-C16","v":1},1,1,1,1,1,1,null,{"$f":"K14-K16","v":8.3333333333333329E-2},8.3333333333333329E-2,8.3333333333333329E-2,8.3333333333333329E-2,8.3333333333333329E-2,8.3333333333333329E-2,8.3333333333333329E-2,8.3333333333333329E-2,8.3333333333333329E-2,8.3333333333333329E-2,8.3333333333333329E-2,8.3333333333333329E-2,8.3333333333333329E-2,8.3333333333333329E-2,8.3333333333333329E-2,8.3333333333333329E-2,8.3333333333333329E-2,8.3333333333333329E-2,8.3333333333333329E-2,8.3333333333333329E-2,8.3333333333333329E-2,8.3333333333333329E-2,8.3333333333333329E-2,8.3333333333333329E-2,8.3333333333333329E-2,8.3333333333333329E-2,8.3333333333333329E-2,8.3333333333333329E-2,8.3333333333333329E-2,8.3333333333333329E-2,8.3333333333333329E-2,8.3333333333333329E-2,{"$f":"AQ14-AQ16","v":8.3333333333333329E-2},8.3333333333333329E-2,8.3333333333333329E-2,8.3333333333333329E-2,8.3333333333333329E-2,8.3333333333333329E-2,8.3333333333333329E-2,8.3333333333333329E-2,8.3333333333333329E-2,8.3333333333333329E-2,8.3333333333333329E-2,8.3333333333333329E-2,8.3333333333333329E-2,8.3333333333333329E-2,8.3333333333333329E-2,8.3333333333333329E-2,8.3333333333333329E-2,8.3333333333333329E-2,8.3333333333333329E-2,8.3333333333333329E-2,8.3333333333333329E-2,8.3333333333333329E-2,8.3333333333333329E-2,8.3333333333333329E-2,8.3333333333333329E-2,8.3333333333333329E-2,8.3333333333333329E-2,8.3333333333333329E-2,8.3333333333333329E-2,8.3333333333333329E-2,8.3333333333333329E-2,8.3333333333333329E-2,{"$f":"BW14-BW16","v":8.3333333333333329E-2},8.3333333333333329E-2,8.3333333333333329E-2,8.3333333333333329E-2,8.3333333333333329E-2,8.3333333333333329E-2,8.3333333333333329E-2,8.3333333333333329E-2,8.3333333333333329E-2,8.3333333333333329E-2,8.3333333333333329E-2,8.3333333333333329E-2,8.3333333333333329E-2,8.3333333333333329E-2,8.3333333333333329E-2,8.3333333333333329E-2,8.3333333333333329E-2,8.3333333333333329E-2,8.3333333333333329E-2,8.3333333333333329E-2]
[null,"Dividendos",null,{"$f":"IF(BALANCE!D19>=0,MAX(CONTROL!$C$20*C17,0),0)","v":0},{"$f":"IF(BALANCE!E19>=0,MAX(CONTROL!$C$20*D17,0),0)","v":0},{"$f":"IF(BALANCE!F19>=0,MAX(CONTROL!$C$20*E17,0),0)","v":0},{"$f":"IF(BALANCE!G19>=0,MAX(CONTROL!$C$20*F17,0),0)","v":0},{"$f":"IF(BALANCE!H19>=0,MAX(CONTROL!$C$20*G17,0),0)","v":0},{"$f":"IF(BALANCE!I19>=0,MAX(CONTROL!$C$20*H17,0),0)","v":0}]
[null,"Beneficio Retenido",{"$f":"C17-C18","v":1},1,1,1,1,1,1]
[null,"Tasa Impositiva Efectiva",{"$f":"C16/C14","v":0},{"$f":"D16/D14","v":0},0,0,0,0,0]
[]
[null,null,null,"Ingresos de Explotación",{"$f":"MATCH(D22,B5:B19,0)","v":1},null,"BAT",{"$f":"MATCH(G22,B5:B19,0)","v":10}]
[]
[null,{"$f":"OFFSET(B4,$E$22,0)","v":"Ingresos de Explotación"},{"$f":"OFFSET(C4,$E$22,0)","v":1},{"$f":"OFFSET(D4,$E$22,0)","v":1},1,1,1,1,1]
[null,{"$f":"OFFSET(B4,$H$22,0)","v":"BAT"},{"$f":"OFFSET(C4,$H$22,0)","v":1},{"$f":"OFFSET(D4,$H$22,0)","v":1},1,1,1,1,1]

{"sheet":"BALANCE","index":6,"n_rows":42,"n_cols":107,"rows_kept":42,"cut":false,"hidden":false,"merged":[]}
[null,null,null,null,"Mes inicio"]
[null,{"$f":"CONTROL!C2","v":"Proyecto "},null,null,null,null,null,null,null,null,null,null,null,null,null,null,null,null,null,null,null,null,null,{"$f":"YEAR(X3)","v":2014},{"$f":"YEAR(Y3)","v":2014},2014,2014,2014,2014,2014,2014,2014,2014,2014,2014,2015,2015,2015,2015,2015,2015,2015,2015,2015,2015,2015,2015,2016,2016,2016,2016,2016,2016,2016,2016,2016,2016,2016,2016,2017,2017,2017,2017,2017,2017,2017,2017,2017,2017,2017,2017,2018,2018,2018,2018,2018,2018,2018,2018,2018,2018,2018,2018,2019,2019,2019,2019,2019,{"$f":"YEAR(CK3)","v":2019},2019,2019,2019,2019,2019,2019,2020,2020,2020,2020,2020,2020,2020,2020,2020,2020,2020,2020]
[null,null,{"$f":"W3","v":"2013-12-31"},{"$f":"EOMONTH(W3,13-Mes_Ini)","v":"2014-12-31"},{"$f":"EOMONTH(D3,12)","v":"2015-12-31"},{"$f":"EOMONTH(E3,12)","v":"2016-12-31"},"2017-12-31","2018-12-31","2019-12-31","2020-12-31",null,{"$f":"EOMONTH(M3,-1)","v":"2013-01-31"},"2013-02-28","2013-03-31","2013-04-30","2013-05-31","2013-06-30","2013-07-31","2013-08-31","2013-09-30","2013-10-31",{"$f":"EOMONTH(W3,-1)","v":"2013-11-30"},{"$f":"EOMONTH(X3,-1)","v":"2013-12-31"},{"$f":"CONTROL!H2","v":"2014-01-31"},{"$f":"EOMONTH(X3,1)","v":"2014-02-28"},{"$f":"EOMONTH(Y3,1)","v":"2014-03-31"},"2014-04-30","2014-05-31","2014-06-30","2014-07-31","2014-08-31","2014-09-30","2014-10-31","2014-11-30","2014-12-31","2015-01-31","2015-02-28","2015-03-31","2015-04-30","2015-05-31","2015-06-30","2015-07-31","2015-08-31","2015-09-30","2015-10-31","2015-11-30","2015-12-31","2016-01-31","2016-02-29","2016-03-31","2016-04-30","2016-05-31","2016-06-30","2016-07-31","2016-08-31","2016-09-30","2016-10-31","2016-11-30","2016-12-31","2017-01-31","2017-02-28","2017-03-31","2017-04-30","2017-05-31","2017-06-30","2017-07-31","2017-08-31","2017-09-30","2017-10-31","2017-11-30","2017-12-31","2018-01-31","2018-02-28","2018-03-31","2018-04-30","2018-05-31","2018-06-30","2018-07-31","2018-08-31","2018-09-30","2018-10-31","2018-11-30","2018-12-31","2019-01-31","2019-02-28","2019-03-31","2019-04-30","2019-05-31","2019-06-30",{"$f":"EOMONTH(CK3,1)","v":"2019-07-31"},"2019-08-31","2019-09-30","2019-10-31","2019-11-30","2019-12-31","2020-01-31","2020-02-29","2020-03-31","2020-04-30","2020-05-31","2020-06-30","2020-07-31","2020-08-31","2020-09-30","2020-10-31","2020-11-30","2020-12-31"]
[null,"Inmovilizado Material",{"$f":"LOOKUP(C$3,$L$3:$DC$3,$L4:$DC4)","v":1},{"$f":"LOOKUP(D$3,$L$3:$DC$3,$L4:$DC4)","v":1},{"$f":"LOOKUP(E$3,$X$3:$DC$3,$X4:$DC4)","v":1},1,1,1,1,1,null,{"$f":"INV!Q38","v":0},{"$f":"L4+INV!R38","v":0},{"$f":"M4+INV!S38","v":0},{"$f":"N4+INV!T38","v":1},{"$f":"O4+INV!U38","v":1},{"$f":"P4+INV!V38","v":1},{"$f":"Q4+INV!W38","v":1},{"$f":"R4+INV!X38","v":1},{"$f":"S4+INV!Y38","v":1},{"$f":"T4+INV!Z38","v":1},{"$f":"U4+INV!AA38","v":1},{"$f":"V4+INV!AB38","v":1},{"$f":"W4+INV!AC38","v":1},{"$f":"X4+INV!AD38","v":1},{"$f":"Y4+INV!AE38","v":1},{"$f":"Z4+INV!AF38","v":1},{"$f":"AA4+INV!AG38","v":1},{"$f":"AB4+INV!AH38","v":1},{"$f":"AC4+INV!AI38","v":1},{"$f":"AD4+INV!AJ38","v":1},{"$f":"AE4+INV!AK38","v":1},{"$f":"AF4+INV!AL38","v":1},{"$f":"AG4+INV!AM38","v":1},{"$f":"AH4+INV!AN38","v":1},{"$f":"AI4+INV!AO38","v":1},{"$f":"AJ4+INV!AP38","v":1},{"$f":"AK4+INV!AQ38","v":1},{"$f":"AL4+INV!AR38","v":1},{"$f":"AM4+INV!AS38","v":1},{"$f":"AN4+INV!AT38","v":1},{"$f":"AO4+INV!AU38","v":1},{"$f":"AP4+INV!AV38","v":1},{"$f":"AQ4+INV!AW38","v":1},{"$f":"AR4+INV!AX38","v":1},{"$f":"AS4+INV!AY38","v":1},{"$f":"AT4+INV!AZ38","v":1},{"$f":"AU4+INV!BA38","v":1},{"$f":"AV4+INV!BB38","v":1},{"$f":"AW4+INV!BC38","v":1},{"$f":"AX4+INV!BD38","v":1},{"$f":"AY4+INV!BE38","v":1},{"$f":"AZ4+INV!BF38","v":1},{"$f":"BA4+INV!BG38","v":1},{"$f":"BB4+INV!BH38","v":1},{"$f":"BC4+INV!BI38","v":1},{"$f":"BD4+INV!BJ38","v":1},{"$f":"BE4+INV!BK38","v":1},{"$f":"BF4+INV!BL38","v":1},{"$f":"BG4+INV!BM38","v":1},{"$f":"BH4+INV!BN38","v":1},{"$f":"BI4+INV!BO38","v":1},{"$f":"BJ4+INV!BP38","v":1},{"$f":"BK4+INV!BQ38","v":1},{"$f":"BL4+INV!BR38","v":1},{"$f":"BM4+INV!BS38","v":1},{"$f":"BN4+INV!BT38","v":1},{"$f":"BO4+INV!BU38","v":1},{"$f":"BP4+INV!BV38","v":1},{"$f":"BQ4+INV!BW38","v":1},{"$f":"BR4+INV!BX38","v":1},{"$f":"BS4+INV!BY38","v":1},{"$f":"BT4+INV!BZ38","v":1},{"$f":"BU4+INV!CA38","v":1},{"$f":"BV4+INV!CB38","v":1},{"$f":"BW4+INV!CC38","v":1},{"$f":"BX4+INV!CD38","v":1},{"$f":"BY4+INV!CE38","v":1},{"$f":"BZ4+INV!CF38","v":1},{"$f":"CA4+INV!CG38","v":1},{"$f":"CB4+INV!CH38","v":1},{"$f":"CC4+INV!CI38","v":1},{"$f":"CD4+INV!CJ38","v":1},{"$f":"CE4+INV!CK38","v":1},{"$f":"CF4+INV!CL38","v":1},{"$f":"CG4+INV!CM38","v":1},{"$f":"CH4+INV!CN38","v":1},{"$f":"CI4+INV!CO38","v":1},{"$f":"CJ4+INV!CP38","v":1},{"$f":"CK4+INV!CQ38","v":1},{"$f":"CL4+INV!CR38","v":1},{"$f":"CM4+INV!CS38","v":1},{"$f":"CN4+INV!CT38","v":1},{"$f":"CO4+INV!CU38","v":1},{"$f":"CP4+INV!CV38","v":1},{"$f":"CQ4+INV!CW38","v":1},{"$f":"CR4+INV!CX38","v":1},{"$f":"CS4+INV!CY38","v":1},{"$f":"CT4+INV!CZ38","v":1},{"$f":"CU4+INV!DA38","v":1},{"$f":"CV4+INV!DB38","v":1},{"$f":"CW4+INV!DC38","v":1},{"$f":"CX4+INV!DD38","v":1},{"$f":"CY4+INV!DE38","v":1},{"$f":"CZ4+INV!DF38","v":1},{"$f":"DA4+INV!DG38","v":1},{"$f":"DB4+INV!DH38","v":1}]
[null,"(Amortización Acumulada I.M)",{"$f":"LOOKUP(C$3,$L$3:$DC$3,$L5:$DC5)","v":0},0,{"$f":"LOOKUP(E$3,$X$3:$DC$3,$X5:$DC5)","v":0},0,0,0,0,0,null,null,null,null,null,null,null,null,null,null,null,null,null,{"$f":"W5+INV!Q31","v":0},{"$f":"X5+INV!R31","v":0},{"$f":"Y5+INV!S31","v":0},{"$f":"Z5+INV!T31","v":0},{"$f":"AA5+INV!U31","v":0},{"$f":"AB5+INV!V31","v":0},{"$f":"AC5+INV!W31","v":0},{"$f":"AD5+INV!X31","v":0},{"$f":"AE5+INV!Y31","v":0},{"$f":"AF5+INV!Z31","v":0},{"$f":"AG5+INV!AA31","v":0},{"$f":"AH5+INV!AB31","v":0},{"$f":"AI5+INV!AC31","v":0},{"$f":"AJ5+INV!AD31","v":0},{"$f":"AK5+INV!AE31","v":0},{"$f":"AL5+INV!AF31","v":0},{"$f":"AM5+INV!AG31","v":0},{"$f":"AN5+INV!AH31","v":0},{"$f":"AO5+INV!AI31","v":0},{"$f":"AP5+INV!AJ31","v":0},{"$f":"AQ5+INV!AK31","v":0},{"$f":"AR5+INV!AL31","v":0},{"$f":"AS5+INV!AM31","v":0},{"$f":"AT5+INV!AN31","v":0},{"$f":"AU5+INV!AO31","v":0},{"$f":"AV5+INV!AP31","v":0},{"$f":"AW5+INV!AQ31","v":0},{"$f":"AX5+INV!AR31","v":0},{"$f":"AY5+INV!AS31","v":0},{"$f":"AZ5+INV!AT31","v":0},{"$f":"BA5+INV!AU31","v":0},{"$f":"BB5+INV!AV31","v":0},{"$f":"BC5+INV!AW31","v":0},{"$f":"BD5+INV!AX31","v":0},{"$f":"BE5+INV!AY31","v":0},{"$f":"BF5+INV!AZ31","v":0},{"$f":"BG5+INV!BA31","v":0},{"$f":"BH5+INV!BB31","v":0},{"$f":"BI5+INV!BC31","v":0},{"$f":"BJ5+INV!BD31","v":0},{"$f":"BK5+INV!BE31","v":0},{"$f":"BL5+INV!BF31","v":0},{"$f":"BM5+INV!BG31","v":0},{"$f":"BN5+INV!BH31","v":0},{"$f":"BO5+INV!BI31","v":0},{"$f":"BP5+INV!BJ31","v":0},{"$f":"BQ5+INV!BK31","v":0},{"$f":"BR5+INV!BL31","v":0},{"$f":"BS5+INV!BM31","v":0},{"$f":"BT5+INV!BN31","v":0},{"$f":"BU5+INV!BO31","v":0},{"$f":"BV5+INV!BP31","v":0},{"$f":"BW5+INV!BQ31","v":0},{"$f":"BX5+INV!BR31","v":0},{"$f":"BY5+INV!BS31","v":0},{"$f":"BZ5+INV!BT31","v":0},{"$f":"CA5+INV!BU31","v":0},{"$f":"CB5+INV!BV31","v":0},{"$f":"CC5+INV!BW31","v":0},{"$f":"CD5+INV!BX31","v":0},{"$f":"CE5+INV!BY31","v":0},{"$f":"CF5+INV!BZ31","v":0},{"$f":"CG5+INV!CA31","v":0},{"$f":"CH5+INV!CB31","v":0},{"$f":"CI5+INV!CC31","v":0},{"$f":"CJ5+INV!CD31","v":0},{"$f":"CK5+INV!CE31","v":0},{"$f":"CL5+INV!CF31","v":0},{"$f":"CM5+INV!CG31","v":0},{"$f":"CN5+INV!CH31","v":0},{"$f":"CO5+INV!CI31","v":0},{"$f":"CP5+INV!CJ31","v":0},{"$f":"CQ5+INV!CK31","v":0},{"$f":"CR5+INV!CL31","v":0},{"$f":"CS5+INV!CM31","v":0},{"$f":"CT5+INV!CN31","v":0},{"$f":"CU5+INV!CO31","v":0},{"$f":"CV5+INV!CP31","v":0},{"$f":"CW5+INV!CQ31","v":0},{"$f":"CX5+INV!CR31","v":0},{"$f":"CY5+INV!CS31","v":0},{"$f":"CZ5+INV!CT31","v":0},{"$f":"DA5+INV!CU31","v":0},{"$f":"DB5+INV!CV31","v":0}]
[null,"Inmovilizado Intangible",0,0,0,0,0,0,0,0,null,{"$f":"INV!Q39","v":0},{"$f":"L6+INV!R39","v":0},{"$f":"M6+INV!S39","v":0},{"$f":"N6+INV!T39","v":0},{"$f":"O6+INV!U39","v":0},{"$f":"P6+INV!V39","v":0},{"$f":"Q6+INV!W39","v":0},{"$f":"R6+INV!X39","v":0},{"$f":"S6+INV!Y39","v":0},{"$f":"T6+INV!Z39","v":0},{"$f":"U6+INV!AA39","v":0},{"$f":"V6+INV!AB39","v":0},{"$f":"W6+INV!AC39","v":0},{"$f":"X6+INV!AD39","v":0},{"$f":"Y6+INV!AE39","v":0},{"$f":"Z6+INV!AF39","v":0},{"$f":"AA6+INV!AG39","v":0},{"$f":"AB6+INV!AH39","v":0},{"$f":"AC6+INV!AI39","v":0},{"$f":"AD6+INV!AJ39","v":0},{"$f":"AE6+INV!AK39","v":0},{"$f":"AF6+INV!AL39","v":0},{"$f":"AG6+INV!AM39","v":0},{"$f":"AH6+INV!AN39","v":0},{"$f":"AI6+INV!AO39","v":0},{"$f":"AJ6+INV!AP39","v":0},{"$f":"AK6+INV!AQ39","v":0},{"$f":"AL6+INV!AR39","v":0},{"$f":"AM6+INV!AS39","v":0},{"$f":"AN6+INV!AT39","v":0},{"$f":"AO6+INV!AU39","v":0},{"$f":"AP6+INV!AV39","v":0},{"$f":"AQ6+INV!AW39","v":0},{"$f":"AR6+INV!AX39","v":0},{"$f":"AS6+INV!AY39","v":0},{"$f":"AT6+INV!AZ39","v":0},{"$f":"AU6+INV!BA39","v":0},{"$f":"AV6+INV!BB39","v":0},{"$f":"AW6+INV!BC39","v":0},{"$f":"AX6+INV!BD39","v":0},{"$f":"AY6+INV!BE39","v":0},{"$f":"AZ6+INV!BF39","v":0},{"$f":"BA6+INV!BG39","v":0},{"$f":"BB6+INV!BH39","v":0},{"$f":"BC6+INV!BI39","v":0},{"$f":"BD6+INV!BJ39","v":0},{"$f":"BE6+INV!BK39","v":0},{"$f":"BF6+INV!BL39","v":0},{"$f":"BG6+INV!BM39","v":0},{"$f":"BH6+INV!BN39","v":0},{"$f":"BI6+INV!BO39","v":0},{"$f":"BJ6+INV!BP39","v":0},{"$f":"BK6+INV!BQ39","v":0},{"$f":"BL6+INV!BR39","v":0},{"$f":"BM6+INV!BS39","v":0},{"$f":"BN6+INV!BT39","v":0},{"$f":"BO6+INV!BU39","v":0},{"$f":"BP6+INV!BV39","v":0},{"$f":"BQ6+INV!BW39","v":0},{"$f":"BR6+INV!BX39","v":0},{"$f":"BS6+INV!BY39","v":0},{"$f":"BT6+INV!BZ39","v":0},{"$f":"BU6+INV!CA39","v":0},{"$f":"BV6+INV!CB39","v":0},{"$f":"BW6+INV!CC39","v":0},{"$f":"BX6+INV!CD39","v":0},{"$f":"BY6+INV!CE39","v":0},{"$f":"BZ6+INV!CF39","v":0},{"$f":"CA6+INV!CG39","v":0},{"$f":"CB6+INV!CH39","v":0},{"$f":"CC6+INV!CI39","v":0},{"$f":"CD6+INV!CJ39","v":0},{"$f":"CE6+INV!CK39","v":0},{"$f":"CF6+INV!CL39","v":0},{"$f":"CG6+INV!CM39","v":0},{"$f":"CH6+INV!CN39","v":0},{"$f":"CI6+INV!CO39","v":0},{"$f":"CJ6+INV!CP39","v":0},{"$f":"CK6+INV!CQ39","v":0},{"$f":"CL6+INV!CR39","v":0},{"$f":"CM6+INV!CS39","v":0},{"$f":"CN6+INV!CT39","v":0},{"$f":"CO6+INV!CU39","v":0},{"$f":"CP6+INV!CV39","v":0},{"$f":"CQ6+INV!CW39","v":0},{"$f":"CR6+INV!CX39","v":0},{"$f":"CS6+INV!CY39","v":0},{"$f":"CT6+INV!CZ39","v":0},{"$f":"CU6+INV!DA39","v":0},{"$f":"CV6+INV!DB39","v":0},{"$f":"CW6+INV!DC39","v":0},{"$f":"CX6+INV!DD39","v":0},{"$f":"CY6+INV!DE39","v":0},{"$f":"CZ6+INV!DF39","v":0},{"$f":"DA6+INV!DG39","v":0},{"$f":"DB6+INV!DH39","v":0}]
[null,"(Amortización Acumulada I.IN)",0,0,0,0,0,0,0,0,null,null,null,null,null,null,null,null,null,null,null,null,null,{"$f":"W7+INV!Q32","v":0},{"$f":"X7+INV!R32","v":0},{"$f":"Y7+INV!S32","v":0},{"$f":"Z7+INV!T32","v":0},{"$f":"AA7+INV!U32","v":0},{"$f":"AB7+INV!V32","v":0},{"$f":"AC7+INV!W32","v":0},{"$f":"AD7+INV!X32","v":0},{"$f":"AE7+INV!Y32","v":0},{"$f":"AF7+INV!Z32","v":0},{"$f":"AG7+INV!AA32","v":0},{"$f":"AH7+INV!AB32","v":0},{"$f":"AI7+INV!AC32","v":0},{"$f":"AJ7+INV!AD32","v":0},{"$f":"AK7+INV!AE32","v":0},{"$f":"AL7+INV!AF32","v":0},{"$f":"AM7+INV!AG32","v":0},{"$f":"AN7+INV!AH32","v":0},{"$f":"AO7+INV!AI32","v":0},{"$f":"AP7+INV!AJ32","v":0},{"$f":"AQ7+INV!AK32","v":0},{"$f":"AR7+INV!AL32","v":0},{"$f":"AS7+INV!AM32","v":0},{"$f":"AT7+INV!AN32","v":0},{"$f":"AU7+INV!AO32","v":0},{"$f":"AV7+INV!AP32","v":0},{"$f":"AW7+INV!AQ32","v":0},{"$f":"AX7+INV!AR32","v":0},{"$f":"AY7+INV!AS32","v":0},{"$f":"AZ7+INV!AT32","v":0},{"$f":"BA7+INV!AU32","v":0},{"$f":"BB7+INV!AV32","v":0},{"$f":"BC7+INV!AW32","v":0},{"$f":"BD7+INV!AX32","v":0},{"$f":"BE7+INV!AY32","v":0},{"$f":"BF7+INV!AZ32","v":0},{"$f":"BG7+INV!BA32","v":0},{"$f":"BH7+INV!BB32","v":0},{"$f":"BI7+INV!BC32","v":0},{"$f":"BJ7+INV!BD32","v":0},{"$f":"BK7+INV!BE32","v":0},{"$f":"BL7+INV!BF32","v":0},{"$f":"BM7+INV!BG32","v":0},{"$f":"BN7+INV!BH32","v":0},{"$f":"BO7+INV!BI32","v":0},{"$f":"BP7+INV!BJ32","v":0},{"$f":"BQ7+INV!BK32","v":0},{"$f":"BR7+INV!BL32","v":0},{"$f":"BS7+INV!BM32","v":0},{"$f":"BT7+INV!BN32","v":0},{"$f":"BU7+INV!BO32","v":0},{"$f":"BV7+INV!BP32","v":0},{"$f":"BW7+INV!BQ32","v":0},{"$f":"BX7+INV!BR32","v":0},{"$f":"BY7+INV!BS32","v":0},{"$f":"BZ7+INV!BT32","v":0},{"$f":"CA7+INV!BU32","v":0},{"$f":"CB7+INV!BV32","v":0},{"$f":"CC7+INV!BW32","v":0},{"$f":"CD7+INV!BX32","v":0},{"$f":"CE7+INV!BY32","v":0},{"$f":"CF7+INV!BZ32","v":0},{"$f":"CG7+INV!CA32","v":0},{"$f":"CH7+INV!CB32","v":0},{"$f":"CI7+INV!CC32","v":0},{"$f":"CJ7+INV!CD32","v":0},{"$f":"CK7+INV!CE32","v":0},{"$f":"CL7+INV!CF32","v":0},{"$f":"CM7+INV!CG32","v":0},{"$f":"CN7+INV!CH32","v":0},{"$f":"CO7+INV!CI32","v":0},{"$f":"CP7+INV!CJ32","v":0},{"$f":"CQ7+INV!CK32","v":0},{"$f":"CR7+INV!CL32","v":0},{"$f":"CS7+INV!CM32","v":0},{"$f":"CT7+INV!CN32","v":0},{"$f":"CU7+INV!CO32","v":0},{"$f":"CV7+INV!CP32","v":0},{"$f":"CW7+INV!CQ32","v":0},{"$f":"CX7+INV!CR32","v":0},{"$f":"CY7+INV!CS32","v":0},{"$f":"CZ7+INV!CT32","v":0},{"$f":"DA7+INV!CU32","v":0},{"$f":"DB7+INV!CV32","v":0}]
[null,"Activo No Corriente",1,1,1,1,1,1,1,1,null,{"$f":"L4-L5+L6-L7","v":0},{"$f":"M4-M5+M6-M7","v":0},{"$f":"N4-N5+N6-N7","v":0},1,1,1,1,1,1,1,1,1,1,1,1,1,1,1,1,1,1,1,1,1,1,1,1,1,1,1,1,1,1,1,1,1,1,1,1,1,1,1,1,1,1,1,1,1,1,1,1,1,1,1,1,1,1,1,1,1,1,1,1,1,1,1,{"$f":"BZ4-BZ5+BZ6-BZ7","v":1},1,1,1,1,1,1,1,1,1,1,1,1,1,1,1,1,1,1,1,1,1,1,1,1,1,1,1,1,1]
[null,"Existencias de Materia Prima",0,0,0,0,0,0,0,0,null,null,null,null,null,null,null,null,null,null,null,null,{"$f":"INCO!M115","v":0},{"$f":"INCO!N115","v":0},{"$f":"INCO!O115","v":0},{"$f":"INCO!P115","v":0},{"$f":"INCO!Q115","v":0},{"$f":"INCO!R115","v":0},{"$f":"INCO!S115","v":0},{"$f":"INCO!T115","v":0},{"$f":"INCO!U115","v":0},{"$f":"INCO!V115","v":0},{"$f":"INCO!W115","v":0},{"$f":"INCO!X115","v":0},{"$f":"INCO!Y115","v":0},{"$f":"INCO!Z115","v":0},{"$f":"INCO!AA115","v":0},{"$f":"INCO!AB115","v":0},{"$f":"INCO!AC115","v":0},{"$f":"INCO!AD115","v":0},{"$f":"INCO!AE115","v":0},{"$f":"INCO!AF115","v":0},{"$f":"INCO!AG115","v":0},{"$f":"INCO!AH115","v":0},{"$f":"INCO!AI115","v":0},{"$f":"INCO!AJ115","v":0},{"$f":"INCO!AK115","v":0},{"$f":"INCO!AL115","v":0},{"$f":"INCO!AM115","v":0},{"$f":"INCO!AN115","v":0},{"$f":"INCO!AO115","v":0},{"$f":"INCO!AP115","v":0},{"$f":"INCO!AQ115","v":0},{"$f":"INCO!AR115","v":0},{"$f":"INCO!AS115","v":0},{"$f":"INCO!AT115","v":0},{"$f":"INCO!AU115","v":0},{"$f":"INCO!AV115","v":0},{"$f":"INCO!AW115","v":0},{"$f":"INCO!AX115","v":0},{"$f":"INCO!AY115","v":0},{"$f":"INCO!AZ115","v":0},{"$f":"INCO!BA115","v":0},{"$f":"INCO!BB115","v":0},{"$f":"INCO!BC115","v":0},{"$f":"INCO!BD115","v":0},{"$f":"INCO!BE115","v":0},{"$f":"INCO!BF115","v":0},{"$f":"INCO!BG115","v":0},{"$f":"INCO!BH115","v":0},{"$f":"INCO!BI115","v":0},{"$f":"INCO!BJ115","v":0},{"$f":"INCO!BK115","v":0},{"$f":"INCO!BL115","v":0},{"$f":"INCO!BM115","v":0},{"$f":"INCO!BN115","v":0},{"$f":"INCO!BO115","v":0},{"$f":"INCO!BP115","v":0},{"$f":"INCO!BQ115","v":0},{"$f":"INCO!BR115","v":0},{"$f":"INCO!BS115","v":0},{"$f":"INCO!BT115","v":0},{"$f":"INCO!BU115","v":0},{"$f":"INCO!BV115","v":0},{"$f":"INCO!BW115","v":0},{"$f":"INCO!BX115","v":0},{"$f":"INCO!BY115","v":0},{"$f":"INCO!BZ115","v":0},{"$f":"INCO!CA115","v":0},{"$f":"INCO!CB115","v":0},{"$f":"INCO!CC115","v":0},{"$f":"INCO!CD115","v":0},{"$f":"INCO!CE115","v":0},{"$f":"INCO!CF115","v":0},{"$f":"INCO!CG115","v":0},{"$f":"INCO!CH115","v":0},{"$f":"INCO!CI115","v":0},{"$f":"INCO!CJ115","v":0},{"$f":"INCO!CK115","v":0},{"$f":"INCO!CL115","v":0},{"$f":"INCO!CM115","v":0},{"$f":"INCO!CN115","v":0},{"$f":"INCO!CO115","v":0},{"$f":"INCO!CP115","v":0},{"$f":"INCO!CQ115","v":0},{"$f":"INCO!CR115","v":0},{"$f":"INCO!CS115","v":0}]
[null,"Existencias de Producto Terminado",0,0,0,0,0,0,0,0,null,null,null,null,null,null,null,null,null,null,null,null,null,{"$f":"INCO!N113","v":0},{"$f":"INCO!O113","v":0},{"$f":"INCO!P113","v":0},{"$f":"INCO!Q113","v":0},{"$f":"INCO!R113","v":0},{"$f":"INCO!S113","v":0},{"$f":"INCO!T113","v":0},{"$f":"INCO!U113","v":0},{"$f":"INCO!V113","v":0},{"$f":"INCO!W113","v":0},{"$f":"INCO!X113","v":0},{"$f":"INCO!Y113","v":0},{"$f":"INCO!Z113","v":0},{"$f":"INCO!AA113","v":0},{"$f":"INCO!AB113","v":0},{"$f":"INCO!AC113","v":0},{"$f":"INCO!AD113","v":0},{"$f":"INCO!AE113","v":0},{"$f":"INCO!AF113","v":0},{"$f":"INCO!AG113","v":0},{"$f":"INCO!AH113","v":0},{"$f":"INCO!AI113","v":0},{"$f":"INCO!AJ113","v":0},{"$f":"INCO!AK113","v":0},{"$f":"INCO!AL113","v":0},{"$f":"INCO!AM113","v":0},{"$f":"INCO!AN113","v":0},{"$f":"INCO!AO113","v":0},{"$f":"INCO!AP113","v":0},{"$f":"INCO!AQ113","v":0},{"$f":"INCO!AR113","v":0},{"$f":"INCO!AS113","v":0},{"$f":"INCO!AT113","v":0},{"$f":"INCO!AU113","v":0},{"$f":"INCO!AV113","v":0},{"$f":"INCO!AW113","v":0},{"$f":"INCO!AX113","v":0},{"$f":"INCO!AY113","v":0},{"$f":"INCO!AZ113","v":0},{"$f":"INCO!BA113","v":0},{"$f":"INCO!BB113","v":0},{"$f":"INCO!BC113","v":0},{"$f":"INCO!BD113","v":0},{"$f":"INCO!BE113","v":0},{"$f":"INCO!BF113","v":0},{"$f":"INCO!BG113","v":0},{"$f":"INCO!BH113","v":0},{"$f":"INCO!BI113","v":0},{"$f":"INCO!BJ113","v":0},{"$f":"INCO!BK113","v":0},{"$f":"INCO!BL113","v":0},{"$f":"INCO!BM113","v":0},{"$f":"INCO!BN113","v":0},{"$f":"INCO!BO113","v":0},{"$f":"INCO!BP113","v":0},{"$f":"INCO!BQ113","v":0},{"$f":"INCO!BR113","v":0},{"$f":"INCO!BS113","v":0},{"$f":"INCO!BT113","v":0},{"$f":"INCO!BU113","v":0},{"$f":"INCO!BV113","v":0},{"$f":"INCO!BW113","v":0},{"$f":"INCO!BX113","v":0},{"$f":"INCO!BY113","v":0},{"$f":"INCO!BZ113","v":0},{"$f":"INCO!CA113","v":0},{"$f":"INCO!CB113","v":0},{"$f":"INCO!CC113","v":0},{"$f":"INCO!CD113","v":0},{"$f":"INCO!CE113","v":0},{"$f":"INCO!CF113","v":0},{"$f":"INCO!CG113","v":0},{"$f":"INCO!CH113","v":0},{"$f":"INCO!CI113","v":0},{"$f":"INCO!CJ113","v":0},{"$f":"INCO!CK113","v":0},{"$f":"INCO!CL113","v":0},{"$f":"INCO!CM113","v":0},{"$f":"INCO!CN113","v":0},{"$f":"INCO!CO113","v":0},{"$f":"INCO!CP113","v":0},{"$f":"INCO!CQ113","v":0},{"$f":"INCO!CR113","v":0},{"$f":"INCO!CS113","v":0}]
[null,"Cuentas a Cobrar",0,0,0,0,0,0,0,0,null,null,null,null,null,null,null,null,null,null,null,null,null,{"$f":"W11+INCO!N45-TES!X5","v":0},{"$f":"X11+INCO!O45-TES!Y5","v":0},{"$f":"Y11+INCO!P45-TES!Z5","v":0},{"$f":"Z11+INCO!Q45-TES!AA5","v":0},{"$f":"AA11+INCO!R45-TES!AB5","v":0},{"$f":"AB11+INCO!S45-TES!AC5","v":0},{"$f":"AC11+INCO!T45-TES!AD5","v":0},{"$f":"AD11+INCO!U45-TES!AE5","v":0},{"$f":"AE11+INCO!V45-TES!AF5","v":0},{"$f":"AF11+INCO!W45-TES!AG5","v":0},{"$f":"AG11+INCO!X45-TES!AH5","v":0},{"$f":"AH11+INCO!Y45-TES!AI5","v":0},{"$f":"AI11+INCO!Z45-TES!AJ5","v":0},{"$f":"AJ11+INCO!AA45-TES!AK5","v":0},{"$f":"AK11+INCO!AB45-TES!AL5","v":0},{"$f":"AL11+INCO!AC45-TES!AM5","v":0},{"$f":"AM11+INCO!AD45-TES!AN5","v":0},{"$f":"AN11+INCO!AE45-TES!AO5","v":0},{"$f":"AO11+INCO!AF45-TES!AP5","v":0},{"$f":"AP11+INCO!AG45-TES!AQ5","v":0},{"$f":"AQ11+INCO!AH45-TES!AR5","v":0},{"$f":"AR11+INCO!AI45-TES!AS5","v":0},{"$f":"AS11+INCO!AJ45-TES!AT5","v":0},{"$f":"AT11+INCO!AK45-TES!AU5","v":0},{"$f":"AU11+INCO!AL45-TES!AV5","v":0},{"$f":"AV11+INCO!AM45-TES!AW5","v":0},{"$f":"AW11+INCO!AN45-TES!AX5","v":0},{"$f":"AX11+INCO!AO45-TES!AY5","v":0},{"$f":"AY11+INCO!AP45-TES!AZ5","v":0},{"$f":"AZ11+INCO!AQ45-TES!BA5","v":0},{"$f":"BA11+INCO!AR45-TES!BB5","v":0},{"$f":"BB11+INCO!AS45-TES!BC5","v":0},{"$f":"BC11+INCO!AT45-TES!BD5","v":0},{"$f":"BD11+INCO!AU45-TES!BE5","v":0},{"$f":"BE11+INCO!AV45-TES!BF5","v":0},{"$f":"BF11+INCO!AW45-TES!BG5","v":0},{"$f":"BG11+INCO!AX45-TES!BH5","v":0},{"$f":"BH11+INCO!AY45-TES!BI5","v":0},{"$f":"BI11+INCO!AZ45-TES!BJ5","v":0},{"$f":"BJ11+INCO!BA45-TES!BK5","v":0},{"$f":"BK11+INCO!BB45-TES!BL5","v":0},{"$f":"BL11+INCO!BC45-TES!BM5","v":0},{"$f":"BM11+INCO!BD45-TES!BN5","v":0},{"$f":"BN11+INCO!BE45-TES!BO5","v":0},{"$f":"BO11+INCO!BF45-TES!BP5","v":0},{"$f":"BP11+INCO!BG45-TES!BQ5","v":0},{"$f":"BQ11+INCO!BH45-TES!BR5","v":0},{"$f":"BR11+INCO!BI45-TES!BS5","v":0},{"$f":"BS11+INCO!BJ45-TES!BT5","v":0},{"$f":"BT11+INCO!BK45-TES!BU5","v":0},{"$f":"BU11+INCO!BL45-TES!BV5","v":0},{"$f":"BV11+INCO!BM45-TES!BW5","v":0},{"$f":"BW11+INCO!BN45-TES!BX5","v":0},{"$f":"BX11+INCO!BO45-TES!BY5","v":0},{"$f":"BY11+INCO!BP45-TES!BZ5","v":0},{"$f":"BZ11+INCO!BQ45-TES!CA5","v":0},{"$f":"CA11+INCO!BR45-TES!CB5","v":0},{"$f":"CB11+INCO!BS45-TES!CC5","v":0},{"$f":"CC11+INCO!BT45-TES!CD5","v":0},{"$f":"CD11+INCO!BU45-TES!CE5","v":0},{"$f":"CE11+INCO!BV45-TES!CF5","v":0},{"$f":"CF11+INCO!BW45-TES!CG5","v":0},{"$f":"CG11+INCO!BX45-TES!CH5","v":0},{"$f":"CH11+INCO!BY45-TES!CI5","v":0},{"$f":"CI11+INCO!BZ45-TES!CJ5","v":0},{"$f":"CJ11+INCO!CA45-TES!CK5","v":0},{"$f":"CK11+INCO!CB45-TES!CL5","v":0},{"$f":"CL11+INCO!CC45-TES!CM5","v":0},{"$f":"CM11+INCO!CD45-TES!CN5","v":0},{"$f":"CN11+INCO!CE45-TES!CO5","v":0},{"$f":"CO11+INCO!CF45-TES!CP5","v":0},{"$f":"CP11+INCO!CG45-TES!CQ5","v":0},{"$f":"CQ11+INCO!CH45-TES!CR5","v":0},{"$f":"CR11+INCO!CI45-TES!CS5","v":0},{"$f":"CS11+INCO!CJ45-TES!CT5","v":0},{"$f":"CT11+INCO!CK45-TES!CU5","v":0},{"$f":"CU11+INCO!CL45-TES!CV5","v":0},{"$f":"CV11+INCO!CM45-TES!CW5","v":0},{"$f":"CW11+INCO!CN45-TES!CX5","v":0},{"$f":"CX11+INCO!CO45-TES!CY5","v":0},{"$f":"CY11+INCO!CP45-TES!CZ5","v":0},{"$f":"CZ11+INCO!CQ45-TES!DA5","v":0},{"$f":"DA11+INCO!CR45-TES!DB5","v":0},{"$f":"DB11+INCO!CS45-TES!DC5","v":0}]
[null,"Hacienda Deudora por IVA",0,0,0,0,0,0,0,0,null,{"$f":"IF(IVA!C9<0,-IVA!C9,0)","v":0},{"$f":"IF(IVA!D9<0,-IVA!D9,0)","v":0},{"$f":"IF(IVA!E9<0,-IVA!E9,0)","v":0},{"$f":"IF(IVA!F9<0,-IVA!F9,0)","v":0},{"$f":"IF(IVA!G9<0,-IVA!G9,0)","v":0},{"$f":"IF(IVA!H9<0,-IVA!H9,0)","v":0},{"$f":"IF(IVA!I9<0,-IVA!I9,0)","v":0},{"$f":"IF(IVA!J9<0,-IVA!J9,0)","v":0},{"$f":"IF(IVA!K9<0,-IVA!K9,0)","v":0},{"$f":"IF(IVA!L9<0,-IVA!L9,0)","v":0},{"$f":"IF(IVA!M9<0,-IVA!M9,0)","v":0},{"$f":"IF(IVA!N9<0,-IVA!N9,0)","v":0},{"$f":"IF(IVA!O9<0,-IVA!O9,0)","v":0},{"$f":"IF(IVA!P9<0,-IVA!P9,0)","v":0},{"$f":"IF(IVA!Q9<0,-IVA!Q9,0)","v":0},{"$f":"IF(IVA!R9<0,-IVA!R9,0)","v":0},{"$f":"IF(IVA!S9<0,-IVA!S9,0)","v":0},{"$f":"IF(IVA!T9<0,-IVA!T9,0)","v":0},{"$f":"IF(IVA!U9<0,-IVA!U9,0)","v":0},{"$f":"IF(IVA!V9<0,-IVA!V9,0)","v":0},{"$f":"IF(IVA!W9<0,-IVA!W9,0)","v":0},{"$f":"IF(IVA!X9<0,-IVA!X9,0)","v":0},{"$f":"IF(IVA!Y9<0,-IVA!Y9,0)","v":0},{"$f":"IF(IVA!Z9<0,-IVA!Z9,0)","v":0},{"$f":"IF(IVA!AA9<0,-IVA!AA9,0)","v":0},{"$f":"IF(IVA!AB9<0,-IVA!AB9,0)","v":0},{"$f":"IF(IVA!AC9<0,-IVA!AC9,0)","v":0},{"$f":"IF(IVA!AD9<0,-IVA!AD9,0)","v":0},{"$f":"IF(IVA!AE9<0,-IVA!AE9,0)","v":0},{"$f":"IF(IVA!AF9<0,-IVA!AF9,0)","v":0},{"$f":"IF(IVA!AG9<0,-IVA!AG9,0)","v":0},{"$f":"IF(IVA!AH9<0,-IVA!AH9,0)","v":0},{"$f":"IF(IVA!AI9<0,-IVA!AI9,0)","v":0},{"$f":"IF(IVA!AJ9<0,-IVA!AJ9,0)","v":0},{"$f":"IF(IVA!AK9<0,-IVA!AK9,0)","v":0},{"$f":"IF(IVA!AL9<0,-IVA!AL9,0)","v":0},{"$f":"IF(IVA!AM9<0,-IVA!AM9,0)","v":0},{"$f":"IF(IVA!AN9<0,-IVA!AN9,0)","v":0},{"$f":"IF(IVA!AO9<0,-IVA!AO9,0)","v":0},{"$f":"IF(IVA!AP9<0,-IVA!AP9,0)","v":0},{"$f":"IF(IVA!AQ9<0,-IVA!AQ9,0)","v":0},{"$f":"IF(IVA!AR9<0,-IVA!AR9,0)","v":0},{"$f":"IF(IVA!AS9<0,-IVA!AS9,0)","v":0},{"$f":"IF(IVA!AT9<0,-IVA!AT9,0)","v":0},{"$f":"IF(IVA!AU9<0,-IVA!AU9,0)","v":0},{"$f":"IF(IVA!AV9<0,-IVA!AV9,0)","v":0},{"$f":"IF(IVA!AW9<0,-IVA!AW9,0)","v":0},{"$f":"IF(IVA!AX9<0,-IVA!AX9,0)","v":0},{"$f":"IF(IVA!AY9<0,-IVA!AY9,0)","v":0},{"$f":"IF(IVA!AZ9<0,-IVA!AZ9,0)","v":0},{"$f":"IF(IVA!BA9<0,-IVA!BA9,0)","v":0},{"$f":"IF(IVA!BB9<0,-IVA!BB9,0)","v":0},{"$f":"IF(IVA!BC9<0,-IVA!BC9,0)","v":0},{"$f":"IF(IVA!BD9<0,-IVA!BD9,0)","v":0},{"$f":"IF(IVA!BE9<0,-IVA!BE9,0)","v":0},{"$f":"IF(IVA!BF9<0,-IVA!BF9,0)","v":0},{"$f":"IF(IVA!BG9<0,-IVA!BG9,0)","v":0},{"$f":"IF(IVA!BH9<0,-IVA!BH9,0)","v":0},{"$f":"IF(IVA!BI9<0,-IVA!BI9,0)","v":0},{"$f":"IF(IVA!BJ9<0,-IVA!BJ9,0)","v":0},{"$f":"IF(IVA!BK9<0,-IVA!BK9,0)","v":0},{"$f":"IF(IVA!BL9<0,-IVA!BL9,0)","v":0},{"$f":"IF(IVA!BM9<0,-IVA!BM9,0)","v":0},{"$f":"IF(IVA!BN9<0,-IVA!BN9,0)","v":0},{"$f":"IF(IVA!BO9<0,-IVA!BO9,0)","v":0},{"$f":"IF(IVA!BP9<0,-IVA!BP9,0)","v":0},{"$f":"IF(IVA!BQ9<0,-IVA!BQ9,0)","v":0},{"$f":"IF(IVA!BR9<0,-IVA!BR9,0)","v":0},{"$f":"IF(IVA!BS9<0,-IVA!BS9,0)","v":0},{"$f":"IF(IVA!BT9<0,-IVA!BT9,0)","v":0},{"$f":"IF(IVA!BU9<0,-IVA!BU9,0)","v":0},{"$f":"IF(IVA!BV9<0,-IVA!BV9,0)","v":0},{"$f":"IF(IVA!BW9<0,-IVA!BW9,0)","v":0},{"$f":"IF(IVA!BX9<0,-IVA!BX9,0)","v":0},{"$f":"IF(IVA!BY9<0,-IVA!BY9,0)","v":0},{"$f":"IF(IVA!BZ9<0,-IVA!BZ9,0)","v":0},{"$f":"IF(IVA!CA9<0,-IVA!CA9,0)","v":0},{"$f":"IF(IVA!CB9<0,-IVA!CB9,0)","v":0},{"$f":"IF(IVA!CC9<0,-IVA!CC9,0)","v":0},{"$f":"IF(IVA!CD9<0,-IVA!CD9,0)","v":0},{"$f":"IF(IVA!CE9<0,-IVA!CE9,0)","v":0},{"$f":"IF(IVA!CF9<0,-IVA!CF9,0)","v":0},{"$f":"IF(IVA!CG9<0,-IVA!CG9,0)","v":0},{"$f":"IF(IVA!CH9<0,-IVA!CH9,0)","v":0},{"$f":"IF(IVA!CI9<0,-IVA!CI9,0)","v":0},{"$f":"IF(IVA!CJ9<0,-IVA!CJ9,0)","v":0},{"$f":"IF(IVA!CK9<0,-IVA!CK9,0)","v":0},{"$f":"IF(IVA!CL9<0,-IVA!CL9,0)","v":0},{"$f":"IF(IVA!CM9<0,-IVA!CM9,0)","v":0},{"$f":"IF(IVA!CN9<0,-IVA!CN9,0)","v":0},{"$f":"IF(IVA!CO9<0,-IVA!CO9,0)","v":0},{"$f":"IF(IVA!CP9<0,-IVA!CP9,0)","v":0},{"$f":"IF(IVA!CQ9<0,-IVA!CQ9,0)","v":0},{"$f":"IF(IVA!CR9<0,-IVA!CR9,0)","v":0},{"$f":"IF(IVA!CS9<0,-IVA!CS9,0)","v":0},{"$f":"IF(IVA!CT9<0,-IVA!CT9,0)","v":0}]
[null,"Tesorería Operativa",0,0,0,0,0,0,0,0,null,null,null,null,null,null,null,null,null,null,null,null,{"$f":"V13+TES!W10","v":0},{"$f":"W13+TES!X10","v":0},{"$f":"X13+TES!Y10","v":0},{"$f":"Y13+TES!Z10","v":0},{"$f":"Z13+TES!AA10","v":0},{"$f":"AA13+TES!AB10","v":0},{"$f":"AB13+TES!AC10","v":0},{"$f":"AC13+TES!AD10","v":0},{"$f":"AD13+TES!AE10","v":0},{"$f":"AE13+TES!AF10","v":0},{"$f":"AF13+TES!AG10","v":0},{"$f":"AG13+TES!AH10","v":0},{"$f":"AH13+TES!AI10","v":0},{"$f":"AI13+TES!AJ10","v":0},{"$f":"AJ13+TES!AK10","v":0},{"$f":"AK13+TES!AL10","v":0},{"$f":"AL13+TES!AM10","v":0},{"$f":"AM13+TES!AN10","v":0},{"$f":"AN13+TES!AO10","v":0},{"$f":"AO13+TES!AP10","v":0},{"$f":"AP13+TES!AQ10","v":0},{"$f":"AQ13+TES!AR10","v":0},{"$f":"AR13+TES!AS10","v":0},{"$f":"AS13+TES!AT10","v":0},{"$f":"AT13+TES!AU10","v":0},{"$f":"AU13+TES!AV10","v":0},{"$f":"AV13+TES!AW10","v":0},{"$f":"AW13+TES!AX10","v":0},{"$f":"AX13+TES!AY10","v":0},{"$f":"AY13+TES!AZ10","v":0},{"$f":"AZ13+TES!BA10","v":0},{"$f":"BA13+TES!BB10","v":0},{"$f":"BB13+TES!BC10","v":0},{"$f":"BC13+TES!BD10","v":0},{"$f":"BD13+TES!BE10","v":0},{"$f":"BE13+TES!BF10","v":0},{"$f":"BF13+TES!BG10","v":0},{"$f":"BG13+TES!BH10","v":0},{"$f":"BH13+TES!BI10","v":0},{"$f":"BI13+TES!BJ10","v":0},{"$f":"BJ13+TES!BK10","v":0},{"$f":"BK13+TES!BL10","v":0},{"$f":"BL13+TES!BM10","v":0},{"$f":"BM13+TES!BN10","v":0},{"$f":"BN13+TES!BO10","v":0},{"$f":"BO13+TES!BP10","v":0},{"$f":"BP13+TES!BQ10","v":0},{"$f":"BQ13+TES!BR10","v":0},{"$f":"BR13+TES!BS10","v":0},{"$f":"BS13+TES!BT10","v":0},{"$f":"BT13+TES!BU10","v":0},{"$f":"BU13+TES!BV10","v":0},{"$f":"BV13+TES!BW10","v":0},{"$f":"BW13+TES!BX10","v":0},{"$f":"BX13+TES!BY10","v":0},{"$f":"BY13+TES!BZ10","v":0},{"$f":"BZ13+TES!CA10","v":0},{"$f":"CA13+TES!CB10","v":0},{"$f":"CB13+TES!CC10","v":0},{"$f":"CC13+TES!CD10","v":0},{"$f":"CD13+TES!CE10","v":0},{"$f":"CE13+TES!CF10","v":0},{"$f":"CF13+TES!CG10","v":0},{"$f":"CG13+TES!CH10","v":0},{"$f":"CH13+TES!CI10","v":0},{"$f":"CI13+TES!CJ10","v":0},{"$f":"CJ13+TES!CK10","v":0},{"$f":"CK13+TES!CL10","v":0},{"$f":"CL13+TES!CM10","v":0},{"$f":"CM13+TES!CN10","v":0},{"$f":"CN13+TES!CO10","v":0},{"$f":"CO13+TES!CP10","v":0},{"$f":"CP13+TES!CQ10","v":0},{"$f":"CQ13+TES!CR10","v":0},{"$f":"CR13+TES!CS10","v":0},{"$f":"CS13+TES!CT10","v":0},{"$f":"CT13+TES!CU10","v":0},{"$f":"CU13+TES!CV10","v":0},{"$f":"CV13+TES!CW10","v":0},{"$f":"CW13+TES!CX10","v":0},{"$f":"CX13+TES!CY10","v":0},{"$f":"CY13+TES!CZ10","v":0},{"$f":"CZ13+TES!DA10","v":0},{"$f":"DA13+TES!DB10","v":0},{"$f":"DB13+TES!DC10","v":0}]
[null,"Activo Corriente",0,0,0,0,0,0,0,0,null,{"$f":"SUM(L9:L13)","v":0},0,0,0,0,0,0,0,0,0,0,{"$f":"SUM(W9:W13)","v":0},0,0,0,{"$f":"SUM(AA9:AA13)","v":0},0,0,0,0,0,{"$f":"SUM(AG9:AG13)","v":0},0,0,0,0,0,0,0,0,0,0,0,0,0,0,0,0,0,0,0,0,0,0,0,{"$f":"SUM(BE9:BE13)","v":0},0,0,0,0,0,0,0,0,0,0,0,0,0,0,0,0,0,0,{"$f":"SUM(BX9:BX13)","v":0},0,0,0,0,0,0,0,0,0,0,0,0,0,0,0,0,0,0,0,0,0,0,0,0,0,0,0,0,0,0,0]
[null,"Excedente de Tesorería",0,1,1.9999999999999991,3.0000000000000009,4.0000000000000027,4.9999999999999991,5.9999999999999956,6.999999999999992,null,{"$f":"L31-L14-L8","v":0},0,0,0,0,0,0,0,0,0,0,0,8.3333333333333259E-2,0.16666666666666674,0.25,0.33333333333333326,0.41666666666666652,0.5,0.58333333333333326,0.66666666666666652,0.75,0.83333333333333348,0.91666666666666674,1,1.083333333333333,1.1666666666666665,1.25,1.333333333333333,1.4166666666666661,1.4999999999999996,1.583333333333333,1.6666666666666661,{"$f":"AR31-AR14-AR8","v":1.7499999999999991},1.8333333333333326,1.9166666666666661,1.9999999999999991,2.0833333333333326,2.1666666666666661,2.2499999999999996,2.333333333333333,2.4166666666666665,2.5,2.5833333333333335,2.666666666666667,2.7500000000000004,2.8333333333333339,2.9166666666666674,3.0000000000000009,3.0833333333333339,3.1666666666666679,3.2500000000000018,3.3333333333333348,3.4166666666666679,3.5000000000000018,3.5833333333333357,3.6666666666666687,3.7500000000000018,3.8333333333333357,3.9166666666666696,4.0000000000000027,4.0833333333333357,4.1666666666666687,4.2500000000000018,4.3333333333333348,{"$f":"BX31-BX14-BX8","v":4.4166666666666679},4.5000000000000009,4.5833333333333339,4.666666666666667,4.75,4.833333333333333,4.9166666666666661,4.9999999999999991,5.0833333333333321,5.1666666666666652,5.2499999999999982,5.3333333333333313,5.4166666666666643,5.4999999999999973,5.5833333333333304,5.6666666666666634,5.7499999999999964,5.8333333333333295,5.9166666666666625,5.9999999999999956,6.0833333333333286,6.1666666666666616,6.2499999999999947,6.3333333333333277,6.4166666666666607,6.4999999999999938,6.5833333333333268,6.6666666666666599,6.7499999999999929,6.8333333333333259,6.916666666666659,6.999999999999992]
[null,"TOTAL ACTIVO",1,2,2.9999999999999991,4.0000000000000009,5.0000000000000027,5.9999999999999991,6.9999999999999956,7.999999999999992,null,{"$f":"L8+L14+L15","v":0},{"$f":"M8+M14+M15","v":0},0,1,1,1,1,1,1,1,1,1,1.0833333333333333,1.1666666666666667,1.25,{"$f":"AA8+AA14+AA15","v":1.3333333333333333},1.4166666666666665,1.5,1.5833333333333333,1.6666666666666665,1.75,{"$f":"AG8+AG14+AG15","v":1.8333333333333335},1.9166666666666667,2,2.083333333333333,2.1666666666666665,2.25,2.333333333333333,2.4166666666666661,2.4999999999999996,2.583333333333333,2.6666666666666661,2.7499999999999991,2.8333333333333326,2.9166666666666661,2.9999999999999991,3.0833333333333326,3.1666666666666661,3.2499999999999996,3.333333333333333,3.4166666666666665,3.5,3.5833333333333335,3.666666666666667,3.7500000000000004,{"$f":"BE8+BE14+BE15","v":3.8333333333333339},3.9166666666666674,4.0000000000000009,4.0833333333333339,4.1666666666666679,4.2500000000000018,4.3333333333333348,4.4166666666666679,4.5000000000000018,4.5833333333333357,4.6666666666666687,4.7500000000000018,4.8333333333333357,4.9166666666666696,5.0000000000000027,5.0833333333333357,5.1666666666666687,5.2500000000000018,5.3333333333333348,{"$f":"BX8+BX14+BX15","v":5.4166666666666679},5.5000000000000009,5.5833333333333339,5.666666666666667,5.75,5.833333333333333,5.9166666666666661,5.9999999999999991,6.0833333333333321,6.1666666666666652,6.2499999999999982,6.3333333333333313,6.4166666666666643,6.4999999999999973,6.5833333333333304,6.6666666666666634,6.7499999999999964,6.8333333333333295,6.9166666666666625,6.9999999999999956,7.0833333333333286,7.1666666666666616,7.2499999999999947,7.3333333333333277,7.4166666666666607,7.4999999999999938,7.5833333333333268,7.6666666666666599,7.7499999999999929,7.8333333333333259,7.916666666666659,7.999999999999992]
[]
[null,"Capital",0,0,{"$f":"LOOKUP(E$3,$X$3:$DC$3,$X18:$DC18)","v":0},0,0,0,0,0,null,{"$f":"IF(FIN!$H$5<L8+L14,FIN!$H$5,L8+L14)","v":0},{"$f":"MAX(L18,IF(FIN!$H$5<M8+M14,FIN!$H$5,M8+M14))","v":0},{"$f":"MAX(M18,IF(FIN!$H$5<N8+N14,FIN!$H$5,N8+N14))","v":0},{"$f":"MAX(N18,IF(FIN!$H$5<O8+O14,FIN!$H$5,O8+O14))","v":0},{"$f":"MAX(O18,IF(FIN!$H$5<P8+P14,FIN!$H$5,P8+P14))","v":0},{"$f":"MAX(P18,IF(FIN!$H$5<Q8+Q14,FIN!$H$5,Q8+Q14))","v":0},{"$f":"MAX(Q18,IF(FIN!$H$5<R8+R14,FIN!$H$5,R8+R14))","v":0},{"$f":"MAX(R18,IF(FIN!$H$5<S8+S14,FIN!$H$5,S8+S14))","v":0},{"$f":"MAX(S18,IF(FIN!$H$5<T8+T14,FIN!$H$5,T8+T14))","v":0},{"$f":"MAX(T18,IF(FIN!$H$5<U8+U14,FIN!$H$5,U8+U14))","v":0},{"$f":"MAX(U18,IF(FIN!$H$5<V8+V14,FIN!$H$5,V8+V14))","v":0},{"$f":"FIN!H5","v":0},{"$f":"MAX(W18,X8+X14-X19-X21-X25-X30)","v":0},{"$f":"MAX(X18,Y8+Y14-Y19-Y21-Y25-Y30)","v":0},0,0,0,0,0,0,0,0,0,0,0,0,0,0,0,0,0,0,0,0,0,0,0,0,0,0,0,0,0,0,0,0,0,0,0,0,0,0,0,0,0,0,0,0,0,0,0,0,0,0,0,0,0,0,0,0,0,0,0,0,0,0,0,{"$f":"MAX(CJ18,CK8+CK14-CK19-CK21-CK25-CK30)","v":0},0,0,0,0,0,0,0,0,0,0,0,0,0,0,0,0,0,0]
[null,"Reservas",0,1,1.9999999999999991,3.0000000000000009,4.0000000000000027,4.9999999999999991,5.9999999999999956,6.999999999999992,null,null,null,null,null,null,null,null,null,null,null,null,null,{"$f":"W19+CTA.RES!K17-TES!X25","v":8.3333333333333329E-2},{"$f":"X19+CTA.RES!L17-TES!Y25","v":0.16666666666666666},{"$f":"Y19+CTA.RES!M17-TES!Z25","v":0.25},{"$f":"Z19+CTA.RES!N17-TES!AA25","v":0.33333333333333331},{"$f":"AA19+CTA.RES!O17-TES!AB25","v":0.41666666666666663},{"$f":"AB19+CTA.RES!P17-TES!AC25","v":0.49999999999999994},{"$f":"AC19+CTA.RES!Q17-TES!AD25","v":0.58333333333333326},{"$f":"AD19+CTA.RES!R17-TES!AE25","v":0.66666666666666663},{"$f":"AE19+CTA.RES!S17-TES!AF25","v":0.75},{"$f":"AF19+CTA.RES!T17-TES!AG25","v":0.83333333333333337},{"$f":"AG19+CTA.RES!U17-TES!AH25","v":0.91666666666666674},{"$f":"AH19+CTA.RES!V17-TES!AI25","v":1},{"$f":"AI19+CTA.RES!W17-TES!AJ25","v":1.0833333333333333},{"$f":"AJ19+CTA.RES!X17-TES!AK25","v":1.1666666666666665},{"$f":"AK19+CTA.RES!Y17-TES!AL25","v":1.2499999999999998},{"$f":"AL19+CTA.RES!Z17-TES!AM25","v":1.333333333333333},{"$f":"AM19+CTA.RES!AA17-TES!AN25","v":1.4166666666666663},{"$f":"AN19+CTA.RES!AB17-TES!AO25","v":1.4999999999999996},{"$f":"AO19+CTA.RES!AC17-TES!AP25","v":1.5833333333333328},{"$f":"AP19+CTA.RES!AD17-TES!AQ25","v":1.6666666666666661},{"$f":"AQ19+CTA.RES!AE17-TES!AR25","v":1.7499999999999993},{"$f":"AR19+CTA.RES!AF17-TES!AS25","v":1.8333333333333326},{"$f":"AS19+CTA.RES!AG17-TES!AT25","v":1.9166666666666659},{"$f":"AT19+CTA.RES!AH17-TES!AU25","v":1.9999999999999991},{"$f":"AU19+CTA.RES!AI17-TES!AV25","v":2.0833333333333326},{"$f":"AV19+CTA.RES!AJ17-TES!AW25","v":2.1666666666666661},{"$f":"AW19+CTA.RES!AK17-TES!AX25","v":2.2499999999999996},{"$f":"AX19+CTA.RES!AL17-TES!AY25","v":2.333333333333333},{"$f":"AY19+CTA.RES!AM17-TES!AZ25","v":2.4166666666666665},{"$f":"AZ19+CTA.RES!AN17-TES!BA25","v":2.5},{"$f":"BA19+CTA.RES!AO17-TES!BB25","v":2.5833333333333335},{"$f":"BB19+CTA.RES!AP17-TES!BC25","v":2.666666666666667},{"$f":"BC19+CTA.RES!AQ17-TES!BD25","v":2.7500000000000004},{"$f":"BD19+CTA.RES!AR17-TES!BE25","v":2.8333333333333339},{"$f":"BE19+CTA.RES!AS17-TES!BF25","v":2.9166666666666674},{"$f":"BF19+CTA.RES!AT17-TES!BG25","v":3.0000000000000009},{"$f":"BG19+CTA.RES!AU17-TES!BH25","v":3.0833333333333344},{"$f":"BH19+CTA.RES!AV17-TES!BI25","v":3.1666666666666679},{"$f":"BI19+CTA.RES!AW17-TES!BJ25","v":3.2500000000000013},{"$f":"BJ19+CTA.RES!AX17-TES!BK25","v":3.3333333333333348},{"$f":"BK19+CTA.RES!AY17-TES!BL25","v":3.4166666666666683},{"$f":"BL19+CTA.RES!AZ17-TES!BM25","v":3.5000000000000018},{"$f":"BM19+CTA.RES!BA17-TES!BN25","v":3.5833333333333353},{"$f":"BN19+CTA.RES!BB17-TES!BO25","v":3.6666666666666687},{"$f":"BO19+CTA.RES!BC17-TES!BP25","v":3.7500000000000022},{"$f":"BP19+CTA.RES!BD17-TES!BQ25","v":3.8333333333333357},{"$f":"BQ19+CTA.RES!BE17-TES!BR25","v":3.9166666666666692},{"$f":"BR19+CTA.RES!BF17-TES!BS25","v":4.0000000000000027},{"$f":"BS19+CTA.RES!BG17-TES!BT25","v":4.0833333333333357},{"$f":"BT19+CTA.RES!BH17-TES!BU25","v":4.1666666666666687},{"$f":"BU19+CTA.RES!BI17-TES!BV25","v":4.2500000000000018},{"$f":"BV19+CTA.RES!BJ17-TES!BW25","v":4.3333333333333348},{"$f":"BW19+CTA.RES!BK17-TES!BX25","v":4.4166666666666679},{"$f":"BX19+CTA.RES!BL17-TES!BY25","v":4.5000000000000009},{"$f":"BY19+CTA.RES!BM17-TES!BZ25","v":4.5833333333333339},{"$f":"BZ19+CTA.RES!BN17-TES!CA25","v":4.666666666666667},{"$f":"CA19+CTA.RES!BO17-TES!CB25","v":4.75},{"$f":"CB19+CTA.RES!BP17-TES!CC25","v":4.833333333333333},{"$f":"CC19+CTA.RES!BQ17-TES!CD25","v":4.9166666666666661},{"$f":"CD19+CTA.RES!BR17-TES!CE25","v":4.9999999999999991},{"$f":"CE19+CTA.RES!BS17-TES!CF25","v":5.0833333333333321},{"$f":"CF19+CTA.RES!BT17-TES!CG25","v":5.1666666666666652},{"$f":"CG19+CTA.RES!BU17-TES!CH25","v":5.2499999999999982},{"$f":"CH19+CTA.RES!BV17-TES!CI25","v":5.3333333333333313},{"$f":"CI19+CTA.RES!BW17-TES!CJ25","v":5.4166666666666643},{"$f":"CJ19+CTA.RES!BX17-TES!CK25","v":5.4999999999999973},{"$f":"CK19+CTA.RES!BY17-TES!CL25","v":5.5833333333333304},{"$f":"CL19+CTA.RES!BZ17-TES!CM25","v":5.6666666666666634},{"$f":"CM19+CTA.RES!CA17-TES!CN25","v":5.7499999999999964},{"$f":"CN19+CTA.RES!CB17-TES!CO25","v":5.8333333333333295},{"$f":"CO19+CTA.RES!CC17-TES!CP25","v":5.9166666666666625},{"$f":"CP19+CTA.RES!CD17-TES!CQ25","v":5.9999999999999956},{"$f":"CQ19+CTA.RES!CE17-TES!CR25","v":6.0833333333333286},{"$f":"CR19+CTA.RES!CF17-TES!CS25","v":6.1666666666666616},{"$f":"CS19+CTA.RES!CG17-TES!CT25","v":6.2499999999999947},{"$f":"CT19+CTA.RES!CH17-TES!CU25","v":6.3333333333333277},{"$f":"CU19+CTA.RES!CI17-TES!CV25","v":6.4166666666666607},{"$f":"CV19+CTA.RES!CJ17-TES!CW25","v":6.4999999999999938},{"$f":"CW19+CTA.RES!CK17-TES!CX25","v":6.5833333333333268},{"$f":"CX19+CTA.RES!CL17-TES!CY25","v":6.6666666666666599},{"$f":"CY19+CTA.RES!CM17-TES!CZ25","v":6.7499999999999929},{"$f":"CZ19+CTA.RES!CN17-TES!DA25","v":6.8333333333333259},{"$f":"DA19+CTA.RES!CO17-TES!DB25","v":6.916666666666659},{"$f":"DB19+CTA.RES!CP17-TES!DC25","v":6.999999999999992}]
[null,"Recursos Propios",0,1,1.9999999999999991,3.0000000000000009,4.0000000000000027,4.9999999999999991,5.9999999999999956,6.999999999999992,null,{"$f":"SUM(L18:L19)","v":0},0,0,0,0,0,0,0,0,0,0,0,8.3333333333333329E-2,0.16666666666666666,0.25,{"$f":"SUM(AA18:AA19)","v":0.33333333333333331},0.41666666666666663,0.49999999999999994,0.58333333333333326,0.66666666666666663,0.75,0.83333333333333337,0.91666666666666674,1,1.0833333333333333,1.1666666666666665,1.2499999999999998,1.333333333333333,1.4166666666666663,1.4999999999999996,1.5833333333333328,1.6666666666666661,1.7499999999999993,1.8333333333333326,1.9166666666666659,1.9999999999999991,2.0833333333333326,2.1666666666666661,2.2499999999999996,2.333333333333333,2.4166666666666665,2.5,2.5833333333333335,2.666666666666667,2.7500000000000004,{"$f":"SUM(BE18:BE19)","v":2.8333333333333339},2.9166666666666674,3.0000000000000009,3.0833333333333344,3.1666666666666679,3.2500000000000013,3.3333333333333348,3.4166666666666683,3.5000000000000018,3.5833333333333353,3.6666666666666687,3.7500000000000022,3.8333333333333357,3.9166666666666692,4.0000000000000027,4.0833333333333357,4.1666666666666687,4.2500000000000018,4.3333333333333348,4.4166666666666679,4.5000000000000009,4.5833333333333339,4.666666666666667,4.75,4.833333333333333,4.9166666666666661,4.9999999999999991,5.0833333333333321,5.1666666666666652,5.2499999999999982,5.3333333333333313,5.4166666666666643,5.4999999999999973,5.5833333333333304,5.6666666666666634,5.7499999999999964,5.8333333333333295,5.9166666666666625,5.9999999999999956,6.0833333333333286,6.1666666666666616,6.2499999999999947,6.3333333333333277,6.4166666666666607,6.4999999999999938,6.5833333333333268,6.6666666666666599,6.7499999999999929,6.8333333333333259,6.916666666666659,6.999999999999992]
[null,"Subvención",0,0,0,0,0,0,0,0,null,null,null,null,null,null,null,null,null,null,null,null,{"$f":"FIN!H6","v":0},{"$f":"W21-CTA.RES!K11","v":0},{"$f":"X21-CTA.RES!L11","v":0},{"$f":"Y21-CTA.RES!M11","v":0},{"$f":"Z21-CTA.RES!N11","v":0},{"$f":"AA21-CTA.RES!O11","v":0},{"$f":"AB21-CTA.RES!P11","v":0},{"$f":"AC21-CTA.RES!Q11","v":0},{"$f":"AD21-CTA.RES!R11","v":0},{"$f":"AE21-CTA.RES!S11","v":0},{"$f":"AF21-CTA.RES!T11","v":0},{"$f":"AG21-CTA.RES!U11","v":0},{"$f":"AH21-CTA.RES!V11","v":0},{"$f":"AI21-CTA.RES!W11","v":0},{"$f":"AJ21-CTA.RES!X11","v":0},{"$f":"AK21-CTA.RES!Y11","v":0},{"$f":"AL21-CTA.RES!Z11","v":0},{"$f":"AM21-CTA.RES!AA11","v":0},{"$f":"AN21-CTA.RES!AB11","v":0},{"$f":"AO21-CTA.RES!AC11","v":0},{"$f":"AP21-CTA.RES!AD11","v":0},{"$f":"AQ21-CTA.RES!AE11","v":0},{"$f":"AR21-CTA.RES!AF11","v":0},{"$f":"AS21-CTA.RES!AG11","v":0},{"$f":"AT21-CTA.RES!AH11","v":0},{"$f":"AU21-CTA.RES!AI11","v":0},{"$f":"AV21-CTA.RES!AJ11","v":0},{"$f":"AW21-CTA.RES!AK11","v":0},{"$f":"AX21-CTA.RES!AL11","v":0},{"$f":"AY21-CTA.RES!AM11","v":0},{"$f":"AZ21-CTA.RES!AN11","v":0},{"$f":"BA21-CTA.RES!AO11","v":0},{"$f":"BB21-CTA.RES!AP11","v":0},{"$f":"BC21-CTA.RES!AQ11","v":0},{"$f":"BD21-CTA.RES!AR11","v":0},{"$f":"BE21-CTA.RES!AS11","v":0},{"$f":"BF21-CTA.RES!AT11","v":0},{"$f":"BG21-CTA.RES!AU11","v":0},{"$f":"BH21-CTA.RES!AV11","v":0},{"$f":"BI21-CTA.RES!AW11","v":0},{"$f":"BJ21-CTA.RES!AX11","v":0},{"$f":"BK21-CTA.RES!AY11","v":0},{"$f":"BL21-CTA.RES!AZ11","v":0},{"$f":"BM21-CTA.RES!BA11","v":0},{"$f":"BN21-CTA.RES!BB11","v":0},{"$f":"BO21-CTA.RES!BC11","v":0},{"$f":"BP21-CTA.RES!BD11","v":0},{"$f":"BQ21-CTA.RES!BE11","v":0},{"$f":"BR21-CTA.RES!BF11","v":0},{"$f":"BS21-CTA.RES!BG11","v":0},{"$f":"BT21-CTA.RES!BH11","v":0},{"$f":"BU21-CTA.RES!BI11","v":0},{"$f":"BV21-CTA.RES!BJ11","v":0},{"$f":"BW21-CTA.RES!BK11","v":0},{"$f":"BX21-CTA.RES!BL11","v":0},{"$f":"BY21-CTA.RES!BM11","v":0},{"$f":"BZ21-CTA.RES!BN11","v":0},{"$f":"CA21-CTA.RES!BO11","v":0},{"$f":"CB21-CTA.RES!BP11","v":0},{"$f":"CC21-CTA.RES!BQ11","v":0},{"$f":"CD21-CTA.RES!BR11","v":0},{"$f":"CE21-CTA.RES!BS11","v":0},{"$f":"CF21-CTA.RES!BT11","v":0},{"$f":"CG21-CTA.RES!BU11","v":0},{"$f":"CH21-CTA.RES!BV11","v":0},{"$f":"CI21-CTA.RES!BW11","v":0},{"$f":"CJ21-CTA.RES!BX11","v":0},{"$f":"CK21-CTA.RES!BY11","v":0},{"$f":"CL21-CTA.RES!BZ11","v":0},{"$f":"CM21-CTA.RES!CA11","v":0},{"$f":"CN21-CTA.RES!CB11","v":0},{"$f":"CO21-CTA.RES!CC11","v":0},{"$f":"CP21-CTA.RES!CD11","v":0},{"$f":"CQ21-CTA.RES!CE11","v":0},{"$f":"CR21-CTA.RES!CF11","v":0},{"$f":"CS21-CTA.RES!CG11","v":0},{"$f":"CT21-CTA.RES!CH11","v":0},{"$f":"CU21-CTA.RES!CI11","v":0},{"$f":"CV21-CTA.RES!CJ11","v":0},{"$f":"CW21-CTA.RES!CK11","v":0},{"$f":"CX21-CTA.RES!CL11","v":0},{"$f":"CY21-CTA.RES!CM11","v":0},{"$f":"CZ21-CTA.RES!CN11","v":0},{"$f":"DA21-CTA.RES!CO11","v":0},{"$f":"DB21-CTA.RES!CP11","v":0}]
[null,"Patrimonio Neto",0,1,1.9999999999999991,3.0000000000000009,4.0000000000000027,4.9999999999999991,5.9999999999999956,6.999999999999992,null,{"$f":"L21+L20","v":0},0,0,0,0,0,0,0,0,0,0,0,8.3333333333333329E-2,0.16666666666666666,0.25,0.33333333333333331,0.41666666666666663,0.49999999999999994,0.58333333333333326,0.66666666666666663,0.75,0.83333333333333337,0.91666666666666674,1,1.0833333333333333,1.1666666666666665,1.2499999999999998,1.333333333333333,1.4166666666666663,1.4999999999999996,1.5833333333333328,1.6666666666666661,1.7499999999999993,1.8333333333333326,1.9166666666666659,1.9999999999999991,2.0833333333333326,2.1666666666666661,2.2499999999999996,2.333333333333333,2.4166666666666665,2.5,2.5833333333333335,2.666666666666667,2.7500000000000004,2.8333333333333339,2.9166666666666674,3.0000000000000009,3.0833333333333344,3.1666666666666679,3.2500000000000013,3.3333333333333348,3.4166666666666683,3.5000000000000018,3.5833333333333353,3.6666666666666687,{"$f":"BP21+BP20","v":3.7500000000000022},3.8333333333333357,3.9166666666666692,4.0000000000000027,4.0833333333333357,4.1666666666666687,4.2500000000000018,4.3333333333333348,4.4166666666666679,4.5000000000000009,4.5833333333333339,4.666666666666667,4.75,4.833333333333333,4.9166666666666661,4.9999999999999991,5.0833333333333321,5.1666666666666652,5.2499999999999982,5.3333333333333313,5.4166666666666643,5.4999999999999973,5.5833333333333304,5.6666666666666634,5.7499999999999964,5.8333333333333295,5.9166666666666625,5.9999999999999956,6.0833333333333286,6.1666666666666616,6.2499999999999947,6.3333333333333277,6.4166666666666607,6.4999999999999938,6.5833333333333268,6.6666666666666599,6.7499999999999929,6.8333333333333259,6.916666666666659,6.999999999999992]
[null,"Deuda a Largo",1,1,1,1,1,1,1,1,null,null,null,null,null,null,null,null,null,null,null,null,{"$f":"FIN!C53","v":1},{"$f":"FIN!D53","v":1},{"$f":"FIN!E53","v":1},{"$f":"FIN!F53","v":1},{"$f":"FIN!G53","v":1},{"$f":"FIN!H53","v":1},{"$f":"FIN!I53","v":1},{"$f":"FIN!J53","v":1},{"$f":"FIN!K53","v":1},{"$f":"FIN!L53","v":1},{"$f":"FIN!M53","v":1},{"$f":"FIN!N53","v":1},{"$f":"FIN!O53","v":1},{"$f":"FIN!P53","v":1},{"$f":"FIN!Q53","v":1},{"$f":"FIN!R53","v":1},{"$f":"FIN!S53","v":1},{"$f":"FIN!T53","v":1},{"$f":"FIN!U53","v":1},{"$f":"FIN!V53","v":1},{"$f":"FIN!W53","v":1},{"$f":"FIN!X53","v":1},{"$f":"FIN!Y53","v":1},{"$f":"FIN!Z53","v":1},{"$f":"FIN!AA53","v":1},{"$f":"FIN!AB53","v":1},{"$f":"FIN!AC53","v":1},{"$f":"FIN!AD53","v":1},{"$f":"FIN!AE53","v":1},{"$f":"FIN!AF53","v":1},{"$f":"FIN!AG53","v":1},{"$f":"FIN!AH53","v":1},{"$f":"FIN!AI53","v":1},{"$f":"FIN!AJ53","v":1},{"$f":"FIN!AK53","v":1},{"$f":"FIN!AL53","v":1},{"$f":"FIN!AM53","v":1},{"$f":"FIN!AN53","v":1},{"$f":"FIN!AO53","v":1},{"$f":"FIN!AP53","v":1},{"$f":"FIN!AQ53","v":1},{"$f":"FIN!AR53","v":1},{"$f":"FIN!AS53","v":1},{"$f":"FIN!AT53","v":1},{"$f":"FIN!AU53","v":1},{"$f":"FIN!AV53","v":1},{"$f":"FIN!AW53","v":1},{"$f":"FIN!AX53","v":1},{"$f":"FIN!AY53","v":1},{"$f":"FIN!AZ53","v":1},{"$f":"FIN!BA53","v":1},{"$f":"FIN!BB53","v":1},{"$f":"FIN!BC53","v":1},{"$f":"FIN!BD53","v":1},{"$f":"FIN!BE53","v":1},{"$f":"FIN!BF53","v":1},{"$f":"FIN!BG53","v":1},{"$f":"FIN!BH53","v":1},{"$f":"FIN!BI53","v":1},{"$f":"FIN!BJ53","v":1},{"$f":"FIN!BK53","v":1},{"$f":"FIN!BL53","v":1},{"$f":"FIN!BM53","v":1},{"$f":"FIN!BN53","v":1},{"$f":"FIN!BO53","v":1},{"$f":"FIN!BP53","v":1},{"$f":"FIN!BQ53","v":1},{"$f":"FIN!BR53","v":1},{"$f":"FIN!BS53","v":1},{"$f":"FIN!BT53","v":1},{"$f":"FIN!BU53","v":1},{"$f":"FIN!BV53","v":1},{"$f":"FIN!BW53","v":1},{"$f":"FIN!BX53","v":1},{"$f":"FIN!BY53","v":1},{"$f":"FIN!BZ53","v":1},{"$f":"FIN!CA53","v":1},{"$f":"FIN!CB53","v":1},{"$f":"FIN!CC53","v":1},{"$f":"FIN!CD53","v":1},{"$f":"FIN!CE53","v":1},{"$f":"FIN!CF53","v":1},{"$f":"FIN!CG53","v":1},{"$f":"FIN!CH53","v":1},{"$f":"FIN!CI53","v":1}]
[null,"Otra Deuda",0,0,0,0,0,0,0,0,null,{"$f":"L8+L14-L18","v":0},{"$f":"MAX(0,M8+M14-M18)","v":0},{"$f":"MAX(0,N8+N14-N18)","v":0},1,1,1,1,1,1,1,{"$f":"MAX(0,V8+V14-V18)","v":1},null,{"$f":"MAX(MIN((X8+X14)*CONTROL!$E$19-X23,X8+X14-W18-X19-X21-X23-X30),(X8+X14)*CONTROL!$C$19-X23,0)","v":0},{"$f":"MAX(MIN((Y8+Y14)*CONTROL!$E$19-Y23,Y8+Y14-X18-Y19-Y21-Y23-Y30),(Y8+Y14)*CONTROL!$C$19-Y23,0)","v":0},{"$f":"MAX(MIN((Z8+Z14)*CONTROL!$E$19-Z23,Z8+Z14-Y18-Z19-Z21-Z23-Z30),(Z8+Z14)*CONTROL!$C$19-Z23,0)","v":0},{"$f":"MAX(MIN((AA8+AA14)*CONTROL!$E$19-AA23,AA8+AA14-Z18-AA19-AA21-AA23-AA30),(AA8+AA14)*CONTROL!$C$19-AA23,0)","v":0},{"$f":"MAX(MIN((AB8+AB14)*CONTROL!$E$19-AB23,AB8+AB14-AA18-AB19-AB21-AB23-AB30),(AB8+AB14)*CONTROL!$C$19-AB23,0)","v":0},{"$f":"MAX(MIN((AC8+AC14)*CONTROL!$E$19-AC23,AC8+AC14-AB18-AC19-AC21-AC23-AC30),(AC8+AC14)*CONTROL!$C$19-AC23,0)","v":0},{"$f":"MAX(MIN((AD8+AD14)*CONTROL!$E$19-AD23,AD8+AD14-AC18-AD19-AD21-AD23-AD30),(AD8+AD14)*CONTROL!$C$19-AD23,0)","v":0},{"$f":"MAX(MIN((AE8+AE14)*CONTROL!$E$19-AE23,AE8+AE14-AD18-AE19-AE21-AE23-AE30),(AE8+AE14)*CONTROL!$C$19-AE23,0)","v":0},{"$f":"MAX(MIN((AF8+AF14)*CONTROL!$E$19-AF23,AF8+AF14-AE18-AF19-AF21-AF23-AF30),(AF8+AF14)*CONTROL!$C$19-AF23,0)","v":0},{"$f":"MAX(MIN((AG8+AG14)*CONTROL!$E$19-AG23,AG8+AG14-AF18-AG19-AG21-AG23-AG30),(AG8+AG14)*CONTROL!$C$19-AG23,0)","v":0},{"$f":"MAX(MIN((AH8+AH14)*CONTROL!$E$19-AH23,AH8+AH14-AG18-AH19-AH21-AH23-AH30),(AH8+AH14)*CONTROL!$C$19-AH23,0)","v":0},{"$f":"MAX(MIN((AI8+AI14)*CONTROL!$E$19-AI23,AI8+AI14-AH18-AI19-AI21-AI23-AI30),(AI8+AI14)*CONTROL!$C$19-AI23,0)","v":0},{"$f":"MAX(MIN((AJ8+AJ14)*CONTROL!$E$19-AJ23,AJ8+AJ14-AI18-AJ19-AJ21-AJ23-AJ30),(AJ8+AJ14)*CONTROL!$C$19-AJ23,0)","v":0},{"$f":"MAX(MIN((AK8+AK14)*CONTROL!$E$19-AK23,AK8+AK14-AJ18-AK19-AK21-AK23-AK30),(AK8+AK14)*CONTROL!$C$19-AK23,0)","v":0},{"$f":"MAX(MIN((AL8+AL14)*CONTROL!$E$19-AL23,AL8+AL14-AK18-AL19-AL21-AL23-AL30),(AL8+AL14)*CONTROL!$C$19-AL23,0)","v":0},{"$f":"MAX(MIN((AM8+AM14)*CONTROL!$E$19-AM23,AM8+AM14-AL18-AM19-AM21-AM23-AM30),(AM8+AM14)*CONTROL!$C$19-AM23,0)","v":0},{"$f":"MAX(MIN((AN8+AN14)*CONTROL!$E$19-AN23,AN8+AN14-AM18-AN19-AN21-AN23-AN30),(AN8+AN14)*CONTROL!$C$19-AN23,0)","v":0},{"$f":"MAX(MIN((AO8+AO14)*CONTROL!$E$19-AO23,AO8+AO14-AN18-AO19-AO21-AO23-AO30),(AO8+AO14)*CONTROL!$C$19-AO23,0)","v":0},{"$f":"MAX(MIN((AP8+AP14)*CONTROL!$E$19-AP23,AP8+AP14-AO18-AP19-AP21-AP23-AP30),(AP8+AP14)*CONTROL!$C$19-AP23,0)","v":0},{"$f":"MAX(MIN((AQ8+AQ14)*CONTROL!$E$19-AQ23,AQ8+AQ14-AP18-AQ19-AQ21-AQ23-AQ30),(AQ8+AQ14)*CONTROL!$C$19-AQ23,0)","v":0},{"$f":"MAX(MIN((AR8+AR14)*CONTROL!$E$19-AR23,AR8+AR14-AQ18-AR19-AR21-AR23-AR30),(AR8+AR14)*CONTROL!$C$19-AR23,0)","v":0},{"$f":"MAX(MIN((AS8+AS14)*CONTROL!$E$19-AS23,AS8+AS14-AR18-AS19-AS21-AS23-AS30),(AS8+AS14)*CONTROL!$C$19-AS23,0)","v":0},{"$f":"MAX(MIN((AT8+AT14)*CONTROL!$E$19-AT23,AT8+AT14-AS18-AT19-AT21-AT23-AT30),(AT8+AT14)*CONTROL!$C$19-AT23,0)","v":0},{"$f":"MAX(MIN((AU8+AU14)*CONTROL!$E$19-AU23,AU8+AU14-AT18-AU19-AU21-AU23-AU30),(AU8+AU14)*CONTROL!$C$19-AU23,0)","v":0},{"$f":"MAX(MIN((AV8+AV14)*CONTROL!$E$19-AV23,AV8+AV14-AU18-AV19-AV21-AV23-AV30),(AV8+AV14)*CONTROL!$C$19-AV23,0)","v":0},{"$f":"MAX(MIN((AW8+AW14)*CONTROL!$E$19-AW23,AW8+AW14-AV18-AW19-AW21-AW23-AW30),(AW8+AW14)*CONTROL!$C$19-AW23,0)","v":0},{"$f":"MAX(MIN((AX8+AX14)*CONTROL!$E$19-AX23,AX8+AX14-AW18-AX19-AX21-AX23-AX30),(AX8+AX14)*CONTROL!$C$19-AX23,0)","v":0},{"$f":"MAX(MIN((AY8+AY14)*CONTROL!$E$19-AY23,AY8+AY14-AX18-AY19-AY21-AY23-AY30),(AY8+AY14)*CONTROL!$C$19-AY23,0)","v":0},{"$f":"MAX(MIN((AZ8+AZ14)*CONTROL!$E$19-AZ23,AZ8+AZ14-AY18-AZ19-AZ21-AZ23-AZ30),(AZ8+AZ14)*CONTROL!$C$19-AZ23,0)","v":0},{"$f":"MAX(MIN((BA8+BA14)*CONTROL!$E$19-BA23,BA8+BA14-AZ18-BA19-BA21-BA23-BA30),(BA8+BA14)*CONTROL!$C$19-BA23,0)","v":0},{"$f":"MAX(MIN((BB8+BB14)*CONTROL!$E$19-BB23,BB8+BB14-BA18-BB19-BB21-BB23-BB30),(BB8+BB14)*CONTROL!$C$19-BB23,0)","v":0},{"$f":"MAX(MIN((BC8+BC14)*CONTROL!$E$19-BC23,BC8+BC14-BB18-BC19-BC21-BC23-BC30),(BC8+BC14)*CONTROL!$C$19-BC23,0)","v":0},{"$f":"MAX(MIN((BD8+BD14)*CONTROL!$E$19-BD23,BD8+BD14-BC18-BD19-BD21-BD23-BD30),(BD8+BD14)*CONTROL!$C$19-BD23,0)","v":0},{"$f":"MAX(MIN((BE8+BE14)*CONTROL!$E$19-BE23,BE8+BE14-BD18-BE19-BE21-BE23-BE30),(BE8+BE14)*CONTROL!$C$19-BE23,0)","v":0},{"$f":"MAX(MIN((BF8+BF14)*CONTROL!$E$19-BF23,BF8+BF14-BE18-BF19-BF21-BF23-BF30),(BF8+BF14)*CONTROL!$C$19-BF23,0)","v":0},{"$f":"MAX(MIN((BG8+BG14)*CONTROL!$E$19-BG23,BG8+BG14-BF18-BG19-BG21-BG23-BG30),(BG8+BG14)*CONTROL!$C$19-BG23,0)","v":0},{"$f":"MAX(MIN((BH8+BH14)*CONTROL!$E$19-BH23,BH8+BH14-BG18-BH19-BH21-BH23-BH30),(BH8+BH14)*CONTROL!$C$19-BH23,0)","v":0},{"$f":"MAX(MIN((BI8+BI14)*CONTROL!$E$19-BI23,BI8+BI14-BH18-BI19-BI21-BI23-BI30),(BI8+BI14)*CONTROL!$C$19-BI23,0)","v":0},{"$f":"MAX(MIN((BJ8+BJ14)*CONTROL!$E$19-BJ23,BJ8+BJ14-BI18-BJ19-BJ21-BJ23-BJ30),(BJ8+BJ14)*CONTROL!$C$19-BJ23,0)","v":0},{"$f":"MAX(MIN((BK8+BK14)*CONTROL!$E$19-BK23,BK8+BK14-BJ18-BK19-BK21-BK23-BK30),(BK8+BK14)*CONTROL!$C$19-BK23,0)","v":0},{"$f":"MAX(MIN((BL8+BL14)*CONTROL!$E$19-BL23,BL8+BL14-BK18-BL19-BL21-BL23-BL30),(BL8+BL14)*CONTROL!$C$19-BL23,0)","v":0},{"$f":"MAX(MIN((BM8+BM14)*CONTROL!$E$19-BM23,BM8+BM14-BL18-BM19-BM21-BM23-BM30),(BM8+BM14)*CONTROL!$C$19-BM23,0)","v":0},{"$f":"MAX(MIN((BN8+BN14)*CONTROL!$E$19-BN23,BN8+BN14-BM18-BN19-BN21-BN23-BN30),(BN8+BN14)*CONTROL!$C$19-BN23,0)","v":0},{"$f":"MAX(MIN((BO8+BO14)*CONTROL!$E$19-BO23,BO8+BO14-BN18-BO19-BO21-BO23-BO30),(BO8+BO14)*CONTROL!$C$19-BO23,0)","v":0},{"$f":"MAX(MIN((BP8+BP14)*CONTROL!$E$19-BP23,BP8+BP14-BO18-BP19-BP21-BP23-BP30),(BP8+BP14)*CONTROL!$C$19-BP23,0)","v":0},{"$f":"MAX(MIN((BQ8+BQ14)*CONTROL!$E$19-BQ23,BQ8+BQ14-BP18-BQ19-BQ21-BQ23-BQ30),(BQ8+BQ14)*CONTROL!$C$19-BQ23,0)","v":0},{"$f":"MAX(MIN((BR8+BR14)*CONTROL!$E$19-BR23,BR8+BR14-BQ18-BR19-BR21-BR23-BR30),(BR8+BR14)*CONTROL!$C$19-BR23,0)","v":0},{"$f":"MAX(MIN((BS8+BS14)*CONTROL!$E$19-BS23,BS8+BS14-BR18-BS19-BS21-BS23-BS30),(BS8+BS14)*CONTROL!$C$19-BS23,0)","v":0},{"$f":"MAX(MIN((BT8+BT14)*CONTROL!$E$19-BT23,BT8+BT14-BS18-BT19-BT21-BT23-BT30),(BT8+BT14)*CONTROL!$C$19-BT23,0)","v":0},{"$f":"MAX(MIN((BU8+BU14)*CONTROL!$E$19-BU23,BU8+BU14-BT18-BU19-BU21-BU23-BU30),(BU8+BU14)*CONTROL!$C$19-BU23,0)","v":0},{"$f":"MAX(MIN((BV8+BV14)*CONTROL!$E$19-BV23,BV8+BV14-BU18-BV19-BV21-BV23-BV30),(BV8+BV14)*CONTROL!$C$19-BV23,0)","v":0},{"$f":"MAX(MIN((BW8+BW14)*CONTROL!$E$19-BW23,BW8+BW14-BV18-BW19-BW21-BW23-BW30),(BW8+BW14)*CONTROL!$C$19-BW23,0)","v":0},{"$f":"MAX(MIN((BX8+BX14)*CONTROL!$E$19-BX23,BX8+BX14-BW18-BX19-BX21-BX23-BX30),(BX8+BX14)*CONTROL!$C$19-BX23,0)","v":0},{"$f":"MAX(MIN((BY8+BY14)*CONTROL!$E$19-BY23,BY8+BY14-BX18-BY19-BY21-BY23-BY30),(BY8+BY14)*CONTROL!$C$19-BY23,0)","v":0},{"$f":"MAX(MIN((BZ8+BZ14)*CONTROL!$E$19-BZ23,BZ8+BZ14-BY18-BZ19-BZ21-BZ23-BZ30),(BZ8+BZ14)*CONTROL!$C$19-BZ23,0)","v":0},{"$f":"MAX(MIN((CA8+CA14)*CONTROL!$E$19-CA23,CA8+CA14-BZ18-CA19-CA21-CA23-CA30),(CA8+CA14)*CONTROL!$C$19-CA23,0)","v":0},{"$f":"MAX(MIN((CB8+CB14)*CONTROL!$E$19-CB23,CB8+CB14-CA18-CB19-CB21-CB23-CB30),(CB8+CB14)*CONTROL!$C$19-CB23,0)","v":0},{"$f":"MAX(MIN((CC8+CC14)*CONTROL!$E$19-CC23,CC8+CC14-CB18-CC19-CC21-CC23-CC30),(CC8+CC14)*CONTROL!$C$19-CC23,0)","v":0},{"$f":"MAX(MIN((CD8+CD14)*CONTROL!$E$19-CD23,CD8+CD14-CC18-CD19-CD21-CD23-CD30),(CD8+CD14)*CONTROL!$C$19-CD23,0)","v":0},{"$f":"MAX(MIN((CE8+CE14)*CONTROL!$E$19-CE23,CE8+CE14-CD18-CE19-CE21-CE23-CE30),(CE8+CE14)*CONTROL!$C$19-CE23,0)","v":0},{"$f":"MAX(MIN((CF8+CF14)*CONTROL!$E$19-CF23,CF8+CF14-CE18-CF19-CF21-CF23-CF30),(CF8+CF14)*CONTROL!$C$19-CF23,0)","v":0},{"$f":"MAX(MIN((CG8+CG14)*CONTROL!$E$19-CG23,CG8+CG14-CF18-CG19-CG21-CG23-CG30),(CG8+CG14)*CONTROL!$C$19-CG23,0)","v":0},{"$f":"MAX(MIN((CH8+CH14)*CONTROL!$E$19-CH23,CH8+CH14-CG18-CH19-CH21-CH23-CH30),(CH8+CH14)*CONTROL!$C$19-CH23,0)","v":0},{"$f":"MAX(MIN((CI8+CI14)*CONTROL!$E$19-CI23,CI8+CI14-CH18-CI19-CI21-CI23-CI30),(CI8+CI14)*CONTROL!$C$19-CI23,0)","v":0},{"$f":"MAX(MIN((CJ8+CJ14)*CONTROL!$E$19-CJ23,CJ8+CJ14-CI18-CJ19-CJ21-CJ23-CJ30),(CJ8+CJ14)*CONTROL!$C$19-CJ23,0)","v":0},{"$f":"MAX(MIN((CK8+CK14)*CONTROL!$E$19-CK23,CK8+CK14-CJ18-CK19-CK21-CK23-CK30),(CK8+CK14)*CONTROL!$C$19-CK23,0)","v":0},{"$f":"MAX(MIN((CL8+CL14)*CONTROL!$E$19-CL23,CL8+CL14-CK18-CL19-CL21-CL23-CL30),(CL8+CL14)*CONTROL!$C$19-CL23,0)","v":0},{"$f":"MAX(MIN((CM8+CM14)*CONTROL!$E$19-CM23,CM8+CM14-CL18-CM19-CM21-CM23-CM30),(CM8+CM14)*CONTROL!$C$19-CM23,0)","v":0},{"$f":"MAX(MIN((CN8+CN14)*CONTROL!$E$19-CN23,CN8+CN14-CM18-CN19-CN21-CN23-CN30),(CN8+CN14)*CONTROL!$C$19-CN23,0)","v":0},{"$f":"MAX(MIN((CO8+CO14)*CONTROL!$E$19-CO23,CO8+CO14-CN18-CO19-CO21-CO23-CO30),(CO8+CO14)*CONTROL!$C$19-CO23,0)","v":0},{"$f":"MAX(MIN((CP8+CP14)*CONTROL!$E$19-CP23,CP8+CP14-CO18-CP19-CP21-CP23-CP30),(CP8+CP14)*CONTROL!$C$19-CP23,0)","v":0},{"$f":"MAX(MIN((CQ8+CQ14)*CONTROL!$E$19-CQ23,CQ8+CQ14-CP18-CQ19-CQ21-CQ23-CQ30),(CQ8+CQ14)*CONTROL!$C$19-CQ23,0)","v":0},{"$f":"MAX(MIN((CR8+CR14)*CONTROL!$E$19-CR23,CR8+CR14-CQ18-CR19-CR21-CR23-CR30),(CR8+CR14)*CONTROL!$C$19-CR23,0)","v":0},{"$f":"MAX(MIN((CS8+CS14)*CONTROL!$E$19-CS23,CS8+CS14-CR18-CS19-CS21-CS23-CS30),(CS8+CS14)*CONTROL!$C$19-CS23,0)","v":0},{"$f":"MAX(MIN((CT8+CT14)*CONTROL!$E$19-CT23,CT8+CT14-CS18-CT19-CT21-CT23-CT30),(CT8+CT14)*CONTROL!$C$19-CT23,0)","v":0},{"$f":"MAX(MIN((CU8+CU14)*CONTROL!$E$19-CU23,CU8+CU14-CT18-CU19-CU21-CU23-CU30),(CU8+CU14)*CONTROL!$C$19-CU23,0)","v":0},{"$f":"MAX(MIN((CV8+CV14)*CONTROL!$E$19-CV23,CV8+CV14-CU18-CV19-CV21-CV23-CV30),(CV8+CV14)*CONTROL!$C$19-CV23,0)","v":0},{"$f":"MAX(MIN((CW8+CW14)*CONTROL!$E$19-CW23,CW8+CW14-CV18-CW19-CW21-CW23-CW30),(CW8+CW14)*CONTROL!$C$19-CW23,0)","v":0},{"$f":"MAX(MIN((CX8+CX14)*CONTROL!$E$19-CX23,CX8+CX14-CW18-CX19-CX21-CX23-CX30),(CX8+CX14)*CONTROL!$C$19-CX23,0)","v":0},{"$f":"MAX(MIN((CY8+CY14)*CONTROL!$E$19-CY23,CY8+CY14-CX18-CY19-CY21-CY23-CY30),(CY8+CY14)*CONTROL!$C$19-CY23,0)","v":0},{"$f":"MAX(MIN((CZ8+CZ14)*CONTROL!$E$19-CZ23,CZ8+CZ14-CY18-CZ19-CZ21-CZ23-CZ30),(CZ8+CZ14)*CONTROL!$C$19-CZ23,0)","v":0},{"$f":"MAX(MIN((DA8+DA14)*CONTROL!$E$19-DA23,DA8+DA14-CZ18-DA19-DA21-DA23-DA30),(DA8+DA14)*CONTROL!$C$19-DA23,0)","v":0},{"$f":"MAX(MIN((DB8+DB14)*CONTROL!$E$19-DB23,DB8+DB14-DA18-DB19-DB21-DB23-DB30),(DB8+DB14)*CONTROL!$C$19-DB23,0)","v":0},{"$f":"MAX(MIN((DC8+DC14)*CONTROL!$E$19-DC23,DC8+DC14-DB18-DC19-DC21-DC23-DC30),(DC8+DC14)*CONTROL!$C$19-DC23,0)","v":0}]
[null,"Pasivo No Corriente",1,1,1,1,1,1,1,1,null,{"$f":"L24+L23","v":0},{"$f":"M24+M23","v":0},{"$f":"N24+N23","v":0},1,1,1,1,1,1,1,1,1,1,1,1,1,1,1,1,1,1,1,1,1,1,1,1,1,1,1,1,1,1,1,1,1,1,1,1,1,1,1,1,1,1,1,1,1,1,1,1,1,1,1,1,1,1,1,1,1,1,1,1,1,1,1,{"$f":"BZ24+BZ23","v":1},1,1,1,1,1,1,1,1,1,1,1,1,1,1,1,1,1,1,1,1,1,1,1,1,1,1,1,1,1]
[null,"Hacienda Acreedora por IVA",0,0,0,0,0,0,0,0,null,null,null,null,null,null,null,null,null,null,null,null,null,{"$f":"IF(IVA!O9>0,IVA!O9,0)","v":0},{"$f":"IF(IVA!P9>0,IVA!P9,0)","v":0},{"$f":"IF(IVA!Q9>0,IVA!Q9,0)","v":0},{"$f":"IF(IVA!R9>0,IVA!R9,0)","v":0},{"$f":"IF(IVA!S9>0,IVA!S9,0)","v":0},{"$f":"IF(IVA!T9>0,IVA!T9,0)","v":0},{"$f":"IF(IVA!U9>0,IVA!U9,0)","v":0},{"$f":"IF(IVA!V9>0,IVA!V9,0)","v":0},{"$f":"IF(IVA!W9>0,IVA!W9,0)","v":0},{"$f":"IF(IVA!X9>0,IVA!X9,0)","v":0},{"$f":"IF(IVA!Y9>0,IVA!Y9,0)","v":0},{"$f":"IF(IVA!Z9>0,IVA!Z9,0)","v":0},{"$f":"IF(IVA!AA9>0,IVA!AA9,0)","v":0},{"$f":"IF(IVA!AB9>0,IVA!AB9,0)","v":0},{"$f":"IF(IVA!AC9>0,IVA!AC9,0)","v":0},{"$f":"IF(IVA!AD9>0,IVA!AD9,0)","v":0},{"$f":"IF(IVA!AE9>0,IVA!AE9,0)","v":0},{"$f":"IF(IVA!AF9>0,IVA!AF9,0)","v":0},{"$f":"IF(IVA!AG9>0,IVA!AG9,0)","v":0},{"$f":"IF(IVA!AH9>0,IVA!AH9,0)","v":0},{"$f":"IF(IVA!AI9>0,IVA!AI9,0)","v":0},{"$f":"IF(IVA!AJ9>0,IVA!AJ9,0)","v":0},{"$f":"IF(IVA!AK9>0,IVA!AK9,0)","v":0},{"$f":"IF(IVA!AL9>0,IVA!AL9,0)","v":0},{"$f":"IF(IVA!AM9>0,IVA!AM9,0)","v":0},{"$f":"IF(IVA!AN9>0,IVA!AN9,0)","v":0},{"$f":"IF(IVA!AO9>0,IVA!AO9,0)","v":0},{"$f":"IF(IVA!AP9>0,IVA!AP9,0)","v":0},{"$f":"IF(IVA!AQ9>0,IVA!AQ9,0)","v":0},{"$f":"IF(IVA!AR9>0,IVA!AR9,0)","v":0},{"$f":"IF(IVA!AS9>0,IVA!AS9,0)","v":0},{"$f":"IF(IVA!AT9>0,IVA!AT9,0)","v":0},{"$f":"IF(IVA!AU9>0,IVA!AU9,0)","v":0},{"$f":"IF(IVA!AV9>0,IVA!AV9,0)","v":0},{"$f":"IF(IVA!AW9>0,IVA!AW9,0)","v":0},{"$f":"IF(IVA!AX9>0,IVA!AX9,0)","v":0},{"$f":"IF(IVA!AY9>0,IVA!AY9,0)","v":0},{"$f":"IF(IVA!AZ9>0,IVA!AZ9,0)","v":0},{"$f":"IF(IVA!BA9>0,IVA!BA9,0)","v":0},{"$f":"IF(IVA!BB9>0,IVA!BB9,0)","v":0},{"$f":"IF(IVA!BC9>0,IVA!BC9,0)","v":0},{"$f":"IF(IVA!BD9>0,IVA!BD9,0)","v":0},{"$f":"IF(IVA!BE9>0,IVA!BE9,0)","v":0},{"$f":"IF(IVA!BF9>0,IVA!BF9,0)","v":0},{"$f":"IF(IVA!BG9>0,IVA!BG9,0)","v":0},{"$f":"IF(IVA!BH9>0,IVA!BH9,0)","v":0},{"$f":"IF(IVA!BI9>0,IVA!BI9,0)","v":0},{"$f":"IF(IVA!BJ9>0,IVA!BJ9,0)","v":0},{"$f":"IF(IVA!BK9>0,IVA!BK9,0)","v":0},{"$f":"IF(IVA!BL9>0,IVA!BL9,0)","v":0},{"$f":"IF(IVA!BM9>0,IVA!BM9,0)","v":0},{"$f":"IF(IVA!BN9>0,IVA!BN9,0)","v":0},{"$f":"IF(IVA!BO9>0,IVA!BO9,0)","v":0},{"$f":"IF(IVA!BP9>0,IVA!BP9,0)","v":0},{"$f":"IF(IVA!BQ9>0,IVA!BQ9,0)","v":0},{"$f":"IF(IVA!BR9>0,IVA!BR9,0)","v":0},{"$f":"IF(IVA!BS9>0,IVA!BS9,0)","v":0},{"$f":"IF(IVA!BT9>0,IVA!BT9,0)","v":0},{"$f":"IF(IVA!BU9>0,IVA!BU9,0)","v":0},{"$f":"IF(IVA!BV9>0,IVA!BV9,0)","v":0},{"$f":"IF(IVA!BW9>0,IVA!BW9,0)","v":0},{"$f":"IF(IVA!BX9>0,IVA!BX9,0)","v":0},{"$f":"IF(IVA!BY9>0,IVA!BY9,0)","v":0},{"$f":"IF(IVA!BZ9>0,IVA!BZ9,0)","v":0},{"$f":"IF(IVA!CA9>0,IVA!CA9,0)","v":0},{"$f":"IF(IVA!CB9>0,IVA!CB9,0)","v":0},{"$f":"IF(IVA!CC9>0,IVA!CC9,0)","v":0},{"$f":"IF(IVA!CD9>0,IVA!CD9,0)","v":0},{"$f":"IF(IVA!CE9>0,IVA!CE9,0)","v":0},{"$f":"IF(IVA!CF9>0,IVA!CF9,0)","v":0},{"$f":"IF(IVA!CG9>0,IVA!CG9,0)","v":0},{"$f":"IF(IVA!CH9>0,IVA!CH9,0)","v":0},{"$f":"IF(IVA!CI9>0,IVA!CI9,0)","v":0},{"$f":"IF(IVA!CJ9>0,IVA!CJ9,0)","v":0},{"$f":"IF(IVA!CK9>0,IVA!CK9,0)","v":0},{"$f":"IF(IVA!CL9>0,IVA!CL9,0)","v":0},{"$f":"IF(IVA!CM9>0,IVA!CM9,0)","v":0},{"$f":"IF(IVA!CN9>0,IVA!CN9,0)","v":0},{"$f":"IF(IVA!CO9>0,IVA!CO9,0)","v":0},{"$f":"IF(IVA!CP9>0,IVA!CP9,0)","v":0},{"$f":"IF(IVA!CQ9>0,IVA!CQ9,0)","v":0},{"$f":"IF(IVA!CR9>0,IVA!CR9,0)","v":0},{"$f":"IF(IVA!CS9>0,IVA!CS9,0)","v":0},{"$f":"IF(IVA!CT9>0,IVA!CT9,0)","v":0}]
[null,"Cuentas a Pagar",0,0,0,0,0,0,0,0,null,null,null,null,null,null,null,null,null,null,null,null,{"$f":"V27+INCO!M114-TES!W7","v":0},{"$f":"W27+INCO!N114-TES!X7","v":0},{"$f":"X27+INCO!O114-TES!Y7","v":0},{"$f":"Y27+INCO!P114-TES!Z7","v":0},{"$f":"Z27+INCO!Q114-TES!AA7","v":0},{"$f":"AA27+INCO!R114-TES!AB7","v":0},{"$f":"AB27+INCO!S114-TES!AC7","v":0},{"$f":"AC27+INCO!T114-TES!AD7","v":0},{"$f":"AD27+INCO!U114-TES!AE7","v":0},{"$f":"AE27+INCO!V114-TES!AF7","v":0},{"$f":"AF27+INCO!W114-TES!AG7","v":0},{"$f":"AG27+INCO!X114-TES!AH7","v":0},{"$f":"AH27+INCO!Y114-TES!AI7","v":0},{"$f":"AI27+INCO!Z114-TES!AJ7","v":0},{"$f":"AJ27+INCO!AA114-TES!AK7","v":0},{"$f":"AK27+INCO!AB114-TES!AL7","v":0},{"$f":"AL27+INCO!AC114-TES!AM7","v":0},{"$f":"AM27+INCO!AD114-TES!AN7","v":0},{"$f":"AN27+INCO!AE114-TES!AO7","v":0},{"$f":"AO27+INCO!AF114-TES!AP7","v":0},{"$f":"AP27+INCO!AG114-TES!AQ7","v":0},{"$f":"AQ27+INCO!AH114-TES!AR7","v":0},{"$f":"AR27+INCO!AI114-TES!AS7","v":0},{"$f":"AS27+INCO!AJ114-TES!AT7","v":0},{"$f":"AT27+INCO!AK114-TES!AU7","v":0},{"$f":"AU27+INCO!AL114-TES!AV7","v":0},{"$f":"AV27+INCO!AM114-TES!AW7","v":0},{"$f":"AW27+INCO!AN114-TES!AX7","v":0},{"$f":"AX27+INCO!AO114-TES!AY7","v":0},{"$f":"AY27+INCO!AP114-TES!AZ7","v":0},{"$f":"AZ27+INCO!AQ114-TES!BA7","v":0},{"$f":"BA27+INCO!AR114-TES!BB7","v":0},{"$f":"BB27+INCO!AS114-TES!BC7","v":0},{"$f":"BC27+INCO!AT114-TES!BD7","v":0},{"$f":"BD27+INCO!AU114-TES!BE7","v":0},{"$f":"BE27+INCO!AV114-TES!BF7","v":0},{"$f":"BF27+INCO!AW114-TES!BG7","v":0},{"$f":"BG27+INCO!AX114-TES!BH7","v":0},{"$f":"BH27+INCO!AY114-TES!BI7","v":0},{"$f":"BI27+INCO!AZ114-TES!BJ7","v":0},{"$f":"BJ27+INCO!BA114-TES!BK7","v":0},{"$f":"BK27+INCO!BB114-TES!BL7","v":0},{"$f":"BL27+INCO!BC114-TES!BM7","v":0},{"$f":"BM27+INCO!BD114-TES!BN7","v":0},{"$f":"BN27+INCO!BE114-TES!BO7","v":0},{"$f":"BO27+INCO!BF114-TES!BP7","v":0},{"$f":"BP27+INCO!BG114-TES!BQ7","v":0},{"$f":"BQ27+INCO!BH114-TES!BR7","v":0},{"$f":"BR27+INCO!BI114-TES!BS7","v":0},{"$f":"BS27+INCO!BJ114-TES!BT7","v":0},{"$f":"BT27+INCO!BK114-TES!BU7","v":0},{"$f":"BU27+INCO!BL114-TES!BV7","v":0},{"$f":"BV27+INCO!BM114-TES!BW7","v":0},{"$f":"BW27+INCO!BN114-TES!BX7","v":0},{"$f":"BX27+INCO!BO114-TES!BY7","v":0},{"$f":"BY27+INCO!BP114-TES!BZ7","v":0},{"$f":"BZ27+INCO!BQ114-TES!CA7","v":0},{"$f":"CA27+INCO!BR114-TES!CB7","v":0},{"$f":"CB27+INCO!BS114-TES!CC7","v":0},{"$f":"CC27+INCO!BT114-TES!CD7","v":0},{"$f":"CD27+INCO!BU114-TES!CE7","v":0},{"$f":"CE27+INCO!BV114-TES!CF7","v":0},{"$f":"CF27+INCO!BW114-TES!CG7","v":0},{"$f":"CG27+INCO!BX114-TES!CH7","v":0},{"$f":"CH27+INCO!BY114-TES!CI7","v":0},{"$f":"CI27+INCO!BZ114-TES!CJ7","v":0},{"$f":"CJ27+INCO!CA114-TES!CK7","v":0},{"$f":"CK27+INCO!CB114-TES!CL7","v":0},{"$f":"CL27+INCO!CC114-TES!CM7","v":0},{"$f":"CM27+INCO!CD114-TES!CN7","v":0},{"$f":"CN27+INCO!CE114-TES!CO7","v":0},{"$f":"CO27+INCO!CF114-TES!CP7","v":0},{"$f":"CP27+INCO!CG114-TES!CQ7","v":0},{"$f":"CQ27+INCO!CH114-TES!CR7","v":0},{"$f":"CR27+INCO!CI114-TES!CS7","v":0},{"$f":"CS27+INCO!CJ114-TES!CT7","v":0},{"$f":"CT27+INCO!CK114-TES!CU7","v":0},{"$f":"CU27+INCO!CL114-TES!CV7","v":0},{"$f":"CV27+INCO!CM114-TES!CW7","v":0},{"$f":"CW27+INCO!CN114-TES!CX7","v":0},{"$f":"CX27+INCO!CO114-TES!CY7","v":0},{"$f":"CY27+INCO!CP114-TES!CZ7","v":0},{"$f":"CZ27+INCO!CQ114-TES!DA7","v":0},{"$f":"DA27+INCO!CR114-TES!DB7","v":0},{"$f":"DB27+INCO!CS114-TES!DC7","v":0}]
[null,"Hacienda Acreedora",0,0,0,0,0,0,0,0,null,null,null,null,null,null,null,null,null,null,null,null,null,{"$f":"W28+CTA.RES!K16-TES!X11","v":0},{"$f":"X28+CTA.RES!L16-TES!Y11","v":0},{"$f":"Y28+CTA.RES!M16-TES!Z11","v":0},{"$f":"Z28+CTA.RES!N16-TES!AA11","v":0},{"$f":"AA28+CTA.RES!O16-TES!AB11","v":0},{"$f":"AB28+CTA.RES!P16-TES!AC11","v":0},{"$f":"AC28+CTA.RES!Q16-TES!AD11","v":0},{"$f":"AD28+CTA.RES!R16-TES!AE11","v":0},{"$f":"AE28+CTA.RES!S16-TES!AF11","v":0},{"$f":"AF28+CTA.RES!T16-TES!AG11","v":0},{"$f":"AG28+CTA.RES!U16-TES!AH11","v":0},{"$f":"AH28+CTA.RES!V16-TES!AI11","v":0},{"$f":"AI28+CTA.RES!W16-TES!AJ11","v":0},{"$f":"AJ28+CTA.RES!X16-TES!AK11","v":0},{"$f":"AK28+CTA.RES!Y16-TES!AL11","v":0},{"$f":"AL28+CTA.RES!Z16-TES!AM11","v":0},{"$f":"AM28+CTA.RES!AA16-TES!AN11","v":0},{"$f":"AN28+CTA.RES!AB16-TES!AO11","v":0},{"$f":"AO28+CTA.RES!AC16-TES!AP11","v":0},{"$f":"AP28+CTA.RES!AD16-TES!AQ11","v":0},{"$f":"AQ28+CTA.RES!AE16-TES!AR11","v":0},{"$f":"AR28+CTA.RES!AF16-TES!AS11","v":0},{"$f":"AS28+CTA.RES!AG16-TES!AT11","v":0},{"$f":"AT28+CTA.RES!AH16-TES!AU11","v":0},{"$f":"AU28+CTA.RES!AI16-TES!AV11","v":0},{"$f":"AV28+CTA.RES!AJ16-TES!AW11","v":0},{"$f":"AW28+CTA.RES!AK16-TES!AX11","v":0},{"$f":"AX28+CTA.RES!AL16-TES!AY11","v":0},{"$f":"AY28+CTA.RES!AM16-TES!AZ11","v":0},{"$f":"AZ28+CTA.RES!AN16-TES!BA11","v":0},{"$f":"BA28+CTA.RES!AO16-TES!BB11","v":0},{"$f":"BB28+CTA.RES!AP16-TES!BC11","v":0},{"$f":"BC28+CTA.RES!AQ16-TES!BD11","v":0},{"$f":"BD28+CTA.RES!AR16-TES!BE11","v":0},{"$f":"BE28+CTA.RES!AS16-TES!BF11","v":0},{"$f":"BF28+CTA.RES!AT16-TES!BG11","v":0},{"$f":"BG28+CTA.RES!AU16-TES!BH11","v":0},{"$f":"BH28+CTA.RES!AV16-TES!BI11","v":0},{"$f":"BI28+CTA.RES!AW16-TES!BJ11","v":0},{"$f":"BJ28+CTA.RES!AX16-TES!BK11","v":0},{"$f":"BK28+CTA.RES!AY16-TES!BL11","v":0},{"$f":"BL28+CTA.RES!AZ16-TES!BM11","v":0},{"$f":"BM28+CTA.RES!BA16-TES!BN11","v":0},{"$f":"BN28+CTA.RES!BB16-TES!BO11","v":0},{"$f":"BO28+CTA.RES!BC16-TES!BP11","v":0},{"$f":"BP28+CTA.RES!BD16-TES!BQ11","v":0},{"$f":"BQ28+CTA.RES!BE16-TES!BR11","v":0},{"$f":"BR28+CTA.RES!BF16-TES!BS11","v":0},{"$f":"BS28+CTA.RES!BG16-TES!BT11","v":0},{"$f":"BT28+CTA.RES!BH16-TES!BU11","v":0},{"$f":"BU28+CTA.RES!BI16-TES!BV11","v":0},{"$f":"BV28+CTA.RES!BJ16-TES!BW11","v":0},{"$f":"BW28+CTA.RES!BK16-TES!BX11","v":0},{"$f":"BX28+CTA.RES!BL16-TES!BY11","v":0},{"$f":"BY28+CTA.RES!BM16-TES!BZ11","v":0},{"$f":"BZ28+CTA.RES!BN16-TES!CA11","v":0},{"$f":"CA28+CTA.RES!BO16-TES!CB11","v":0},{"$f":"CB28+CTA.RES!BP16-TES!CC11","v":0},{"$f":"CC28+CTA.RES!BQ16-TES!CD11","v":0},{"$f":"CD28+CTA.RES!BR16-TES!CE11","v":0},{"$f":"CE28+CTA.RES!BS16-TES!CF11","v":0},{"$f":"CF28+CTA.RES!BT16-TES!CG11","v":0},{"$f":"CG28+CTA.RES!BU16-TES!CH11","v":0},{"$f":"CH28+CTA.RES!BV16-TES!CI11","v":0},{"$f":"CI28+CTA.RES!BW16-TES!CJ11","v":0},{"$f":"CJ28+CTA.RES!BX16-TES!CK11","v":0},{"$f":"CK28+CTA.RES!BY16-TES!CL11","v":0},{"$f":"CL28+CTA.RES!BZ16-TES!CM11","v":0},{"$f":"CM28+CTA.RES!CA16-TES!CN11","v":0},{"$f":"CN28+CTA.RES!CB16-TES!CO11","v":0},{"$f":"CO28+CTA.RES!CC16-TES!CP11","v":0},{"$f":"CP28+CTA.RES!CD16-TES!CQ11","v":0},{"$f":"CQ28+CTA.RES!CE16-TES!CR11","v":0},{"$f":"CR28+CTA.RES!CF16-TES!CS11","v":0},{"$f":"CS28+CTA.RES!CG16-TES!CT11","v":0},{"$f":"CT28+CTA.RES!CH16-TES!CU11","v":0},{"$f":"CU28+CTA.RES!CI16-TES!CV11","v":0},{"$f":"CV28+CTA.RES!CJ16-TES!CW11","v":0},{"$f":"CW28+CTA.RES!CK16-TES!CX11","v":0},{"$f":"CX28+CTA.RES!CL16-TES!CY11","v":0},{"$f":"CY28+CTA.RES!CM16-TES!CZ11","v":0},{"$f":"CZ28+CTA.RES!CN16-TES!DA11","v":0},{"$f":"DA28+CTA.RES!CO16-TES!DB11","v":0},{"$f":"DB28+CTA.RES!CP16-TES!DC11","v":0}]
[null,"Otras Cuentas a Pagar",0,0,0,0,0,0,0,0,null,null,null,null,null,null,null,null,null,null,null,null,null,{"$f":"W29+INCO!N112-TES!X8","v":0},{"$f":"X29+INCO!O112-TES!Y8","v":0},{"$f":"Y29+INCO!P112-TES!Z8","v":0},{"$f":"Z29+INCO!Q112-TES!AA8","v":0},{"$f":"AA29+INCO!R112-TES!AB8","v":0},{"$f":"AB29+INCO!S112-TES!AC8","v":0},{"$f":"AC29+INCO!T112-TES!AD8","v":0},{"$f":"AD29+INCO!U112-TES!AE8","v":0},{"$f":"AE29+INCO!V112-TES!AF8","v":0},{"$f":"AF29+INCO!W112-TES!AG8","v":0},{"$f":"AG29+INCO!X112-TES!AH8","v":0},{"$f":"AH29+INCO!Y112-TES!AI8","v":0},{"$f":"AI29+INCO!Z112-TES!AJ8","v":0},{"$f":"AJ29+INCO!AA112-TES!AK8","v":0},{"$f":"AK29+INCO!AB112-TES!AL8","v":0},{"$f":"AL29+INCO!AC112-TES!AM8","v":0},{"$f":"AM29+INCO!AD112-TES!AN8","v":0},{"$f":"AN29+INCO!AE112-TES!AO8","v":0},{"$f":"AO29+INCO!AF112-TES!AP8","v":0},{"$f":"AP29+INCO!AG112-TES!AQ8","v":0},{"$f":"AQ29+INCO!AH112-TES!AR8","v":0},{"$f":"AR29+INCO!AI112-TES!AS8","v":0},{"$f":"AS29+INCO!AJ112-TES!AT8","v":0},{"$f":"AT29+INCO!AK112-TES!AU8","v":0},{"$f":"AU29+INCO!AL112-TES!AV8","v":0},{"$f":"AV29+INCO!AM112-TES!AW8","v":0},{"$f":"AW29+INCO!AN112-TES!AX8","v":0},{"$f":"AX29+INCO!AO112-TES!AY8","v":0},{"$f":"AY29+INCO!AP112-TES!AZ8","v":0},{"$f":"AZ29+INCO!AQ112-TES!BA8","v":0},{"$f":"BA29+INCO!AR112-TES!BB8","v":0},{"$f":"BB29+INCO!AS112-TES!BC8","v":0},{"$f":"BC29+INCO!AT112-TES!BD8","v":0},{"$f":"BD29+INCO!AU112-TES!BE8","v":0},{"$f":"BE29+INCO!AV112-TES!BF8","v":0},{"$f":"BF29+INCO!AW112-TES!BG8","v":0},{"$f":"BG29+INCO!AX112-TES!BH8","v":0},{"$f":"BH29+INCO!AY112-TES!BI8","v":0},{"$f":"BI29+INCO!AZ112-TES!BJ8","v":0},{"$f":"BJ29+INCO!BA112-TES!BK8","v":0},{"$f":"BK29+INCO!BB112-TES!BL8","v":0},{"$f":"BL29+INCO!BC112-TES!BM8","v":0},{"$f":"BM29+INCO!BD112-TES!BN8","v":0},{"$f":"BN29+INCO!BE112-TES!BO8","v":0},{"$f":"BO29+INCO!BF112-TES!BP8","v":0},{"$f":"BP29+INCO!BG112-TES!BQ8","v":0},{"$f":"BQ29+INCO!BH112-TES!BR8","v":0},{"$f":"BR29+INCO!BI112-TES!BS8","v":0},{"$f":"BS29+INCO!BJ112-TES!BT8","v":0},{"$f":"BT29+INCO!BK112-TES!BU8","v":0},{"$f":"BU29+INCO!BL112-TES!BV8","v":0},{"$f":"BV29+INCO!BM112-TES!BW8","v":0},{"$f":"BW29+INCO!BN112-TES!BX8","v":0},{"$f":"BX29+INCO!BO112-TES!BY8","v":0},{"$f":"BY29+INCO!BP112-TES!BZ8","v":0},{"$f":"BZ29+INCO!BQ112-TES!CA8","v":0},{"$f":"CA29+INCO!BR112-TES!CB8","v":0},{"$f":"CB29+INCO!BS112-TES!CC8","v":0},{"$f":"CC29+INCO!BT112-TES!CD8","v":0},{"$f":"CD29+INCO!BU112-TES!CE8","v":0},{"$f":"CE29+INCO!BV112-TES!CF8","v":0},{"$f":"CF29+INCO!BW112-TES!CG8","v":0},{"$f":"CG29+INCO!BX112-TES!CH8","v":0},{"$f":"CH29+INCO!BY112-TES!CI8","v":0},{"$f":"CI29+INCO!BZ112-TES!CJ8","v":0},{"$f":"CJ29+INCO!CA112-TES!CK8","v":0},{"$f":"CK29+INCO!CB112-TES!CL8","v":0},{"$f":"CL29+INCO!CC112-TES!CM8","v":0},{"$f":"CM29+INCO!CD112-TES!CN8","v":0},{"$f":"CN29+INCO!CE112-TES!CO8","v":0},{"$f":"CO29+INCO!CF112-TES!CP8","v":0},{"$f":"CP29+INCO!CG112-TES!CQ8","v":0},{"$f":"CQ29+INCO!CH112-TES!CR8","v":0},{"$f":"CR29+INCO!CI112-TES!CS8","v":0},{"$f":"CS29+INCO!CJ112-TES!CT8","v":0},{"$f":"CT29+INCO!CK112-TES!CU8","v":0},{"$f":"CU29+INCO!CL112-TES!CV8","v":0},{"$f":"CV29+INCO!CM112-TES!CW8","v":0},{"$f":"CW29+INCO!CN112-TES!CX8","v":0},{"$f":"CX29+INCO!CO112-TES!CY8","v":0},{"$f":"CY29+INCO!CP112-TES!CZ8","v":0},{"$f":"CZ29+INCO!CQ112-TES!DA8","v":0},{"$f":"DA29+INCO!CR112-TES!DB8","v":0},{"$f":"DB29+INCO!CS112-TES!DC8","v":0}]
[null,"Pasivo Corrriente",0,0,0,0,0,0,0,0,null,{"$f":"SUM(L26:L29)","v":0},0,0,0,0,0,0,0,0,{"$f":"SUM(U26:U29)","v":0},0,0,{"$f":"SUM(X26:X29)","v":0},0,0,{"$f":"SUM(AA26:AA29)","v":0},0,0,0,0,0,{"$f":"SUM(AG26:AG29)","v":0},0,0,0,0,0,0,0,0,0,0,0,0,0,0,0,0,0,0,0,0,0,0,0,{"$f":"SUM(BE26:BE29)","v":0},0,0,0,0,0,0,0,0,0,0,0,0,0,0,0,0,0,0,{"$f":"SUM(BX26:BX29)","v":0},0,0,0,0,0,0,0,0,0,0,0,0,0,0,0,0,0,0,0,0,0,0,0,0,0,0,0,0,0,0,0]
[null,"TOTAL PATRIMONIO NETO Y PASIVO",1,2,2.9999999999999991,4.0000000000000009,5.0000000000000027,5.9999999999999991,6.9999999999999956,7.999999999999992,null,{"$f":"L22+L25+L30","v":0},0,0,1,1,1,1,1,{"$f":"T22+T25+T30","v":1},{"$f":"U22+U25+U30","v":1},1,1,1.0833333333333333,1.1666666666666667,1.25,1.3333333333333333,1.4166666666666665,1.5,1.5833333333333333,1.6666666666666665,1.75,1.8333333333333335,1.9166666666666667,2,2.083333333333333,2.1666666666666665,2.25,2.333333333333333,2.4166666666666661,2.4999999999999996,2.583333333333333,2.6666666666666661,2.7499999999999991,2.8333333333333326,2.9166666666666661,2.9999999999999991,3.0833333333333326,3.1666666666666661,3.2499999999999996,3.333333333333333,3.4166666666666665,3.5,3.5833333333333335,3.666666666666667,3.7500000000000004,3.8333333333333339,3.9166666666666674,4.0000000000000009,4.0833333333333339,4.1666666666666679,4.2500000000000018,4.3333333333333348,4.4166666666666679,4.5000000000000018,4.5833333333333357,4.6666666666666687,{"$f":"BP22+BP25+BP30","v":4.7500000000000018},4.8333333333333357,4.9166666666666696,5.0000000000000027,5.0833333333333357,5.1666666666666687,5.2500000000000018,5.3333333333333348,5.4166666666666679,5.5000000000000009,5.5833333333333339,5.666666666666667,5.75,5.833333333333333,5.9166666666666661,5.9999999999999991,6.0833333333333321,6.1666666666666652,6.2499999999999982,6.3333333333333313,6.4166666666666643,6.4999999999999973,6.5833333333333304,6.6666666666666634,6.7499999999999964,6.8333333333333295,6.9166666666666625,6.9999999999999956,7.0833333333333286,7.1666666666666616,7.2499999999999947,7.3333333333333277,7.4166666666666607,7.4999999999999938,7.5833333333333268,7.6666666666666599,7.7499999999999929,7.8333333333333259,7.916666666666659,7.999999999999992]
[]
[null,"Ratio de endeudamiento",{"$f":"IFERROR(C25/(C8+C14),0)","v":1},{"$f":"IFERROR(D25/(D8+D14),0)","v":1},1,1,1,1,1,1,null,0,0,0,1,1,1,1,1,1,1,1,1,1,1,1,1,1,1,1,1,1,1,1,1,1,1,1,1,1,1,1,1,1,1,1,1,1,1,1,1,1,1,1,1,1,1,1,1,1,1,1,1,1,1,1,1,{"$f":"IFERROR(BP25/(BP8+BP14),0)","v":1},1,1,1,1,1,1,1,1,1,1,1,1,1,1,1,1,1,1,1,1,1,1,1,1,1,1,1,1,1,1,1,1,1,1,1,1,1,1,1]
[null,"Cuadre de balance",{"$f":"ABS(C16-C31)","v":0},0,0,0,0,0,0,0,null,{"$f":"ABS(L16-L31)","v":0},0,0,0,0,0,0,0,0,0,0,0,0,0,0,0,0,0,0,0,0,0,0,0,0,0,0,0,0,0,0,0,{"$f":"ABS(AR16-AR31)","v":0},0,0,0,0,0,0,0,0,0,0,0,0,0,0,0,0,0,0,0,0,0,0,0,0,0,0,0,0,0,0,0,{"$f":"ABS(BX16-BX31)","v":0},0,0,0,0,0,0,0,0,0,0,0,0,0,0,0,0,0,0,0,0,0,0,0,0,0,0,0,0,0,0,0]
[null,"Fondo de Maniobra Operativo",{"$f":"C14-C30","v":0},{"$f":"D14-D30","v":0},0,0,0,0,0,0]
[null,"Deuda Neta",{"$f":"C25-C15","v":1},0,-0.99999999999999911,-2.0000000000000009,-3.0000000000000027,-3.9999999999999991,-4.9999999999999956,-5.999999999999992]
[]
[]
[null,"TOTAL ACTIVO",{"$f":"MATCH(B39,B4:B31,0)","v":13},"Pasivo No Corriente",{"$f":"MATCH(D39,B4:B31,0)","v":22}]
[]
[null,{"$f":"OFFSET(B3,$C$39,0)","v":"TOTAL ACTIVO"},{"$f":"OFFSET(C3,$C$39,0)","v":1},2,2.9999999999999991,4.0000000000000009,5.0000000000000027,5.9999999999999991,6.9999999999999956,7.999999999999992]
[null,{"$f":"OFFSET(B3,$E$39,0)","v":"Pasivo No Corriente"},{"$f":"OFFSET(C3,$E$39,0)","v":1},1,1,1,1,1,1,1]

{"sheet":"TES","index":7,"n_rows":32,"n_cols":107,"rows_kept":32,"cut":false,"hidden":false,"merged":[]}
[]
[null,{"$f":"CONTROL!C2","v":"Proyecto "},null,null,null,null,null,null,null,null,null,{"$f":"OFFSET(M2,0,11)-1","v":2013},2013,2013,2013,2013,2013,2013,2013,{"$f":"OFFSET(U2,0,11)-1","v":2013},{"$f":"OFFSET(V2,0,11)-1","v":2013},{"$f":"OFFSET(W2,0,11)-1","v":2013},{"$f":"OFFSET(X2,0,11)-1","v":2013},{"$f":"INCO!N1","v":2014},{"$f":"INCO!O1","v":2014},{"$f":"INCO!P1","v":2014},{"$f":"INCO!Q1","v":2014},{"$f":"INCO!R1","v":2014},{"$f":"INCO!S1","v":2014},{"$f":"INCO!T1","v":2014},{"$f":"INCO!U1","v":2014},{"$f":"INCO!V1","v":2014},{"$f":"INCO!W1","v":2014},{"$f":"INCO!X1","v":2014},{"$f":"INCO!Y1","v":2014},{"$f":"INCO!Z1","v":2015},{"$f":"INCO!AA1","v":2015},{"$f":"INCO!AB1","v":2015},{"$f":"INCO!AC1","v":2015},{"$f":"INCO!AD1","v":2015},{"$f":"INCO!AE1","v":2015},{"$f":"INCO!AF1","v":2015},{"$f":"INCO!AG1","v":2015},{"$f":"INCO!AH1","v":2015},{"$f":"INCO!AI1","v":2015},{"$f":"INCO!AJ1","v":2015},{"$f":"INCO!AK1","v":2015},{"$f":"INCO!AL1","v":2016},{"$f":"INCO!AM1","v":2016},{"$f":"INCO!AN1","v":2016},{"$f":"INCO!AO1","v":2016},{"$f":"INCO!AP1","v":2016},{"$f":"INCO!AQ1","v":2016},{"$f":"INCO!AR1","v":2016},{"$f":"INCO!AS1","v":2016},{"$f":"INCO!AT1","v":2016},{"$f":"INCO!AU1","v":2016},{"$f":"INCO!AV1","v":2016},{"$f":"INCO!AW1","v":2016},{"$f":"INCO!AX1","v":2017},{"$f":"INCO!AY1","v":2017},{"$f":"INCO!AZ1","v":2017},{"$f":"INCO!BA1","v":2017},{"$f":"INCO!BB1","v":2017},{"$f":"INCO!BC1","v":2017},{"$f":"INCO!BD1","v":2017},{"$f":"INCO!BE1","v":2017},{"$f":"INCO!BF1","v":2017},{"$f":"INCO!BG1","v":2017},{"$f":"INCO!BH1","v":2017},{"$f":"INCO!BI1","v":2017},{"$f":"INCO!BJ1","v":2018},{"$f":"INCO!BK1","v":2018},{"$f":"INCO!BL1","v":2018},{"$f":"INCO!BM1","v":2018},{"$f":"INCO!BN1","v":2018},{"$f":"INCO!BO1","v":2018},{"$f":"INCO!BP1","v":2018},{"$f":"INCO!BQ1","v":2018},{"$f":"INCO!BR1","v":2018},{"$f":"INCO!BS1","v":2018},{"$f":"INCO!BT1","v":2018},{"$f":"INCO!BU1","v":2018},{"$f":"INCO!BV1","v":2019},{"$f":"INCO!BW1","v":2019},{"$f":"INCO!BX1","v":2019},{"$f":"INCO!BY1","v":2019},{"$f":"INCO!BZ1","v":2019},{"$f":"INCO!CA1","v":2019},{"$f":"INCO!CB1","v":2019},{"$f":"INCO!CC1","v":2019},{"$f":"INCO!CD1","v":2019},{"$f":"INCO!CE1","v":2019},{"$f":"INCO!CF1","v":2019},{"$f":"INCO!CG1","v":2019},{"$f":"INCO!CH1","v":2020},{"$f":"INCO!CI1","v":2020},{"$f":"INCO!CJ1","v":2020},{"$f":"INCO!CK1","v":2020},{"$f":"INCO!CL1","v":2020},{"$f":"INCO!CM1","v":2020},{"$f":"INCO!CN1","v":2020},{"$f":"INCO!CO1","v":2020},{"$f":"INCO!CP1","v":2020},{"$f":"INCO!CQ1","v":2020},{"$f":"INCO!CR1","v":2020},{"$f":"INCO!CS1","v":2020}]
[null,null,{"$f":"W3","v":"2013-12-31"},{"$f":"INCO!D11","v":2014},{"$f":"INCO!E11","v":2015},{"$f":"INCO!F11","v":2016},{"$f":"INCO!G11","v":2017},{"$f":"INCO!H11","v":2018},{"$f":"INCO!I11","v":2019},{"$f":"INCO!J11","v":2020},null,{"$f":"EOMONTH(M3,-1)","v":"2013-01-31"},"2013-02-28","2013-03-31","2013-04-30","2013-05-31","2013-06-30","2013-07-31","2013-08-31","2013-09-30","2013-10-31","2013-11-30",{"$f":"EOMONTH(X3,-1)","v":"2013-12-31"},{"$f":"CONTROL!H2","v":"2014-01-31"},{"$f":"INCO!O2","v":"2014-02-28"},{"$f":"INCO!P2","v":"2014-03-31"},{"$f":"INCO!Q2","v":"2014-04-30"},{"$f":"INCO!R2","v":"2014-05-31"},{"$f":"INCO!S2","v":"2014-06-30"},{"$f":"INCO!T2","v":"2014-07-31"},{"$f":"INCO!U2","v":"2014-08-31"},{"$f":"INCO!V2","v":"2014-09-30"},{"$f":"INCO!W2","v":"2014-10-31"},{"$f":"INCO!X2","v":"2014-11-30"},{"$f":"INCO!Y2","v":"2014-12-31"},{"$f":"INCO!Z2","v":"2015-01-31"},{"$f":"INCO!AA2","v":"2015-02-28"},{"$f":"INCO!AB2","v":"2015-03-31"},{"$f":"INCO!AC2","v":"2015-04-30"},{"$f":"INCO!AD2","v":"2015-05-31"},{"$f":"INCO!AE2","v":"2015-06-30"},{"$f":"INCO!AF2","v":"2015-07-31"},{"$f":"INCO!AG2","v":"2015-08-31"},{"$f":"INCO!AH2","v":"2015-09-30"},{"$f":"INCO!AI2","v":"2015-10-31"},{"$f":"INCO!AJ2","v":"2015-11-30"},{"$f":"INCO!AK2","v":"2015-12-31"},{"$f":"INCO!AL2","v":"2016-01-31"},{"$f":"INCO!AM2","v":"2016-02-29"},{"$f":"INCO!AN2","v":"2016-03-31"},{"$f":"INCO!AO2","v":"2016-04-30"},{"$f":"INCO!AP2","v":"2016-05-31"},{"$f":"INCO!AQ2","v":"2016-06-30"},{"$f":"INCO!AR2","v":"2016-07-31"},{"$f":"INCO!AS2","v":"2016-08-31"},{"$f":"INCO!AT2","v":"2016-09-30"},{"$f":"INCO!AU2","v":"2016-10-31"},{"$f":"INCO!AV2","v":"2016-11-30"},{"$f":"INCO!AW2","v":"2016-12-31"},{"$f":"INCO!AX2","v":"2017-01-31"},{"$f":"INCO!AY2","v":"2017-02-28"},{"$f":"INCO!AZ2","v":"2017-03-31"},{"$f":"INCO!BA2","v":"2017-04-30"},{"$f":"INCO!BB2","v":"2017-05-31"},{"$f":"INCO!BC2","v":"2017-06-30"},{"$f":"INCO!BD2","v":"2017-07-31"},{"$f":"INCO!BE2","v":"2017-08-31"},{"$f":"INCO!BF2","v":"2017-09-30"},{"$f":"INCO!BG2","v":"2017-10-31"},{"$f":"INCO!BH2","v":"2017-11-30"},{"$f":"INCO!BI2","v":"2017-12-31"},{"$f":"INCO!BJ2","v":"2018-01-31"},{"$f":"INCO!BK2","v":"2018-02-28"},{"$f":"INCO!BL2","v":"2018-03-31"},{"$f":"INCO!BM2","v":"2018-04-30"},{"$f":"INCO!BN2","v":"2018-05-31"},{"$f":"INCO!BO2","v":"2018-06-30"},{"$f":"INCO!BP2","v":"2018-07-31"},{"$f":"INCO!BQ2","v":"2018-08-31"},{"$f":"INCO!BR2","v":"2018-09-30"},{"$f":"INCO!BS2","v":"2018-10-31"},{"$f":"INCO!BT2","v":"2018-11-30"},{"$f":"INCO!BU2","v":"2018-12-31"},{"$f":"INCO!BV2","v":"2019-01-31"},{"$f":"INCO!BW2","v":"2019-02-28"},{"$f":"INCO!BX2","v":"2019-03-31"},{"$f":"INCO!BY2","v":"2019-04-30"},{"$f":"INCO!BZ2","v":"2019-05-31"},{"$f":"INCO!CA2","v":"2019-06-30"},{"$f":"INCO!CB2","v":"2019-07-31"},{"$f":"INCO!CC2","v":"2019-08-31"},{"$f":"INCO!CD2","v":"2019-09-30"},{"$f":"INCO!CE2","v":"2019-10-31"},{"$f":"INCO!CF2","v":"2019-11-30"},{"$f":"INCO!CG2","v":"2019-12-31"},{"$f":"INCO!CH2","v":"2020-01-31"},{"$f":"INCO!CI2","v":"2020-02-29"},{"$f":"INCO!CJ2","v":"2020-03-31"},{"$f":"INCO!CK2","v":"2020-04-30"},{"$f":"INCO!CL2","v":"2020-05-31"},{"$f":"INCO!CM2","v":"2020-06-30"},{"$f":"INCO!CN2","v":"2020-07-31"},{"$f":"INCO!CO2","v":"2020-08-31"},{"$f":"INCO!CP2","v":"2020-09-30"},{"$f":"INCO!CQ2","v":"2020-10-31"},{"$f":"INCO!CR2","v":"2020-11-30"},{"$f":"INCO!CS2","v":"2020-12-31"}]
[null,"Cobros Operativos",{"$f":"C5","v":0},{"$f":"D5","v":1},{"$f":"E5","v":1},1,1,1,1,1,null,{"$f":"L5","v":0},0,0,0,0,0,0,0,0,0,0,0,8.3333333333333329E-2,8.3333333333333329E-2,8.3333333333333329E-2,8.3333333333333329E-2,8.3333333333333329E-2,8.3333333333333329E-2,8.3333333333333329E-2,8.3333333333333329E-2,8.3333333333333329E-2,8.3333333333333329E-2,8.3333333333333329E-2,8.3333333333333329E-2,8.3333333333333329E-2,8.3333333333333329E-2,8.3333333333333329E-2,8.3333333333333329E-2,8.3333333333333329E-2,8.3333333333333329E-2,8.3333333333333329E-2,8.3333333333333329E-2,{"$f":"AR5","v":8.3333333333333329E-2},8.3333333333333329E-2,8.3333333333333329E-2,8.3333333333333329E-2,8.3333333333333329E-2,8.3333333333333329E-2,8.3333333333333329E-2,8.3333333333333329E-2,8.3333333333333329E-2,8.3333333333333329E-2,8.3333333333333329E-2,8.3333333333333329E-2,8.3333333333333329E-2,8.3333333333333329E-2,8.3333333333333329E-2,8.3333333333333329E-2,8.3333333333333329E-2,8.3333333333333329E-2,8.3333333333333329E-2,8.3333333333333329E-2,8.3333333333333329E-2,8.3333333333333329E-2,8.3333333333333329E-2,8.3333333333333329E-2,8.3333333333333329E-2,8.3333333333333329E-2,8.3333333333333329E-2,8.3333333333333329E-2,8.3333333333333329E-2,8.3333333333333329E-2,8.3333333333333329E-2,8.3333333333333329E-2,{"$f":"BX5","v":8.3333333333333329E-2},8.3333333333333329E-2,8.3333333333333329E-2,8.3333333333333329E-2,8.3333333333333329E-2,8.3333333333333329E-2,8.3333333333333329E-2,8.3333333333333329E-2,8.3333333333333329E-2,8.3333333333333329E-2,8.3333333333333329E-2,8.3333333333333329E-2,8.3333333333333329E-2,8.3333333333333329E-2,8.3333333333333329E-2,8.3333333333333329E-2,8.3333333333333329E-2,8.3333333333333329E-2,8.3333333333333329E-2,8.3333333333333329E-2,8.3333333333333329E-2,8.3333333333333329E-2,8.3333333333333329E-2,8.3333333333333329E-2,8.3333333333333329E-2,8.3333333333333329E-2,8.3333333333333329E-2,8.3333333333333329E-2,8.3333333333333329E-2,8.3333333333333329E-2,8.3333333333333329E-2,8.3333333333333329E-2]
[null,"Cobros de Ventas",null,{"$f":"SUMIF($X$2:$DC$2,D$3,$X5:$DC5)","v":1},1,1,1,1,1,1,null,null,null,null,null,null,null,null,null,null,null,null,null,{"$f":"IF(CONTROL!$H$18=0,INCO!N45,0)","v":8.3333333333333329E-2},{"$f":"IF(CONTROL!$H$18=0,INCO!O45,IF(CONTROL!$H$18=1,INCO!N45,0))","v":8.3333333333333329E-2},{"$f":"IF(CONTROL!$H$18=0,INCO!P45,IF(CONTROL!$H$18=1,INCO!O45,IF(CONTROL!$H$18=2,INCO!N45,0)))","v":8.3333333333333329E-2},{"$f":"IF(CONTROL!$H$18=0,INCO!Q45,IF(CONTROL!$H$18=1,INCO!P45,IF(CONTROL!$H$18=2,INCO!O45,INCO!N45)))","v":8.3333333333333329E-2},{"$f":"IF(CONTROL!$H$18=0,INCO!R45,IF(CONTROL!$H$18=1,INCO!Q45,IF(CONTROL!$H$18=2,INCO!P45,INCO!O45)))","v":8.3333333333333329E-2},{"$f":"IF(CONTROL!$H$18=0,INCO!S45,IF(CONTROL!$H$18=1,INCO!R45,IF(CONTROL!$H$18=2,INCO!Q45,INCO!P45)))","v":8.3333333333333329E-2},{"$f":"IF(CONTROL!$H$18=0,INCO!T45,IF(CONTROL!$H$18=1,INCO!S45,IF(CONTROL!$H$18=2,INCO!R45,INCO!Q45)))","v":8.3333333333333329E-2},{"$f":"IF(CONTROL!$H$18=0,INCO!U45,IF(CONTROL!$H$18=1,INCO!T45,IF(CONTROL!$H$18=2,INCO!S45,INCO!R45)))","v":8.3333333333333329E-2},{"$f":"IF(CONTROL!$H$18=0,INCO!V45,IF(CONTROL!$H$18=1,INCO!U45,IF(CONTROL!$H$18=2,INCO!T45,INCO!S45)))","v":8.3333333333333329E-2},{"$f":"IF(CONTROL!$H$18=0,INCO!W45,IF(CONTROL!$H$18=1,INCO!V45,IF(CONTROL!$H$18=2,INCO!U45,INCO!T45)))","v":8.3333333333333329E-2},{"$f":"IF(CONTROL!$H$18=0,INCO!X45,IF(CONTROL!$H$18=1,INCO!W45,IF(CONTROL!$H$18=2,INCO!V45,INCO!U45)))","v":8.3333333333333329E-2},{"$f":"IF(CONTROL!$H$18=0,INCO!Y45,IF(CONTROL!$H$18=1,INCO!X45,IF(CONTROL!$H$18=2,INCO!W45,INCO!V45)))","v":8.3333333333333329E-2},{"$f":"IF(CONTROL!$H$18=0,INCO!Z45,IF(CONTROL!$H$18=1,INCO!Y45,IF(CONTROL!$H$18=2,INCO!X45,INCO!W45)))","v":8.3333333333333329E-2},{"$f":"IF(CONTROL!$H$18=0,INCO!AA45,IF(CONTROL!$H$18=1,INCO!Z45,IF(CONTROL!$H$18=2,INCO!Y45,INCO!X45)))","v":8.3333333333333329E-2},{"$f":"IF(CONTROL!$H$18=0,INCO!AB45,IF(CONTROL!$H$18=1,INCO!AA45,IF(CONTROL!$H$18=2,INCO!Z45,INCO!Y45)))","v":8.3333333333333329E-2},{"$f":"IF(CONTROL!$H$18=0,INCO!AC45,IF(CONTROL!$H$18=1,INCO!AB45,IF(CONTROL!$H$18=2,INCO!AA45,INCO!Z45)))","v":8.3333333333333329E-2},{"$f":"IF(CONTROL!$H$18=0,INCO!AD45,IF(CONTROL!$H$18=1,INCO!AC45,IF(CONTROL!$H$18=2,INCO!AB45,INCO!AA45)))","v":8.3333333333333329E-2},{"$f":"IF(CONTROL!$H$18=0,INCO!AE45,IF(CONTROL!$H$18=1,INCO!AD45,IF(CONTROL!$H$18=2,INCO!AC45,INCO!AB45)))","v":8.3333333333333329E-2},{"$f":"IF(CONTROL!$H$18=0,INCO!AF45,IF(CONTROL!$H$18=1,INCO!AE45,IF(CONTROL!$H$18=2,INCO!AD45,INCO!AC45)))","v":8.3333333333333329E-2},{"$f":"IF(CONTROL!$H$18=0,INCO!AG45,IF(CONTROL!$H$18=1,INCO!AF45,IF(CONTROL!$H$18=2,INCO!AE45,INCO!AD45)))","v":8.3333333333333329E-2},{"$f":"IF(CONTROL!$H$18=0,INCO!AH45,IF(CONTROL!$H$18=1,INCO!AG45,IF(CONTROL!$H$18=2,INCO!AF45,INCO!AE45)))","v":8.3333333333333329E-2},{"$f":"IF(CONTROL!$H$18=0,INCO!AI45,IF(CONTROL!$H$18=1,INCO!AH45,IF(CONTROL!$H$18=2,INCO!AG45,INCO!AF45)))","v":8.3333333333333329E-2},{"$f":"IF(CONTROL!$H$18=0,INCO!AJ45,IF(CONTROL!$H$18=1,INCO!AI45,IF(CONTROL!$H$18=2,INCO!AH45,INCO!AG45)))","v":8.3333333333333329E-2},{"$f":"IF(CONTROL!$H$18=0,INCO!AK45,IF(CONTROL!$H$18=1,INCO!AJ45,IF(CONTROL!$H$18=2,INCO!AI45,INCO!AH45)))","v":8.3333333333333329E-2},{"$f":"IF(CONTROL!$H$18=0,INCO!AL45,IF(CONTROL!$H$18=1,INCO!AK45,IF(CONTROL!$H$18=2,INCO!AJ45,INCO!AI45)))","v":8.3333333333333329E-2},{"$f":"IF(CONTROL!$H$18=0,INCO!AM45,IF(CONTROL!$H$18=1,INCO!AL45,IF(CONTROL!$H$18=2,INCO!AK45,INCO!AJ45)))","v":8.3333333333333329E-2},{"$f":"IF(CONTROL!$H$18=0,INCO!AN45,IF(CONTROL!$H$18=1,INCO!AM45,IF(CONTROL!$H$18=2,INCO!AL45,INCO!AK45)))","v":8.3333333333333329E-2},{"$f":"IF(CONTROL!$H$18=0,INCO!AO45,IF(CONTROL!$H$18=1,INCO!AN45,IF(CONTROL!$H$18=2,INCO!AM45,INCO!AL45)))","v":8.3333333333333329E-2},{"$f":"IF(CONTROL!$H$18=0,INCO!AP45,IF(CONTROL!$H$18=1,INCO!AO45,IF(CONTROL!$H$18=2,INCO!AN45,INCO!AM45)))","v":8.3333333333333329E-2},{"$f":"IF(CONTROL!$H$18=0,INCO!AQ45,IF(CONTROL!$H$18=1,INCO!AP45,IF(CONTROL!$H$18=2,INCO!AO45,INCO!AN45)))","v":8.3333333333333329E-2},{"$f":"IF(CONTROL!$H$18=0,INCO!AR45,IF(CONTROL!$H$18=1,INCO!AQ45,IF(CONTROL!$H$18=2,INCO!AP45,INCO!AO45)))","v":8.3333333333333329E-2},{"$f":"IF(CONTROL!$H$18=0,INCO!AS45,IF(CONTROL!$H$18=1,INCO!AR45,IF(CONTROL!$H$18=2,INCO!AQ45,INCO!AP45)))","v":8.3333333333333329E-2},{"$f":"IF(CONTROL!$H$18=0,INCO!AT45,IF(CONTROL!$H$18=1,INCO!AS45,IF(CONTROL!$H$18=2,INCO!AR45,INCO!AQ45)))","v":8.3333333333333329E-2},{"$f":"IF(CONTROL!$H$18=0,INCO!AU45,IF(CONTROL!$H$18=1,INCO!AT45,IF(CONTROL!$H$18=2,INCO!AS45,INCO!AR45)))","v":8.3333333333333329E-2},{"$f":"IF(CONTROL!$H$18=0,INCO!AV45,IF(CONTROL!$H$18=1,INCO!AU45,IF(CONTROL!$H$18=2,INCO!AT45,INCO!AS45)))","v":8.3333333333333329E-2},{"$f":"IF(CONTROL!$H$18=0,INCO!AW45,IF(CONTROL!$H$18=1,INCO!AV45,IF(CONTROL!$H$18=2,INCO!AU45,INCO!AT45)))","v":8.3333333333333329E-2},{"$f":"IF(CONTROL!$H$18=0,INCO!AX45,IF(CONTROL!$H$18=1,INCO!AW45,IF(CONTROL!$H$18=2,INCO!AV45,INCO!AU45)))","v":8.3333333333333329E-2},{"$f":"IF(CONTROL!$H$18=0,INCO!AY45,IF(CONTROL!$H$18=1,INCO!AX45,IF(CONTROL!$H$18=2,INCO!AW45,INCO!AV45)))","v":8.3333333333333329E-2},{"$f":"IF(CONTROL!$H$18=0,INCO!AZ45,IF(CONTROL!$H$18=1,INCO!AY45,IF(CONTROL!$H$18=2,INCO!AX45,INCO!AW45)))","v":8.3333333333333329E-2},{"$f":"IF(CONTROL!$H$18=0,INCO!BA45,IF(CONTROL!$H$18=1,INCO!AZ45,IF(CONTROL!$H$18=2,INCO!AY45,INCO!AX45)))","v":8.3333333333333329E-2},{"$f":"IF(CONTROL!$H$18=0,INCO!BB45,IF(CONTROL!$H$18=1,INCO!BA45,IF(CONTROL!$H$18=2,INCO!AZ45,INCO!AY45)))","v":8.3333333333333329E-2},{"$f":"IF(CONTROL!$H$18=0,INCO!BC45,IF(CONTROL!$H$18=1,INCO!BB45,IF(CONTROL!$H$18=2,INCO!BA45,INCO!AZ45)))","v":8.3333333333333329E-2},{"$f":"IF(CONTROL!$H$18=0,INCO!BD45,IF(CONTROL!$H$18=1,INCO!BC45,IF(CONTROL!$H$18=2,INCO!BB45,INCO!BA45)))","v":8.3333333333333329E-2},{"$f":"IF(CONTROL!$H$18=0,INCO!BE45,IF(CONTROL!$H$18=1,INCO!BD45,IF(CONTROL!$H$18=2,INCO!BC45,INCO!BB45)))","v":8.3333333333333329E-2},{"$f":"IF(CONTROL!$H$18=0,INCO!BF45,IF(CONTROL!$H$18=1,INCO!BE45,IF(CONTROL!$H$18=2,INCO!BD45,INCO!BC45)))","v":8.3333333333333329E-2},{"$f":"IF(CONTROL!$H$18=0,INCO!BG45,IF(CONTROL!$H$18=1,INCO!BF45,IF(CONTROL!$H$18=2,INCO!BE45,INCO!BD45)))","v":8.3333333333333329E-2},{"$f":"IF(CONTROL!$H$18=0,INCO!BH45,IF(CONTROL!$H$18=1,INCO!BG45,IF(CONTROL!$H$18=2,INCO!BF45,INCO!BE45)))","v":8.3333333333333329E-2},{"$f":"IF(CONTROL!$H$18=0,INCO!BI45,IF(CONTROL!$H$18=1,INCO!BH45,IF(CONTROL!$H$18=2,INCO!BG45,INCO!BF45)))","v":8.3333333333333329E-2},{"$f":"IF(CONTROL!$H$18=0,INCO!BJ45,IF(CONTROL!$H$18=1,INCO!BI45,IF(CONTROL!$H$18=2,INCO!BH45,INCO!BG45)))","v":8.3333333333333329E-2},{"$f":"IF(CONTROL!$H$18=0,INCO!BK45,IF(CONTROL!$H$18=1,INCO!BJ45,IF(CONTROL!$H$18=2,INCO!BI45,INCO!BH45)))","v":8.3333333333333329E-2},{"$f":"IF(CONTROL!$H$18=0,INCO!BL45,IF(CONTROL!$H$18=1,INCO!BK45,IF(CONTROL!$H$18=2,INCO!BJ45,INCO!BI45)))","v":8.3333333333333329E-2},{"$f":"IF(CONTROL!$H$18=0,INCO!BM45,IF(CONTROL!$H$18=1,INCO!BL45,IF(CONTROL!$H$18=2,INCO!BK45,INCO!BJ45)))","v":8.3333333333333329E-2},{"$f":"IF(CONTROL!$H$18=0,INCO!BN45,IF(CONTROL!$H$18=1,INCO!BM45,IF(CONTROL!$H$18=2,INCO!BL45,INCO!BK45)))","v":8.3333333333333329E-2},{"$f":"IF(CONTROL!$H$18=0,INCO!BO45,IF(CONTROL!$H$18=1,INCO!BN45,IF(CONTROL!$H$18=2,INCO!BM45,INCO!BL45)))","v":8.3333333333333329E-2},{"$f":"IF(CONTROL!$H$18=0,INCO!BP45,IF(CONTROL!$H$18=1,INCO!BO45,IF(CONTROL!$H$18=2,INCO!BN45,INCO!BM45)))","v":8.3333333333333329E-2},{"$f":"IF(CONTROL!$H$18=0,INCO!BQ45,IF(CONTROL!$H$18=1,INCO!BP45,IF(CONTROL!$H$18=2,INCO!BO45,INCO!BN45)))","v":8.3333333333333329E-2},{"$f":"IF(CONTROL!$H$18=0,INCO!BR45,IF(CONTROL!$H$18=1,INCO!BQ45,IF(CONTROL!$H$18=2,INCO!BP45,INCO!BO45)))","v":8.3333333333333329E-2},{"$f":"IF(CONTROL!$H$18=0,INCO!BS45,IF(CONTROL!$H$18=1,INCO!BR45,IF(CONTROL!$H$18=2,INCO!BQ45,INCO!BP45)))","v":8.3333333333333329E-2},{"$f":"IF(CONTROL!$H$18=0,INCO!BT45,IF(CONTROL!$H$18=1,INCO!BS45,IF(CONTROL!$H$18=2,INCO!BR45,INCO!BQ45)))","v":8.3333333333333329E-2},{"$f":"IF(CONTROL!$H$18=0,INCO!BU45,IF(CONTROL!$H$18=1,INCO!BT45,IF(CONTROL!$H$18=2,INCO!BS45,INCO!BR45)))","v":8.3333333333333329E-2},{"$f":"IF(CONTROL!$H$18=0,INCO!BV45,IF(CONTROL!$H$18=1,INCO!BU45,IF(CONTROL!$H$18=2,INCO!BT45,INCO!BS45)))","v":8.3333333333333329E-2},{"$f":"IF(CONTROL!$H$18=0,INCO!BW45,IF(CONTROL!$H$18=1,INCO!BV45,IF(CONTROL!$H$18=2,INCO!BU45,INCO!BT45)))","v":8.3333333333333329E-2},{"$f":"IF(CONTROL!$H$18=0,INCO!BX45,IF(CONTROL!$H$18=1,INCO!BW45,IF(CONTROL!$H$18=2,INCO!BV45,INCO!BU45)))","v":8.3333333333333329E-2},{"$f":"IF(CONTROL!$H$18=0,INCO!BY45,IF(CONTROL!$H$18=1,INCO!BX45,IF(CONTROL!$H$18=2,INCO!BW45,INCO!BV45)))","v":8.3333333333333329E-2},{"$f":"IF(CONTROL!$H$18=0,INCO!BZ45,IF(CONTROL!$H$18=1,INCO!BY45,IF(CONTROL!$H$18=2,INCO!BX45,INCO!BW45)))","v":8.3333333333333329E-2},{"$f":"IF(CONTROL!$H$18=0,INCO!CA45,IF(CONTROL!$H$18=1,INCO!BZ45,IF(CONTROL!$H$18=2,INCO!BY45,INCO!BX45)))","v":8.3333333333333329E-2},{"$f":"IF(CONTROL!$H$18=0,INCO!CB45,IF(CONTROL!$H$18=1,INCO!CA45,IF(CONTROL!$H$18=2,INCO!BZ45,INCO!BY45)))","v":8.3333333333333329E-2},{"$f":"IF(CONTROL!$H$18=0,INCO!CC45,IF(CONTROL!$H$18=1,INCO!CB45,IF(CONTROL!$H$18=2,INCO!CA45,INCO!BZ45)))","v":8.3333333333333329E-2},{"$f":"IF(CONTROL!$H$18=0,INCO!CD45,IF(CONTROL!$H$18=1,INCO!CC45,IF(CONTROL!$H$18=2,INCO!CB45,INCO!CA45)))","v":8.3333333333333329E-2},{"$f":"IF(CONTROL!$H$18=0,INCO!CE45,IF(CONTROL!$H$18=1,INCO!CD45,IF(CONTROL!$H$18=2,INCO!CC45,INCO!CB45)))","v":8.3333333333333329E-2},{"$f":"IF(CONTROL!$H$18=0,INCO!CF45,IF(CONTROL!$H$18=1,INCO!CE45,IF(CONTROL!$H$18=2,INCO!CD45,INCO!CC45)))","v":8.3333333333333329E-2},{"$f":"IF(CONTROL!$H$18=0,INCO!CG45,IF(CONTROL!$H$18=1,INCO!CF45,IF(CONTROL!$H$18=2,INCO!CE45,INCO!CD45)))","v":8.3333333333333329E-2},{"$f":"IF(CONTROL!$H$18=0,INCO!CH45,IF(CONTROL!$H$18=1,INCO!CG45,IF(CONTROL!$H$18=2,INCO!CF45,INCO!CE45)))","v":8.3333333333333329E-2},{"$f":"IF(CONTROL!$H$18=0,INCO!CI45,IF(CONTROL!$H$18=1,INCO!CH45,IF(CONTROL!$H$18=2,INCO!CG45,INCO!CF45)))","v":8.3333333333333329E-2},{"$f":"IF(CONTROL!$H$18=0,INCO!CJ45,IF(CONTROL!$H$18=1,INCO!CI45,IF(CONTROL!$H$18=2,INCO!CH45,INCO!CG45)))","v":8.3333333333333329E-2},{"$f":"IF(CONTROL!$H$18=0,INCO!CK45,IF(CONTROL!$H$18=1,INCO!CJ45,IF(CONTROL!$H$18=2,INCO!CI45,INCO!CH45)))","v":8.3333333333333329E-2},{"$f":"IF(CONTROL!$H$18=0,INCO!CL45,IF(CONTROL!$H$18=1,INCO!CK45,IF(CONTROL!$H$18=2,INCO!CJ45,INCO!CI45)))","v":8.3333333333333329E-2},{"$f":"IF(CONTROL!$H$18=0,INCO!CM45,IF(CONTROL!$H$18=1,INCO!CL45,IF(CONTROL!$H$18=2,INCO!CK45,INCO!CJ45)))","v":8.3333333333333329E-2},{"$f":"IF(CONTROL!$H$18=0,INCO!CN45,IF(CONTROL!$H$18=1,INCO!CM45,IF(CONTROL!$H$18=2,INCO!CL45,INCO!CK45)))","v":8.3333333333333329E-2},{"$f":"IF(CONTROL!$H$18=0,INCO!CO45,IF(CONTROL!$H$18=1,INCO!CN45,IF(CONTROL!$H$18=2,INCO!CM45,INCO!CL45)))","v":8.3333333333333329E-2},{"$f":"IF(CONTROL!$H$18=0,INCO!CP45,IF(CONTROL!$H$18=1,INCO!CO45,IF(CONTROL!$H$18=2,INCO!CN45,INCO!CM45)))","v":8.3333333333333329E-2},{"$f":"IF(CONTROL!$H$18=0,INCO!CQ45,IF(CONTROL!$H$18=1,INCO!CP45,IF(CONTROL!$H$18=2,INCO!CO45,INCO!CN45)))","v":8.3333333333333329E-2},{"$f":"IF(CONTROL!$H$18=0,INCO!CR45,IF(CONTROL!$H$18=1,INCO!CQ45,IF(CONTROL!$H$18=2,INCO!CP45,INCO!CO45)))","v":8.3333333333333329E-2},{"$f":"IF(CONTROL!$H$18=0,INCO!CS45,IF(CONTROL!$H$18=1,INCO!CR45,IF(CONTROL!$H$18=2,INCO!CQ45,INCO!CP45)))","v":8.3333333333333329E-2}]
[null,"Pagos Operativos",{"$f":"SUM(C7:C11)","v":0},{"$f":"SUM(D7:D11)","v":0},0,0,0,0,0,0,null,{"$f":"SUM(L7:L11)","v":0},0,0,0,0,0,0,0,0,0,0,0,0,0,0,0,0,0,0,0,0,0,0,0,0,0,0,0,0,0,0,0,{"$f":"SUM(AR7:AR11)","v":0},0,0,0,0,0,0,0,0,0,0,0,0,0,0,0,0,0,0,0,0,0,0,0,0,0,0,0,0,0,0,0,{"$f":"SUM(BX7:BX11)","v":0},0,0,0,0,0,0,0,0,0,0,0,0,0,0,0,0,0,0,0,0,0,0,0,0,0,0,0,0,0,0,0]
[null,"Materiales",{"$f":"W7","v":0},{"$f":"SUMIF($X$2:$DC$2,D$3,$X7:$DC7)","v":0},0,0,0,0,0,0,null,null,null,null,null,null,null,null,null,null,null,null,{"$f":"IF(CONTROL!$H$16=0,INCO!M114,0)","v":0},{"$f":"IF(CONTROL!$H$16=0,INCO!N114,IF(CONTROL!$H$16=1,INCO!M114,0))","v":0},{"$f":"IF(CONTROL!$H$16=0,INCO!O114,IF(CONTROL!$H$16=1,INCO!N114,IF(CONTROL!$H$16=2,INCO!M114,0)))","v":0},{"$f":"IF(CONTROL!$H$16=0,INCO!P114,IF(CONTROL!$H$16=1,INCO!O114,IF(CONTROL!$H$16=2,INCO!N114,INCO!M114)))","v":0},{"$f":"IF(CONTROL!$H$16=0,INCO!Q114,IF(CONTROL!$H$16=1,INCO!P114,IF(CONTROL!$H$16=2,INCO!O114,INCO!N114)))","v":0},{"$f":"IF(CONTROL!$H$16=0,INCO!R114,IF(CONTROL!$H$16=1,INCO!Q114,IF(CONTROL!$H$16=2,INCO!P114,INCO!O114)))","v":0},{"$f":"IF(CONTROL!$H$16=0,INCO!S114,IF(CONTROL!$H$16=1,INCO!R114,IF(CONTROL!$H$16=2,INCO!Q114,INCO!P114)))","v":0},{"$f":"IF(CONTROL!$H$16=0,INCO!T114,IF(CONTROL!$H$16=1,INCO!S114,IF(CONTROL!$H$16=2,INCO!R114,INCO!Q114)))","v":0},{"$f":"IF(CONTROL!$H$16=0,INCO!U114,IF(CONTROL!$H$16=1,INCO!T114,IF(CONTROL!$H$16=2,INCO!S114,INCO!R114)))","v":0},{"$f":"IF(CONTROL!$H$16=0,INCO!V114,IF(CONTROL!$H$16=1,INCO!U114,IF(CONTROL!$H$16=2,INCO!T114,INCO!S114)))","v":0},{"$f":"IF(CONTROL!$H$16=0,INCO!W114,IF(CONTROL!$H$16=1,INCO!V114,IF(CONTROL!$H$16=2,INCO!U114,INCO!T114)))","v":0},{"$f":"IF(CONTROL!$H$16=0,INCO!X114,IF(CONTROL!$H$16=1,INCO!W114,IF(CONTROL!$H$16=2,INCO!V114,INCO!U114)))","v":0},{"$f":"IF(CONTROL!$H$16=0,INCO!Y114,IF(CONTROL!$H$16=1,INCO!X114,IF(CONTROL!$H$16=2,INCO!W114,INCO!V114)))","v":0},{"$f":"IF(CONTROL!$H$16=0,INCO!Z114,IF(CONTROL!$H$16=1,INCO!Y114,IF(CONTROL!$H$16=2,INCO!X114,INCO!W114)))","v":0},{"$f":"IF(CONTROL!$H$16=0,INCO!AA114,IF(CONTROL!$H$16=1,INCO!Z114,IF(CONTROL!$H$16=2,INCO!Y114,INCO!X114)))","v":0},{"$f":"IF(CONTROL!$H$16=0,INCO!AB114,IF(CONTROL!$H$16=1,INCO!AA114,IF(CONTROL!$H$16=2,INCO!Z114,INCO!Y114)))","v":0},{"$f":"IF(CONTROL!$H$16=0,INCO!AC114,IF(CONTROL!$H$16=1,INCO!AB114,IF(CONTROL!$H$16=2,INCO!AA114,INCO!Z114)))","v":0},{"$f":"IF(CONTROL!$H$16=0,INCO!AD114,IF(CONTROL!$H$16=1,INCO!AC114,IF(CONTROL!$H$16=2,INCO!AB114,INCO!AA114)))","v":0},{"$f":"IF(CONTROL!$H$16=0,INCO!AE114,IF(CONTROL!$H$16=1,INCO!AD114,IF(CONTROL!$H$16=2,INCO!AC114,INCO!AB114)))","v":0},{"$f":"IF(CONTROL!$H$16=0,INCO!AF114,IF(CONTROL!$H$16=1,INCO!AE114,IF(CONTROL!$H$16=2,INCO!AD114,INCO!AC114)))","v":0},{"$f":"IF(CONTROL!$H$16=0,INCO!AG114,IF(CONTROL!$H$16=1,INCO!AF114,IF(CONTROL!$H$16=2,INCO!AE114,INCO!AD114)))","v":0},{"$f":"IF(CONTROL!$H$16=0,INCO!AH114,IF(CONTROL!$H$16=1,INCO!AG114,IF(CONTROL!$H$16=2,INCO!AF114,INCO!AE114)))","v":0},{"$f":"IF(CONTROL!$H$16=0,INCO!AI114,IF(CONTROL!$H$16=1,INCO!AH114,IF(CONTROL!$H$16=2,INCO!AG114,INCO!AF114)))","v":0},{"$f":"IF(CONTROL!$H$16=0,INCO!AJ114,IF(CONTROL!$H$16=1,INCO!AI114,IF(CONTROL!$H$16=2,INCO!AH114,INCO!AG114)))","v":0},{"$f":"IF(CONTROL!$H$16=0,INCO!AK114,IF(CONTROL!$H$16=1,INCO!AJ114,IF(CONTROL!$H$16=2,INCO!AI114,INCO!AH114)))","v":0},{"$f":"IF(CONTROL!$H$16=0,INCO!AL114,IF(CONTROL!$H$16=1,INCO!AK114,IF(CONTROL!$H$16=2,INCO!AJ114,INCO!AI114)))","v":0},{"$f":"IF(CONTROL!$H$16=0,INCO!AM114,IF(CONTROL!$H$16=1,INCO!AL114,IF(CONTROL!$H$16=2,INCO!AK114,INCO!AJ114)))","v":0},{"$f":"IF(CONTROL!$H$16=0,INCO!AN114,IF(CONTROL!$H$16=1,INCO!AM114,IF(CONTROL!$H$16=2,INCO!AL114,INCO!AK114)))","v":0},{"$f":"IF(CONTROL!$H$16=0,INCO!AO114,IF(CONTROL!$H$16=1,INCO!AN114,IF(CONTROL!$H$16=2,INCO!AM114,INCO!AL114)))","v":0},{"$f":"IF(CONTROL!$H$16=0,INCO!AP114,IF(CONTROL!$H$16=1,INCO!AO114,IF(CONTROL!$H$16=2,INCO!AN114,INCO!AM114)))","v":0},{"$f":"IF(CONTROL!$H$16=0,INCO!AQ114,IF(CONTROL!$H$16=1,INCO!AP114,IF(CONTROL!$H$16=2,INCO!AO114,INCO!AN114)))","v":0},{"$f":"IF(CONTROL!$H$16=0,INCO!AR114,IF(CONTROL!$H$16=1,INCO!AQ114,IF(CONTROL!$H$16=2,INCO!AP114,INCO!AO114)))","v":0},{"$f":"IF(CONTROL!$H$16=0,INCO!AS114,IF(CONTROL!$H$16=1,INCO!AR114,IF(CONTROL!$H$16=2,INCO!AQ114,INCO!AP114)))","v":0},{"$f":"IF(CONTROL!$H$16=0,INCO!AT114,IF(CONTROL!$H$16=1,INCO!AS114,IF(CONTROL!$H$16=2,INCO!AR114,INCO!AQ114)))","v":0},{"$f":"IF(CONTROL!$H$16=0,INCO!AU114,IF(CONTROL!$H$16=1,INCO!AT114,IF(CONTROL!$H$16=2,INCO!AS114,INCO!AR114)))","v":0},{"$f":"IF(CONTROL!$H$16=0,INCO!AV114,IF(CONTROL!$H$16=1,INCO!AU114,IF(CONTROL!$H$16=2,INCO!AT114,INCO!AS114)))","v":0},{"$f":"IF(CONTROL!$H$16=0,INCO!AW114,IF(CONTROL!$H$16=1,INCO!AV114,IF(CONTROL!$H$16=2,INCO!AU114,INCO!AT114)))","v":0},{"$f":"IF(CONTROL!$H$16=0,INCO!AX114,IF(CONTROL!$H$16=1,INCO!AW114,IF(CONTROL!$H$16=2,INCO!AV114,INCO!AU114)))","v":0},{"$f":"IF(CONTROL!$H$16=0,INCO!AY114,IF(CONTROL!$H$16=1,INCO!AX114,IF(CONTROL!$H$16=2,INCO!AW114,INCO!AV114)))","v":0},{"$f":"IF(CONTROL!$H$16=0,INCO!AZ114,IF(CONTROL!$H$16=1,INCO!AY114,IF(CONTROL!$H$16=2,INCO!AX114,INCO!AW114)))","v":0},{"$f":"IF(CONTROL!$H$16=0,INCO!BA114,IF(CONTROL!$H$16=1,INCO!AZ114,IF(CONTROL!$H$16=2,INCO!AY114,INCO!AX114)))","v":0},{"$f":"IF(CONTROL!$H$16=0,INCO!BB114,IF(CONTROL!$H$16=1,INCO!BA114,IF(CONTROL!$H$16=2,INCO!AZ114,INCO!AY114)))","v":0},{"$f":"IF(CONTROL!$H$16=0,INCO!BC114,IF(CONTROL!$H$16=1,INCO!BB114,IF(CONTROL!$H$16=2,INCO!BA114,INCO!AZ114)))","v":0},{"$f":"IF(CONTROL!$H$16=0,INCO!BD114,IF(CONTROL!$H$16=1,INCO!BC114,IF(CONTROL!$H$16=2,INCO!BB114,INCO!BA114)))","v":0},{"$f":"IF(CONTROL!$H$16=0,INCO!BE114,IF(CONTROL!$H$16=1,INCO!BD114,IF(CONTROL!$H$16=2,INCO!BC114,INCO!BB114)))","v":0},{"$f":"IF(CONTROL!$H$16=0,INCO!BF114,IF(CONTROL!$H$16=1,INCO!BE114,IF(CONTROL!$H$16=2,INCO!BD114,INCO!BC114)))","v":0},{"$f":"IF(CONTROL!$H$16=0,INCO!BG114,IF(CONTROL!$H$16=1,INCO!BF114,IF(CONTROL!$H$16=2,INCO!BE114,INCO!BD114)))","v":0},{"$f":"IF(CONTROL!$H$16=0,INCO!BH114,IF(CONTROL!$H$16=1,INCO!BG114,IF(CONTROL!$H$16=2,INCO!BF114,INCO!BE114)))","v":0},{"$f":"IF(CONTROL!$H$16=0,INCO!BI114,IF(CONTROL!$H$16=1,INCO!BH114,IF(CONTROL!$H$16=2,INCO!BG114,INCO!BF114)))","v":0},{"$f":"IF(CONTROL!$H$16=0,INCO!BJ114,IF(CONTROL!$H$16=1,INCO!BI114,IF(CONTROL!$H$16=2,INCO!BH114,INCO!BG114)))","v":0},{"$f":"IF(CONTROL!$H$16=0,INCO!BK114,IF(CONTROL!$H$16=1,INCO!BJ114,IF(CONTROL!$H$16=2,INCO!BI114,INCO!BH114)))","v":0},{"$f":"IF(CONTROL!$H$16=0,INCO!BL114,IF(CONTROL!$H$16=1,INCO!BK114,IF(CONTROL!$H$16=2,INCO!BJ114,INCO!BI114)))","v":0},{"$f":"IF(CONTROL!$H$16=0,INCO!BM114,IF(CONTROL!$H$16=1,INCO!BL114,IF(CONTROL!$H$16=2,INCO!BK114,INCO!BJ114)))","v":0},{"$f":"IF(CONTROL!$H$16=0,INCO!BN114,IF(CONTROL!$H$16=1,INCO!BM114,IF(CONTROL!$H$16=2,INCO!BL114,INCO!BK114)))","v":0},{"$f":"IF(CONTROL!$H$16=0,INCO!BO114,IF(CONTROL!$H$16=1,INCO!BN114,IF(CONTROL!$H$16=2,INCO!BM114,INCO!BL114)))","v":0},{"$f":"IF(CONTROL!$H$16=0,INCO!BP114,IF(CONTROL!$H$16=1,INCO!BO114,IF(CONTROL!$H$16=2,INCO!BN114,INCO!BM114)))","v":0},{"$f":"IF(CONTROL!$H$16=0,INCO!BQ114,IF(CONTROL!$H$16=1,INCO!BP114,IF(CONTROL!$H$16=2,INCO!BO114,INCO!BN114)))","v":0},{"$f":"IF(CONTROL!$H$16=0,INCO!BR114,IF(CONTROL!$H$16=1,INCO!BQ114,IF(CONTROL!$H$16=2,INCO!BP114,INCO!BO114)))","v":0},{"$f":"IF(CONTROL!$H$16=0,INCO!BS114,IF(CONTROL!$H$16=1,INCO!BR114,IF(CONTROL!$H$16=2,INCO!BQ114,INCO!BP114)))","v":0},{"$f":"IF(CONTROL!$H$16=0,INCO!BT114,IF(CONTROL!$H$16=1,INCO!BS114,IF(CONTROL!$H$16=2,INCO!BR114,INCO!BQ114)))","v":0},{"$f":"IF(CONTROL!$H$16=0,INCO!BU114,IF(CONTROL!$H$16=1,INCO!BT114,IF(CONTROL!$H$16=2,INCO!BS114,INCO!BR114)))","v":0},{"$f":"IF(CONTROL!$H$16=0,INCO!BV114,IF(CONTROL!$H$16=1,INCO!BU114,IF(CONTROL!$H$16=2,INCO!BT114,INCO!BS114)))","v":0},{"$f":"IF(CONTROL!$H$16=0,INCO!BW114,IF(CONTROL!$H$16=1,INCO!BV114,IF(CONTROL!$H$16=2,INCO!BU114,INCO!BT114)))","v":0},{"$f":"IF(CONTROL!$H$16=0,INCO!BX114,IF(CONTROL!$H$16=1,INCO!BW114,IF(CONTROL!$H$16=2,INCO!BV114,INCO!BU114)))","v":0},{"$f":"IF(CONTROL!$H$16=0,INCO!BY114,IF(CONTROL!$H$16=1,INCO!BX114,IF(CONTROL!$H$16=2,INCO!BW114,INCO!BV114)))","v":0},{"$f":"IF(CONTROL!$H$16=0,INCO!BZ114,IF(CONTROL!$H$16=1,INCO!BY114,IF(CONTROL!$H$16=2,INCO!BX114,INCO!BW114)))","v":0},{"$f":"IF(CONTROL!$H$16=0,INCO!CA114,IF(CONTROL!$H$16=1,INCO!BZ114,IF(CONTROL!$H$16=2,INCO!BY114,INCO!BX114)))","v":0},{"$f":"IF(CONTROL!$H$16=0,INCO!CB114,IF(CONTROL!$H$16=1,INCO!CA114,IF(CONTROL!$H$16=2,INCO!BZ114,INCO!BY114)))","v":0},{"$f":"IF(CONTROL!$H$16=0,INCO!CC114,IF(CONTROL!$H$16=1,INCO!CB114,IF(CONTROL!$H$16=2,INCO!CA114,INCO!BZ114)))","v":0},{"$f":"IF(CONTROL!$H$16=0,INCO!CD114,IF(CONTROL!$H$16=1,INCO!CC114,IF(CONTROL!$H$16=2,INCO!CB114,INCO!CA114)))","v":0},{"$f":"IF(CONTROL!$H$16=0,INCO!CE114,IF(CONTROL!$H$16=1,INCO!CD114,IF(CONTROL!$H$16=2,INCO!CC114,INCO!CB114)))","v":0},{"$f":"IF(CONTROL!$H$16=0,INCO!CF114,IF(CONTROL!$H$16=1,INCO!CE114,IF(CONTROL!$H$16=2,INCO!CD114,INCO!CC114)))","v":0},{"$f":"IF(CONTROL!$H$16=0,INCO!CG114,IF(CONTROL!$H$16=1,INCO!CF114,IF(CONTROL!$H$16=2,INCO!CE114,INCO!CD114)))","v":0},{"$f":"IF(CONTROL!$H$16=0,INCO!CH114,IF(CONTROL!$H$16=1,INCO!CG114,IF(CONTROL!$H$16=2,INCO!CF114,INCO!CE114)))","v":0},{"$f":"IF(CONTROL!$H$16=0,INCO!CI114,IF(CONTROL!$H$16=1,INCO!CH114,IF(CONTROL!$H$16=2,INCO!CG114,INCO!CF114)))","v":0},{"$f":"IF(CONTROL!$H$16=0,INCO!CJ114,IF(CONTROL!$H$16=1,INCO!CI114,IF(CONTROL!$H$16=2,INCO!CH114,INCO!CG114)))","v":0},{"$f":"IF(CONTROL!$H$16=0,INCO!CK114,IF(CONTROL!$H$16=1,INCO!CJ114,IF(CONTROL!$H$16=2,INCO!CI114,INCO!CH114)))","v":0},{"$f":"IF(CONTROL!$H$16=0,INCO!CL114,IF(CONTROL!$H$16=1,INCO!CK114,IF(CONTROL!$H$16=2,INCO!CJ114,INCO!CI114)))","v":0},{"$f":"IF(CONTROL!$H$16=0,INCO!CM114,IF(CONTROL!$H$16=1,INCO!CL114,IF(CONTROL!$H$16=2,INCO!CK114,INCO!CJ114)))","v":0},{"$f":"IF(CONTROL!$H$16=0,INCO!CN114,IF(CONTROL!$H$16=1,INCO!CM114,IF(CONTROL!$H$16=2,INCO!CL114,INCO!CK114)))","v":0},{"$f":"IF(CONTROL!$H$16=0,INCO!CO114,IF(CONTROL!$H$16=1,INCO!CN114,IF(CONTROL!$H$16=2,INCO!CM114,INCO!CL114)))","v":0},{"$f":"IF(CONTROL!$H$16=0,INCO!CP114,IF(CONTROL!$H$16=1,INCO!CO114,IF(CONTROL!$H$16=2,INCO!CN114,INCO!CM114)))","v":0},{"$f":"IF(CONTROL!$H$16=0,INCO!CQ114,IF(CONTROL!$H$16=1,INCO!CP114,IF(CONTROL!$H$16=2,INCO!CO114,INCO!CN114)))","v":0},{"$f":"IF(CONTROL!$H$16=0,INCO!CR114,IF(CONTROL!$H$16=1,INCO!CQ114,IF(CONTROL!$H$16=2,INCO!CP114,INCO!CO114)))","v":0},{"$f":"IF(CONTROL!$H$16=0,INCO!CS114,IF(CONTROL!$H$16=1,INCO!CR114,IF(CONTROL!$H$16=2,INCO!CQ114,INCO!CP114)))","v":0}]
[null,"Otros de Explotación y Comercialización",null,0,0,0,0,0,0,0,null,null,null,null,null,null,null,null,null,null,null,null,null,{"$f":"IF(CONTROL!$H$17=0,INCO!N112,0)","v":0},{"$f":"IF(CONTROL!$H$17=0,INCO!O112,IF(CONTROL!$H$17=1,INCO!N112,0))","v":0},{"$f":"IF(CONTROL!$H$17=0,INCO!P112,IF(CONTROL!$H$17=1,INCO!O112,IF(CONTROL!$H$17=2,INCO!N112,0)))","v":0},{"$f":"IF(CONTROL!$H$17=0,INCO!Q112,IF(CONTROL!$H$17=1,INCO!P112,IF(CONTROL!$H$17=2,INCO!O112,INCO!N112)))","v":0},{"$f":"IF(CONTROL!$H$17=0,INCO!R112,IF(CONTROL!$H$17=1,INCO!Q112,IF(CONTROL!$H$17=2,INCO!P112,INCO!O112)))","v":0},{"$f":"IF(CONTROL!$H$17=0,INCO!S112,IF(CONTROL!$H$17=1,INCO!R112,IF(CONTROL!$H$17=2,INCO!Q112,INCO!P112)))","v":0},{"$f":"IF(CONTROL!$H$17=0,INCO!T112,IF(CONTROL!$H$17=1,INCO!S112,IF(CONTROL!$H$17=2,INCO!R112,INCO!Q112)))","v":0},{"$f":"IF(CONTROL!$H$17=0,INCO!U112,IF(CONTROL!$H$17=1,INCO!T112,IF(CONTROL!$H$17=2,INCO!S112,INCO!R112)))","v":0},{"$f":"IF(CONTROL!$H$17=0,INCO!V112,IF(CONTROL!$H$17=1,INCO!U112,IF(CONTROL!$H$17=2,INCO!T112,INCO!S112)))","v":0},{"$f":"IF(CONTROL!$H$17=0,INCO!W112,IF(CONTROL!$H$17=1,INCO!V112,IF(CONTROL!$H$17=2,INCO!U112,INCO!T112)))","v":0},{"$f":"IF(CONTROL!$H$17=0,INCO!X112,IF(CONTROL!$H$17=1,INCO!W112,IF(CONTROL!$H$17=2,INCO!V112,INCO!U112)))","v":0},{"$f":"IF(CONTROL!$H$17=0,INCO!Y112,IF(CONTROL!$H$17=1,INCO!X112,IF(CONTROL!$H$17=2,INCO!W112,INCO!V112)))","v":0},{"$f":"IF(CONTROL!$H$17=0,INCO!Z112,IF(CONTROL!$H$17=1,INCO!Y112,IF(CONTROL!$H$17=2,INCO!X112,INCO!W112)))","v":0},{"$f":"IF(CONTROL!$H$17=0,INCO!AA112,IF(CONTROL!$H$17=1,INCO!Z112,IF(CONTROL!$H$17=2,INCO!Y112,INCO!X112)))","v":0},{"$f":"IF(CONTROL!$H$17=0,INCO!AB112,IF(CONTROL!$H$17=1,INCO!AA112,IF(CONTROL!$H$17=2,INCO!Z112,INCO!Y112)))","v":0},{"$f":"IF(CONTROL!$H$17=0,INCO!AC112,IF(CONTROL!$H$17=1,INCO!AB112,IF(CONTROL!$H$17=2,INCO!AA112,INCO!Z112)))","v":0},{"$f":"IF(CONTROL!$H$17=0,INCO!AD112,IF(CONTROL!$H$17=1,INCO!AC112,IF(CONTROL!$H$17=2,INCO!AB112,INCO!AA112)))","v":0},{"$f":"IF(CONTROL!$H$17=0,INCO!AE112,IF(CONTROL!$H$17=1,INCO!AD112,IF(CONTROL!$H$17=2,INCO!AC112,INCO!AB112)))","v":0},{"$f":"IF(CONTROL!$H$17=0,INCO!AF112,IF(CONTROL!$H$17=1,INCO!AE112,IF(CONTROL!$H$17=2,INCO!AD112,INCO!AC112)))","v":0},{"$f":"IF(CONTROL!$H$17=0,INCO!AG112,IF(CONTROL!$H$17=1,INCO!AF112,IF(CONTROL!$H$17=2,INCO!AE112,INCO!AD112)))","v":0},{"$f":"IF(CONTROL!$H$17=0,INCO!AH112,IF(CONTROL!$H$17=1,INCO!AG112,IF(CONTROL!$H$17=2,INCO!AF112,INCO!AE112)))","v":0},{"$f":"IF(CONTROL!$H$17=0,INCO!AI112,IF(CONTROL!$H$17=1,INCO!AH112,IF(CONTROL!$H$17=2,INCO!AG112,INCO!AF112)))","v":0},{"$f":"IF(CONTROL!$H$17=0,INCO!AJ112,IF(CONTROL!$H$17=1,INCO!AI112,IF(CONTROL!$H$17=2,INCO!AH112,INCO!AG112)))","v":0},{"$f":"IF(CONTROL!$H$17=0,INCO!AK112,IF(CONTROL!$H$17=1,INCO!AJ112,IF(CONTROL!$H$17=2,INCO!AI112,INCO!AH112)))","v":0},{"$f":"IF(CONTROL!$H$17=0,INCO!AL112,IF(CONTROL!$H$17=1,INCO!AK112,IF(CONTROL!$H$17=2,INCO!AJ112,INCO!AI112)))","v":0},{"$f":"IF(CONTROL!$H$17=0,INCO!AM112,IF(CONTROL!$H$17=1,INCO!AL112,IF(CONTROL!$H$17=2,INCO!AK112,INCO!AJ112)))","v":0},{"$f":"IF(CONTROL!$H$17=0,INCO!AN112,IF(CONTROL!$H$17=1,INCO!AM112,IF(CONTROL!$H$17=2,INCO!AL112,INCO!AK112)))","v":0},{"$f":"IF(CONTROL!$H$17=0,INCO!AO112,IF(CONTROL!$H$17=1,INCO!AN112,IF(CONTROL!$H$17=2,INCO!AM112,INCO!AL112)))","v":0},{"$f":"IF(CONTROL!$H$17=0,INCO!AP112,IF(CONTROL!$H$17=1,INCO!AO112,IF(CONTROL!$H$17=2,INCO!AN112,INCO!AM112)))","v":0},{"$f":"IF(CONTROL!$H$17=0,INCO!AQ112,IF(CONTROL!$H$17=1,INCO!AP112,IF(CONTROL!$H$17=2,INCO!AO112,INCO!AN112)))","v":0},{"$f":"IF(CONTROL!$H$17=0,INCO!AR112,IF(CONTROL!$H$17=1,INCO!AQ112,IF(CONTROL!$H$17=2,INCO!AP112,INCO!AO112)))","v":0},{"$f":"IF(CONTROL!$H$17=0,INCO!AS112,IF(CONTROL!$H$17=1,INCO!AR112,IF(CONTROL!$H$17=2,INCO!AQ112,INCO!AP112)))","v":0},{"$f":"IF(CONTROL!$H$17=0,INCO!AT112,IF(CONTROL!$H$17=1,INCO!AS112,IF(CONTROL!$H$17=2,INCO!AR112,INCO!AQ112)))","v":0},{"$f":"IF(CONTROL!$H$17=0,INCO!AU112,IF(CONTROL!$H$17=1,INCO!AT112,IF(CONTROL!$H$17=2,INCO!AS112,INCO!AR112)))","v":0},{"$f":"IF(CONTROL!$H$17=0,INCO!AV112,IF(CONTROL!$H$17=1,INCO!AU112,IF(CONTROL!$H$17=2,INCO!AT112,INCO!AS112)))","v":0},{"$f":"IF(CONTROL!$H$17=0,INCO!AW112,IF(CONTROL!$H$17=1,INCO!AV112,IF(CONTROL!$H$17=2,INCO!AU112,INCO!AT112)))","v":0},{"$f":"IF(CONTROL!$H$17=0,INCO!AX112,IF(CONTROL!$H$17=1,INCO!AW112,IF(CONTROL!$H$17=2,INCO!AV112,INCO!AU112)))","v":0},{"$f":"IF(CONTROL!$H$17=0,INCO!AY112,IF(CONTROL!$H$17=1,INCO!AX112,IF(CONTROL!$H$17=2,INCO!AW112,INCO!AV112)))","v":0},{"$f":"IF(CONTROL!$H$17=0,INCO!AZ112,IF(CONTROL!$H$17=1,INCO!AY112,IF(CONTROL!$H$17=2,INCO!AX112,INCO!AW112)))","v":0},{"$f":"IF(CONTROL!$H$17=0,INCO!BA112,IF(CONTROL!$H$17=1,INCO!AZ112,IF(CONTROL!$H$17=2,INCO!AY112,INCO!AX112)))","v":0},{"$f":"IF(CONTROL!$H$17=0,INCO!BB112,IF(CONTROL!$H$17=1,INCO!BA112,IF(CONTROL!$H$17=2,INCO!AZ112,INCO!AY112)))","v":0},{"$f":"IF(CONTROL!$H$17=0,INCO!BC112,IF(CONTROL!$H$17=1,INCO!BB112,IF(CONTROL!$H$17=2,INCO!BA112,INCO!AZ112)))","v":0},{"$f":"IF(CONTROL!$H$17=0,INCO!BD112,IF(CONTROL!$H$17=1,INCO!BC112,IF(CONTROL!$H$17=2,INCO!BB112,INCO!BA112)))","v":0},{"$f":"IF(CONTROL!$H$17=0,INCO!BE112,IF(CONTROL!$H$17=1,INCO!BD112,IF(CONTROL!$H$17=2,INCO!BC112,INCO!BB112)))","v":0},{"$f":"IF(CONTROL!$H$17=0,INCO!BF112,IF(CONTROL!$H$17=1,INCO!BE112,IF(CONTROL!$H$17=2,INCO!BD112,INCO!BC112)))","v":0},{"$f":"IF(CONTROL!$H$17=0,INCO!BG112,IF(CONTROL!$H$17=1,INCO!BF112,IF(CONTROL!$H$17=2,INCO!BE112,INCO!BD112)))","v":0},{"$f":"IF(CONTROL!$H$17=0,INCO!BH112,IF(CONTROL!$H$17=1,INCO!BG112,IF(CONTROL!$H$17=2,INCO!BF112,INCO!BE112)))","v":0},{"$f":"IF(CONTROL!$H$17=0,INCO!BI112,IF(CONTROL!$H$17=1,INCO!BH112,IF(CONTROL!$H$17=2,INCO!BG112,INCO!BF112)))","v":0},{"$f":"IF(CONTROL!$H$17=0,INCO!BJ112,IF(CONTROL!$H$17=1,INCO!BI112,IF(CONTROL!$H$17=2,INCO!BH112,INCO!BG112)))","v":0},{"$f":"IF(CONTROL!$H$17=0,INCO!BK112,IF(CONTROL!$H$17=1,INCO!BJ112,IF(CONTROL!$H$17=2,INCO!BI112,INCO!BH112)))","v":0},{"$f":"IF(CONTROL!$H$17=0,INCO!BL112,IF(CONTROL!$H$17=1,INCO!BK112,IF(CONTROL!$H$17=2,INCO!BJ112,INCO!BI112)))","v":0},{"$f":"IF(CONTROL!$H$17=0,INCO!BM112,IF(CONTROL!$H$17=1,INCO!BL112,IF(CONTROL!$H$17=2,INCO!BK112,INCO!BJ112)))","v":0},{"$f":"IF(CONTROL!$H$17=0,INCO!BN112,IF(CONTROL!$H$17=1,INCO!BM112,IF(CONTROL!$H$17=2,INCO!BL112,INCO!BK112)))","v":0},{"$f":"IF(CONTROL!$H$17=0,INCO!BO112,IF(CONTROL!$H$17=1,INCO!BN112,IF(CONTROL!$H$17=2,INCO!BM112,INCO!BL112)))","v":0},{"$f":"IF(CONTROL!$H$17=0,INCO!BP112,IF(CONTROL!$H$17=1,INCO!BO112,IF(CONTROL!$H$17=2,INCO!BN112,INCO!BM112)))","v":0},{"$f":"IF(CONTROL!$H$17=0,INCO!BQ112,IF(CONTROL!$H$17=1,INCO!BP112,IF(CONTROL!$H$17=2,INCO!BO112,INCO!BN112)))","v":0},{"$f":"IF(CONTROL!$H$17=0,INCO!BR112,IF(CONTROL!$H$17=1,INCO!BQ112,IF(CONTROL!$H$17=2,INCO!BP112,INCO!BO112)))","v":0},{"$f":"IF(CONTROL!$H$17=0,INCO!BS112,IF(CONTROL!$H$17=1,INCO!BR112,IF(CONTROL!$H$17=2,INCO!BQ112,INCO!BP112)))","v":0},{"$f":"IF(CONTROL!$H$17=0,INCO!BT112,IF(CONTROL!$H$17=1,INCO!BS112,IF(CONTROL!$H$17=2,INCO!BR112,INCO!BQ112)))","v":0},{"$f":"IF(CONTROL!$H$17=0,INCO!BU112,IF(CONTROL!$H$17=1,INCO!BT112,IF(CONTROL!$H$17=2,INCO!BS112,INCO!BR112)))","v":0},{"$f":"IF(CONTROL!$H$17=0,INCO!BV112,IF(CONTROL!$H$17=1,INCO!BU112,IF(CONTROL!$H$17=2,INCO!BT112,INCO!BS112)))","v":0},{"$f":"IF(CONTROL!$H$17=0,INCO!BW112,IF(CONTROL!$H$17=1,INCO!BV112,IF(CONTROL!$H$17=2,INCO!BU112,INCO!BT112)))","v":0},{"$f":"IF(CONTROL!$H$17=0,INCO!BX112,IF(CONTROL!$H$17=1,INCO!BW112,IF(CONTROL!$H$17=2,INCO!BV112,INCO!BU112)))","v":0},{"$f":"IF(CONTROL!$H$17=0,INCO!BY112,IF(CONTROL!$H$17=1,INCO!BX112,IF(CONTROL!$H$17=2,INCO!BW112,INCO!BV112)))","v":0},{"$f":"IF(CONTROL!$H$17=0,INCO!BZ112,IF(CONTROL!$H$17=1,INCO!BY112,IF(CONTROL!$H$17=2,INCO!BX112,INCO!BW112)))","v":0},{"$f":"IF(CONTROL!$H$17=0,INCO!CA112,IF(CONTROL!$H$17=1,INCO!BZ112,IF(CONTROL!$H$17=2,INCO!BY112,INCO!BX112)))","v":0},{"$f":"IF(CONTROL!$H$17=0,INCO!CB112,IF(CONTROL!$H$17=1,INCO!CA112,IF(CONTROL!$H$17=2,INCO!BZ112,INCO!BY112)))","v":0},{"$f":"IF(CONTROL!$H$17=0,INCO!CC112,IF(CONTROL!$H$17=1,INCO!CB112,IF(CONTROL!$H$17=2,INCO!CA112,INCO!BZ112)))","v":0},{"$f":"IF(CONTROL!$H$17=0,INCO!CD112,IF(CONTROL!$H$17=1,INCO!CC112,IF(CONTROL!$H$17=2,INCO!CB112,INCO!CA112)))","v":0},{"$f":"IF(CONTROL!$H$17=0,INCO!CE112,IF(CONTROL!$H$17=1,INCO!CD112,IF(CONTROL!$H$17=2,INCO!CC112,INCO!CB112)))","v":0},{"$f":"IF(CONTROL!$H$17=0,INCO!CF112,IF(CONTROL!$H$17=1,INCO!CE112,IF(CONTROL!$H$17=2,INCO!CD112,INCO!CC112)))","v":0},{"$f":"IF(CONTROL!$H$17=0,INCO!CG112,IF(CONTROL!$H$17=1,INCO!CF112,IF(CONTROL!$H$17=2,INCO!CE112,INCO!CD112)))","v":0},{"$f":"IF(CONTROL!$H$17=0,INCO!CH112,IF(CONTROL!$H$17=1,INCO!CG112,IF(CONTROL!$H$17=2,INCO!CF112,INCO!CE112)))","v":0},{"$f":"IF(CONTROL!$H$17=0,INCO!CI112,IF(CONTROL!$H$17=1,INCO!CH112,IF(CONTROL!$H$17=2,INCO!CG112,INCO!CF112)))","v":0},{"$f":"IF(CONTROL!$H$17=0,INCO!CJ112,IF(CONTROL!$H$17=1,INCO!CI112,IF(CONTROL!$H$17=2,INCO!CH112,INCO!CG112)))","v":0},{"$f":"IF(CONTROL!$H$17=0,INCO!CK112,IF(CONTROL!$H$17=1,INCO!CJ112,IF(CONTROL!$H$17=2,INCO!CI112,INCO!CH112)))","v":0},{"$f":"IF(CONTROL!$H$17=0,INCO!CL112,IF(CONTROL!$H$17=1,INCO!CK112,IF(CONTROL!$H$17=2,INCO!CJ112,INCO!CI112)))","v":0},{"$f":"IF(CONTROL!$H$17=0,INCO!CM112,IF(CONTROL!$H$17=1,INCO!CL112,IF(CONTROL!$H$17=2,INCO!CK112,INCO!CJ112)))","v":0},{"$f":"IF(CONTROL!$H$17=0,INCO!CN112,IF(CONTROL!$H$17=1,INCO!CM112,IF(CONTROL!$H$17=2,INCO!CL112,INCO!CK112)))","v":0},{"$f":"IF(CONTROL!$H$17=0,INCO!CO112,IF(CONTROL!$H$17=1,INCO!CN112,IF(CONTROL!$H$17=2,INCO!CM112,INCO!CL112)))","v":0},{"$f":"IF(CONTROL!$H$17=0,INCO!CP112,IF(CONTROL!$H$17=1,INCO!CO112,IF(CONTROL!$H$17=2,INCO!CN112,INCO!CM112)))","v":0},{"$f":"IF(CONTROL!$H$17=0,INCO!CQ112,IF(CONTROL!$H$17=1,INCO!CP112,IF(CONTROL!$H$17=2,INCO!CO112,INCO!CN112)))","v":0},{"$f":"IF(CONTROL!$H$17=0,INCO!CR112,IF(CONTROL!$H$17=1,INCO!CQ112,IF(CONTROL!$H$17=2,INCO!CP112,INCO!CO112)))","v":0},{"$f":"IF(CONTROL!$H$17=0,INCO!CS112,IF(CONTROL!$H$17=1,INCO!CR112,IF(CONTROL!$H$17=2,INCO!CQ112,INCO!CP112)))","v":0}]
[null,"Costes Fijos",null,0,0,0,0,0,0,0,null,null,null,null,null,null,null,null,null,null,null,null,null,{"$f":"CTA.RES!K8","v":0},{"$f":"CTA.RES!L8","v":0},{"$f":"CTA.RES!M8","v":0},{"$f":"CTA.RES!N8","v":0},{"$f":"CTA.RES!O8","v":0},{"$f":"CTA.RES!P8","v":0},{"$f":"CTA.RES!Q8","v":0},{"$f":"CTA.RES!R8","v":0},{"$f":"CTA.RES!S8","v":0},{"$f":"CTA.RES!T8","v":0},{"$f":"CTA.RES!U8","v":0},{"$f":"CTA.RES!V8","v":0},{"$f":"CTA.RES!W8","v":0},{"$f":"CTA.RES!X8","v":0},{"$f":"CTA.RES!Y8","v":0},{"$f":"CTA.RES!Z8","v":0},{"$f":"CTA.RES!AA8","v":0},{"$f":"CTA.RES!AB8","v":0},{"$f":"CTA.RES!AC8","v":0},{"$f":"CTA.RES!AD8","v":0},{"$f":"CTA.RES!AE8","v":0},{"$f":"CTA.RES!AF8","v":0},{"$f":"CTA.RES!AG8","v":0},{"$f":"CTA.RES!AH8","v":0},{"$f":"CTA.RES!AI8","v":0},{"$f":"CTA.RES!AJ8","v":0},{"$f":"CTA.RES!AK8","v":0},{"$f":"CTA.RES!AL8","v":0},{"$f":"CTA.RES!AM8","v":0},{"$f":"CTA.RES!AN8","v":0},{"$f":"CTA.RES!AO8","v":0},{"$f":"CTA.RES!AP8","v":0},{"$f":"CTA.RES!AQ8","v":0},{"$f":"CTA.RES!AR8","v":0},{"$f":"CTA.RES!AS8","v":0},{"$f":"CTA.RES!AT8","v":0},{"$f":"CTA.RES!AU8","v":0},{"$f":"CTA.RES!AV8","v":0},{"$f":"CTA.RES!AW8","v":0},{"$f":"CTA.RES!AX8","v":0},{"$f":"CTA.RES!AY8","v":0},{"$f":"CTA.RES!AZ8","v":0},{"$f":"CTA.RES!BA8","v":0},{"$f":"CTA.RES!BB8","v":0},{"$f":"CTA.RES!BC8","v":0},{"$f":"CTA.RES!BD8","v":0},{"$f":"CTA.RES!BE8","v":0},{"$f":"CTA.RES!BF8","v":0},{"$f":"CTA.RES!BG8","v":0},{"$f":"CTA.RES!BH8","v":0},{"$f":"CTA.RES!BI8","v":0},{"$f":"CTA.RES!BJ8","v":0},{"$f":"CTA.RES!BK8","v":0},{"$f":"CTA.RES!BL8","v":0},{"$f":"CTA.RES!BM8","v":0},{"$f":"CTA.RES!BN8","v":0},{"$f":"CTA.RES!BO8","v":0},{"$f":"CTA.RES!BP8","v":0},{"$f":"CTA.RES!BQ8","v":0},{"$f":"CTA.RES!BR8","v":0},{"$f":"CTA.RES!BS8","v":0},{"$f":"CTA.RES!BT8","v":0},{"$f":"CTA.RES!BU8","v":0},{"$f":"CTA.RES!BV8","v":0},{"$f":"CTA.RES!BW8","v":0},{"$f":"CTA.RES!BX8","v":0},{"$f":"CTA.RES!BY8","v":0},{"$f":"CTA.RES!BZ8","v":0},{"$f":"CTA.RES!CA8","v":0},{"$f":"CTA.RES!CB8","v":0},{"$f":"CTA.RES!CC8","v":0},{"$f":"CTA.RES!CD8","v":0},{"$f":"CTA.RES!CE8","v":0},{"$f":"CTA.RES!CF8","v":0},{"$f":"CTA.RES!CG8","v":0},{"$f":"CTA.RES!CH8","v":0},{"$f":"CTA.RES!CI8","v":0},{"$f":"CTA.RES!CJ8","v":0},{"$f":"CTA.RES!CK8","v":0},{"$f":"CTA.RES!CL8","v":0},{"$f":"CTA.RES!CM8","v":0},{"$f":"CTA.RES!CN8","v":0},{"$f":"CTA.RES!CO8","v":0},{"$f":"CTA.RES!CP8","v":0}]
[null,"Variaciones en Caja Operativa",{"$f":"W10","v":0},0,0,0,0,0,0,0,null,null,null,null,null,null,null,null,null,null,null,null,{"$f":"CONTROL!$H$21*SUM(TES!X7:X9)","v":0},{"$f":"CONTROL!$H$21*(SUM(TES!Y7:Y9)-SUM(X7:X9))","v":0},{"$f":"CONTROL!$H$21*(SUM(TES!Z7:Z9)-SUM(Y7:Y9))","v":0},{"$f":"CONTROL!$H$21*(SUM(TES!AA7:AA9)-SUM(Z7:Z9))","v":0},{"$f":"CONTROL!$H$21*(SUM(TES!AB7:AB9)-SUM(AA7:AA9))","v":0},{"$f":"CONTROL!$H$21*(SUM(TES!AC7:AC9)-SUM(AB7:AB9))","v":0},{"$f":"CONTROL!$H$21*(SUM(TES!AD7:AD9)-SUM(AC7:AC9))","v":0},{"$f":"CONTROL!$H$21*(SUM(TES!AE7:AE9)-SUM(AD7:AD9))","v":0},{"$f":"CONTROL!$H$21*(SUM(TES!AF7:AF9)-SUM(AE7:AE9))","v":0},{"$f":"CONTROL!$H$21*(SUM(TES!AG7:AG9)-SUM(AF7:AF9))","v":0},{"$f":"CONTROL!$H$21*(SUM(TES!AH7:AH9)-SUM(AG7:AG9))","v":0},{"$f":"CONTROL!$H$21*(SUM(TES!AI7:AI9)-SUM(AH7:AH9))","v":0},{"$f":"CONTROL!$H$21*(SUM(TES!AJ7:AJ9)-SUM(AI7:AI9))","v":0},{"$f":"CONTROL!$H$21*(SUM(TES!AK7:AK9)-SUM(AJ7:AJ9))","v":0},{"$f":"CONTROL!$H$21*(SUM(TES!AL7:AL9)-SUM(AK7:AK9))","v":0},{"$f":"CONTROL!$H$21*(SUM(TES!AM7:AM9)-SUM(AL7:AL9))","v":0},{"$f":"CONTROL!$H$21*(SUM(TES!AN7:AN9)-SUM(AM7:AM9))","v":0},{"$f":"CONTROL!$H$21*(SUM(TES!AO7:AO9)-SUM(AN7:AN9))","v":0},{"$f":"CONTROL!$H$21*(SUM(TES!AP7:AP9)-SUM(AO7:AO9))","v":0},{"$f":"CONTROL!$H$21*(SUM(TES!AQ7:AQ9)-SUM(AP7:AP9))","v":0},{"$f":"CONTROL!$H$21*(SUM(TES!AR7:AR9)-SUM(AQ7:AQ9))","v":0},{"$f":"CONTROL!$H$21*(SUM(TES!AS7:AS9)-SUM(AR7:AR9))","v":0},{"$f":"CONTROL!$H$21*(SUM(TES!AT7:AT9)-SUM(AS7:AS9))","v":0},{"$f":"CONTROL!$H$21*(SUM(TES!AU7:AU9)-SUM(AT7:AT9))","v":0},{"$f":"CONTROL!$H$21*(SUM(TES!AV7:AV9)-SUM(AU7:AU9))","v":0},{"$f":"CONTROL!$H$21*(SUM(TES!AW7:AW9)-SUM(AV7:AV9))","v":0},{"$f":"CONTROL!$H$21*(SUM(TES!AX7:AX9)-SUM(AW7:AW9))","v":0},{"$f":"CONTROL!$H$21*(SUM(TES!AY7:AY9)-SUM(AX7:AX9))","v":0},{"$f":"CONTROL!$H$21*(SUM(TES!AZ7:AZ9)-SUM(AY7:AY9))","v":0},{"$f":"CONTROL!$H$21*(SUM(TES!BA7:BA9)-SUM(AZ7:AZ9))","v":0},{"$f":"CONTROL!$H$21*(SUM(TES!BB7:BB9)-SUM(BA7:BA9))","v":0},{"$f":"CONTROL!$H$21*(SUM(TES!BC7:BC9)-SUM(BB7:BB9))","v":0},{"$f":"CONTROL!$H$21*(SUM(TES!BD7:BD9)-SUM(BC7:BC9))","v":0},{"$f":"CONTROL!$H$21*(SUM(TES!BE7:BE9)-SUM(BD7:BD9))","v":0},{"$f":"CONTROL!$H$21*(SUM(TES!BF7:BF9)-SUM(BE7:BE9))","v":0},{"$f":"CONTROL!$H$21*(SUM(TES!BG7:BG9)-SUM(BF7:BF9))","v":0},{"$f":"CONTROL!$H$21*(SUM(TES!BH7:BH9)-SUM(BG7:BG9))","v":0},{"$f":"CONTROL!$H$21*(SUM(TES!BI7:BI9)-SUM(BH7:BH9))","v":0},{"$f":"CONTROL!$H$21*(SUM(TES!BJ7:BJ9)-SUM(BI7:BI9))","v":0},{"$f":"CONTROL!$H$21*(SUM(TES!BK7:BK9)-SUM(BJ7:BJ9))","v":0},{"$f":"CONTROL!$H$21*(SUM(TES!BL7:BL9)-SUM(BK7:BK9))","v":0},{"$f":"CONTROL!$H$21*(SUM(TES!BM7:BM9)-SUM(BL7:BL9))","v":0},{"$f":"CONTROL!$H$21*(SUM(TES!BN7:BN9)-SUM(BM7:BM9))","v":0},{"$f":"CONTROL!$H$21*(SUM(TES!BO7:BO9)-SUM(BN7:BN9))","v":0},{"$f":"CONTROL!$H$21*(SUM(TES!BP7:BP9)-SUM(BO7:BO9))","v":0},{"$f":"CONTROL!$H$21*(SUM(TES!BQ7:BQ9)-SUM(BP7:BP9))","v":0},{"$f":"CONTROL!$H$21*(SUM(TES!BR7:BR9)-SUM(BQ7:BQ9))","v":0},{"$f":"CONTROL!$H$21*(SUM(TES!BS7:BS9)-SUM(BR7:BR9))","v":0},{"$f":"CONTROL!$H$21*(SUM(TES!BT7:BT9)-SUM(BS7:BS9))","v":0},{"$f":"CONTROL!$H$21*(SUM(TES!BU7:BU9)-SUM(BT7:BT9))","v":0},{"$f":"CONTROL!$H$21*(SUM(TES!BV7:BV9)-SUM(BU7:BU9))","v":0},{"$f":"CONTROL!$H$21*(SUM(TES!BW7:BW9)-SUM(BV7:BV9))","v":0},{"$f":"CONTROL!$H$21*(SUM(TES!BX7:BX9)-SUM(BW7:BW9))","v":0},{"$f":"CONTROL!$H$21*(SUM(TES!BY7:BY9)-SUM(BX7:BX9))","v":0},{"$f":"CONTROL!$H$21*(SUM(TES!BZ7:BZ9)-SUM(BY7:BY9))","v":0},{"$f":"CONTROL!$H$21*(SUM(TES!CA7:CA9)-SUM(BZ7:BZ9))","v":0},{"$f":"CONTROL!$H$21*(SUM(TES!CB7:CB9)-SUM(CA7:CA9))","v":0},{"$f":"CONTROL!$H$21*(SUM(TES!CC7:CC9)-SUM(CB7:CB9))","v":0},{"$f":"CONTROL!$H$21*(SUM(TES!CD7:CD9)-SUM(CC7:CC9))","v":0},{"$f":"CONTROL!$H$21*(SUM(TES!CE7:CE9)-SUM(CD7:CD9))","v":0},{"$f":"CONTROL!$H$21*(SUM(TES!CF7:CF9)-SUM(CE7:CE9))","v":0},{"$f":"CONTROL!$H$21*(SUM(TES!CG7:CG9)-SUM(CF7:CF9))","v":0},{"$f":"CONTROL!$H$21*(SUM(TES!CH7:CH9)-SUM(CG7:CG9))","v":0},{"$f":"CONTROL!$H$21*(SUM(TES!CI7:CI9)-SUM(CH7:CH9))","v":0},{"$f":"CONTROL!$H$21*(SUM(TES!CJ7:CJ9)-SUM(CI7:CI9))","v":0},{"$f":"CONTROL!$H$21*(SUM(TES!CK7:CK9)-SUM(CJ7:CJ9))","v":0},{"$f":"CONTROL!$H$21*(SUM(TES!CL7:CL9)-SUM(CK7:CK9))","v":0},{"$f":"CONTROL!$H$21*(SUM(TES!CM7:CM9)-SUM(CL7:CL9))","v":0},{"$f":"CONTROL!$H$21*(SUM(TES!CN7:CN9)-SUM(CM7:CM9))","v":0},{"$f":"CONTROL!$H$21*(SUM(TES!CO7:CO9)-SUM(CN7:CN9))","v":0},{"$f":"CONTROL!$H$21*(SUM(TES!CP7:CP9)-SUM(CO7:CO9))","v":0},{"$f":"CONTROL!$H$21*(SUM(TES!CQ7:CQ9)-SUM(CP7:CP9))","v":0},{"$f":"CONTROL!$H$21*(SUM(TES!CR7:CR9)-SUM(CQ7:CQ9))","v":0},{"$f":"CONTROL!$H$21*(SUM(TES!CS7:CS9)-SUM(CR7:CR9))","v":0},{"$f":"CONTROL!$H$21*(SUM(TES!CT7:CT9)-SUM(CS7:CS9))","v":0},{"$f":"CONTROL!$H$21*(SUM(TES!CU7:CU9)-SUM(CT7:CT9))","v":0},{"$f":"CONTROL!$H$21*(SUM(TES!CV7:CV9)-SUM(CU7:CU9))","v":0},{"$f":"CONTROL!$H$21*(SUM(TES!CW7:CW9)-SUM(CV7:CV9))","v":0},{"$f":"CONTROL!$H$21*(SUM(TES!CX7:CX9)-SUM(CW7:CW9))","v":0},{"$f":"CONTROL!$H$21*(SUM(TES!CY7:CY9)-SUM(CX7:CX9))","v":0},{"$f":"CONTROL!$H$21*(SUM(TES!CZ7:CZ9)-SUM(CY7:CY9))","v":0},{"$f":"CONTROL!$H$21*(SUM(TES!DA7:DA9)-SUM(CZ7:CZ9))","v":0},{"$f":"CONTROL!$H$21*(SUM(TES!DB7:DB9)-SUM(DA7:DA9))","v":0},{"$f":"CONTROL!$H$21*(SUM(TES!DC7:DC9)-SUM(DB7:DB9))","v":0},{"$f":"DB10","v":0}]
[null,"Impuestos",null,null,{"$f":"CTA.RES!C16","v":0},{"$f":"CTA.RES!D16","v":0},{"$f":"CTA.RES!E16","v":0},{"$f":"CTA.RES!F16","v":0},{"$f":"CTA.RES!G16","v":0},{"$f":"CTA.RES!H16","v":0},null,null,null,null,null,null,null,null,null,null,null,null,null,{"$f":"IF(MONTH(X3)=Mes_Imp,LOOKUP(X2,$D$3:$J$3,$D$11:$J$11),0)","v":0},0,0,0,0,0,0,0,0,0,0,0,0,0,0,0,0,0,0,0,0,0,0,0,0,0,0,0,0,0,0,0,{"$f":"IF(MONTH(BD3)=Mes_Imp,LOOKUP(BD2,$D$3:$J$3,$D$11:$J$11),0)","v":0},0,0,0,0,0,0,0,0,0,0,0,0,0,0,0,0,0,0,0,0,0,0,0,0,0,0,0,0,0,0,0,{"$f":"IF(MONTH(CJ3)=Mes_Imp,LOOKUP(CJ2,$D$3:$J$3,$D$11:$J$11),0)","v":0},0,0,0,0,0,0,0,0,0,0,0,0,0,0,0,0,0,0,0]
[null,"CASH FLOW OPERATIVO",{"$f":"C4-C6","v":0},1,1,1,1,1,1,1,null,0,0,0,0,0,0,0,0,0,0,0,0,8.3333333333333329E-2,8.3333333333333329E-2,8.3333333333333329E-2,8.3333333333333329E-2,8.3333333333333329E-2,8.3333333333333329E-2,8.3333333333333329E-2,8.3333333333333329E-2,8.3333333333333329E-2,8.3333333333333329E-2,8.3333333333333329E-2,8.3333333333333329E-2,8.3333333333333329E-2,8.3333333333333329E-2,8.3333333333333329E-2,8.3333333333333329E-2,8.3333333333333329E-2,8.3333333333333329E-2,8.3333333333333329E-2,8.3333333333333329E-2,8.3333333333333329E-2,8.3333333333333329E-2,8.3333333333333329E-2,8.3333333333333329E-2,8.3333333333333329E-2,8.3333333333333329E-2,8.3333333333333329E-2,8.3333333333333329E-2,8.3333333333333329E-2,8.3333333333333329E-2,8.3333333333333329E-2,8.3333333333333329E-2,8.3333333333333329E-2,8.3333333333333329E-2,8.3333333333333329E-2,8.3333333333333329E-2,8.3333333333333329E-2,8.3333333333333329E-2,8.3333333333333329E-2,8.3333333333333329E-2,8.3333333333333329E-2,8.3333333333333329E-2,8.3333333333333329E-2,8.3333333333333329E-2,8.3333333333333329E-2,8.3333333333333329E-2,8.3333333333333329E-2,8.3333333333333329E-2,8.3333333333333329E-2,8.3333333333333329E-2,8.3333333333333329E-2,8.3333333333333329E-2,8.3333333333333329E-2,8.3333333333333329E-2,8.3333333333333329E-2,8.3333333333333329E-2,{"$f":"CB4-CB6","v":8.3333333333333329E-2},8.3333333333333329E-2,8.3333333333333329E-2,8.3333333333333329E-2,8.3333333333333329E-2,8.3333333333333329E-2,8.3333333333333329E-2,8.3333333333333329E-2,8.3333333333333329E-2,8.3333333333333329E-2,8.3333333333333329E-2,8.3333333333333329E-2,8.3333333333333329E-2,8.3333333333333329E-2,8.3333333333333329E-2,8.3333333333333329E-2,8.3333333333333329E-2,8.3333333333333329E-2,8.3333333333333329E-2,8.3333333333333329E-2,8.3333333333333329E-2,8.3333333333333329E-2,8.3333333333333329E-2,8.3333333333333329E-2,8.3333333333333329E-2,8.3333333333333329E-2,8.3333333333333329E-2,8.3333333333333329E-2]
[null,"Cobros ExtraOperativos",{"$f":"SUM(C14:C19)","v":1},0,0,0,0,0,0,0,null,0,0,0,1,0,0,0,0,0,0,0,0,0,0,0,0,0,0,0,0,0,0,0,0,0,0,0,0,0,0,0,0,0,0,0,0,0,0,0,0,0,0,0,0,0,0,0,0,0,0,0,0,0,0,0,{"$f":"SUM(BO14:BO19)","v":0},0,0,0,0,0,0,0,0,0,0,0,0,0,0,0,0,0,0,0,0,0,0,0,0,0,0,0,0,0,0,0,0,0,0,0,0,0,0,0,0]
[null,"Capital",{"$f":"SUM(L14:W14)","v":0},{"$f":"SUMIF($X$2:$DC$2,D$3,$X14:$DC14)","v":0},0,0,0,0,0,0,null,{"$f":"BALANCE!L18","v":0},{"$f":"BALANCE!M18-BALANCE!L18","v":0},{"$f":"BALANCE!N18-BALANCE!M18","v":0},{"$f":"BALANCE!O18-BALANCE!N18","v":0},{"$f":"BALANCE!P18-BALANCE!O18","v":0},{"$f":"BALANCE!Q18-BALANCE!P18","v":0},{"$f":"BALANCE!R18-BALANCE!Q18","v":0},{"$f":"BALANCE!S18-BALANCE!R18","v":0},{"$f":"BALANCE!T18-BALANCE!S18","v":0},{"$f":"BALANCE!U18-BALANCE!T18","v":0},{"$f":"BALANCE!V18-BALANCE!U18","v":0},{"$f":"BALANCE!W18-BALANCE!V18","v":0},{"$f":"BALANCE!X18-BALANCE!W18","v":0},{"$f":"BALANCE!Y18-BALANCE!X18","v":0},{"$f":"BALANCE!Z18-BALANCE!Y18","v":0},{"$f":"BALANCE!AA18-BALANCE!Z18","v":0},{"$f":"BALANCE!AB18-BALANCE!AA18","v":0},{"$f":"BALANCE!AC18-BALANCE!AB18","v":0},{"$f":"BALANCE!AD18-BALANCE!AC18","v":0},{"$f":"BALANCE!AE18-BALANCE!AD18","v":0},{"$f":"BALANCE!AF18-BALANCE!AE18","v":0},{"$f":"BALANCE!AG18-BALANCE!AF18","v":0},{"$f":"BALANCE!AH18-BALANCE!AG18","v":0},{"$f":"BALANCE!AI18-BALANCE!AH18","v":0},{"$f":"BALANCE!AJ18-BALANCE!AI18","v":0},{"$f":"BALANCE!AK18-BALANCE!AJ18","v":0},{"$f":"BALANCE!AL18-BALANCE!AK18","v":0},{"$f":"BALANCE!AM18-BALANCE!AL18","v":0},{"$f":"BALANCE!AN18-BALANCE!AM18","v":0},{"$f":"BALANCE!AO18-BALANCE!AN18","v":0},{"$f":"BALANCE!AP18-BALANCE!AO18","v":0},{"$f":"BALANCE!AQ18-BALANCE!AP18","v":0},{"$f":"BALANCE!AR18-BALANCE!AQ18","v":0},{"$f":"BALANCE!AS18-BALANCE!AR18","v":0},{"$f":"BALANCE!AT18-BALANCE!AS18","v":0},{"$f":"BALANCE!AU18-BALANCE!AT18","v":0},{"$f":"BALANCE!AV18-BALANCE!AU18","v":0},{"$f":"BALANCE!AW18-BALANCE!AV18","v":0},{"$f":"BALANCE!AX18-BALANCE!AW18","v":0},{"$f":"BALANCE!AY18-BALANCE!AX18","v":0},{"$f":"BALANCE!AZ18-BALANCE!AY18","v":0},{"$f":"BALANCE!BA18-BALANCE!AZ18","v":0},{"$f":"BALANCE!BB18-BALANCE!BA18","v":0},{"$f":"BALANCE!BC18-BALANCE!BB18","v":0},{"$f":"BALANCE!BD18-BALANCE!BC18","v":0},{"$f":"BALANCE!BE18-BALANCE!BD18","v":0},{"$f":"BALANCE!BF18-BALANCE!BE18","v":0},{"$f":"BALANCE!BG18-BALANCE!BF18","v":0},{"$f":"BALANCE!BH18-BALANCE!BG18","v":0},{"$f":"BALANCE!BI18-BALANCE!BH18","v":0},{"$f":"BALANCE!BJ18-BALANCE!BI18","v":0},{"$f":"BALANCE!BK18-BALANCE!BJ18","v":0},{"$f":"BALANCE!BL18-BALANCE!BK18","v":0},{"$f":"BALANCE!BM18-BALANCE!BL18","v":0},{"$f":"BALANCE!BN18-BALANCE!BM18","v":0},{"$f":"BALANCE!BO18-BALANCE!BN18","v":0},{"$f":"BALANCE!BP18-BALANCE!BO18","v":0},{"$f":"BALANCE!BQ18-BALANCE!BP18","v":0},{"$f":"BALANCE!BR18-BALANCE!BQ18","v":0},{"$f":"BALANCE!BS18-BALANCE!BR18","v":0},{"$f":"BALANCE!BT18-BALANCE!BS18","v":0},{"$f":"BALANCE!BU18-BALANCE!BT18","v":0},{"$f":"BALANCE!BV18-BALANCE!BU18","v":0},{"$f":"BALANCE!BW18-BALANCE!BV18","v":0},{"$f":"BALANCE!BX18-BALANCE!BW18","v":0},{"$f":"BALANCE!BY18-BALANCE!BX18","v":0},{"$f":"BALANCE!BZ18-BALANCE!BY18","v":0},{"$f":"BALANCE!CA18-BALANCE!BZ18","v":0},{"$f":"BALANCE!CB18-BALANCE!CA18","v":0},{"$f":"BALANCE!CC18-BALANCE!CB18","v":0},{"$f":"BALANCE!CD18-BALANCE!CC18","v":0},{"$f":"BALANCE!CE18-BALANCE!CD18","v":0},{"$f":"BALANCE!CF18-BALANCE!CE18","v":0},{"$f":"BALANCE!CG18-BALANCE!CF18","v":0},{"$f":"BALANCE!CH18-BALANCE!CG18","v":0},{"$f":"BALANCE!CI18-BALANCE!CH18","v":0},{"$f":"BALANCE!CJ18-BALANCE!CI18","v":0},{"$f":"BALANCE!CK18-BALANCE!CJ18","v":0},{"$f":"BALANCE!CL18-BALANCE!CK18","v":0},{"$f":"BALANCE!CM18-BALANCE!CL18","v":0},{"$f":"BALANCE!CN18-BALANCE!CM18","v":0},{"$f":"BALANCE!CO18-BALANCE!CN18","v":0},{"$f":"BALANCE!CP18-BALANCE!CO18","v":0},{"$f":"BALANCE!CQ18-BALANCE!CP18","v":0},{"$f":"BALANCE!CR18-BALANCE!CQ18","v":0},{"$f":"BALANCE!CS18-BALANCE!CR18","v":0},{"$f":"BALANCE!CT18-BALANCE!CS18","v":0},{"$f":"BALANCE!CU18-BALANCE!CT18","v":0},{"$f":"BALANCE!CV18-BALANCE!CU18","v":0},{"$f":"BALANCE!CW18-BALANCE!CV18","v":0},{"$f":"BALANCE!CX18-BALANCE!CW18","v":0},{"$f":"BALANCE!CY18-BALANCE!CX18","v":0},{"$f":"BALANCE!CZ18-BALANCE!CY18","v":0},{"$f":"BALANCE!DA18-BALANCE!CZ18","v":0},{"$f":"BALANCE!DB18-BALANCE!DA18","v":0},{"$f":"BALANCE!DC18-BALANCE!DB18","v":0}]
[null,"Subvención",{"$f":"W15","v":0},null,null,null,null,null,null,null,null,null,null,null,null,null,null,null,null,null,null,null,{"$f":"FIN!H6","v":0}]
[null,"Nueva Deuda",{"$f":"SUM(L16:W16)","v":1},{"$f":"SUMIF($X$2:$DC$2,D$3,$X16:$DC16)","v":0},0,0,0,0,0,0,null,{"$f":"BALANCE!L24","v":0},{"$f":"MAX(0,BALANCE!M24-BALANCE!L24)","v":0},{"$f":"MAX(0,BALANCE!N24-BALANCE!M24)","v":0},{"$f":"MAX(0,BALANCE!O24-BALANCE!N24)","v":1},{"$f":"MAX(0,BALANCE!P24-BALANCE!O24)","v":0},{"$f":"MAX(0,BALANCE!Q24-BALANCE!P24)","v":0},{"$f":"MAX(0,BALANCE!R24-BALANCE!Q24)","v":0},{"$f":"MAX(0,BALANCE!S24-BALANCE!R24)","v":0},{"$f":"MAX(0,BALANCE!T24-BALANCE!S24)","v":0},{"$f":"MAX(0,BALANCE!U24-BALANCE!T24)","v":0},{"$f":"MAX(0,BALANCE!V24-BALANCE!U24)","v":0},{"$f":"MAX(0,BALANCE!W24-BALANCE!V24+BALANCE!W23-BALANCE!V23)","v":0},{"$f":"MAX(0,BALANCE!X24-BALANCE!W24)","v":0},{"$f":"MAX(0,BALANCE!Y24-BALANCE!X24)","v":0},{"$f":"MAX(0,BALANCE!Z24-BALANCE!Y24)","v":0},{"$f":"MAX(0,BALANCE!AA24-BALANCE!Z24)","v":0},{"$f":"MAX(0,BALANCE!AB24-BALANCE!AA24)","v":0},{"$f":"MAX(0,BALANCE!AC24-BALANCE!AB24)","v":0},{"$f":"MAX(0,BALANCE!AD24-BALANCE!AC24)","v":0},{"$f":"MAX(0,BALANCE!AE24-BALANCE!AD24)","v":0},{"$f":"MAX(0,BALANCE!AF24-BALANCE!AE24)","v":0},{"$f":"MAX(0,BALANCE!AG24-BALANCE!AF24)","v":0},{"$f":"MAX(0,BALANCE!AH24-BALANCE!AG24)","v":0},{"$f":"MAX(0,BALANCE!AI24-BALANCE!AH24)","v":0},{"$f":"MAX(0,BALANCE!AJ24-BALANCE!AI24)","v":0},{"$f":"MAX(0,BALANCE!AK24-BALANCE!AJ24)","v":0},{"$f":"MAX(0,BALANCE!AL24-BALANCE!AK24)","v":0},{"$f":"MAX(0,BALANCE!AM24-BALANCE!AL24)","v":0},{"$f":"MAX(0,BALANCE!AN24-BALANCE!AM24)","v":0},{"$f":"MAX(0,BALANCE!AO24-BALANCE!AN24)","v":0},{"$f":"MAX(0,BALANCE!AP24-BALANCE!AO24)","v":0},{"$f":"MAX(0,BALANCE!AQ24-BALANCE!AP24)","v":0},{"$f":"MAX(0,BALANCE!AR24-BALANCE!AQ24)","v":0},{"$f":"MAX(0,BALANCE!AS24-BALANCE!AR24)","v":0},{"$f":"MAX(0,BALANCE!AT24-BALANCE!AS24)","v":0},{"$f":"MAX(0,BALANCE!AU24-BALANCE!AT24)","v":0},{"$f":"MAX(0,BALANCE!AV24-BALANCE!AU24)","v":0},{"$f":"MAX(0,BALANCE!AW24-BALANCE!AV24)","v":0},{"$f":"MAX(0,BALANCE!AX24-BALANCE!AW24)","v":0},{"$f":"MAX(0,BALANCE!AY24-BALANCE!AX24)","v":0},{"$f":"MAX(0,BALANCE!AZ24-BALANCE!AY24)","v":0},{"$f":"MAX(0,BALANCE!BA24-BALANCE!AZ24)","v":0},{"$f":"MAX(0,BALANCE!BB24-BALANCE!BA24)","v":0},{"$f":"MAX(0,BALANCE!BC24-BALANCE!BB24)","v":0},{"$f":"MAX(0,BALANCE!BD24-BALANCE!BC24)","v":0},{"$f":"MAX(0,BALANCE!BE24-BALANCE!BD24)","v":0},{"$f":"MAX(0,BALANCE!BF24-BALANCE!BE24)","v":0},{"$f":"MAX(0,BALANCE!BG24-BALANCE!BF24)","v":0},{"$f":"MAX(0,BALANCE!BH24-BALANCE!BG24)","v":0},{"$f":"MAX(0,BALANCE!BI24-BALANCE!BH24)","v":0},{"$f":"MAX(0,BALANCE!BJ24-BALANCE!BI24)","v":0},{"$f":"MAX(0,BALANCE!BK24-BALANCE!BJ24)","v":0},{"$f":"MAX(0,BALANCE!BL24-BALANCE!BK24)","v":0},{"$f":"MAX(0,BALANCE!BM24-BALANCE!BL24)","v":0},{"$f":"MAX(0,BALANCE!BN24-BALANCE!BM24)","v":0},{"$f":"MAX(0,BALANCE!BO24-BALANCE!BN24)","v":0},{"$f":"MAX(0,BALANCE!BP24-BALANCE!BO24)","v":0},{"$f":"MAX(0,BALANCE!BQ24-BALANCE!BP24)","v":0},{"$f":"MAX(0,BALANCE!BR24-BALANCE!BQ24)","v":0},{"$f":"MAX(0,BALANCE!BS24-BALANCE!BR24)","v":0},{"$f":"MAX(0,BALANCE!BT24-BALANCE!BS24)","v":0},{"$f":"MAX(0,BALANCE!BU24-BALANCE!BT24)","v":0},{"$f":"MAX(0,BALANCE!BV24-BALANCE!BU24)","v":0},{"$f":"MAX(0,BALANCE!BW24-BALANCE!BV24)","v":0},{"$f":"MAX(0,BALANCE!BX24-BALANCE!BW24)","v":0},{"$f":"MAX(0,BALANCE!BY24-BALANCE!BX24)","v":0},{"$f":"MAX(0,BALANCE!BZ24-BALANCE!BY24)","v":0},{"$f":"MAX(0,BALANCE!CA24-BALANCE!BZ24)","v":0},{"$f":"MAX(0,BALANCE!CB24-BALANCE!CA24)","v":0},{"$f":"MAX(0,BALANCE!CC24-BALANCE!CB24)","v":0},{"$f":"MAX(0,BALANCE!CD24-BALANCE!CC24)","v":0},{"$f":"MAX(0,BALANCE!CE24-BALANCE!CD24)","v":0},{"$f":"MAX(0,BALANCE!CF24-BALANCE!CE24)","v":0},{"$f":"MAX(0,BALANCE!CG24-BALANCE!CF24)","v":0},{"$f":"MAX(0,BALANCE!CH24-BALANCE!CG24)","v":0},{"$f":"MAX(0,BALANCE!CI24-BALANCE!CH24)","v":0},{"$f":"MAX(0,BALANCE!CJ24-BALANCE!CI24)","v":0},{"$f":"MAX(0,BALANCE!CK24-BALANCE!CJ24)","v":0},{"$f":"MAX(0,BALANCE!CL24-BALANCE!CK24)","v":0},{"$f":"MAX(0,BALANCE!CM24-BALANCE!CL24)","v":0},{"$f":"MAX(0,BALANCE!CN24-BALANCE!CM24)","v":0},{"$f":"MAX(0,BALANCE!CO24-BALANCE!CN24)","v":0},{"$f":"MAX(0,BALANCE!CP24-BALANCE!CO24)","v":0},{"$f":"MAX(0,BALANCE!CQ24-BALANCE!CP24)","v":0},{"$f":"MAX(0,BALANCE!CR24-BALANCE!CQ24)","v":0},{"$f":"MAX(0,BALANCE!CS24-BALANCE!CR24)","v":0},{"$f":"MAX(0,BALANCE!CT24-BALANCE!CS24)","v":0},{"$f":"MAX(0,BALANCE!CU24-BALANCE!CT24)","v":0},{"$f":"MAX(0,BALANCE!CV24-BALANCE!CU24)","v":0},{"$f":"MAX(0,BALANCE!CW24-BALANCE!CV24)","v":0},{"$f":"MAX(0,BALANCE!CX24-BALANCE!CW24)","v":0},{"$f":"MAX(0,BALANCE!CY24-BALANCE!CX24)","v":0},{"$f":"MAX(0,BALANCE!CZ24-BALANCE!CY24)","v":0},{"$f":"MAX(0,BALANCE!DA24-BALANCE!CZ24)","v":0},{"$f":"MAX(0,BALANCE!DB24-BALANCE!DA24)","v":0},{"$f":"MAX(0,BALANCE!DC24-BALANCE!DB24)","v":0}]
[null,"Devolución IVA Hacienda",{"$f":"SUM(L17:W17)","v":0},0,0,0,0,0,0,0,null,{"$f":"IVA!C15","v":0},{"$f":"IVA!D15","v":0},{"$f":"IVA!E15","v":0},{"$f":"IVA!F15","v":0},{"$f":"IVA!G15","v":0},{"$f":"IVA!H15","v":0},{"$f":"IVA!I15","v":0},{"$f":"IVA!J15","v":0},{"$f":"IVA!K15","v":0},{"$f":"IVA!L15","v":0},{"$f":"IVA!M15","v":0},{"$f":"IVA!N15","v":0},{"$f":"IVA!O15","v":0},{"$f":"IVA!P15","v":0},{"$f":"IVA!Q15","v":0},{"$f":"IVA!R15","v":0},{"$f":"IVA!S15","v":0},{"$f":"IVA!T15","v":0},{"$f":"IVA!U15","v":0},{"$f":"IVA!V15","v":0},{"$f":"IVA!W15","v":0},{"$f":"IVA!X15","v":0},{"$f":"IVA!Y15","v":0},{"$f":"IVA!Z15","v":0},{"$f":"IVA!AA15","v":0},{"$f":"IVA!AB15","v":0},{"$f":"IVA!AC15","v":0},{"$f":"IVA!AD15","v":0},{"$f":"IVA!AE15","v":0},{"$f":"IVA!AF15","v":0},{"$f":"IVA!AG15","v":0},{"$f":"IVA!AH15","v":0},{"$f":"IVA!AI15","v":0},{"$f":"IVA!AJ15","v":0},{"$f":"IVA!AK15","v":0},{"$f":"IVA!AL15","v":0},{"$f":"IVA!AM15","v":0},{"$f":"IVA!AN15","v":0},{"$f":"IVA!AO15","v":0},{"$f":"IVA!AP15","v":0},{"$f":"IVA!AQ15","v":0},{"$f":"IVA!AR15","v":0},{"$f":"IVA!AS15","v":0},{"$f":"IVA!AT15","v":0},{"$f":"IVA!AU15","v":0},{"$f":"IVA!AV15","v":0},{"$f":"IVA!AW15","v":0},{"$f":"IVA!AX15","v":0},{"$f":"IVA!AY15","v":0},{"$f":"IVA!AZ15","v":0},{"$f":"IVA!BA15","v":0},{"$f":"IVA!BB15","v":0},{"$f":"IVA!BC15","v":0},{"$f":"IVA!BD15","v":0},{"$f":"IVA!BE15","v":0},{"$f":"IVA!BF15","v":0},{"$f":"IVA!BG15","v":0},{"$f":"IVA!BH15","v":0},{"$f":"IVA!BI15","v":0},{"$f":"IVA!BJ15","v":0},{"$f":"IVA!BK15","v":0},{"$f":"IVA!BL15","v":0},{"$f":"IVA!BM15","v":0},{"$f":"IVA!BN15","v":0},{"$f":"IVA!BO15","v":0},{"$f":"IVA!BP15","v":0},{"$f":"IVA!BQ15","v":0},{"$f":"IVA!BR15","v":0},{"$f":"IVA!BS15","v":0},{"$f":"IVA!BT15","v":0},{"$f":"IVA!BU15","v":0},{"$f":"IVA!BV15","v":0},{"$f":"IVA!BW15","v":0},{"$f":"IVA!BX15","v":0},{"$f":"IVA!BY15","v":0},{"$f":"IVA!BZ15","v":0},{"$f":"IVA!CA15","v":0},{"$f":"IVA!CB15","v":0},{"$f":"IVA!CC15","v":0},{"$f":"IVA!CD15","v":0},{"$f":"IVA!CE15","v":0},{"$f":"IVA!CF15","v":0},{"$f":"IVA!CG15","v":0},{"$f":"IVA!CH15","v":0},{"$f":"IVA!CI15","v":0},{"$f":"IVA!CJ15","v":0},{"$f":"IVA!CK15","v":0},{"$f":"IVA!CL15","v":0},{"$f":"IVA!CM15","v":0},{"$f":"IVA!CN15","v":0},{"$f":"IVA!CO15","v":0},{"$f":"IVA!CP15","v":0},{"$f":"IVA!CQ15","v":0},{"$f":"IVA!CR15","v":0},{"$f":"IVA!CS15","v":0},{"$f":"IVA!CT15","v":0}]
[null,"IVA Repercutido",null,0,0,0,0,0,0,0,null,null,null,null,null,null,null,null,null,null,null,null,null,{"$f":"IVA!O7","v":0},{"$f":"IVA!P7","v":0},{"$f":"IVA!Q7","v":0},{"$f":"IVA!R7","v":0},{"$f":"IVA!S7","v":0},{"$f":"IVA!T7","v":0},{"$f":"IVA!U7","v":0},{"$f":"IVA!V7","v":0},{"$f":"IVA!W7","v":0},{"$f":"IVA!X7","v":0},{"$f":"IVA!Y7","v":0},{"$f":"IVA!Z7","v":0},{"$f":"IVA!AA7","v":0},{"$f":"IVA!AB7","v":0},{"$f":"IVA!AC7","v":0},{"$f":"IVA!AD7","v":0},{"$f":"IVA!AE7","v":0},{"$f":"IVA!AF7","v":0},{"$f":"IVA!AG7","v":0},{"$f":"IVA!AH7","v":0},{"$f":"IVA!AI7","v":0},{"$f":"IVA!AJ7","v":0},{"$f":"IVA!AK7","v":0},{"$f":"IVA!AL7","v":0},{"$f":"IVA!AM7","v":0},{"$f":"IVA!AN7","v":0},{"$f":"IVA!AO7","v":0},{"$f":"IVA!AP7","v":0},{"$f":"IVA!AQ7","v":0},{"$f":"IVA!AR7","v":0},{"$f":"IVA!AS7","v":0},{"$f":"IVA!AT7","v":0},{"$f":"IVA!AU7","v":0},{"$f":"IVA!AV7","v":0},{"$f":"IVA!AW7","v":0},{"$f":"IVA!AX7","v":0},{"$f":"IVA!AY7","v":0},{"$f":"IVA!AZ7","v":0},{"$f":"IVA!BA7","v":0},{"$f":"IVA!BB7","v":0},{"$f":"IVA!BC7","v":0},{"$f":"IVA!BD7","v":0},{"$f":"IVA!BE7","v":0},{"$f":"IVA!BF7","v":0},{"$f":"IVA!BG7","v":0},{"$f":"IVA!BH7","v":0},{"$f":"IVA!BI7","v":0},{"$f":"IVA!BJ7","v":0},{"$f":"IVA!BK7","v":0},{"$f":"IVA!BL7","v":0},{"$f":"IVA!BM7","v":0},{"$f":"IVA!BN7","v":0},{"$f":"IVA!BO7","v":0},{"$f":"IVA!BP7","v":0},{"$f":"IVA!BQ7","v":0},{"$f":"IVA!BR7","v":0},{"$f":"IVA!BS7","v":0},{"$f":"IVA!BT7","v":0},{"$f":"IVA!BU7","v":0},{"$f":"IVA!BV7","v":0},{"$f":"IVA!BW7","v":0},{"$f":"IVA!BX7","v":0},{"$f":"IVA!BY7","v":0},{"$f":"IVA!BZ7","v":0},{"$f":"IVA!CA7","v":0},{"$f":"IVA!CB7","v":0},{"$f":"IVA!CC7","v":0},{"$f":"IVA!CD7","v":0},{"$f":"IVA!CE7","v":0},{"$f":"IVA!CF7","v":0},{"$f":"IVA!CG7","v":0},{"$f":"IVA!CH7","v":0},{"$f":"IVA!CI7","v":0},{"$f":"IVA!CJ7","v":0},{"$f":"IVA!CK7","v":0},{"$f":"IVA!CL7","v":0},{"$f":"IVA!CM7","v":0},{"$f":"IVA!CN7","v":0},{"$f":"IVA!CO7","v":0},{"$f":"IVA!CP7","v":0},{"$f":"IVA!CQ7","v":0},{"$f":"IVA!CR7","v":0},{"$f":"IVA!CS7","v":0},{"$f":"IVA!CT7","v":0}]
[null,"Ingresos Financieros",null,0,0,0,0,0,0,0,null,null,null,null,null,null,null,null,null,null,null,null,null,null,{"$f":"IF(X30<0,0,X30*CONTROL!$C$18/12)","v":0},{"$f":"IF(Y30<0,0,Y30*CONTROL!$C$18/12)","v":0},{"$f":"IF(Z30<0,0,Z30*CONTROL!$C$18/12)","v":0},{"$f":"IF(AA30<0,0,AA30*CONTROL!$C$18/12)","v":0},{"$f":"IF(AB30<0,0,AB30*CONTROL!$C$18/12)","v":0},{"$f":"IF(AC30<0,0,AC30*CONTROL!$C$18/12)","v":0},{"$f":"IF(AD30<0,0,AD30*CONTROL!$C$18/12)","v":0},{"$f":"IF(AE30<0,0,AE30*CONTROL!$C$18/12)","v":0},{"$f":"IF(AF30<0,0,AF30*CONTROL!$C$18/12)","v":0},{"$f":"IF(AG30<0,0,AG30*CONTROL!$C$18/12)","v":0},{"$f":"IF(AH30<0,0,AH30*CONTROL!$C$18/12)","v":0},{"$f":"IF(AI30<0,0,AI30*CONTROL!$C$18/12)","v":0},{"$f":"IF(AJ30<0,0,AJ30*CONTROL!$C$18/12)","v":0},{"$f":"IF(AK30<0,0,AK30*CONTROL!$C$18/12)","v":0},{"$f":"IF(AL30<0,0,AL30*CONTROL!$C$18/12)","v":0},{"$f":"IF(AM30<0,0,AM30*CONTROL!$C$18/12)","v":0},{"$f":"IF(AN30<0,0,AN30*CONTROL!$C$18/12)","v":0},{"$f":"IF(AO30<0,0,AO30*CONTROL!$C$18/12)","v":0},{"$f":"IF(AP30<0,0,AP30*CONTROL!$C$18/12)","v":0},{"$f":"IF(AQ30<0,0,AQ30*CONTROL!$C$18/12)","v":0},{"$f":"IF(AR30<0,0,AR30*CONTROL!$C$18/12)","v":0},{"$f":"IF(AS30<0,0,AS30*CONTROL!$C$18/12)","v":0},{"$f":"IF(AT30<0,0,AT30*CONTROL!$C$18/12)","v":0},{"$f":"IF(AU30<0,0,AU30*CONTROL!$C$18/12)","v":0},{"$f":"IF(AV30<0,0,AV30*CONTROL!$C$18/12)","v":0},{"$f":"IF(AW30<0,0,AW30*CONTROL!$C$18/12)","v":0},{"$f":"IF(AX30<0,0,AX30*CONTROL!$C$18/12)","v":0},{"$f":"IF(AY30<0,0,AY30*CONTROL!$C$18/12)","v":0},{"$f":"IF(AZ30<0,0,AZ30*CONTROL!$C$18/12)","v":0},{"$f":"IF(BA30<0,0,BA30*CONTROL!$C$18/12)","v":0},{"$f":"IF(BB30<0,0,BB30*CONTROL!$C$18/12)","v":0},{"$f":"IF(BC30<0,0,BC30*CONTROL!$C$18/12)","v":0},{"$f":"IF(BD30<0,0,BD30*CONTROL!$C$18/12)","v":0},{"$f":"IF(BE30<0,0,BE30*CONTROL!$C$18/12)","v":0},{"$f":"IF(BF30<0,0,BF30*CONTROL!$C$18/12)","v":0},{"$f":"IF(BG30<0,0,BG30*CONTROL!$C$18/12)","v":0},{"$f":"IF(BH30<0,0,BH30*CONTROL!$C$18/12)","v":0},{"$f":"IF(BI30<0,0,BI30*CONTROL!$C$18/12)","v":0},{"$f":"IF(BJ30<0,0,BJ30*CONTROL!$C$18/12)","v":0},{"$f":"IF(BK30<0,0,BK30*CONTROL!$C$18/12)","v":0},{"$f":"IF(BL30<0,0,BL30*CONTROL!$C$18/12)","v":0},{"$f":"IF(BM30<0,0,BM30*CONTROL!$C$18/12)","v":0},{"$f":"IF(BN30<0,0,BN30*CONTROL!$C$18/12)","v":0},{"$f":"IF(BO30<0,0,BO30*CONTROL!$C$18/12)","v":0},{"$f":"IF(BP30<0,0,BP30*CONTROL!$C$18/12)","v":0},{"$f":"IF(BQ30<0,0,BQ30*CONTROL!$C$18/12)","v":0},{"$f":"IF(BR30<0,0,BR30*CONTROL!$C$18/12)","v":0},{"$f":"IF(BS30<0,0,BS30*CONTROL!$C$18/12)","v":0},{"$f":"IF(BT30<0,0,BT30*CONTROL!$C$18/12)","v":0},{"$f":"IF(BU30<0,0,BU30*CONTROL!$C$18/12)","v":0},{"$f":"IF(BV30<0,0,BV30*CONTROL!$C$18/12)","v":0},{"$f":"IF(BW30<0,0,BW30*CONTROL!$C$18/12)","v":0},{"$f":"IF(BX30<0,0,BX30*CONTROL!$C$18/12)","v":0},{"$f":"IF(BY30<0,0,BY30*CONTROL!$C$18/12)","v":0},{"$f":"IF(BZ30<0,0,BZ30*CONTROL!$C$18/12)","v":0},{"$f":"IF(CA30<0,0,CA30*CONTROL!$C$18/12)","v":0},{"$f":"IF(CB30<0,0,CB30*CONTROL!$C$18/12)","v":0},{"$f":"IF(CC30<0,0,CC30*CONTROL!$C$18/12)","v":0},{"$f":"IF(CD30<0,0,CD30*CONTROL!$C$18/12)","v":0},{"$f":"IF(CE30<0,0,CE30*CONTROL!$C$18/12)","v":0},{"$f":"IF(CF30<0,0,CF30*CONTROL!$C$18/12)","v":0},{"$f":"IF(CG30<0,0,CG30*CONTROL!$C$18/12)","v":0},{"$f":"IF(CH30<0,0,CH30*CONTROL!$C$18/12)","v":0},{"$f":"IF(CI30<0,0,CI30*CONTROL!$C$18/12)","v":0},{"$f":"IF(CJ30<0,0,CJ30*CONTROL!$C$18/12)","v":0},{"$f":"IF(CK30<0,0,CK30*CONTROL!$C$18/12)","v":0},{"$f":"IF(CL30<0,0,CL30*CONTROL!$C$18/12)","v":0},{"$f":"IF(CM30<0,0,CM30*CONTROL!$C$18/12)","v":0},{"$f":"IF(CN30<0,0,CN30*CONTROL!$C$18/12)","v":0},{"$f":"IF(CO30<0,0,CO30*CONTROL!$C$18/12)","v":0},{"$f":"IF(CP30<0,0,CP30*CONTROL!$C$18/12)","v":0},{"$f":"IF(CQ30<0,0,CQ30*CONTROL!$C$18/12)","v":0},{"$f":"IF(CR30<0,0,CR30*CONTROL!$C$18/12)","v":0},{"$f":"IF(CS30<0,0,CS30*CONTROL!$C$18/12)","v":0},{"$f":"IF(CT30<0,0,CT30*CONTROL!$C$18/12)","v":0},{"$f":"IF(CU30<0,0,CU30*CONTROL!$C$18/12)","v":0},{"$f":"IF(CV30<0,0,CV30*CONTROL!$C$18/12)","v":0},{"$f":"IF(CW30<0,0,CW30*CONTROL!$C$18/12)","v":0},{"$f":"IF(CX30<0,0,CX30*CONTROL!$C$18/12)","v":0},{"$f":"IF(CY30<0,0,CY30*CONTROL!$C$18/12)","v":0},{"$f":"IF(CZ30<0,0,CZ30*CONTROL!$C$18/12)","v":0},{"$f":"IF(DA30<0,0,DA30*CONTROL!$C$18/12)","v":0},{"$f":"IF(DB30<0,0,DB30*CONTROL!$C$18/12)","v":0}]
[null,"Pagos ExtraOperativos",{"$f":"SUM(C21:C26)","v":1},0,0,0,0,0,0,0,null,0,0,0,1,0,0,0,0,0,0,0,0,0,0,0,0,0,0,0,0,0,0,0,0,0,0,0,0,0,0,0,0,0,0,0,0,0,0,0,0,0,0,0,0,0,0,0,0,0,0,0,0,0,0,0,0,0,0,0,0,0,0,0,0,0,0,{"$f":"SUM(BZ21:BZ26)","v":0},0,0,0,0,0,0,0,0,0,0,0,0,0,0,0,0,0,0,0,0,0,0,0,0,0,0,0,0,0]
[null,"Inversiones",{"$f":"SUM(L21:W21)","v":1},{"$f":"SUMIF($X$2:$DC$2,D$3,$X21:$DC21)","v":0},0,0,0,0,0,0,null,{"$f":"INV!Q40","v":0},{"$f":"INV!R40","v":0},{"$f":"INV!S40","v":0},{"$f":"INV!T40","v":1},{"$f":"INV!U40","v":0},{"$f":"INV!V40","v":0},{"$f":"INV!W40","v":0},{"$f":"INV!X40","v":0},{"$f":"INV!Y40","v":0},{"$f":"INV!Z40","v":0},{"$f":"INV!AA40","v":0},{"$f":"INV!AB40","v":0},{"$f":"INV!AC40","v":0},{"$f":"INV!AD40","v":0},{"$f":"INV!AE40","v":0},{"$f":"INV!AF40","v":0},{"$f":"INV!AG40","v":0},{"$f":"INV!AH40","v":0},{"$f":"INV!AI40","v":0},{"$f":"INV!AJ40","v":0},{"$f":"INV!AK40","v":0},{"$f":"INV!AL40","v":0},{"$f":"INV!AM40","v":0},{"$f":"INV!AN40","v":0},{"$f":"INV!AO40","v":0},{"$f":"INV!AP40","v":0},{"$f":"INV!AQ40","v":0},{"$f":"INV!AR40","v":0},{"$f":"INV!AS40","v":0},{"$f":"INV!AT40","v":0},{"$f":"INV!AU40","v":0},{"$f":"INV!AV40","v":0},{"$f":"INV!AW40","v":0},{"$f":"INV!AX40","v":0},{"$f":"INV!AY40","v":0},{"$f":"INV!AZ40","v":0},{"$f":"INV!BA40","v":0},{"$f":"INV!BB40","v":0},{"$f":"INV!BC40","v":0},{"$f":"INV!BD40","v":0},{"$f":"INV!BE40","v":0},{"$f":"INV!BF40","v":0},{"$f":"INV!BG40","v":0},{"$f":"INV!BH40","v":0},{"$f":"INV!BI40","v":0},{"$f":"INV!BJ40","v":0},{"$f":"INV!BK40","v":0},{"$f":"INV!BL40","v":0},{"$f":"INV!BM40","v":0},{"$f":"INV!BN40","v":0},{"$f":"INV!BO40","v":0},{"$f":"INV!BP40","v":0},{"$f":"INV!BQ40","v":0},{"$f":"INV!BR40","v":0},{"$f":"INV!BS40","v":0},{"$f":"INV!BT40","v":0},{"$f":"INV!BU40","v":0},{"$f":"INV!BV40","v":0},{"$f":"INV!BW40","v":0},{"$f":"INV!BX40","v":0},{"$f":"INV!BY40","v":0},{"$f":"INV!BZ40","v":0},{"$f":"INV!CA40","v":0},{"$f":"INV!CB40","v":0},{"$f":"INV!CC40","v":0},{"$f":"INV!CD40","v":0},{"$f":"INV!CE40","v":0},{"$f":"INV!CF40","v":0},{"$f":"INV!CG40","v":0},{"$f":"INV!CH40","v":0},{"$f":"INV!CI40","v":0},{"$f":"INV!CJ40","v":0},{"$f":"INV!CK40","v":0},{"$f":"INV!CL40","v":0},{"$f":"INV!CM40","v":0},{"$f":"INV!CN40","v":0},{"$f":"INV!CO40","v":0},{"$f":"INV!CP40","v":0},{"$f":"INV!CQ40","v":0},{"$f":"INV!CR40","v":0},{"$f":"INV!CS40","v":0},{"$f":"INV!CT40","v":0},{"$f":"INV!CU40","v":0},{"$f":"INV!CV40","v":0},{"$f":"INV!CW40","v":0},{"$f":"INV!CX40","v":0},{"$f":"INV!CY40","v":0},{"$f":"INV!CZ40","v":0},{"$f":"INV!DA40","v":0},{"$f":"INV!DB40","v":0},{"$f":"INV!DC40","v":0},{"$f":"INV!DD40","v":0},{"$f":"INV!DE40","v":0},{"$f":"INV!DF40","v":0},{"$f":"INV!DG40","v":0},{"$f":"INV!DH40","v":0}]
[null,"IVA Soportado",{"$f":"SUM(L22:W22)","v":0},0,0,0,0,0,0,0,null,{"$f":"IVA!C5+IVA!C6","v":0},{"$f":"IVA!D5+IVA!D6","v":0},{"$f":"IVA!E5+IVA!E6","v":0},{"$f":"IVA!F5+IVA!F6","v":0},{"$f":"IVA!G5+IVA!G6","v":0},{"$f":"IVA!H5+IVA!H6","v":0},{"$f":"IVA!I5+IVA!I6","v":0},{"$f":"IVA!J5+IVA!J6","v":0},{"$f":"IVA!K5+IVA!K6","v":0},{"$f":"IVA!L5+IVA!L6","v":0},{"$f":"IVA!M5+IVA!M6","v":0},{"$f":"IVA!N5+IVA!N6","v":0},{"$f":"IVA!O5+IVA!O6","v":0},{"$f":"IVA!P5+IVA!P6","v":0},{"$f":"IVA!Q5+IVA!Q6","v":0},{"$f":"IVA!R5+IVA!R6","v":0},{"$f":"IVA!S5+IVA!S6","v":0},{"$f":"IVA!T5+IVA!T6","v":0},{"$f":"IVA!U5+IVA!U6","v":0},{"$f":"IVA!V5+IVA!V6","v":0},{"$f":"IVA!W5+IVA!W6","v":0},{"$f":"IVA!X5+IVA!X6","v":0},{"$f":"IVA!Y5+IVA!Y6","v":0},{"$f":"IVA!Z5+IVA!Z6","v":0},{"$f":"IVA!AA5+IVA!AA6","v":0},{"$f":"IVA!AB5+IVA!AB6","v":0},{"$f":"IVA!AC5+IVA!AC6","v":0},{"$f":"IVA!AD5+IVA!AD6","v":0},{"$f":"IVA!AE5+IVA!AE6","v":0},{"$f":"IVA!AF5+IVA!AF6","v":0},{"$f":"IVA!AG5+IVA!AG6","v":0},{"$f":"IVA!AH5+IVA!AH6","v":0},{"$f":"IVA!AI5+IVA!AI6","v":0},{"$f":"IVA!AJ5+IVA!AJ6","v":0},{"$f":"IVA!AK5+IVA!AK6","v":0},{"$f":"IVA!AL5+IVA!AL6","v":0},{"$f":"IVA!AM5+IVA!AM6","v":0},{"$f":"IVA!AN5+IVA!AN6","v":0},{"$f":"IVA!AO5+IVA!AO6","v":0},{"$f":"IVA!AP5+IVA!AP6","v":0},{"$f":"IVA!AQ5+IVA!AQ6","v":0},{"$f":"IVA!AR5+IVA!AR6","v":0},{"$f":"IVA!AS5+IVA!AS6","v":0},{"$f":"IVA!AT5+IVA!AT6","v":0},{"$f":"IVA!AU5+IVA!AU6","v":0},{"$f":"IVA!AV5+IVA!AV6","v":0},{"$f":"IVA!AW5+IVA!AW6","v":0},{"$f":"IVA!AX5+IVA!AX6","v":0},{"$f":"IVA!AY5+IVA!AY6","v":0},{"$f":"IVA!AZ5+IVA!AZ6","v":0},{"$f":"IVA!BA5+IVA!BA6","v":0},{"$f":"IVA!BB5+IVA!BB6","v":0},{"$f":"IVA!BC5+IVA!BC6","v":0},{"$f":"IVA!BD5+IVA!BD6","v":0},{"$f":"IVA!BE5+IVA!BE6","v":0},{"$f":"IVA!BF5+IVA!BF6","v":0},{"$f":"IVA!BG5+IVA!BG6","v":0},{"$f":"IVA!BH5+IVA!BH6","v":0},{"$f":"IVA!BI5+IVA!BI6","v":0},{"$f":"IVA!BJ5+IVA!BJ6","v":0},{"$f":"IVA!BK5+IVA!BK6","v":0},{"$f":"IVA!BL5+IVA!BL6","v":0},{"$f":"IVA!BM5+IVA!BM6","v":0},{"$f":"IVA!BN5+IVA!BN6","v":0},{"$f":"IVA!BO5+IVA!BO6","v":0},{"$f":"IVA!BP5+IVA!BP6","v":0},{"$f":"IVA!BQ5+IVA!BQ6","v":0},{"$f":"IVA!BR5+IVA!BR6","v":0},{"$f":"IVA!BS5+IVA!BS6","v":0},{"$f":"IVA!BT5+IVA!BT6","v":0},{"$f":"IVA!BU5+IVA!BU6","v":0},{"$f":"IVA!BV5+IVA!BV6","v":0},{"$f":"IVA!BW5+IVA!BW6","v":0},{"$f":"IVA!BX5+IVA!BX6","v":0},{"$f":"IVA!BY5+IVA!BY6","v":0},{"$f":"IVA!BZ5+IVA!BZ6","v":0},{"$f":"IVA!CA5+IVA!CA6","v":0},{"$f":"IVA!CB5+IVA!CB6","v":0},{"$f":"IVA!CC5+IVA!CC6","v":0},{"$f":"IVA!CD5+IVA!CD6","v":0},{"$f":"IVA!CE5+IVA!CE6","v":0},{"$f":"IVA!CF5+IVA!CF6","v":0},{"$f":"IVA!CG5+IVA!CG6","v":0},{"$f":"IVA!CH5+IVA!CH6","v":0},{"$f":"IVA!CI5+IVA!CI6","v":0},{"$f":"IVA!CJ5+IVA!CJ6","v":0},{"$f":"IVA!CK5+IVA!CK6","v":0},{"$f":"IVA!CL5+IVA!CL6","v":0},{"$f":"IVA!CM5+IVA!CM6","v":0},{"$f":"IVA!CN5+IVA!CN6","v":0},{"$f":"IVA!CO5+IVA!CO6","v":0},{"$f":"IVA!CP5+IVA!CP6","v":0},{"$f":"IVA!CQ5+IVA!CQ6","v":0},{"$f":"IVA!CR5+IVA!CR6","v":0},{"$f":"IVA!CS5+IVA!CS6","v":0},{"$f":"IVA!CT5+IVA!CT6","v":0}]
[null,"Pago IVA Hacienda",{"$f":"SUM(L23:W23)","v":0},0,0,0,0,0,0,0,null,{"$f":"IVA!C14","v":0},{"$f":"IVA!D14","v":0},{"$f":"IVA!E14","v":0},{"$f":"IVA!F14","v":0},{"$f":"IVA!G14","v":0},{"$f":"IVA!H14","v":0},{"$f":"IVA!I14","v":0},{"$f":"IVA!J14","v":0},{"$f":"IVA!K14","v":0},{"$f":"IVA!L14","v":0},{"$f":"IVA!M14","v":0},{"$f":"IVA!N14","v":0},{"$f":"IVA!O14","v":0},{"$f":"IVA!P14","v":0},{"$f":"IVA!Q14","v":0},{"$f":"IVA!R14","v":0},{"$f":"IVA!S14","v":0},{"$f":"IVA!T14","v":0},{"$f":"IVA!U14","v":0},{"$f":"IVA!V14","v":0},{"$f":"IVA!W14","v":0},{"$f":"IVA!X14","v":0},{"$f":"IVA!Y14","v":0},{"$f":"IVA!Z14","v":0},{"$f":"IVA!AA14","v":0},{"$f":"IVA!AB14","v":0},{"$f":"IVA!AC14","v":0},{"$f":"IVA!AD14","v":0},{"$f":"IVA!AE14","v":0},{"$f":"IVA!AF14","v":0},{"$f":"IVA!AG14","v":0},{"$f":"IVA!AH14","v":0},{"$f":"IVA!AI14","v":0},{"$f":"IVA!AJ14","v":0},{"$f":"IVA!AK14","v":0},{"$f":"IVA!AL14","v":0},{"$f":"IVA!AM14","v":0},{"$f":"IVA!AN14","v":0},{"$f":"IVA!AO14","v":0},{"$f":"IVA!AP14","v":0},{"$f":"IVA!AQ14","v":0},{"$f":"IVA!AR14","v":0},{"$f":"IVA!AS14","v":0},{"$f":"IVA!AT14","v":0},{"$f":"IVA!AU14","v":0},{"$f":"IVA!AV14","v":0},{"$f":"IVA!AW14","v":0},{"$f":"IVA!AX14","v":0},{"$f":"IVA!AY14","v":0},{"$f":"IVA!AZ14","v":0},{"$f":"IVA!BA14","v":0},{"$f":"IVA!BB14","v":0},{"$f":"IVA!BC14","v":0},{"$f":"IVA!BD14","v":0},{"$f":"IVA!BE14","v":0},{"$f":"IVA!BF14","v":0},{"$f":"IVA!BG14","v":0},{"$f":"IVA!BH14","v":0},{"$f":"IVA!BI14","v":0},{"$f":"IVA!BJ14","v":0},{"$f":"IVA!BK14","v":0},{"$f":"IVA!BL14","v":0},{"$f":"IVA!BM14","v":0},{"$f":"IVA!BN14","v":0},{"$f":"IVA!BO14","v":0},{"$f":"IVA!BP14","v":0},{"$f":"IVA!BQ14","v":0},{"$f":"IVA!BR14","v":0},{"$f":"IVA!BS14","v":0},{"$f":"IVA!BT14","v":0},{"$f":"IVA!BU14","v":0},{"$f":"IVA!BV14","v":0},{"$f":"IVA!BW14","v":0},{"$f":"IVA!BX14","v":0},{"$f":"IVA!BY14","v":0},{"$f":"IVA!BZ14","v":0},{"$f":"IVA!CA14","v":0},{"$f":"IVA!CB14","v":0},{"$f":"IVA!CC14","v":0},{"$f":"IVA!CD14","v":0},{"$f":"IVA!CE14","v":0},{"$f":"IVA!CF14","v":0},{"$f":"IVA!CG14","v":0},{"$f":"IVA!CH14","v":0},{"$f":"IVA!CI14","v":0},{"$f":"IVA!CJ14","v":0},{"$f":"IVA!CK14","v":0},{"$f":"IVA!CL14","v":0},{"$f":"IVA!CM14","v":0},{"$f":"IVA!CN14","v":0},{"$f":"IVA!CO14","v":0},{"$f":"IVA!CP14","v":0},{"$f":"IVA!CQ14","v":0},{"$f":"IVA!CR14","v":0},{"$f":"IVA!CS14","v":0},{"$f":"IVA!CT14","v":0}]
[null,"Amortización Deuda",{"$f":"SUM(M24:W24)","v":0},0,0,0,0,0,0,0,null,null,{"$f":"MAX(0,BALANCE!L24-BALANCE!M24)","v":0},{"$f":"MAX(0,BALANCE!M24-BALANCE!N24)","v":0},{"$f":"MAX(0,BALANCE!N24-BALANCE!O24)","v":0},{"$f":"MAX(0,BALANCE!O24-BALANCE!P24)","v":0},{"$f":"MAX(0,BALANCE!P24-BALANCE!Q24)","v":0},{"$f":"MAX(0,BALANCE!Q24-BALANCE!R24)","v":0},{"$f":"MAX(0,BALANCE!R24-BALANCE!S24)","v":0},{"$f":"MAX(0,BALANCE!S24-BALANCE!T24)","v":0},{"$f":"MAX(0,BALANCE!T24-BALANCE!U24)","v":0},{"$f":"MAX(0,BALANCE!U24-BALANCE!V24)","v":0},{"$f":"MAX(0,BALANCE!V24-BALANCE!W24+BALANCE!V23-BALANCE!W23)","v":0},{"$f":"MAX(0,BALANCE!W24-BALANCE!X24)+FIN!D54","v":0},{"$f":"MAX(0,BALANCE!X24-BALANCE!Y24)+FIN!E54","v":0},{"$f":"MAX(0,BALANCE!Y24-BALANCE!Z24)+FIN!F54","v":0},{"$f":"MAX(0,BALANCE!Z24-BALANCE!AA24)+FIN!G54","v":0},{"$f":"MAX(0,BALANCE!AA24-BALANCE!AB24)+FIN!H54","v":0},{"$f":"MAX(0,BALANCE!AB24-BALANCE!AC24)+FIN!I54","v":0},{"$f":"MAX(0,BALANCE!AC24-BALANCE!AD24)+FIN!J54","v":0},{"$f":"MAX(0,BALANCE!AD24-BALANCE!AE24)+FIN!K54","v":0},{"$f":"MAX(0,BALANCE!AE24-BALANCE!AF24)+FIN!L54","v":0},{"$f":"MAX(0,BALANCE!AF24-BALANCE!AG24)+FIN!M54","v":0},{"$f":"MAX(0,BALANCE!AG24-BALANCE!AH24)+FIN!N54","v":0},{"$f":"MAX(0,BALANCE!AH24-BALANCE!AI24)+FIN!O54","v":0},{"$f":"MAX(0,BALANCE!AI24-BALANCE!AJ24)+FIN!P54","v":0},{"$f":"MAX(0,BALANCE!AJ24-BALANCE!AK24)+FIN!Q54","v":0},{"$f":"MAX(0,BALANCE!AK24-BALANCE!AL24)+FIN!R54","v":0},{"$f":"MAX(0,BALANCE!AL24-BALANCE!AM24)+FIN!S54","v":0},{"$f":"MAX(0,BALANCE!AM24-BALANCE!AN24)+FIN!T54","v":0},{"$f":"MAX(0,BALANCE!AN24-BALANCE!AO24)+FIN!U54","v":0},{"$f":"MAX(0,BALANCE!AO24-BALANCE!AP24)+FIN!V54","v":0},{"$f":"MAX(0,BALANCE!AP24-BALANCE!AQ24)+FIN!W54","v":0},{"$f":"MAX(0,BALANCE!AQ24-BALANCE!AR24)+FIN!X54","v":0},{"$f":"MAX(0,BALANCE!AR24-BALANCE!AS24)+FIN!Y54","v":0},{"$f":"MAX(0,BALANCE!AS24-BALANCE!AT24)+FIN!Z54","v":0},{"$f":"MAX(0,BALANCE!AT24-BALANCE!AU24)+FIN!AA54","v":0},{"$f":"MAX(0,BALANCE!AU24-BALANCE!AV24)+FIN!AB54","v":0},{"$f":"MAX(0,BALANCE!AV24-BALANCE!AW24)+FIN!AC54","v":0},{"$f":"MAX(0,BALANCE!AW24-BALANCE!AX24)+FIN!AD54","v":0},{"$f":"MAX(0,BALANCE!AX24-BALANCE!AY24)+FIN!AE54","v":0},{"$f":"MAX(0,BALANCE!AY24-BALANCE!AZ24)+FIN!AF54","v":0},{"$f":"MAX(0,BALANCE!AZ24-BALANCE!BA24)+FIN!AG54","v":0},{"$f":"MAX(0,BALANCE!BA24-BALANCE!BB24)+FIN!AH54","v":0},{"$f":"MAX(0,BALANCE!BB24-BALANCE!BC24)+FIN!AI54","v":0},{"$f":"MAX(0,BALANCE!BC24-BALANCE!BD24)+FIN!AJ54","v":0},{"$f":"MAX(0,BALANCE!BD24-BALANCE!BE24)+FIN!AK54","v":0},{"$f":"MAX(0,BALANCE!BE24-BALANCE!BF24)+FIN!AL54","v":0},{"$f":"MAX(0,BALANCE!BF24-BALANCE!BG24)+FIN!AM54","v":0},{"$f":"MAX(0,BALANCE!BG24-BALANCE!BH24)+FIN!AN54","v":0},{"$f":"MAX(0,BALANCE!BH24-BALANCE!BI24)+FIN!AO54","v":0},{"$f":"MAX(0,BALANCE!BI24-BALANCE!BJ24)+FIN!AP54","v":0},{"$f":"MAX(0,BALANCE!BJ24-BALANCE!BK24)+FIN!AQ54","v":0},{"$f":"MAX(0,BALANCE!BK24-BALANCE!BL24)+FIN!AR54","v":0},{"$f":"MAX(0,BALANCE!BL24-BALANCE!BM24)+FIN!AS54","v":0},{"$f":"MAX(0,BALANCE!BM24-BALANCE!BN24)+FIN!AT54","v":0},{"$f":"MAX(0,BALANCE!BN24-BALANCE!BO24)+FIN!AU54","v":0},{"$f":"MAX(0,BALANCE!BO24-BALANCE!BP24)+FIN!AV54","v":0},{"$f":"MAX(0,BALANCE!BP24-BALANCE!BQ24)+FIN!AW54","v":0},{"$f":"MAX(0,BALANCE!BQ24-BALANCE!BR24)+FIN!AX54","v":0},{"$f":"MAX(0,BALANCE!BR24-BALANCE!BS24)+FIN!AY54","v":0},{"$f":"MAX(0,BALANCE!BS24-BALANCE!BT24)+FIN!AZ54","v":0},{"$f":"MAX(0,BALANCE!BT24-BALANCE!BU24)+FIN!BA54","v":0},{"$f":"MAX(0,BALANCE!BU24-BALANCE!BV24)+FIN!BB54","v":0},{"$f":"MAX(0,BALANCE!BV24-BALANCE!BW24)+FIN!BC54","v":0},{"$f":"MAX(0,BALANCE!BW24-BALANCE!BX24)+FIN!BD54","v":0},{"$f":"MAX(0,BALANCE!BX24-BALANCE!BY24)+FIN!BE54","v":0},{"$f":"MAX(0,BALANCE!BY24-BALANCE!BZ24)+FIN!BF54","v":0},{"$f":"MAX(0,BALANCE!BZ24-BALANCE!CA24)+FIN!BG54","v":0},{"$f":"MAX(0,BALANCE!CA24-BALANCE!CB24)+FIN!BH54","v":0},{"$f":"MAX(0,BALANCE!CB24-BALANCE!CC24)+FIN!BI54","v":0},{"$f":"MAX(0,BALANCE!CC24-BALANCE!CD24)+FIN!BJ54","v":0},{"$f":"MAX(0,BALANCE!CD24-BALANCE!CE24)+FIN!BK54","v":0},{"$f":"MAX(0,BALANCE!CE24-BALANCE!CF24)+FIN!BL54","v":0},{"$f":"MAX(0,BALANCE!CF24-BALANCE!CG24)+FIN!BM54","v":0},{"$f":"MAX(0,BALANCE!CG24-BALANCE!CH24)+FIN!BN54","v":0},{"$f":"MAX(0,BALANCE!CH24-BALANCE!CI24)+FIN!BO54","v":0},{"$f":"MAX(0,BALANCE!CI24-BALANCE!CJ24)+FIN!BP54","v":0},{"$f":"MAX(0,BALANCE!CJ24-BALANCE!CK24)+FIN!BQ54","v":0},{"$f":"MAX(0,BALANCE!CK24-BALANCE!CL24)+FIN!BR54","v":0},{"$f":"MAX(0,BALANCE!CL24-BALANCE!CM24)+FIN!BS54","v":0},{"$f":"MAX(0,BALANCE!CM24-BALANCE!CN24)+FIN!BT54","v":0},{"$f":"MAX(0,BALANCE!CN24-BALANCE!CO24)+FIN!BU54","v":0},{"$f":"MAX(0,BALANCE!CO24-BALANCE!CP24)+FIN!BV54","v":0},{"$f":"MAX(0,BALANCE!CP24-BALANCE!CQ24)+FIN!BW54","v":0},{"$f":"MAX(0,BALANCE!CQ24-BALANCE!CR24)+FIN!BX54","v":0},{"$f":"MAX(0,BALANCE!CR24-BALANCE!CS24)+FIN!BY54","v":0},{"$f":"MAX(0,BALANCE!CS24-BALANCE!CT24)+FIN!BZ54","v":0},{"$f":"MAX(0,BALANCE!CT24-BALANCE!CU24)+FIN!CA54","v":0},{"$f":"MAX(0,BALANCE!CU24-BALANCE!CV24)+FIN!CB54","v":0},{"$f":"MAX(0,BALANCE!CV24-BALANCE!CW24)+FIN!CC54","v":0},{"$f":"MAX(0,BALANCE!CW24-BALANCE!CX24)+FIN!CD54","v":0},{"$f":"MAX(0,BALANCE!CX24-BALANCE!CY24)+FIN!CE54","v":0},{"$f":"MAX(0,BALANCE!CY24-BALANCE!CZ24)+FIN!CF54","v":0},{"$f":"MAX(0,BALANCE!CZ24-BALANCE!DA24)+FIN!CG54","v":0},{"$f":"MAX(0,BALANCE!DA24-BALANCE!DB24)+FIN!CH54","v":0},{"$f":"MAX(0,BALANCE!DB24-BALANCE!DC24)+FIN!CI54","v":0}]
[null,"Dividendos",null,null,{"$f":"CTA.RES!C18","v":0},{"$f":"CTA.RES!D18","v":0},{"$f":"CTA.RES!E18","v":0},{"$f":"CTA.RES!F18","v":0},{"$f":"CTA.RES!G18","v":0},{"$f":"CTA.RES!H18","v":0},null,null,null,null,null,null,null,null,null,null,null,null,null,{"$f":"IF(MONTH(X3)=Mes_Div,LOOKUP(X2,$D$3:$J$3,$D$25:$J$25),0)","v":0},0,0,0,0,0,0,0,0,0,0,0,0,0,0,0,0,0,0,0,0,0,0,0,0,0,0,0,0,0,0,0,{"$f":"IF(MONTH(BD3)=Mes_Div,LOOKUP(BD2,$D$3:$J$3,$D$25:$J$25),0)","v":0},0,0,0,0,0,0,0,0,0,0,0,0,0,0,0,0,0,0,0,0,0,0,0,0,0,0,0,0,0,0,0,{"$f":"IF(MONTH(CJ3)=Mes_Div,LOOKUP(CJ2,$D$3:$J$3,$D$25:$J$25),0)","v":0},0,0,0,0,0,0,0,0,0,0,0,0,0,0,0,0,0,0,0]
[null,"Gastos Financieros",null,{"$f":"SUMIF($X$2:$DC$2,D$3,$X26:$DC26)","v":0},0,0,0,0,0,0,null,null,null,null,null,null,null,null,null,null,null,null,null,{"$f":"FIN!D55+FIN!C57+SUM(BALANCE!L24:W24)*CONTROL!E18/12*RIESGO!C9","v":0},{"$f":"FIN!E55+BALANCE!X24*CONTROL!$E$18/12*RIESGO!$C$9","v":0},{"$f":"FIN!F55+BALANCE!Y24*CONTROL!$E$18/12*RIESGO!$C$9","v":0},{"$f":"FIN!G55+BALANCE!Z24*CONTROL!$E$18/12*RIESGO!$C$9","v":0},{"$f":"FIN!H55+BALANCE!AA24*CONTROL!$E$18/12*RIESGO!$C$9","v":0},{"$f":"FIN!I55+BALANCE!AB24*CONTROL!$E$18/12*RIESGO!$C$9","v":0},{"$f":"FIN!J55+BALANCE!AC24*CONTROL!$E$18/12*RIESGO!$C$9","v":0},{"$f":"FIN!K55+BALANCE!AD24*CONTROL!$E$18/12*RIESGO!$C$9","v":0},{"$f":"FIN!L55+BALANCE!AE24*CONTROL!$E$18/12*RIESGO!$C$9","v":0},{"$f":"FIN!M55+BALANCE!AF24*CONTROL!$E$18/12*RIESGO!$C$9","v":0},{"$f":"FIN!N55+BALANCE!AG24*CONTROL!$E$18/12*RIESGO!$C$9","v":0},{"$f":"FIN!O55+BALANCE!AH24*CONTROL!$E$18/12*RIESGO!$C$9","v":0},{"$f":"FIN!P55+BALANCE!AI24*CONTROL!$E$18/12*RIESGO!$C$9","v":0},{"$f":"FIN!Q55+BALANCE!AJ24*CONTROL!$E$18/12*RIESGO!$C$9","v":0},{"$f":"FIN!R55+BALANCE!AK24*CONTROL!$E$18/12*RIESGO!$C$9","v":0},{"$f":"FIN!S55+BALANCE!AL24*CONTROL!$E$18/12*RIESGO!$C$9","v":0},{"$f":"FIN!T55+BALANCE!AM24*CONTROL!$E$18/12*RIESGO!$C$9","v":0},{"$f":"FIN!U55+BALANCE!AN24*CONTROL!$E$18/12*RIESGO!$C$9","v":0},{"$f":"FIN!V55+BALANCE!AO24*CONTROL!$E$18/12*RIESGO!$C$9","v":0},{"$f":"FIN!W55+BALANCE!AP24*CONTROL!$E$18/12*RIESGO!$C$9","v":0},{"$f":"FIN!X55+BALANCE!AQ24*CONTROL!$E$18/12*RIESGO!$C$9","v":0},{"$f":"FIN!Y55+BALANCE!AR24*CONTROL!$E$18/12*RIESGO!$C$9","v":0},{"$f":"FIN!Z55+BALANCE!AS24*CONTROL!$E$18/12*RIESGO!$C$9","v":0},{"$f":"FIN!AA55+BALANCE!AT24*CONTROL!$E$18/12*RIESGO!$C$9","v":0},{"$f":"FIN!AB55+BALANCE!AU24*CONTROL!$E$18/12*RIESGO!$C$9","v":0},{"$f":"FIN!AC55+BALANCE!AV24*CONTROL!$E$18/12*RIESGO!$C$9","v":0},{"$f":"FIN!AD55+BALANCE!AW24*CONTROL!$E$18/12*RIESGO!$C$9","v":0},{"$f":"FIN!AE55+BALANCE!AX24*CONTROL!$E$18/12*RIESGO!$C$9","v":0},{"$f":"FIN!AF55+BALANCE!AY24*CONTROL!$E$18/12*RIESGO!$C$9","v":0},{"$f":"FIN!AG55+BALANCE!AZ24*CONTROL!$E$18/12*RIESGO!$C$9","v":0},{"$f":"FIN!AH55+BALANCE!BA24*CONTROL!$E$18/12*RIESGO!$C$9","v":0},{"$f":"FIN!AI55+BALANCE!BB24*CONTROL!$E$18/12*RIESGO!$C$9","v":0},{"$f":"FIN!AJ55+BALANCE!BC24*CONTROL!$E$18/12*RIESGO!$C$9","v":0},{"$f":"FIN!AK55+BALANCE!BD24*CONTROL!$E$18/12*RIESGO!$C$9","v":0},{"$f":"FIN!AL55+BALANCE!BE24*CONTROL!$E$18/12*RIESGO!$C$9","v":0},{"$f":"FIN!AM55+BALANCE!BF24*CONTROL!$E$18/12*RIESGO!$C$9","v":0},{"$f":"FIN!AN55+BALANCE!BG24*CONTROL!$E$18/12*RIESGO!$C$9","v":0},{"$f":"FIN!AO55+BALANCE!BH24*CONTROL!$E$18/12*RIESGO!$C$9","v":0},{"$f":"FIN!AP55+BALANCE!BI24*CONTROL!$E$18/12*RIESGO!$C$9","v":0},{"$f":"FIN!AQ55+BALANCE!BJ24*CONTROL!$E$18/12*RIESGO!$C$9","v":0},{"$f":"FIN!AR55+BALANCE!BK24*CONTROL!$E$18/12*RIESGO!$C$9","v":0},{"$f":"FIN!AS55+BALANCE!BL24*CONTROL!$E$18/12*RIESGO!$C$9","v":0},{"$f":"FIN!AT55+BALANCE!BM24*CONTROL!$E$18/12*RIESGO!$C$9","v":0},{"$f":"FIN!AU55+BALANCE!BN24*CONTROL!$E$18/12*RIESGO!$C$9","v":0},{"$f":"FIN!AV55+BALANCE!BO24*CONTROL!$E$18/12*RIESGO!$C$9","v":0},{"$f":"FIN!AW55+BALANCE!BP24*CONTROL!$E$18/12*RIESGO!$C$9","v":0},{"$f":"FIN!AX55+BALANCE!BQ24*CONTROL!$E$18/12*RIESGO!$C$9","v":0},{"$f":"FIN!AY55+BALANCE!BR24*CONTROL!$E$18/12*RIESGO!$C$9","v":0},{"$f":"FIN!AZ55+BALANCE!BS24*CONTROL!$E$18/12*RIESGO!$C$9","v":0},{"$f":"FIN!BA55+BALANCE!BT24*CONTROL!$E$18/12*RIESGO!$C$9","v":0},{"$f":"FIN!BB55+BALANCE!BU24*CONTROL!$E$18/12*RIESGO!$C$9","v":0},{"$f":"FIN!BC55+BALANCE!BV24*CONTROL!$E$18/12*RIESGO!$C$9","v":0},{"$f":"FIN!BD55+BALANCE!BW24*CONTROL!$E$18/12*RIESGO!$C$9","v":0},{"$f":"FIN!BE55+BALANCE!BX24*CONTROL!$E$18/12*RIESGO!$C$9","v":0},{"$f":"FIN!BF55+BALANCE!BY24*CONTROL!$E$18/12*RIESGO!$C$9","v":0},{"$f":"FIN!BG55+BALANCE!BZ24*CONTROL!$E$18/12*RIESGO!$C$9","v":0},{"$f":"FIN!BH55+BALANCE!CA24*CONTROL!$E$18/12*RIESGO!$C$9","v":0},{"$f":"FIN!BI55+BALANCE!CB24*CONTROL!$E$18/12*RIESGO!$C$9","v":0},{"$f":"FIN!BJ55+BALANCE!CC24*CONTROL!$E$18/12*RIESGO!$C$9","v":0},{"$f":"FIN!BK55+BALANCE!CD24*CONTROL!$E$18/12*RIESGO!$C$9","v":0},{"$f":"FIN!BL55+BALANCE!CE24*CONTROL!$E$18/12*RIESGO!$C$9","v":0},{"$f":"FIN!BM55+BALANCE!CF24*CONTROL!$E$18/12*RIESGO!$C$9","v":0},{"$f":"FIN!BN55+BALANCE!CG24*CONTROL!$E$18/12*RIESGO!$C$9","v":0},{"$f":"FIN!BO55+BALANCE!CH24*CONTROL!$E$18/12*RIESGO!$C$9","v":0},{"$f":"FIN!BP55+BALANCE!CI24*CONTROL!$E$18/12*RIESGO!$C$9","v":0},{"$f":"FIN!BQ55+BALANCE!CJ24*CONTROL!$E$18/12*RIESGO!$C$9","v":0},{"$f":"FIN!BR55+BALANCE!CK24*CONTROL!$E$18/12*RIESGO!$C$9","v":0},{"$f":"FIN!BS55+BALANCE!CL24*CONTROL!$E$18/12*RIESGO!$C$9","v":0},{"$f":"FIN!BT55+BALANCE!CM24*CONTROL!$E$18/12*RIESGO!$C$9","v":0},{"$f":"FIN!BU55+BALANCE!CN24*CONTROL!$E$18/12*RIESGO!$C$9","v":0},{"$f":"FIN!BV55+BALANCE!CO24*CONTROL!$E$18/12*RIESGO!$C$9","v":0},{"$f":"FIN!BW55+BALANCE!CP24*CONTROL!$E$18/12*RIESGO!$C$9","v":0},{"$f":"FIN!BX55+BALANCE!CQ24*CONTROL!$E$18/12*RIESGO!$C$9","v":0},{"$f":"FIN!BY55+BALANCE!CR24*CONTROL!$E$18/12*RIESGO!$C$9","v":0},{"$f":"FIN!BZ55+BALANCE!CS24*CONTROL!$E$18/12*RIESGO!$C$9","v":0},{"$f":"FIN!CA55+BALANCE!CT24*CONTROL!$E$18/12*RIESGO!$C$9","v":0},{"$f":"FIN!CB55+BALANCE!CU24*CONTROL!$E$18/12*RIESGO!$C$9","v":0},{"$f":"FIN!CC55+BALANCE!CV24*CONTROL!$E$18/12*RIESGO!$C$9","v":0},{"$f":"FIN!CD55+BALANCE!CW24*CONTROL!$E$18/12*RIESGO!$C$9","v":0},{"$f":"FIN!CE55+BALANCE!CX24*CONTROL!$E$18/12*RIESGO!$C$9","v":0},{"$f":"FIN!CF55+BALANCE!CY24*CONTROL!$E$18/12*RIESGO!$C$9","v":0},{"$f":"FIN!CG55+BALANCE!CZ24*CONTROL!$E$18/12*RIESGO!$C$9","v":0},{"$f":"FIN!CH55+BALANCE!DA24*CONTROL!$E$18/12*RIESGO!$C$9","v":0},{"$f":"FIN!CI55+BALANCE!DB24*CONTROL!$E$18/12*RIESGO!$C$9","v":0}]
[null,"CASH-FLOW EXTRAOPERATIVO",{"$f":"C13-C20","v":0},0,0,0,0,0,0,0,null,0,0,0,0,0,0,0,0,0,0,0,0,0,0,0,0,0,0,0,0,0,0,0,0,0,0,0,0,0,0,0,0,0,0,0,0,0,0,0,0,0,0,0,0,0,0,0,0,0,0,0,0,0,{"$f":"BM13-BM20","v":0},0,0,0,0,0,0,0,0,0,0,0,0,0,0,0,0,0,0,0,0,0,0,0,0,0,0,0,0,0,0,0,0,0,0,0,0,0,0,0,0,0,0]
[]
[null,"Excedente de Tesorería",{"$f":"C27+C12","v":0},1,1,1,1,1,1,1,null,{"$f":"L12+L27","v":0},0,0,0,0,0,0,0,0,0,0,0,8.3333333333333329E-2,8.3333333333333329E-2,8.3333333333333329E-2,8.3333333333333329E-2,8.3333333333333329E-2,8.3333333333333329E-2,8.3333333333333329E-2,8.3333333333333329E-2,8.3333333333333329E-2,8.3333333333333329E-2,8.3333333333333329E-2,8.3333333333333329E-2,8.3333333333333329E-2,8.3333333333333329E-2,8.3333333333333329E-2,8.3333333333333329E-2,8.3333333333333329E-2,8.3333333333333329E-2,8.3333333333333329E-2,8.3333333333333329E-2,{"$f":"AR12+AR27","v":8.3333333333333329E-2},8.3333333333333329E-2,8.3333333333333329E-2,8.3333333333333329E-2,8.3333333333333329E-2,8.3333333333333329E-2,8.3333333333333329E-2,8.3333333333333329E-2,8.3333333333333329E-2,8.3333333333333329E-2,8.3333333333333329E-2,8.3333333333333329E-2,8.3333333333333329E-2,8.3333333333333329E-2,8.3333333333333329E-2,8.3333333333333329E-2,8.3333333333333329E-2,8.3333333333333329E-2,8.3333333333333329E-2,8.3333333333333329E-2,8.3333333333333329E-2,8.3333333333333329E-2,8.3333333333333329E-2,8.3333333333333329E-2,8.3333333333333329E-2,8.3333333333333329E-2,8.3333333333333329E-2,8.3333333333333329E-2,8.3333333333333329E-2,8.3333333333333329E-2,8.3333333333333329E-2,8.3333333333333329E-2,{"$f":"BX12+BX27","v":8.3333333333333329E-2},8.3333333333333329E-2,8.3333333333333329E-2,8.3333333333333329E-2,8.3333333333333329E-2,8.3333333333333329E-2,8.3333333333333329E-2,8.3333333333333329E-2,8.3333333333333329E-2,8.3333333333333329E-2,8.3333333333333329E-2,8.3333333333333329E-2,8.3333333333333329E-2,8.3333333333333329E-2,8.3333333333333329E-2,8.3333333333333329E-2,8.3333333333333329E-2,8.3333333333333329E-2,8.3333333333333329E-2,8.3333333333333329E-2,8.3333333333333329E-2,8.3333333333333329E-2,8.3333333333333329E-2,8.3333333333333329E-2,8.3333333333333329E-2,8.3333333333333329E-2,8.3333333333333329E-2,8.3333333333333329E-2,8.3333333333333329E-2,8.3333333333333329E-2,8.3333333333333329E-2,8.3333333333333329E-2]
[null,"Excedente de Tesorería, acumulado",{"$f":"C29","v":0},{"$f":"C30+D29","v":1},{"$f":"D30+E29","v":2},3,4,5,6,7,null,{"$f":"L27+L12","v":0},{"$f":"L30+M29","v":0},{"$f":"M30+N29","v":0},0,0,0,0,0,0,{"$f":"T30+U29","v":0},0,0,{"$f":"W30+X29","v":8.3333333333333329E-2},{"$f":"X30+Y29","v":0.16666666666666666},0.25,0.33333333333333331,0.41666666666666663,0.49999999999999994,0.58333333333333326,0.66666666666666663,0.75,0.83333333333333337,0.91666666666666674,1,1.0833333333333333,1.1666666666666665,1.2499999999999998,1.333333333333333,1.4166666666666663,1.4999999999999996,1.5833333333333328,1.6666666666666661,1.7499999999999993,1.8333333333333326,1.9166666666666659,1.9999999999999991,2.0833333333333326,2.1666666666666661,2.2499999999999996,2.333333333333333,2.4166666666666665,{"$f":"AZ30+BA29","v":2.5},2.5833333333333335,2.666666666666667,2.7500000000000004,2.8333333333333339,2.9166666666666674,3.0000000000000009,3.0833333333333344,3.1666666666666679,3.2500000000000013,3.3333333333333348,3.4166666666666683,3.5000000000000018,3.5833333333333353,3.6666666666666687,3.7500000000000022,3.8333333333333357,3.9166666666666692,4.0000000000000027,4.0833333333333357,4.1666666666666687,4.2500000000000018,4.3333333333333348,4.4166666666666679,4.5000000000000009,4.5833333333333339,4.666666666666667,4.75,4.833333333333333,4.9166666666666661,4.9999999999999991,5.0833333333333321,{"$f":"CF30+CG29","v":5.1666666666666652},5.2499999999999982,5.3333333333333313,5.4166666666666643,5.4999999999999973,5.5833333333333304,5.6666666666666634,5.7499999999999964,5.8333333333333295,5.9166666666666625,5.9999999999999956,6.0833333333333286,6.1666666666666616,6.2499999999999947,6.3333333333333277,6.4166666666666607,6.4999999999999938,6.5833333333333268,6.6666666666666599,6.7499999999999929,6.8333333333333259,6.916666666666659,6.999999999999992]
[null,"Excedente, según Balance",{"$f":"BALANCE!C15","v":0},{"$f":"BALANCE!D15","v":1},{"$f":"BALANCE!E15","v":1.9999999999999991},{"$f":"BALANCE!F15","v":3.0000000000000009},{"$f":"BALANCE!G15","v":4.0000000000000027},{"$f":"BALANCE!H15","v":4.9999999999999991},{"$f":"BALANCE!I15","v":5.9999999999999956},{"$f":"BALANCE!J15","v":6.999999999999992},null,{"$f":"BALANCE!L15","v":0},{"$f":"BALANCE!M15","v":0},{"$f":"BALANCE!N15","v":0},{"$f":"BALANCE!O15","v":0},{"$f":"BALANCE!P15","v":0},{"$f":"BALANCE!Q15","v":0},{"$f":"BALANCE!R15","v":0},{"$f":"BALANCE!S15","v":0},{"$f":"BALANCE!T15","v":0},{"$f":"BALANCE!U15","v":0},{"$f":"BALANCE!V15","v":0},{"$f":"BALANCE!W15","v":0},{"$f":"BALANCE!X15","v":8.3333333333333259E-2},{"$f":"BALANCE!Y15","v":0.16666666666666674},{"$f":"BALANCE!Z15","v":0.25},{"$f":"BALANCE!AA15","v":0.33333333333333326},{"$f":"BALANCE!AB15","v":0.41666666666666652},{"$f":"BALANCE!AC15","v":0.5},{"$f":"BALANCE!AD15","v":0.58333333333333326},{"$f":"BALANCE!AE15","v":0.66666666666666652},{"$f":"BALANCE!AF15","v":0.75},{"$f":"BALANCE!AG15","v":0.83333333333333348},{"$f":"BALANCE!AH15","v":0.91666666666666674},{"$f":"BALANCE!AI15","v":1},{"$f":"BALANCE!AJ15","v":1.083333333333333},{"$f":"BALANCE!AK15","v":1.1666666666666665},{"$f":"BALANCE!AL15","v":1.25},{"$f":"BALANCE!AM15","v":1.333333333333333},{"$f":"BALANCE!AN15","v":1.4166666666666661},{"$f":"BALANCE!AO15","v":1.4999999999999996},{"$f":"BALANCE!AP15","v":1.583333333333333},{"$f":"BALANCE!AQ15","v":1.6666666666666661},{"$f":"BALANCE!AR15","v":1.7499999999999991},{"$f":"BALANCE!AS15","v":1.8333333333333326},{"$f":"BALANCE!AT15","v":1.9166666666666661},{"$f":"BALANCE!AU15","v":1.9999999999999991},{"$f":"BALANCE!AV15","v":2.0833333333333326},{"$f":"BALANCE!AW15","v":2.1666666666666661},{"$f":"BALANCE!AX15","v":2.2499999999999996},{"$f":"BALANCE!AY15","v":2.333333333333333},{"$f":"BALANCE!AZ15","v":2.4166666666666665},{"$f":"BALANCE!BA15","v":2.5},{"$f":"BALANCE!BB15","v":2.5833333333333335},{"$f":"BALANCE!BC15","v":2.666666666666667},{"$f":"BALANCE!BD15","v":2.7500000000000004},{"$f":"BALANCE!BE15","v":2.8333333333333339},{"$f":"BALANCE!BF15","v":2.9166666666666674},{"$f":"BALANCE!BG15","v":3.0000000000000009},{"$f":"BALANCE!BH15","v":3.0833333333333339},{"$f":"BALANCE!BI15","v":3.1666666666666679},{"$f":"BALANCE!BJ15","v":3.2500000000000018},{"$f":"BALANCE!BK15","v":3.3333333333333348},{"$f":"BALANCE!BL15","v":3.4166666666666679},{"$f":"BALANCE!BM15","v":3.5000000000000018},{"$f":"BALANCE!BN15","v":3.5833333333333357},{"$f":"BALANCE!BO15","v":3.6666666666666687},{"$f":"BALANCE!BP15","v":3.7500000000000018},{"$f":"BALANCE!BQ15","v":3.8333333333333357},{"$f":"BALANCE!BR15","v":3.9166666666666696},{"$f":"BALANCE!BS15","v":4.0000000000000027},{"$f":"BALANCE!BT15","v":4.0833333333333357},{"$f":"BALANCE!BU15","v":4.1666666666666687},{"$f":"BALANCE!BV15","v":4.2500000000000018},{"$f":"BALANCE!BW15","v":4.3333333333333348},{"$f":"BALANCE!BX15","v":4.4166666666666679},{"$f":"BALANCE!BY15","v":4.5000000000000009},{"$f":"BALANCE!BZ15","v":4.5833333333333339},{"$f":"BALANCE!CA15","v":4.666666666666667},{"$f":"BALANCE!CB15","v":4.75},{"$f":"BALANCE!CC15","v":4.833333333333333},{"$f":"BALANCE!CD15","v":4.9166666666666661},{"$f":"BALANCE!CE15","v":4.9999999999999991},{"$f":"BALANCE!CF15","v":5.0833333333333321},{"$f":"BALANCE!CG15","v":5.1666666666666652},{"$f":"BALANCE!CH15","v":5.2499999999999982},{"$f":"BALANCE!CI15","v":5.3333333333333313},{"$f":"BALANCE!CJ15","v":5.4166666666666643},{"$f":"BALANCE!CK15","v":5.4999999999999973},{"$f":"BALANCE!CL15","v":5.5833333333333304},{"$f":"BALANCE!CM15","v":5.6666666666666634},{"$f":"BALANCE!CN15","v":5.7499999999999964},{"$f":"BALANCE!CO15","v":5.8333333333333295},{"$f":"BALANCE!CP15","v":5.9166666666666625},{"$f":"BALANCE!CQ15","v":5.9999999999999956},{"$f":"BALANCE!CR15","v":6.0833333333333286},{"$f":"BALANCE!CS15","v":6.1666666666666616},{"$f":"BALANCE!CT15","v":6.2499999999999947},{"$f":"BALANCE!CU15","v":6.3333333333333277},{"$f":"BALANCE!CV15","v":6.4166666666666607},{"$f":"BALANCE!CW15","v":6.4999999999999938},{"$f":"BALANCE!CX15","v":6.5833333333333268},{"$f":"BALANCE!CY15","v":6.6666666666666599},{"$f":"BALANCE!CZ15","v":6.7499999999999929},{"$f":"BALANCE!DA15","v":6.8333333333333259},{"$f":"BALANCE!DB15","v":6.916666666666659},{"$f":"BALANCE!DC15","v":6.999999999999992}]
[null,"Chequeo",{"$f":"ABS(C30-C31)","v":0},{"$f":"ABS(D30-D31)","v":0},{"$f":"ABS(E30-E31)","v":8.8817841970012523E-16},8.8817841970012523E-16,2.6645352591003757E-15,8.8817841970012523E-16,4.4408920985006262E-15,7.9936057773011271E-15,null,{"$f":"ABS(L30-L31)","v":0},0,0,0,0,0,0,0,0,0,0,0,{"$f":"ABS(X30-X31)","v":6.9388939039072284E-17},8.3266726846886741E-17,0,5.5511151231257827E-17,1.1102230246251565E-16,5.5511151231257827E-17,0,1.1102230246251565E-16,0,1.1102230246251565E-16,0,0,2.2204460492503131E-16,0,2.2204460492503131E-16,0,2.2204460492503131E-16,0,2.2204460492503131E-16,0,2.2204460492503131E-16,0,2.2204460492503131E-16,0,0,0,0,0,0,0,0,0,0,0,0,0,4.4408920985006262E-16,0,4.4408920985006262E-16,0,4.4408920985006262E-16,0,4.4408920985006262E-16,0,4.4408920985006262E-16,0,4.4408920985006262E-16,0,0,0,0,0,0,{"$f":"ABS(BY30-BY31)","v":0},0,0,0,0,0,0,0,0,0,0,0,0,0,0,0,0,0,0,0,0,0,0,0,0,0,0,0,0,0,0]

{"sheet":"RENTAB","index":8,"n_rows":83,"n_cols":13,"rows_kept":83,"cut":false,"hidden":false,"merged":[]}
[null,{"$f":"CONTROL!C2","v":"Proyecto "}]
[null,"Coste recursos propios =",{"$f":"FIN!E16","v":0.12},null,"Crecimiento (a partir año 7) =",{"$f":"CONTROL!C21*RIESGO!C10","v":0}]
[null,"CCMP Promedio =",{"$f":"CONTROL!C34","v":8.5533569932198114E-2},null,"Equilibrio =",{"$f":"CONTROL!E21","v":0}]
[null,"Interés activo =",{"$f":"CONTROL!C18","v":0},null,"Tasa de reinversión implícita =",{"$f":"IF(F3=\"No\",F2/J49,F2/J8)","v":0}]
[]
[null,null,"RESULTADOS DEL PROYECTO"]
[null,"Fecha",{"$f":"EOMONTH(CONTROL!H2,-1)+1","v":"2014-01-01"},{"$f":"EOMONTH(C7,12-Mes_Ini)","v":"2014-12-31"},{"$f":"EOMONTH(D7,12)","v":"2015-12-31"},"2016-12-31","2017-12-31","2018-12-31","2019-12-31","2020-12-31"]
[null,"CCMP",null,{"$f":"FIN!D18","v":4.2162162162162162E-2},{"$f":"FIN!E18","v":7.2786885245901628E-2},{"$f":"FIN!F18","v":8.6117647058823535E-2},{"$f":"FIN!G18","v":9.3577981651376152E-2},{"$f":"FIN!H18","v":9.8345864661654139E-2},{"$f":"FIN!I18","v":0.101656050955414},{"$f":"FIN!J18","v":0.10408839779005523}]
[null,"Factor de descuento",1,{"$f":"C9/(1+D8)","v":0.95954356846473032},0.89444006229138973,0.82352042130381409,0.75305139196405813,0.68562318682379331,0.62235684742909081,0.56368389403855801]
[]
[null,"NOPAT",null,{"$f":"CTA.RES!C10*(1-CTA.RES!C20)","v":1},{"$f":"CTA.RES!D10*(1-CTA.RES!D20)","v":1},{"$f":"CTA.RES!E10*(1-CTA.RES!E20)","v":1},{"$f":"CTA.RES!F10*(1-CTA.RES!F20)","v":1},{"$f":"CTA.RES!G10*(1-CTA.RES!G20)","v":1},{"$f":"CTA.RES!H10*(1-CTA.RES!H20)","v":1},{"$f":"CTA.RES!I10*(1-CTA.RES!I20)","v":1}]
[null,"  + Amortización",null,{"$f":"CTA.RES!C9","v":0},{"$f":"CTA.RES!D9","v":0},{"$f":"CTA.RES!E9","v":0},{"$f":"CTA.RES!F9","v":0},{"$f":"CTA.RES!G9","v":0},{"$f":"CTA.RES!H9","v":0},{"$f":"CTA.RES!I9","v":0}]
[null,"  - Ajuste Fondo de Maniobra",{"$f":"BALANCE!C35","v":0},{"$f":"BALANCE!D35-BALANCE!C35","v":0},{"$f":"BALANCE!E35-BALANCE!D35","v":0},{"$f":"BALANCE!F35-BALANCE!E35","v":0},{"$f":"BALANCE!G35-BALANCE!F35","v":0},{"$f":"BALANCE!H35-BALANCE!G35","v":0},{"$f":"BALANCE!I35-BALANCE!H35","v":0},{"$f":"BALANCE!J35-BALANCE!I35","v":0}]
[null,"  -  Inversiones en Inmovilizado",{"$f":"TES!C21","v":1},{"$f":"TES!D21","v":0},{"$f":"TES!E21","v":0},{"$f":"TES!F21","v":0},{"$f":"TES!G21","v":0},{"$f":"TES!H21","v":0},{"$f":"TES!I21","v":0},{"$f":"TES!J21","v":0}]
[null,"  + Valor en Continuidad",null,null,null,null,null,null,null,{"$f":"IF(F3=\"si\",J11*(1+F2)/J8,J11*(1+F2)*(1-F4)/(J8-F2))","v":9.6072186836518068}]
[null," - Ajuste Año Previo",{"$f":"SUM(BALANCE!L8:V8)*D8/12","v":2.8108108108108109E-2}]
[null,"Flujo Neto de Caja del Proyecto",{"$f":"-C13-C14-C16","v":-1.028108108108108},{"$f":"D11+D12-D13-D14","v":1},1,1,1,1,1,{"$f":"J11+J12-J13-J14+J15","v":10.607218683651807}]
[]
[null,"VAN =",{"$f":"SUMPRODUCT(C9:J9,C17:J17)","v":9.6895457026881662},null,null,"TIR =",{"$f":"IFERROR(XIRR(C17:J17,C7:J7),\"n.d\")","v":1.034248912334442}]
[null,"Índice de Rentabilidad Neto =",{"$f":"C19/-C17","v":9.4246369873675651},null,null,"TIR Modificada =",{"$f":"MIRR(C17:J17,C3,C4)","v":0.48801840484353476}]
[]
[null,null,"RESULTADOS DEL CAPITAL"]
[null,{"$f":"B7","v":"Fecha"},"2014-01-01","2014-12-31","2015-12-31","2016-12-31","2017-12-31","2018-12-31","2019-12-31","2020-12-31"]
[null,"BDT",null,{"$f":"CTA.RES!C17","v":1},{"$f":"CTA.RES!D17","v":1},{"$f":"CTA.RES!E17","v":1},{"$f":"CTA.RES!F17","v":1},{"$f":"CTA.RES!G17","v":1},{"$f":"CTA.RES!H17","v":1},{"$f":"CTA.RES!I17","v":1}]
[null,"  + Amortización",null,{"$f":"D12","v":0},0,0,0,0,0,0]
[null,"  - Ajuste Fondo de Maniobra",{"$f":"C13","v":0},0,0,0,0,0,0,0]
[null,"  -  Inversiones en Inmovilizado",{"$f":"C14","v":1},{"$f":"D14","v":0},0,0,0,0,0,0]
[null,"  + Ajuste Deuda Neta",{"$f":"BALANCE!C36","v":1},{"$f":"BALANCE!D36-BALANCE!C36","v":-1},{"$f":"BALANCE!E36-BALANCE!D36","v":-0.99999999999999911},{"$f":"BALANCE!F36-BALANCE!E36","v":-1.0000000000000018},{"$f":"BALANCE!G36-BALANCE!F36","v":-1.0000000000000018},{"$f":"BALANCE!H36-BALANCE!G36","v":-0.99999999999999645},{"$f":"BALANCE!I36-BALANCE!H36","v":-0.99999999999999645},{"$f":"BALANCE!J36-BALANCE!I36","v":-0.99999999999999645}]
[null,"  + Ajuste Subvención",{"$f":"FIN!H6","v":0},{"$f":"-CTA.RES!C11","v":0},{"$f":"-CTA.RES!D11","v":0},{"$f":"-CTA.RES!E11","v":0},{"$f":"-CTA.RES!F11","v":0},{"$f":"-CTA.RES!G11","v":0},{"$f":"-CTA.RES!H11","v":0},{"$f":"-CTA.RES!I11","v":0}]
[null," + Valor en Continuidad",null,null,null,null,null,null,null,{"$f":"J15-BALANCE!J36","v":15.607218683651798}]
[null,"  - Ajuste Año Previo",{"$f":"SUM(BALANCE!L18:V18)*C2/12","v":0}]
[null,"Flujo Neto de Caja del Capital",{"$f":"-C26-C27+C28+C29-C31","v":0},{"$f":"D24+D25-D26-D27+D28+D29","v":0},{"$f":"E24+E25-E26-E27+E28+E29","v":8.8817841970012523E-16},-1.7763568394002505E-15,-1.7763568394002505E-15,3.5527136788005009E-15,3.5527136788005009E-15,{"$f":"J24+J25-J26-J27+J28+J29+J30","v":15.607218683651801}]
[null,"Cálculo alternativo"]
[null,"Dividendos",null,null,{"$f":"CTA.RES!C18","v":0},{"$f":"CTA.RES!D18","v":0},{"$f":"CTA.RES!E18","v":0},{"$f":"CTA.RES!F18","v":0},{"$f":"CTA.RES!G18","v":0},{"$f":"CTA.RES!H18","v":0}]
[null," - Ampliación de Capital",{"$f":"BALANCE!C18","v":0},{"$f":"BALANCE!D18-BALANCE!C18","v":0},{"$f":"BALANCE!E18-BALANCE!D18","v":0},{"$f":"BALANCE!F18-BALANCE!E18","v":0},{"$f":"BALANCE!G18-BALANCE!F18","v":0},{"$f":"BALANCE!H18-BALANCE!G18","v":0},{"$f":"BALANCE!I18-BALANCE!H18","v":0},{"$f":"BALANCE!J18-BALANCE!I18","v":0}]
[null," + Valor en Continuidad",null,null,null,null,null,null,null,{"$f":"J30","v":15.607218683651798}]
[null,"  - Ajuste Año Previo",{"$f":"C31","v":0}]
[null,"Flujo Neto de Caja del Capital",{"$f":"-C35-C37","v":0},{"$f":"D34-D35","v":0},{"$f":"E34-E35","v":0},0,0,0,0,{"$f":"J34-J35+J36","v":15.607218683651798}]
[null,"Chequeo",{"$f":"ABS(C32-C38)","v":0},0,8.8817841970012523E-16,1.7763568394002505E-15,1.7763568394002505E-15,3.5527136788005009E-15,3.5527136788005009E-15,3.5527136788005009E-15]
[null,"TIR Capital =",{"$f":"IFERROR(XIRR(C32:J32,C7:J7),\"n.d\")","v":2.9802322387695314E-9}]
[null,"TIR Capital Modificada =",{"$f":"MIRR(C32:J32,C2,C4)","v":180.63110244580102}]
[]
[null,null,"CÁLCULO DEL ROIC Y EL EVA"]
[null,null,null,{"$f":"D23","v":"2014-12-31"},"2015-12-31","2016-12-31","2017-12-31","2018-12-31","2019-12-31","2020-12-31"]
[null,null,"NOPAT",{"$f":"D11","v":1},1,1,1,1,1,1]
[null,null,"Capital Invertido, inicio de año",{"$f":"BALANCE!C8+BALANCE!C14-BALANCE!C30","v":1},{"$f":"BALANCE!D8+BALANCE!D14-BALANCE!D30","v":1},{"$f":"BALANCE!E8+BALANCE!E14-BALANCE!E30","v":1},{"$f":"BALANCE!F8+BALANCE!F14-BALANCE!F30","v":1},{"$f":"BALANCE!G8+BALANCE!G14-BALANCE!G30","v":1},{"$f":"BALANCE!H8+BALANCE!H14-BALANCE!H30","v":1},{"$f":"BALANCE!I8+BALANCE!I14-BALANCE!I30","v":1}]
[null,null,"ROIC",{"$f":"D45/D46","v":1},{"$f":"E45/E46","v":1},1,1,1,1,1]
[null,null,"Valor Económico Añadido (EVA)",{"$f":"D45-D8*D46","v":0.95783783783783782},0.9272131147540984,0.91388235294117648,0.90642201834862379,0.90165413533834582,0.89834394904458603,0.89591160220994481]
[null,null,null,null,null,null,null,null,"ROIC Promedio dos últimos años",{"$f":"AVERAGE(I47:J47)","v":1}]
[]
[]
[null,"VAN y Tasa de Reinversión según crecimiento"]
[]
[null,"Crecimiento Residual",{"$f":"F4","v":0},{"$f":"C19","v":9.6895457026881662}]
[null,{"$f":"B56-0.005","v":-0.02},-0.19214437367303613,9.5812370139185496]
[null,-1.4999999999999999E-2,-0.14410828025477709,9.6083141861109524]
[null,-0.01,-9.6072186836518067E-2,9.6353913583033588]
[null,{"$f":"B59-0.005","v":-5.0000000000000001E-3},-4.8036093418259034E-2,9.6624685304957616]
[null,{"$f":"CONTROL!C21","v":0},0,9.6895457026881662]
[null,{"$f":"B59+0.005","v":5.0000000000000001E-3},4.8036093418259034E-2,9.7166228748805707]
[null,{"$f":"B60+0.005","v":0.01},9.6072186836518067E-2,9.7437000470729735]
[null,1.4999999999999999E-2,0.14410828025477709,9.7707772192653799]
[null,0.02,0.19214437367303613,9.7978543914577827]
[null,{"$f":"\"En este momento \"&F3&\" está asumiéndose equilibrio residual\"","v":"En este momento 0 está asumiéndose equilibrio residual"}]
[]
[]
[]
[]
[]
[]
[]
[null,"VAN según crecimiento y ROIC residuales"]
[null,"(Sólo en caso de no equilibrio residual)",null,null,null,null,null,null,"ROIC futuro"]
[null,null,{"$f":"C19","v":9.6895457026881662},{"$f":"E74-1%","v":0.95},{"$f":"F74-1%","v":0.96},{"$f":"G74-1%","v":0.97},{"$f":"H74-1%","v":0.98},{"$f":"I74-1%","v":0.99},{"$f":"AVERAGE(I47:J47)","v":1},{"$f":"I74+1%","v":1.01},{"$f":"J74+1%","v":1.02},{"$f":"K74+1%","v":1.03},{"$f":"L74+1%","v":1.04}]
[null,null,{"$f":"B55","v":-0.02},9.5812370139185496,9.5812370139185496,9.5812370139185496,9.5812370139185496,9.5812370139185496,9.5812370139185496,9.5812370139185496,9.5812370139185496,9.5812370139185496,9.5812370139185496]
[null,null,-1.4999999999999999E-2,9.6083141861109524,9.6083141861109524,9.6083141861109524,9.6083141861109524,9.6083141861109524,9.6083141861109524,9.6083141861109524,9.6083141861109524,9.6083141861109524,9.6083141861109524]
[null,null,-0.01,9.6353913583033588,9.6353913583033588,9.6353913583033588,9.6353913583033588,9.6353913583033588,9.6353913583033588,9.6353913583033588,9.6353913583033588,9.6353913583033588,9.6353913583033588]
[null,null,-5.0000000000000001E-3,9.6624685304957616,9.6624685304957616,9.6624685304957616,9.6624685304957616,9.6624685304957616,9.6624685304957616,9.6624685304957616,9.6624685304957616,9.6624685304957616,9.6624685304957616]
[null,"Crecimiento residual",0,9.6895457026881662,9.6895457026881662,9.6895457026881662,9.6895457026881662,9.6895457026881662,9.6895457026881662,9.6895457026881662,9.6895457026881662,9.6895457026881662,9.6895457026881662]
[null,null,5.0000000000000001E-3,9.7166228748805707,9.7166228748805707,9.7166228748805707,9.7166228748805707,9.7166228748805707,9.7166228748805707,9.7166228748805707,9.7166228748805707,9.7166228748805707,9.7166228748805707]
[null,null,0.01,9.7437000470729735,9.7437000470729735,9.7437000470729735,9.7437000470729735,9.7437000470729735,9.7437000470729735,9.7437000470729735,9.7437000470729735,9.7437000470729735,9.7437000470729735]
[null,null,1.4999999999999999E-2,9.7707772192653799,9.7707772192653799,9.7707772192653799,9.7707772192653799,9.7707772192653799,9.7707772192653799,9.7707772192653799,9.7707772192653799,9.7707772192653799,9.7707772192653799]
[null,null,0.02,9.7978543914577827,9.7978543914577827,9.7978543914577827,9.7978543914577827,9.7978543914577827,9.7978543914577827,9.7978543914577827,9.7978543914577827,9.7978543914577827,9.7978543914577827]

{"sheet":"ANALISIS","index":9,"n_rows":23,"n_cols":9,"rows_kept":23,"cut":false,"hidden":false,"merged":[]}
[]
[null,{"$f":"CONTROL!C2","v":"Proyecto "}]
[null,null,{"$f":"CONTROL!E2","v":2014},{"$f":"C3+1","v":2015},{"$f":"D3+1","v":2016},2017,2018,2019,2020]
[]
["V/AF","Rotación activos fijos",{"$f":"CTA.RES!C5/((BALANCE!D8+BALANCE!C8)/2)","v":1},{"$f":"CTA.RES!D5/((BALANCE!E8+BALANCE!D8)/2)","v":1},{"$f":"CTA.RES!E5/((BALANCE!F8+BALANCE!E8)/2)","v":1},{"$f":"CTA.RES!F5/((BALANCE!G8+BALANCE!F8)/2)","v":1},{"$f":"CTA.RES!G5/((BALANCE!H8+BALANCE!G8)/2)","v":1},{"$f":"CTA.RES!H5/((BALANCE!I8+BALANCE!H8)/2)","v":1},{"$f":"CTA.RES!I5/((BALANCE!J8+BALANCE!I8)/2)","v":1}]
["V/AC","Rotación activo circulante ",{"$f":"CTA.RES!C5/((BALANCE!C14+BALANCE!D14)/2)","v":{"$error":"#DIV/0!"}},{"$f":"CTA.RES!D5/((BALANCE!D14+BALANCE!E14)/2)","v":{"$error":"#DIV/0!"}},{"$f":"CTA.RES!E5/((BALANCE!E14+BALANCE!F14)/2)","v":{"$error":"#DIV/0!"}},{"$f":"CTA.RES!F5/((BALANCE!F14+BALANCE!G14)/2)","v":{"$error":"#DIV/0!"}},{"$f":"CTA.RES!G5/((BALANCE!G14+BALANCE!H14)/2)","v":{"$error":"#DIV/0!"}},{"$f":"CTA.RES!H5/((BALANCE!H14+BALANCE!I14)/2)","v":{"$error":"#DIV/0!"}},{"$f":"CTA.RES!I5/((BALANCE!I14+BALANCE!J14)/2)","v":{"$error":"#DIV/0!"}}]
["AC/PC","Ratio de circulante",{"$f":"((BALANCE!C14+BALANCE!D14)/2)/((BALANCE!C30+BALANCE!D30)/2)","v":{"$error":"#DIV/0!"}},{"$f":"((BALANCE!D14+BALANCE!E14)/2)/((BALANCE!D30+BALANCE!E30)/2)","v":{"$error":"#DIV/0!"}},{"$f":"((BALANCE!E14+BALANCE!F14)/2)/((BALANCE!E30+BALANCE!F30)/2)","v":{"$error":"#DIV/0!"}},{"$f":"((BALANCE!F14+BALANCE!G14)/2)/((BALANCE!F30+BALANCE!G30)/2)","v":{"$error":"#DIV/0!"}},{"$f":"((BALANCE!G14+BALANCE!H14)/2)/((BALANCE!G30+BALANCE!H30)/2)","v":{"$error":"#DIV/0!"}},{"$f":"((BALANCE!H14+BALANCE!I14)/2)/((BALANCE!H30+BALANCE!I30)/2)","v":{"$error":"#DIV/0!"}},{"$f":"((BALANCE!I14+BALANCE!J14)/2)/((BALANCE!I30+BALANCE!J30)/2)","v":{"$error":"#DIV/0!"}}]
["(AC-E)/PC","Prueba del ácido",{"$f":"((BALANCE!D14+BALANCE!C14-BALANCE!D9-BALANCE!D10-BALANCE!C9-BALANCE!C10)/2)/((BALANCE!D30+BALANCE!C30)/2)","v":{"$error":"#DIV/0!"}},{"$f":"((BALANCE!E14+BALANCE!D14-BALANCE!E9-BALANCE!E10-BALANCE!D9-BALANCE!D10)/2)/((BALANCE!E30+BALANCE!D30)/2)","v":{"$error":"#DIV/0!"}},{"$f":"((BALANCE!F14+BALANCE!E14-BALANCE!F9-BALANCE!F10-BALANCE!E9-BALANCE!E10)/2)/((BALANCE!F30+BALANCE!E30)/2)","v":{"$error":"#DIV/0!"}},{"$f":"((BALANCE!G14+BALANCE!F14-BALANCE!G9-BALANCE!G10-BALANCE!F9-BALANCE!F10)/2)/((BALANCE!G30+BALANCE!F30)/2)","v":{"$error":"#DIV/0!"}},{"$f":"((BALANCE!H14+BALANCE!G14-BALANCE!H9-BALANCE!H10-BALANCE!G9-BALANCE!G10)/2)/((BALANCE!H30+BALANCE!G30)/2)","v":{"$error":"#DIV/0!"}},{"$f":"((BALANCE!I14+BALANCE!H14-BALANCE!I9-BALANCE!I10-BALANCE!H9-BALANCE!H10)/2)/((BALANCE!I30+BALANCE!H30)/2)","v":{"$error":"#DIV/0!"}},{"$f":"((BALANCE!J14+BALANCE!I14-BALANCE!J9-BALANCE!J10-BALANCE!I9-BALANCE!I10)/2)/((BALANCE!J30+BALANCE!I30)/2)","v":{"$error":"#DIV/0!"}}]
["CF/(MARGEN)","Punto de equilibrio",{"$f":"(CTA.RES!C8+CTA.RES!C9)/(CTA.RES!C5-CTA.RES!C6)","v":0},{"$f":"(CTA.RES!D8+CTA.RES!D9)/(CTA.RES!D5-CTA.RES!D6)","v":0},{"$f":"(CTA.RES!E8+CTA.RES!E9)/(CTA.RES!E5-CTA.RES!E6)","v":0},{"$f":"(CTA.RES!F8+CTA.RES!F9)/(CTA.RES!F5-CTA.RES!F6)","v":0},{"$f":"(CTA.RES!G8+CTA.RES!G9)/(CTA.RES!G5-CTA.RES!G6)","v":0},{"$f":"(CTA.RES!H8+CTA.RES!H9)/(CTA.RES!H5-CTA.RES!H6)","v":0},{"$f":"(CTA.RES!I8+CTA.RES!I9)/(CTA.RES!I5-CTA.RES!I6)","v":0}]
["(BAIT+CF)/BAIT","Apalancamiento operativo",{"$f":"(CTA.RES!C8+CTA.RES!C9+CTA.RES!C10)/CTA.RES!C10","v":1},{"$f":"(CTA.RES!D8+CTA.RES!D9+CTA.RES!D10)/CTA.RES!D10","v":1},{"$f":"(CTA.RES!E8+CTA.RES!E9+CTA.RES!E10)/CTA.RES!E10","v":1},{"$f":"(CTA.RES!F8+CTA.RES!F9+CTA.RES!F10)/CTA.RES!F10","v":1},{"$f":"(CTA.RES!G8+CTA.RES!G9+CTA.RES!G10)/CTA.RES!G10","v":1},{"$f":"(CTA.RES!H8+CTA.RES!H9+CTA.RES!H10)/CTA.RES!H10","v":1},{"$f":"(CTA.RES!I8+CTA.RES!I9+CTA.RES!I10)/CTA.RES!I10","v":1}]
["(PNC/ AT)","Ratio de apalancamiento",{"$f":"((BALANCE!D25+BALANCE!C25)/2)/((BALANCE!D16+BALANCE!C16)/2)","v":0.66666666666666663},{"$f":"((BALANCE!E25+BALANCE!D25)/2)/((BALANCE!E16+BALANCE!D16)/2)","v":0.40000000000000008},{"$f":"((BALANCE!F25+BALANCE!E25)/2)/((BALANCE!F16+BALANCE!E16)/2)","v":0.2857142857142857},{"$f":"((BALANCE!G25+BALANCE!F25)/2)/((BALANCE!G16+BALANCE!F16)/2)","v":0.22222222222222213},{"$f":"((BALANCE!H25+BALANCE!G25)/2)/((BALANCE!H16+BALANCE!G16)/2)","v":0.1818181818181818},{"$f":"((BALANCE!I25+BALANCE!H25)/2)/((BALANCE!I16+BALANCE!H16)/2)","v":0.15384615384615391},{"$f":"((BALANCE!J25+BALANCE!I25)/2)/((BALANCE!J16+BALANCE!I16)/2)","v":0.13333333333333344}]
["BAIT/I","Ratio de cobertura de intereses",{"$f":"CTA.RES!C10/CTA.RES!C12","v":{"$error":"#DIV/0!"}},{"$f":"CTA.RES!D10/CTA.RES!D12","v":{"$error":"#DIV/0!"}},{"$f":"CTA.RES!E10/CTA.RES!E12","v":{"$error":"#DIV/0!"}},{"$f":"CTA.RES!F10/CTA.RES!F12","v":{"$error":"#DIV/0!"}},{"$f":"CTA.RES!G10/CTA.RES!G12","v":{"$error":"#DIV/0!"}},{"$f":"CTA.RES!H10/CTA.RES!H12","v":{"$error":"#DIV/0!"}},{"$f":"CTA.RES!I10/CTA.RES!I12","v":{"$error":"#DIV/0!"}}]
["BAIT/V","Margen Operativo Bruto",{"$f":"CTA.RES!C10/CTA.RES!C5","v":1},{"$f":"CTA.RES!D10/CTA.RES!D5","v":1},{"$f":"CTA.RES!E10/CTA.RES!E5","v":1},{"$f":"CTA.RES!F10/CTA.RES!F5","v":1},{"$f":"CTA.RES!G10/CTA.RES!G5","v":1},{"$f":"CTA.RES!H10/CTA.RES!H5","v":1},{"$f":"CTA.RES!I10/CTA.RES!I5","v":1}]
["BAIT/AT","Rentabilidad Económica",{"$f":"CTA.RES!C10/((BALANCE!C16+BALANCE!D16)/2)","v":0.66666666666666663},{"$f":"CTA.RES!D10/((BALANCE!D16+BALANCE!E16)/2)","v":0.40000000000000008},{"$f":"CTA.RES!E10/((BALANCE!E16+BALANCE!F16)/2)","v":0.2857142857142857},{"$f":"CTA.RES!F10/((BALANCE!F16+BALANCE!G16)/2)","v":0.22222222222222213},{"$f":"CTA.RES!G10/((BALANCE!G16+BALANCE!H16)/2)","v":0.1818181818181818},{"$f":"CTA.RES!H10/((BALANCE!H16+BALANCE!I16)/2)","v":0.15384615384615391},{"$f":"CTA.RES!I10/((BALANCE!I16+BALANCE!J16)/2)","v":0.13333333333333344}]
[null,"Rentabilidad Financiera",{"$f":"C16*C17*C18","v":2},0.66666666666666696,0.39999999999999997,0.28571428571428559,0.22222222222222218,0.18181818181818191,0.15384615384615399]
["BDT / V","  Margen Neto",{"$f":"CTA.RES!C17/CTA.RES!C5","v":1},{"$f":"CTA.RES!D17/CTA.RES!D5","v":1},{"$f":"CTA.RES!E17/CTA.RES!E5","v":1},{"$f":"CTA.RES!F17/CTA.RES!F5","v":1},{"$f":"CTA.RES!G17/CTA.RES!G5","v":1},{"$f":"CTA.RES!H17/CTA.RES!H5","v":1},{"$f":"CTA.RES!I17/CTA.RES!I5","v":1}]
["V / AT","  Rotación de Activos",{"$f":"CTA.RES!C5/((BALANCE!C16+BALANCE!D16)/2)","v":0.66666666666666663},{"$f":"CTA.RES!D5/((BALANCE!D16+BALANCE!E16)/2)","v":0.40000000000000008},{"$f":"CTA.RES!E5/((BALANCE!E16+BALANCE!F16)/2)","v":0.2857142857142857},{"$f":"CTA.RES!F5/((BALANCE!F16+BALANCE!G16)/2)","v":0.22222222222222213},{"$f":"CTA.RES!G5/((BALANCE!G16+BALANCE!H16)/2)","v":0.1818181818181818},{"$f":"CTA.RES!H5/((BALANCE!H16+BALANCE!I16)/2)","v":0.15384615384615391},{"$f":"CTA.RES!I5/((BALANCE!I16+BALANCE!J16)/2)","v":0.13333333333333344}]
["AT / PN","  Multiplicador de Patrimonio Neto",{"$f":"((BALANCE!C16+BALANCE!D16)/2)/((BALANCE!C22+BALANCE!D22)/2)","v":3},{"$f":"((BALANCE!D16+BALANCE!E16)/2)/((BALANCE!D22+BALANCE!E22)/2)","v":1.666666666666667},{"$f":"((BALANCE!E16+BALANCE!F16)/2)/((BALANCE!E22+BALANCE!F22)/2)","v":1.4},{"$f":"((BALANCE!F16+BALANCE!G16)/2)/((BALANCE!F22+BALANCE!G22)/2)","v":1.2857142857142856},{"$f":"((BALANCE!G16+BALANCE!H16)/2)/((BALANCE!G22+BALANCE!H22)/2)","v":1.2222222222222221},{"$f":"((BALANCE!H16+BALANCE!I16)/2)/((BALANCE!H22+BALANCE!I22)/2)","v":1.1818181818181819},{"$f":"((BALANCE!I16+BALANCE!J16)/2)/((BALANCE!I22+BALANCE!J22)/2)","v":1.153846153846154}]
[null,"Con datos medios anuales, donde proceda"]
[]
[null,10]
[]
[null,{"$f":"OFFSET(B4,$B$21,0)","v":"Rentabilidad Económica"},0.66666666666666663,0.40000000000000008,0.2857142857142857,0.22222222222222213,0.1818181818181818,0.15384615384615391,0.13333333333333344]

{"sheet":"RIESGO","index":10,"n_rows":78,"n_cols":7,"rows_kept":78,"cut":false,"hidden":false,"merged":[]}
[]
["Escenario Pesimista",{"$f":"CONTROL!C2","v":"Proyecto "},null,"Pesimista","Base","Optimista"]
["Escenario Base",null,2]
["Escenario Optimista","Inversión",{"$f":"IF($C$3=1,D4,IF($C$3=3,F4,E4))","v":1},null,1]
[null,"Volumen de Actividad",{"$f":"IF($C$3=1,D5,IF($C$3=3,F5,E5))*EQ!I2","v":1},null,1]
[null,"Precio",{"$f":"IF($C$3=1,D6,IF($C$3=3,F6,E6))","v":1},null,1]
[null,"Costes Variables",1,null,1]
[null,"Costes Fijos",1,null,1]
[null,"Costes Financieros",1,null,1]
[null,"Crecimiento",1,null,1]
[]
[null,null,"Actual",1,2,3]
[null,"VAN ",{"$f":"CONTROL!C36","v":9.6895457026881662},{"$error":"#DIV/0!"},9.6895457026881662,{"$error":"#DIV/0!"}]
[null,"TIR",{"$f":"CONTROL!C38","v":1.034248912334442},"n.d",1.034248912334442,"n.d"]
[null,"TIR Capital",{"$f":"CONTROL!F36","v":2.9802322387695314E-9},"n.d",2.9802322387695314E-9,"n.d"]
[]
[]
[]
[]
[]
[]
[]
[]
[]
[]
[]
[]
[]
[]
[]
[]
[]
[]
[]
[]
[]
[]
[null,"* Debe tener seleccionado el Escenario Base"]
[null,"Análisis de sensibilidad del VAN a cada variable"]
[null,null,{"$f":"D2","v":"Pesimista"},{"$f":"F2","v":"Optimista"}]
[null,{"$f":"B4","v":"Inversión"},{"$f":"D4","v":0},{"$f":"F4","v":0}]
[null,{"$f":"CONTROL!$C$36","v":9.6895457026881662},8.3333333333333304,8.3333333333333304,{"$f":"\"Variación en el VAN respecto al Base de \"&TEXT(E13,\"0.0\")","v":"Variación en el VAN respecto al Base de 10"}]
[null,{"$f":"B5","v":"Volumen de Actividad"},{"$f":"D5","v":0},{"$f":"F5","v":0}]
[null,{"$f":"CONTROL!$C$36","v":9.6895457026881662},{"$error":"#DIV/0!"},{"$error":"#DIV/0!"}]
[null,{"$f":"B6","v":"Precio"},{"$f":"D6","v":0},{"$f":"F6","v":0}]
[null,{"$f":"CONTROL!$C$36","v":9.6895457026881662},{"$error":"#DIV/0!"},{"$error":"#DIV/0!"}]
[null,{"$f":"B7","v":"Costes Variables"},{"$f":"D7","v":0},{"$f":"F7","v":0}]
[null,{"$f":"CONTROL!$C$36","v":9.6895457026881662},9.6895457026881662,9.6895457026881662]
[null,{"$f":"B8","v":"Costes Fijos"},{"$f":"D8","v":0},{"$f":"F8","v":0}]
[null,{"$f":"CONTROL!$C$36","v":9.6895457026881662},9.6895457026881662,9.6895457026881662]
[null,{"$f":"B9","v":"Costes Financieros"},{"$f":"D9","v":0},{"$f":"F9","v":0}]
[null,{"$f":"CONTROL!$C$36","v":9.6895457026881662},{"$error":"#DIV/0!"},{"$error":"#DIV/0!"}]
[null,{"$f":"B10","v":"Crecimiento"},{"$f":"D10","v":0},{"$f":"F10","v":0}]
[null,{"$f":"CONTROL!$C$36","v":9.6895457026881662},9.6895457026881662,9.6895457026881662]
[]
[]
[null,"Resúmen de análisis de sensibilidad del VAN"]
[null,null,{"$f":"C40","v":"Pesimista"},{"$f":"D40","v":"Optimista"},"Variación","Ranking"]
[null,{"$f":"B41","v":"Inversión"},{"$f":"C42","v":8.3333333333333304},{"$f":"D42","v":8.3333333333333304},{"$f":"D59-C59","v":0},{"$f":"RANK(E59,$E$59:$E$65,0)","v":{"$error":"#DIV/0!"}}]
[null,{"$f":"B43","v":"Volumen de Actividad"},{"$f":"C44","v":{"$error":"#DIV/0!"}},{"$f":"D44","v":{"$error":"#DIV/0!"}},{"$f":"D60-C60","v":{"$error":"#DIV/0!"}},{"$error":"#DIV/0!"}]
[null,{"$f":"B45","v":"Precio"},{"$f":"C46","v":{"$error":"#DIV/0!"}},{"$f":"D46","v":{"$error":"#DIV/0!"}},{"$error":"#DIV/0!"},{"$error":"#DIV/0!"}]
[null,{"$f":"B47","v":"Costes Variables"},{"$f":"C48","v":9.6895457026881662},{"$f":"D48","v":9.6895457026881662},0,{"$error":"#DIV/0!"}]
[null,{"$f":"B49","v":"Costes Fijos"},{"$f":"C50","v":9.6895457026881662},{"$f":"D50","v":9.6895457026881662},0,{"$error":"#DIV/0!"}]
[null,{"$f":"B51","v":"Costes Financieros"},{"$f":"C52","v":{"$error":"#DIV/0!"}},{"$f":"D52","v":{"$error":"#DIV/0!"}},{"$error":"#DIV/0!"},{"$error":"#DIV/0!"}]
[null,{"$f":"B53","v":"Crecimiento"},{"$f":"C54","v":9.6895457026881662},{"$f":"D54","v":9.6895457026881662},0,{"$error":"#DIV/0!"}]
[]
[null,"Datos para gráficos de tornado del VAN",null,null,"Diferencias con VAN Base"]
[null,null,{"$f":"C58","v":"Pesimista"},{"$f":"D58","v":"Optimista"},{"$f":"C58","v":"Pesimista"},{"$f":"D58","v":"Optimista"}]
[null,{"$f":"OFFSET(B$58,MATCH(ROW(B69)-ROW($B$68),$F$59:$F$65,0),0)","v":{"$error":"#N/A"}},{"$f":"OFFSET(C$58,MATCH(ROW(B69)-ROW($B$68),$F$59:$F$65,0),0)","v":{"$error":"#N/A"}},{"$f":"OFFSET(D$58,MATCH(ROW(B69)-ROW($B$68),$F$59:$F$65,0),0)","v":{"$error":"#N/A"}},{"$f":"C69-$E$13","v":{"$error":"#N/A"}},{"$f":"D69-$E$13","v":{"$error":"#N/A"}}]
[null,{"$error":"#N/A"},{"$error":"#N/A"},{"$error":"#N/A"},{"$f":"C70-$E$13","v":{"$error":"#N/A"}},{"$f":"D70-$E$13","v":{"$error":"#N/A"}}]
[null,{"$error":"#N/A"},{"$error":"#N/A"},{"$error":"#N/A"},{"$error":"#N/A"},{"$error":"#N/A"}]
[null,{"$error":"#N/A"},{"$error":"#N/A"},{"$error":"#N/A"},{"$error":"#N/A"},{"$error":"#N/A"}]
[null,{"$error":"#N/A"},{"$error":"#N/A"},{"$error":"#N/A"},{"$error":"#N/A"},{"$error":"#N/A"}]
[null,{"$error":"#N/A"},{"$error":"#N/A"},{"$error":"#N/A"},{"$error":"#N/A"},{"$error":"#N/A"}]
[null,{"$error":"#N/A"},{"$error":"#N/A"},{"$error":"#N/A"},{"$error":"#N/A"},{"$error":"#N/A"}]
[]
[]
[null,null,null,null,null,null,"(Debe indicar manualmente la intersección del eje vertical con el eje X dándole el valor del VAN Base)"]

{"sheet":"EQ","index":11,"n_rows":101,"n_cols":11,"rows_kept":101,"cut":false,"hidden":false,"merged":[]}
[]
[null,{"$f":"CONTROL!C2","v":"Proyecto "},null,null,null,null,null,null,1]
[null,null,{"$f":"CONTROL!E2","v":2014},{"$f":"C3+1","v":2015},{"$f":"D3+1","v":2016},2017,2018,2019,2020]
[]
[null,"Ingresos de Explotación",{"$f":"CTA.RES!C5","v":1},{"$f":"CTA.RES!D5","v":1},{"$f":"CTA.RES!E5","v":1},{"$f":"CTA.RES!F5","v":1},{"$f":"CTA.RES!G5","v":1},{"$f":"CTA.RES!H5","v":1},{"$f":"CTA.RES!I5","v":1}]
[null,"Costes Variables",{"$f":"CTA.RES!C6","v":0},{"$f":"CTA.RES!D6","v":0},{"$f":"CTA.RES!E6","v":0},{"$f":"CTA.RES!F6","v":0},{"$f":"CTA.RES!G6","v":0},{"$f":"CTA.RES!H6","v":0},{"$f":"CTA.RES!I6","v":0}]
[null,"Margen Bruto",{"$f":"C5-C6","v":1},{"$f":"D5-D6","v":1},1,1,1,1,1]
[null,"Costes Fijos",{"$f":"CTA.RES!C8+CTA.RES!C9","v":0},{"$f":"CTA.RES!D8+CTA.RES!D9","v":0},{"$f":"CTA.RES!E8+CTA.RES!E9","v":0},{"$f":"CTA.RES!F8+CTA.RES!F9","v":0},{"$f":"CTA.RES!G8+CTA.RES!G9","v":0},{"$f":"CTA.RES!H8+CTA.RES!H9","v":0},{"$f":"CTA.RES!I8+CTA.RES!I9","v":0}]
[null,"Costes Totales",{"$f":"C8+C6","v":0},0,0,0,0,0,0]
[null,"Equilibrio en %",{"$f":"C8/C7","v":0},0,0,0,0,0,0]
[null,"Equilibrio EN EUROS",{"$f":"C10*C5","v":0},0,0,0,0,0,0]
[]
[null,"VER EQUILIBRIO POR LINEA",null,null,null,null,"Año",2018]
[]
[null,"Nivel de Actividad",0.2,0.4,0.6,0.8,1,1.2,1.4]
[null,{"$f":"OFFSET(B5,0,$H$13-$C$3+1)","v":1},0.19999999999999998,0.39999999999999997,0.6,0.79999999999999993,1,1.2,1.4000000000000001]
[null,{"$f":"OFFSET(B8,0,$H$13-$C$3+1)","v":0},0,0,0,0,0,0,0]
[null,{"$f":"OFFSET(B9,0,$H$13-$C$3+1)","v":0},0,0,0,0,0,0,0]
[]
[]
[null,null,{"$f":"\"Determinación del equilibrio del año \"&H13","v":"Determinación del equilibrio del año 2018"}]
[]
[]
[]
[]
[null,null,null,null,null,null,null,null,null,null," "]
[]
[]
[]
[]
[]
[]
[]
[]
[null,null,null,null,null,null,null,null,null,null,"    "]
[]
[]
[]
[]
[]
[]
[]
[null,{"$f":"INCO!B59","v":"Línea A"}]
[null,"Ingresos",{"$f":"INCO!D13","v":1},{"$f":"INCO!E13","v":1},{"$f":"INCO!F13","v":1},{"$f":"INCO!G13","v":1},{"$f":"INCO!H13","v":1},{"$f":"INCO!I13","v":1},{"$f":"INCO!J13","v":1}]
[null,"Costes Variables",{"$f":"INCO!D59","v":0},{"$f":"INCO!E59","v":0},{"$f":"INCO!F59","v":0},{"$f":"INCO!G59","v":0},{"$f":"INCO!H59","v":0},{"$f":"INCO!I59","v":0},{"$f":"INCO!J59","v":0}]
[null,"Margen Bruto",{"$f":"C44-C45","v":1},{"$f":"D44-D45","v":1},1,1,1,1,1]
[null,"Costes Fijos Imputados",{"$f":"C8*(C44/C5)","v":0},0,0,0,0,0,0]
[null,"Precio Unitario",{"$f":"INCO!D14","v":1},{"$f":"INCO!E14","v":1},{"$f":"INCO!F14","v":1},{"$f":"INCO!G14","v":1},{"$f":"INCO!H14","v":1},{"$f":"INCO!I14","v":1},{"$f":"INCO!J14","v":1}]
[null,"Coste Total Unitario",{"$f":"IFERROR((C45+C47)/INCO!D15,\"n.d\")","v":0},{"$f":"IFERROR((D45+D47)/INCO!E15,\"n.d\")","v":0},{"$f":"IFERROR((E45+E47)/INCO!F15,\"n.d\")","v":0},{"$f":"IFERROR((F45+F47)/INCO!G15,\"n.d\")","v":0},{"$f":"IFERROR((G45+G47)/INCO!H15,\"n.d\")","v":0},{"$f":"IFERROR((H45+H47)/INCO!I15,\"n.d\")","v":0},{"$f":"IFERROR((I45+I47)/INCO!J15,\"n.d\")","v":0}]
[null,"Equilibrio",{"$f":"IFERROR(C47/C46,\"n.d\")","v":0},0,0,0,0,0,0]
[null,"Equilibrio en Euros",{"$f":"IFERROR(C50*C44,\"n.d\")","v":0},0,0,0,0,0,0]
[null,"Equilibrio en Unidades",{"$f":"IFERROR(C50*INCO!D15,\"n.d\")","v":0},{"$f":"IFERROR(D50*INCO!E15,\"n.d\")","v":0},{"$f":"IFERROR(E50*INCO!F15,\"n.d\")","v":0},{"$f":"IFERROR(F50*INCO!G15,\"n.d\")","v":0},{"$f":"IFERROR(G50*INCO!H15,\"n.d\")","v":0},{"$f":"IFERROR(H50*INCO!I15,\"n.d\")","v":0},{"$f":"IFERROR(I50*INCO!J15,\"n.d\")","v":0}]
[]
[null,{"$f":"INCO!B67","v":"Línea B"}]
[null,"Ingresos",{"$f":"INCO!D19","v":0},{"$f":"INCO!E19","v":0},{"$f":"INCO!F19","v":0},{"$f":"INCO!G19","v":0},{"$f":"INCO!H19","v":0},{"$f":"INCO!I19","v":0},{"$f":"INCO!J19","v":0}]
[null,"Costes Variables",{"$f":"INCO!D67","v":0},{"$f":"INCO!E67","v":0},{"$f":"INCO!F67","v":0},{"$f":"INCO!G67","v":0},{"$f":"INCO!H67","v":0},{"$f":"INCO!I67","v":0},{"$f":"INCO!J67","v":0}]
[null,"Margen Bruto",{"$f":"C55-C56","v":0},{"$f":"D55-D56","v":0},0,0,0,0,0]
[null,"Costes Fijos Imputados",{"$f":"C8*(C55/C5)","v":0},0,0,0,0,0,0]
[null,"Precio Unitario",{"$f":"INCO!D20","v":0},{"$f":"INCO!E20","v":0},{"$f":"INCO!F20","v":0},{"$f":"INCO!G20","v":0},{"$f":"INCO!H20","v":0},{"$f":"INCO!I20","v":0},{"$f":"INCO!J20","v":0}]
[null,"Coste Total Unitario",{"$f":"IFERROR((C56+C58)/INCO!D21,\"n.d\")","v":"n.d"},{"$f":"IFERROR((D56+D58)/INCO!E21,\"n.d\")","v":"n.d"},{"$f":"IFERROR((E56+E58)/INCO!F21,\"n.d\")","v":"n.d"},{"$f":"IFERROR((F56+F58)/INCO!G21,\"n.d\")","v":"n.d"},{"$f":"IFERROR((G56+G58)/INCO!H21,\"n.d\")","v":"n.d"},{"$f":"IFERROR((H56+H58)/INCO!I21,\"n.d\")","v":"n.d"},{"$f":"IFERROR((I56+I58)/INCO!J21,\"n.d\")","v":"n.d"}]
[null,"Equilibrio",{"$f":"IFERROR(C58/C57,\"n.d\")","v":"n.d"},{"$f":"IFERROR(D58/D57,\"n.d\")","v":"n.d"},"n.d","n.d","n.d","n.d","n.d"]
[null,"Equilibrio en Euros",{"$f":"IFERROR(C61*C55,\"n.d\")","v":"n.d"},{"$f":"IFERROR(D61*D55,\"n.d\")","v":"n.d"},"n.d","n.d","n.d","n.d","n.d"]
[null,"Equilibrio en Unidades",{"$f":"IFERROR(C61*INCO!D21,\"n.d\")","v":"n.d"},{"$f":"IFERROR(D61*INCO!E21,\"n.d\")","v":"n.d"},{"$f":"IFERROR(E61*INCO!F21,\"n.d\")","v":"n.d"},{"$f":"IFERROR(F61*INCO!G21,\"n.d\")","v":"n.d"},{"$f":"IFERROR(G61*INCO!H21,\"n.d\")","v":"n.d"},{"$f":"IFERROR(H61*INCO!I21,\"n.d\")","v":"n.d"},{"$f":"IFERROR(I61*INCO!J21,\"n.d\")","v":"n.d"}]
[]
[null,{"$f":"INCO!B75","v":"Línea C"}]
[null,"Ingresos",{"$f":"INCO!D25","v":0},{"$f":"INCO!E25","v":0},{"$f":"INCO!F25","v":0},{"$f":"INCO!G25","v":0},{"$f":"INCO!H25","v":0},{"$f":"INCO!I25","v":0},{"$f":"INCO!J25","v":0}]
[null,"Costes Variables",{"$f":"INCO!D75","v":0},{"$f":"INCO!E75","v":0},{"$f":"INCO!F75","v":0},{"$f":"INCO!G75","v":0},{"$f":"INCO!H75","v":0},{"$f":"INCO!I75","v":0},{"$f":"INCO!J75","v":0}]
[null,"Margen Bruto",{"$f":"C66-C67","v":0},{"$f":"D66-D67","v":0},0,0,0,0,0]
[null,"Costes Fijos Imputados",{"$f":"C8*(C66/C5)","v":0},0,0,0,0,0,0]
[null,"Precio Unitario",{"$f":"INCO!D26","v":0},{"$f":"INCO!E26","v":0},{"$f":"INCO!F26","v":0},{"$f":"INCO!G26","v":0},{"$f":"INCO!H26","v":0},{"$f":"INCO!I26","v":0},{"$f":"INCO!J26","v":0}]
[null,"Coste Total Unitario",{"$f":"IFERROR((C67+C69)/INCO!D27,\"n.d\")","v":"n.d"},{"$f":"IFERROR((D67+D69)/INCO!E27,\"n.d\")","v":"n.d"},{"$f":"IFERROR((E67+E69)/INCO!F27,\"n.d\")","v":"n.d"},{"$f":"IFERROR((F67+F69)/INCO!G27,\"n.d\")","v":"n.d"},{"$f":"IFERROR((G67+G69)/INCO!H27,\"n.d\")","v":"n.d"},{"$f":"IFERROR((H67+H69)/INCO!I27,\"n.d\")","v":"n.d"},{"$f":"IFERROR((I67+I69)/INCO!J27,\"n.d\")","v":"n.d"}]
[null,"Equilibrio",{"$f":"IFERROR(C69/C68,\"n.d\")","v":"n.d"},{"$f":"IFERROR(D69/D68,\"n.d\")","v":"n.d"},"n.d","n.d","n.d","n.d","n.d"]
[null,"Equilibrio en Euros",{"$f":"IFERROR(C72*C66,\"n.d\")","v":"n.d"},{"$f":"IFERROR(D72*D66,\"n.d\")","v":"n.d"},"n.d","n.d","n.d","n.d","n.d"]
[null,"Equilibrio en Unidades",{"$f":"IFERROR(C72*INCO!D27,\"n.d\")","v":"n.d"},{"$f":"IFERROR(D72*INCO!E27,\"n.d\")","v":"n.d"},{"$f":"IFERROR(E72*INCO!F27,\"n.d\")","v":"n.d"},{"$f":"IFERROR(F72*INCO!G27,\"n.d\")","v":"n.d"},{"$f":"IFERROR(G72*INCO!H27,\"n.d\")","v":"n.d"},{"$f":"IFERROR(H72*INCO!I27,\"n.d\")","v":"n.d"},{"$f":"IFERROR(I72*INCO!J27,\"n.d\")","v":"n.d"}]
[]
[null,{"$f":"INCO!B83","v":"Línea D"}]
[null,"Ingresos",{"$f":"INCO!D31","v":0},{"$f":"INCO!E31","v":0},{"$f":"INCO!F31","v":0},{"$f":"INCO!G31","v":0},{"$f":"INCO!H31","v":0},{"$f":"INCO!I31","v":0},{"$f":"INCO!J31","v":0}]
[null,"Costes Variables",{"$f":"INCO!D83","v":0},{"$f":"INCO!E83","v":0},{"$f":"INCO!F83","v":0},{"$f":"INCO!G83","v":0},{"$f":"INCO!H83","v":0},{"$f":"INCO!I83","v":0},{"$f":"INCO!J83","v":0}]
[null,"Margen Bruto",{"$f":"C77-C78","v":0},{"$f":"D77-D78","v":0},0,0,0,0,0]
[null,"Costes Fijos Imputados",{"$f":"C8*(C77/C5)","v":0},0,0,0,0,0,0]
[null,"Precio Unitario",{"$f":"INCO!D32","v":0},{"$f":"INCO!E32","v":0},{"$f":"INCO!F32","v":0},{"$f":"INCO!G32","v":0},{"$f":"INCO!H32","v":0},{"$f":"INCO!I32","v":0},{"$f":"INCO!J32","v":0}]
[null,"Coste Total Unitario",{"$f":"IFERROR((C80+C78)/INCO!D33,\"n.d\")","v":"n.d"},{"$f":"IFERROR((D80+D78)/INCO!E33,\"n.d\")","v":"n.d"},{"$f":"IFERROR((E80+E78)/INCO!F33,\"n.d\")","v":"n.d"},{"$f":"IFERROR((F80+F78)/INCO!G33,\"n.d\")","v":"n.d"},{"$f":"IFERROR((G80+G78)/INCO!H33,\"n.d\")","v":"n.d"},{"$f":"IFERROR((H80+H78)/INCO!I33,\"n.d\")","v":"n.d"},{"$f":"IFERROR((I80+I78)/INCO!J33,\"n.d\")","v":"n.d"}]
[null,"Equilibrio",{"$f":"IFERROR(C80/C79,\"n.d\")","v":"n.d"},{"$f":"IFERROR(D80/D79,\"n.d\")","v":"n.d"},"n.d","n.d","n.d","n.d","n.d"]
[null,"Equilibrio en Euros",{"$f":"IFERROR(C83*C77,\"n.d\")","v":"n.d"},{"$f":"IFERROR(D83*D77,\"n.d\")","v":"n.d"},"n.d","n.d","n.d","n.d","n.d"]
[null,"Equilibrio en Unidades",{"$f":"IFERROR(C83*INCO!D33,\"n.d\")","v":"n.d"},{"$f":"IFERROR(D83*INCO!E33,\"n.d\")","v":"n.d"},{"$f":"IFERROR(E83*INCO!F33,\"n.d\")","v":"n.d"},{"$f":"IFERROR(F83*INCO!G33,\"n.d\")","v":"n.d"},{"$f":"IFERROR(G83*INCO!H33,\"n.d\")","v":"n.d"},{"$f":"IFERROR(H83*INCO!I33,\"n.d\")","v":"n.d"},{"$f":"IFERROR(I83*INCO!J33,\"n.d\")","v":"n.d"}]
[]
[null,{"$f":"INCO!B36","v":"Línea E"}]
[null,"Ingresos",{"$f":"INCO!D37","v":0},{"$f":"INCO!E37","v":0},{"$f":"INCO!F37","v":0},{"$f":"INCO!G37","v":0},{"$f":"INCO!H37","v":0},{"$f":"INCO!I37","v":0},{"$f":"INCO!J37","v":0}]
[null,"Costes Variables",{"$f":"INCO!D91","v":0},{"$f":"INCO!E91","v":0},{"$f":"INCO!F91","v":0},{"$f":"INCO!G91","v":0},{"$f":"INCO!H91","v":0},{"$f":"INCO!I91","v":0},{"$f":"INCO!J91","v":0}]
[null,"Margen Bruto",{"$f":"C88-C89","v":0},0,0,0,0,0,0]
[null,"Costes Fijos Imputados",{"$f":"C8*(C88/C5)","v":0},0,0,0,0,0,0]
[null,"Equilibrio",{"$f":"IFERROR(C91/C90,\"n.d\")","v":"n.d"},{"$f":"IFERROR(D91/D90,\"n.d\")","v":"n.d"},"n.d","n.d","n.d","n.d","n.d"]
[null,"Equilibrio en Euros",{"$f":"IFERROR(C92*C88,\"n.d\")","v":"n.d"},{"$f":"IFERROR(D92*D88,\"n.d\")","v":"n.d"},"n.d","n.d","n.d","n.d","n.d"]
[]
[null,{"$f":"INCO!B40","v":"Línea F"}]
[null,"Ingresos",{"$f":"INCO!D41","v":0},{"$f":"INCO!E41","v":0},{"$f":"INCO!F41","v":0},{"$f":"INCO!G41","v":0},{"$f":"INCO!H41","v":0},{"$f":"INCO!I41","v":0},{"$f":"INCO!J41","v":0}]
[null,"Costes Variables",{"$f":"INCO!D96","v":0},{"$f":"INCO!E96","v":0},{"$f":"INCO!F96","v":0},{"$f":"INCO!G96","v":0},{"$f":"INCO!H96","v":0},{"$f":"INCO!I96","v":0},{"$f":"INCO!J96","v":0}]
[null,"Margen Bruto",{"$f":"C96-C97","v":0},{"$f":"D96-D97","v":0},0,0,0,0,0]
[null,"Costes Fijos Imputados",{"$f":"C8*(C96/C5)","v":0},0,0,0,0,0,0]
[null,"Equilibrio",{"$f":"IFERROR(C99/C98,\"n.d\")","v":"n.d"},{"$f":"IFERROR(D99/D98,\"n.d\")","v":"n.d"},"n.d","n.d","n.d","n.d","n.d"]
[null,"Equilibrio en Euros",{"$f":"IFERROR(C100*C96,\"n.d\")","v":"n.d"},{"$f":"IFERROR(D100*D96,\"n.d\")","v":"n.d"},"n.d","n.d","n.d","n.d","n.d"]

{"sheet":"IVA","index":12,"n_rows":15,"n_cols":98,"rows_kept":15,"cut":false,"hidden":false,"merged":[]}
[]
[null,{"$f":"CONTROL!C2","v":"Proyecto "}]
[null,null,{"$f":"EOMONTH(D3,-1)","v":"2013-01-31"},"2013-02-28","2013-03-31","2013-04-30","2013-05-31","2013-06-30","2013-07-31","2013-08-31","2013-09-30","2013-10-31","2013-11-30",{"$f":"EOMONTH(O3,-1)","v":"2013-12-31"},{"$f":"CONTROL!H2","v":"2014-01-31"},{"$f":"EOMONTH(O3,1)","v":"2014-02-28"},{"$f":"EOMONTH(P3,1)","v":"2014-03-31"},"2014-04-30","2014-05-31","2014-06-30","2014-07-31","2014-08-31","2014-09-30","2014-10-31","2014-11-30","2014-12-31","2015-01-31","2015-02-28","2015-03-31","2015-04-30","2015-05-31","2015-06-30","2015-07-31","2015-08-31","2015-09-30","2015-10-31","2015-11-30","2015-12-31","2016-01-31","2016-02-29","2016-03-31","2016-04-30","2016-05-31","2016-06-30","2016-07-31","2016-08-31","2016-09-30","2016-10-31","2016-11-30","2016-12-31","2017-01-31","2017-02-28","2017-03-31","2017-04-30","2017-05-31","2017-06-30","2017-07-31","2017-08-31","2017-09-30","2017-10-31","2017-11-30","2017-12-31","2018-01-31","2018-02-28","2018-03-31","2018-04-30","2018-05-31","2018-06-30","2018-07-31","2018-08-31","2018-09-30","2018-10-31","2018-11-30","2018-12-31","2019-01-31","2019-02-28","2019-03-31","2019-04-30","2019-05-31","2019-06-30",{"$f":"EOMONTH(CB3,1)","v":"2019-07-31"},"2019-08-31","2019-09-30","2019-10-31","2019-11-30","2019-12-31","2020-01-31","2020-02-29","2020-03-31","2020-04-30","2020-05-31","2020-06-30","2020-07-31","2020-08-31","2020-09-30","2020-10-31","2020-11-30","2020-12-31"]
[]
[null,"IVA Soportado en Inversiones",{"$f":"INV!Q42","v":0},{"$f":"INV!R42","v":0},{"$f":"INV!S42","v":0},{"$f":"INV!T42","v":0},{"$f":"INV!U42","v":0},{"$f":"INV!V42","v":0},{"$f":"INV!W42","v":0},{"$f":"INV!X42","v":0},{"$f":"INV!Y42","v":0},{"$f":"INV!Z42","v":0},{"$f":"INV!AA42","v":0},{"$f":"INV!AB42","v":0},{"$f":"INV!AC42","v":0},{"$f":"INV!AD42","v":0},{"$f":"INV!AE42","v":0},{"$f":"INV!AF42","v":0},{"$f":"INV!AG42","v":0},{"$f":"INV!AH42","v":0},{"$f":"INV!AI42","v":0},{"$f":"INV!AJ42","v":0},{"$f":"INV!AK42","v":0},{"$f":"INV!AL42","v":0},{"$f":"INV!AM42","v":0},{"$f":"INV!AN42","v":0},{"$f":"INV!AO42","v":0},{"$f":"INV!AP42","v":0},{"$f":"INV!AQ42","v":0},{"$f":"INV!AR42","v":0},{"$f":"INV!AS42","v":0},{"$f":"INV!AT42","v":0},{"$f":"INV!AU42","v":0},{"$f":"INV!AV42","v":0},{"$f":"INV!AW42","v":0},{"$f":"INV!AX42","v":0},{"$f":"INV!AY42","v":0},{"$f":"INV!AZ42","v":0},{"$f":"INV!BA42","v":0},{"$f":"INV!BB42","v":0},{"$f":"INV!BC42","v":0},{"$f":"INV!BD42","v":0},{"$f":"INV!BE42","v":0},{"$f":"INV!BF42","v":0},{"$f":"INV!BG42","v":0},{"$f":"INV!BH42","v":0},{"$f":"INV!BI42","v":0},{"$f":"INV!BJ42","v":0},{"$f":"INV!BK42","v":0},{"$f":"INV!BL42","v":0},{"$f":"INV!BM42","v":0},{"$f":"INV!BN42","v":0},{"$f":"INV!BO42","v":0},{"$f":"INV!BP42","v":0},{"$f":"INV!BQ42","v":0},{"$f":"INV!BR42","v":0},{"$f":"INV!BS42","v":0},{"$f":"INV!BT42","v":0},{"$f":"INV!BU42","v":0},{"$f":"INV!BV42","v":0},{"$f":"INV!BW42","v":0},{"$f":"INV!BX42","v":0},{"$f":"INV!BY42","v":0},{"$f":"INV!BZ42","v":0},{"$f":"INV!CA42","v":0},{"$f":"INV!CB42","v":0},{"$f":"INV!CC42","v":0},{"$f":"INV!CD42","v":0},{"$f":"INV!CE42","v":0},{"$f":"INV!CF42","v":0},{"$f":"INV!CG42","v":0},{"$f":"INV!CH42","v":0},{"$f":"INV!CI42","v":0},{"$f":"INV!CJ42","v":0},{"$f":"INV!CK42","v":0},{"$f":"INV!CL42","v":0},{"$f":"INV!CM42","v":0},{"$f":"INV!CN42","v":0},{"$f":"INV!CO42","v":0},{"$f":"INV!CP42","v":0},{"$f":"INV!CQ42","v":0},{"$f":"INV!CR42","v":0},{"$f":"INV!CS42","v":0},{"$f":"INV!CT42","v":0},{"$f":"INV!CU42","v":0},{"$f":"INV!CV42","v":0},{"$f":"INV!CW42","v":0},{"$f":"INV!CX42","v":0},{"$f":"INV!CY42","v":0},{"$f":"INV!CZ42","v":0},{"$f":"INV!DA42","v":0},{"$f":"INV!DB42","v":0},{"$f":"INV!DC42","v":0},{"$f":"INV!DD42","v":0},{"$f":"INV!DE42","v":0},{"$f":"INV!DF42","v":0},{"$f":"INV!DG42","v":0},{"$f":"INV!DH42","v":0}]
[null,"IVA Soportado en Costes",null,null,null,null,null,null,null,null,null,null,null,{"$f":"CONTROL!$H$12*INCO!M114","v":0},{"$f":"CONTROL!$H$12*INCO!N114+CONTROL!$H$13*INCO!N112+CONTROL!$H$14*(INCO!N56-INCO!N50-INCO!N51+INV!G29)","v":0},{"$f":"CONTROL!$H$12*INCO!O114+CONTROL!$H$13*INCO!O112+CONTROL!$H$14*(INCO!O56-INCO!O50-INCO!O51)","v":0},{"$f":"CONTROL!$H$12*INCO!P114+CONTROL!$H$13*INCO!P112+CONTROL!$H$14*(INCO!P56-INCO!P50-INCO!P51)","v":0},{"$f":"CONTROL!$H$12*INCO!Q114+CONTROL!$H$13*INCO!Q112+CONTROL!$H$14*(INCO!Q56-INCO!Q50-INCO!Q51)","v":0},{"$f":"CONTROL!$H$12*INCO!R114+CONTROL!$H$13*INCO!R112+CONTROL!$H$14*(INCO!R56-INCO!R50-INCO!R51)","v":0},{"$f":"CONTROL!$H$12*INCO!S114+CONTROL!$H$13*INCO!S112+CONTROL!$H$14*(INCO!S56-INCO!S50-INCO!S51)","v":0},{"$f":"CONTROL!$H$12*INCO!T114+CONTROL!$H$13*INCO!T112+CONTROL!$H$14*(INCO!T56-INCO!T50-INCO!T51)","v":0},{"$f":"CONTROL!$H$12*INCO!U114+CONTROL!$H$13*INCO!U112+CONTROL!$H$14*(INCO!U56-INCO!U50-INCO!U51)","v":0},{"$f":"CONTROL!$H$12*INCO!V114+CONTROL!$H$13*INCO!V112+CONTROL!$H$14*(INCO!V56-INCO!V50-INCO!V51)","v":0},{"$f":"CONTROL!$H$12*INCO!W114+CONTROL!$H$13*INCO!W112+CONTROL!$H$14*(INCO!W56-INCO!W50-INCO!W51)","v":0},{"$f":"CONTROL!$H$12*INCO!X114+CONTROL!$H$13*INCO!X112+CONTROL!$H$14*(INCO!X56-INCO!X50-INCO!X51)","v":0},{"$f":"CONTROL!$H$12*INCO!Y114+CONTROL!$H$13*INCO!Y112+CONTROL!$H$14*(INCO!Y56-INCO!Y50-INCO!Y51)","v":0},{"$f":"CONTROL!$H$12*INCO!Z114+CONTROL!$H$13*INCO!Z112+CONTROL!$H$14*(INCO!Z56-INCO!Z50-INCO!Z51)","v":0},{"$f":"CONTROL!$H$12*INCO!AA114+CONTROL!$H$13*INCO!AA112+CONTROL!$H$14*(INCO!AA56-INCO!AA50-INCO!AA51)","v":0},{"$f":"CONTROL!$H$12*INCO!AB114+CONTROL!$H$13*INCO!AB112+CONTROL!$H$14*(INCO!AB56-INCO!AB50-INCO!AB51)","v":0},{"$f":"CONTROL!$H$12*INCO!AC114+CONTROL!$H$13*INCO!AC112+CONTROL!$H$14*(INCO!AC56-INCO!AC50-INCO!AC51)","v":0},{"$f":"CONTROL!$H$12*INCO!AD114+CONTROL!$H$13*INCO!AD112+CONTROL!$H$14*(INCO!AD56-INCO!AD50-INCO!AD51)","v":0},{"$f":"CONTROL!$H$12*INCO!AE114+CONTROL!$H$13*INCO!AE112+CONTROL!$H$14*(INCO!AE56-INCO!AE50-INCO!AE51)","v":0},{"$f":"CONTROL!$H$12*INCO!AF114+CONTROL!$H$13*INCO!AF112+CONTROL!$H$14*(INCO!AF56-INCO!AF50-INCO!AF51)","v":0},{"$f":"CONTROL!$H$12*INCO!AG114+CONTROL!$H$13*INCO!AG112+CONTROL!$H$14*(INCO!AG56-INCO!AG50-INCO!AG51)","v":0},{"$f":"CONTROL!$H$12*INCO!AH114+CONTROL!$H$13*INCO!AH112+CONTROL!$H$14*(INCO!AH56-INCO!AH50-INCO!AH51)","v":0},{"$f":"CONTROL!$H$12*INCO!AI114+CONTROL!$H$13*INCO!AI112+CONTROL!$H$14*(INCO!AI56-INCO!AI50-INCO!AI51)","v":0},{"$f":"CONTROL!$H$12*INCO!AJ114+CONTROL!$H$13*INCO!AJ112+CONTROL!$H$14*(INCO!AJ56-INCO!AJ50-INCO!AJ51)","v":0},{"$f":"CONTROL!$H$12*INCO!AK114+CONTROL!$H$13*INCO!AK112+CONTROL!$H$14*(INCO!AK56-INCO!AK50-INCO!AK51)","v":0},{"$f":"CONTROL!$H$12*INCO!AL114+CONTROL!$H$13*INCO!AL112+CONTROL!$H$14*(INCO!AL56-INCO!AL50-INCO!AL51)","v":0},{"$f":"CONTROL!$H$12*INCO!AM114+CONTROL!$H$13*INCO!AM112+CONTROL!$H$14*(INCO!AM56-INCO!AM50-INCO!AM51)","v":0},{"$f":"CONTROL!$H$12*INCO!AN114+CONTROL!$H$13*INCO!AN112+CONTROL!$H$14*(INCO!AN56-INCO!AN50-INCO!AN51)","v":0},{"$f":"CONTROL!$H$12*INCO!AO114+CONTROL!$H$13*INCO!AO112+CONTROL!$H$14*(INCO!AO56-INCO!AO50-INCO!AO51)","v":0},{"$f":"CONTROL!$H$12*INCO!AP114+CONTROL!$H$13*INCO!AP112+CONTROL!$H$14*(INCO!AP56-INCO!AP50-INCO!AP51)","v":0},{"$f":"CONTROL!$H$12*INCO!AQ114+CONTROL!$H$13*INCO!AQ112+CONTROL!$H$14*(INCO!AQ56-INCO!AQ50-INCO!AQ51)","v":0},{"$f":"CONTROL!$H$12*INCO!AR114+CONTROL!$H$13*INCO!AR112+CONTROL!$H$14*(INCO!AR56-INCO!AR50-INCO!AR51)","v":0},{"$f":"CONTROL!$H$12*INCO!AS114+CONTROL!$H$13*INCO!AS112+CONTROL!$H$14*(INCO!AS56-INCO!AS50-INCO!AS51)","v":0},{"$f":"CONTROL!$H$12*INCO!AT114+CONTROL!$H$13*INCO!AT112+CONTROL!$H$14*(INCO!AT56-INCO!AT50-INCO!AT51)","v":0},{"$f":"CONTROL!$H$12*INCO!AU114+CONTROL!$H$13*INCO!AU112+CONTROL!$H$14*(INCO!AU56-INCO!AU50-INCO!AU51)","v":0},{"$f":"CONTROL!$H$12*INCO!AV114+CONTROL!$H$13*INCO!AV112+CONTROL!$H$14*(INCO!AV56-INCO!AV50-INCO!AV51)","v":0},{"$f":"CONTROL!$H$12*INCO!AW114+CONTROL!$H$13*INCO!AW112+CONTROL!$H$14*(INCO!AW56-INCO!AW50-INCO!AW51)","v":0},{"$f":"CONTROL!$H$12*INCO!AX114+CONTROL!$H$13*INCO!AX112+CONTROL!$H$14*(INCO!AX56-INCO!AX50-INCO!AX51)","v":0},{"$f":"CONTROL!$H$12*INCO!AY114+CONTROL!$H$13*INCO!AY112+CONTROL!$H$14*(INCO!AY56-INCO!AY50-INCO!AY51)","v":0},{"$f":"CONTROL!$H$12*INCO!AZ114+CONTROL!$H$13*INCO!AZ112+CONTROL!$H$14*(INCO!AZ56-INCO!AZ50-INCO!AZ51)","v":0},{"$f":"CONTROL!$H$12*INCO!BA114+CONTROL!$H$13*INCO!BA112+CONTROL!$H$14*(INCO!BA56-INCO!BA50-INCO!BA51)","v":0},{"$f":"CONTROL!$H$12*INCO!BB114+CONTROL!$H$13*INCO!BB112+CONTROL!$H$14*(INCO!BB56-INCO!BB50-INCO!BB51)","v":0},{"$f":"CONTROL!$H$12*INCO!BC114+CONTROL!$H$13*INCO!BC112+CONTROL!$H$14*(INCO!BC56-INCO!BC50-INCO!BC51)","v":0},{"$f":"CONTROL!$H$12*INCO!BD114+CONTROL!$H$13*INCO!BD112+CONTROL!$H$14*(INCO!BD56-INCO!BD50-INCO!BD51)","v":0},{"$f":"CONTROL!$H$12*INCO!BE114+CONTROL!$H$13*INCO!BE112+CONTROL!$H$14*(INCO!BE56-INCO!BE50-INCO!BE51)","v":0},{"$f":"CONTROL!$H$12*INCO!BF114+CONTROL!$H$13*INCO!BF112+CONTROL!$H$14*(INCO!BF56-INCO!BF50-INCO!BF51)","v":0},{"$f":"CONTROL!$H$12*INCO!BG114+CONTROL!$H$13*INCO!BG112+CONTROL!$H$14*(INCO!BG56-INCO!BG50-INCO!BG51)","v":0},{"$f":"CONTROL!$H$12*INCO!BH114+CONTROL!$H$13*INCO!BH112+CONTROL!$H$14*(INCO!BH56-INCO!BH50-INCO!BH51)","v":0},{"$f":"CONTROL!$H$12*INCO!BI114+CONTROL!$H$13*INCO!BI112+CONTROL!$H$14*(INCO!BI56-INCO!BI50-INCO!BI51)","v":0},{"$f":"CONTROL!$H$12*INCO!BJ114+CONTROL!$H$13*INCO!BJ112+CONTROL!$H$14*(INCO!BJ56-INCO!BJ50-INCO!BJ51)","v":0},{"$f":"CONTROL!$H$12*INCO!BK114+CONTROL!$H$13*INCO!BK112+CONTROL!$H$14*(INCO!BK56-INCO!BK50-INCO!BK51)","v":0},{"$f":"CONTROL!$H$12*INCO!BL114+CONTROL!$H$13*INCO!BL112+CONTROL!$H$14*(INCO!BL56-INCO!BL50-INCO!BL51)","v":0},{"$f":"CONTROL!$H$12*INCO!BM114+CONTROL!$H$13*INCO!BM112+CONTROL!$H$14*(INCO!BM56-INCO!BM50-INCO!BM51)","v":0},{"$f":"CONTROL!$H$12*INCO!BN114+CONTROL!$H$13*INCO!BN112+CONTROL!$H$14*(INCO!BN56-INCO!BN50-INCO!BN51)","v":0},{"$f":"CONTROL!$H$12*INCO!BO114+CONTROL!$H$13*INCO!BO112+CONTROL!$H$14*(INCO!BO56-INCO!BO50-INCO!BO51)","v":0},{"$f":"CONTROL!$H$12*INCO!BP114+CONTROL!$H$13*INCO!BP112+CONTROL!$H$14*(INCO!BP56-INCO!BP50-INCO!BP51)","v":0},{"$f":"CONTROL!$H$12*INCO!BQ114+CONTROL!$H$13*INCO!BQ112+CONTROL!$H$14*(INCO!BQ56-INCO!BQ50-INCO!BQ51)","v":0},{"$f":"CONTROL!$H$12*INCO!BR114+CONTROL!$H$13*INCO!BR112+CONTROL!$H$14*(INCO!BR56-INCO!BR50-INCO!BR51)","v":0},{"$f":"CONTROL!$H$12*INCO!BS114+CONTROL!$H$13*INCO!BS112+CONTROL!$H$14*(INCO!BS56-INCO!BS50-INCO!BS51)","v":0},{"$f":"CONTROL!$H$12*INCO!BT114+CONTROL!$H$13*INCO!BT112+CONTROL!$H$14*(INCO!BT56-INCO!BT50-INCO!BT51)","v":0},{"$f":"CONTROL!$H$12*INCO!BU114+CONTROL!$H$13*INCO!BU112+CONTROL!$H$14*(INCO!BU56-INCO!BU50-INCO!BU51)","v":0},{"$f":"CONTROL!$H$12*INCO!BV114+CONTROL!$H$13*INCO!BV112+CONTROL!$H$14*(INCO!BV56-INCO!BV50-INCO!BV51)","v":0},{"$f":"CONTROL!$H$12*INCO!BW114+CONTROL!$H$13*INCO!BW112+CONTROL!$H$14*(INCO!BW56-INCO!BW50-INCO!BW51)","v":0},{"$f":"CONTROL!$H$12*INCO!BX114+CONTROL!$H$13*INCO!BX112+CONTROL!$H$14*(INCO!BX56-INCO!BX50-INCO!BX51)","v":0},{"$f":"CONTROL!$H$12*INCO!BY114+CONTROL!$H$13*INCO!BY112+CONTROL!$H$14*(INCO!BY56-INCO!BY50-INCO!BY51)","v":0},{"$f":"CONTROL!$H$12*INCO!BZ114+CONTROL!$H$13*INCO!BZ112+CONTROL!$H$14*(INCO!BZ56-INCO!BZ50-INCO!BZ51)","v":0},{"$f":"CONTROL!$H$12*INCO!CA114+CONTROL!$H$13*INCO!CA112+CONTROL!$H$14*(INCO!CA56-INCO!CA50-INCO!CA51)","v":0},{"$f":"CONTROL!$H$12*INCO!CB114+CONTROL!$H$13*INCO!CB112+CONTROL!$H$14*(INCO!CB56-INCO!CB50-INCO!CB51)","v":0},{"$f":"CONTROL!$H$12*INCO!CC114+CONTROL!$H$13*INCO!CC112+CONTROL!$H$14*(INCO!CC56-INCO!CC50-INCO!CC51)","v":0},{"$f":"CONTROL!$H$12*INCO!CD114+CONTROL!$H$13*INCO!CD112+CONTROL!$H$14*(INCO!CD56-INCO!CD50-INCO!CD51)","v":0},{"$f":"CONTROL!$H$12*INCO!CE114+CONTROL!$H$13*INCO!CE112+CONTROL!$H$14*(INCO!CE56-INCO!CE50-INCO!CE51)","v":0},{"$f":"CONTROL!$H$12*INCO!CF114+CONTROL!$H$13*INCO!CF112+CONTROL!$H$14*(INCO!CF56-INCO!CF50-INCO!CF51)","v":0},{"$f":"CONTROL!$H$12*INCO!CG114+CONTROL!$H$13*INCO!CG112+CONTROL!$H$14*(INCO!CG56-INCO!CG50-INCO!CG51)","v":0},{"$f":"CONTROL!$H$12*INCO!CH114+CONTROL!$H$13*INCO!CH112+CONTROL!$H$14*(INCO!CH56-INCO!CH50-INCO!CH51)","v":0},{"$f":"CONTROL!$H$12*INCO!CI114+CONTROL!$H$13*INCO!CI112+CONTROL!$H$14*(INCO!CI56-INCO!CI50-INCO!CI51)","v":0},{"$f":"CONTROL!$H$12*INCO!CJ114+CONTROL!$H$13*INCO!CJ112+CONTROL!$H$14*(INCO!CJ56-INCO!CJ50-INCO!CJ51)","v":0},{"$f":"CONTROL!$H$12*INCO!CK114+CONTROL!$H$13*INCO!CK112+CONTROL!$H$14*(INCO!CK56-INCO!CK50-INCO!CK51)","v":0},{"$f":"CONTROL!$H$12*INCO!CL114+CONTROL!$H$13*INCO!CL112+CONTROL!$H$14*(INCO!CL56-INCO!CL50-INCO!CL51)","v":0},{"$f":"CONTROL!$H$12*INCO!CM114+CONTROL!$H$13*INCO!CM112+CONTROL!$H$14*(INCO!CM56-INCO!CM50-INCO!CM51)","v":0},{"$f":"CONTROL!$H$12*INCO!CN114+CONTROL!$H$13*INCO!CN112+CONTROL!$H$14*(INCO!CN56-INCO!CN50-INCO!CN51)","v":0},{"$f":"CONTROL!$H$12*INCO!CO114+CONTROL!$H$13*INCO!CO112+CONTROL!$H$14*(INCO!CO56-INCO!CO50-INCO!CO51)","v":0},{"$f":"CONTROL!$H$12*INCO!CP114+CONTROL!$H$13*INCO!CP112+CONTROL!$H$14*(INCO!CP56-INCO!CP50-INCO!CP51)","v":0},{"$f":"CONTROL!$H$12*INCO!CQ114+CONTROL!$H$13*INCO!CQ112+CONTROL!$H$14*(INCO!CQ56-INCO!CQ50-INCO!CQ51)","v":0},{"$f":"CONTROL!$H$12*INCO!CR114+CONTROL!$H$13*INCO!CR112+CONTROL!$H$14*(INCO!CR56-INCO!CR50-INCO!CR51)","v":0},{"$f":"CONTROL!$H$12*INCO!CS114+CONTROL!$H$13*INCO!CS112+CONTROL!$H$14*(INCO!CS56-INCO!CS50-INCO!CS51)","v":0}]
[null,"IVA Cargado en Ingresos",null,null,null,null,null,null,null,null,null,null,null,null,{"$f":"CONTROL!$C$26*INCO!N13+CONTROL!$D$26*INCO!N19+CONTROL!$E$26*INCO!N25+CONTROL!$F$26*INCO!N31+CONTROL!$G$26*INCO!N37+CONTROL!$H$26*INCO!N41","v":0},{"$f":"CONTROL!$C$26*INCO!O13+CONTROL!$D$26*INCO!O19+CONTROL!$E$26*INCO!O25+CONTROL!$F$26*INCO!O31+CONTROL!$G$26*INCO!O37+CONTROL!$H$26*INCO!O41","v":0},{"$f":"CONTROL!$C$26*INCO!P13+CONTROL!$D$26*INCO!P19+CONTROL!$E$26*INCO!P25+CONTROL!$F$26*INCO!P31+CONTROL!$G$26*INCO!P37+CONTROL!$H$26*INCO!P41","v":0},{"$f":"CONTROL!$C$26*INCO!Q13+CONTROL!$D$26*INCO!Q19+CONTROL!$E$26*INCO!Q25+CONTROL!$F$26*INCO!Q31+CONTROL!$G$26*INCO!Q37+CONTROL!$H$26*INCO!Q41","v":0},{"$f":"CONTROL!$C$26*INCO!R13+CONTROL!$D$26*INCO!R19+CONTROL!$E$26*INCO!R25+CONTROL!$F$26*INCO!R31+CONTROL!$G$26*INCO!R37+CONTROL!$H$26*INCO!R41","v":0},{"$f":"CONTROL!$C$26*INCO!S13+CONTROL!$D$26*INCO!S19+CONTROL!$E$26*INCO!S25+CONTROL!$F$26*INCO!S31+CONTROL!$G$26*INCO!S37+CONTROL!$H$26*INCO!S41","v":0},{"$f":"CONTROL!$C$26*INCO!T13+CONTROL!$D$26*INCO!T19+CONTROL!$E$26*INCO!T25+CONTROL!$F$26*INCO!T31+CONTROL!$G$26*INCO!T37+CONTROL!$H$26*INCO!T41","v":0},{"$f":"CONTROL!$C$26*INCO!U13+CONTROL!$D$26*INCO!U19+CONTROL!$E$26*INCO!U25+CONTROL!$F$26*INCO!U31+CONTROL!$G$26*INCO!U37+CONTROL!$H$26*INCO!U41","v":0},{"$f":"CONTROL!$C$26*INCO!V13+CONTROL!$D$26*INCO!V19+CONTROL!$E$26*INCO!V25+CONTROL!$F$26*INCO!V31+CONTROL!$G$26*INCO!V37+CONTROL!$H$26*INCO!V41","v":0},{"$f":"CONTROL!$C$26*INCO!W13+CONTROL!$D$26*INCO!W19+CONTROL!$E$26*INCO!W25+CONTROL!$F$26*INCO!W31+CONTROL!$G$26*INCO!W37+CONTROL!$H$26*INCO!W41","v":0},{"$f":"CONTROL!$C$26*INCO!X13+CONTROL!$D$26*INCO!X19+CONTROL!$E$26*INCO!X25+CONTROL!$F$26*INCO!X31+CONTROL!$G$26*INCO!X37+CONTROL!$H$26*INCO!X41","v":0},{"$f":"CONTROL!$C$26*INCO!Y13+CONTROL!$D$26*INCO!Y19+CONTROL!$E$26*INCO!Y25+CONTROL!$F$26*INCO!Y31+CONTROL!$G$26*INCO!Y37+CONTROL!$H$26*INCO!Y41","v":0},{"$f":"CONTROL!$C$26*INCO!Z13+CONTROL!$D$26*INCO!Z19+CONTROL!$E$26*INCO!Z25+CONTROL!$F$26*INCO!Z31+CONTROL!$G$26*INCO!Z37+CONTROL!$H$26*INCO!Z41","v":0},{"$f":"CONTROL!$C$26*INCO!AA13+CONTROL!$D$26*INCO!AA19+CONTROL!$E$26*INCO!AA25+CONTROL!$F$26*INCO!AA31+CONTROL!$G$26*INCO!AA37+CONTROL!$H$26*INCO!AA41","v":0},{"$f":"CONTROL!$C$26*INCO!AB13+CONTROL!$D$26*INCO!AB19+CONTROL!$E$26*INCO!AB25+CONTROL!$F$26*INCO!AB31+CONTROL!$G$26*INCO!AB37+CONTROL!$H$26*INCO!AB41","v":0},{"$f":"CONTROL!$C$26*INCO!AC13+CONTROL!$D$26*INCO!AC19+CONTROL!$E$26*INCO!AC25+CONTROL!$F$26*INCO!AC31+CONTROL!$G$26*INCO!AC37+CONTROL!$H$26*INCO!AC41","v":0},{"$f":"CONTROL!$C$26*INCO!AD13+CONTROL!$D$26*INCO!AD19+CONTROL!$E$26*INCO!AD25+CONTROL!$F$26*INCO!AD31+CONTROL!$G$26*INCO!AD37+CONTROL!$H$26*INCO!AD41","v":0},{"$f":"CONTROL!$C$26*INCO!AE13+CONTROL!$D$26*INCO!AE19+CONTROL!$E$26*INCO!AE25+CONTROL!$F$26*INCO!AE31+CONTROL!$G$26*INCO!AE37+CONTROL!$H$26*INCO!AE41","v":0},{"$f":"CONTROL!$C$26*INCO!AF13+CONTROL!$D$26*INCO!AF19+CONTROL!$E$26*INCO!AF25+CONTROL!$F$26*INCO!AF31+CONTROL!$G$26*INCO!AF37+CONTROL!$H$26*INCO!AF41","v":0},{"$f":"CONTROL!$C$26*INCO!AG13+CONTROL!$D$26*INCO!AG19+CONTROL!$E$26*INCO!AG25+CONTROL!$F$26*INCO!AG31+CONTROL!$G$26*INCO!AG37+CONTROL!$H$26*INCO!AG41","v":0},{"$f":"CONTROL!$C$26*INCO!AH13+CONTROL!$D$26*INCO!AH19+CONTROL!$E$26*INCO!AH25+CONTROL!$F$26*INCO!AH31+CONTROL!$G$26*INCO!AH37+CONTROL!$H$26*INCO!AH41","v":0},{"$f":"CONTROL!$C$26*INCO!AI13+CONTROL!$D$26*INCO!AI19+CONTROL!$E$26*INCO!AI25+CONTROL!$F$26*INCO!AI31+CONTROL!$G$26*INCO!AI37+CONTROL!$H$26*INCO!AI41","v":0},{"$f":"CONTROL!$C$26*INCO!AJ13+CONTROL!$D$26*INCO!AJ19+CONTROL!$E$26*INCO!AJ25+CONTROL!$F$26*INCO!AJ31+CONTROL!$G$26*INCO!AJ37+CONTROL!$H$26*INCO!AJ41","v":0},{"$f":"CONTROL!$C$26*INCO!AK13+CONTROL!$D$26*INCO!AK19+CONTROL!$E$26*INCO!AK25+CONTROL!$F$26*INCO!AK31+CONTROL!$G$26*INCO!AK37+CONTROL!$H$26*INCO!AK41","v":0},{"$f":"CONTROL!$C$26*INCO!AL13+CONTROL!$D$26*INCO!AL19+CONTROL!$E$26*INCO!AL25+CONTROL!$F$26*INCO!AL31+CONTROL!$G$26*INCO!AL37+CONTROL!$H$26*INCO!AL41","v":0},{"$f":"CONTROL!$C$26*INCO!AM13+CONTROL!$D$26*INCO!AM19+CONTROL!$E$26*INCO!AM25+CONTROL!$F$26*INCO!AM31+CONTROL!$G$26*INCO!AM37+CONTROL!$H$26*INCO!AM41","v":0},{"$f":"CONTROL!$C$26*INCO!AN13+CONTROL!$D$26*INCO!AN19+CONTROL!$E$26*INCO!AN25+CONTROL!$F$26*INCO!AN31+CONTROL!$G$26*INCO!AN37+CONTROL!$H$26*INCO!AN41","v":0},{"$f":"CONTROL!$C$26*INCO!AO13+CONTROL!$D$26*INCO!AO19+CONTROL!$E$26*INCO!AO25+CONTROL!$F$26*INCO!AO31+CONTROL!$G$26*INCO!AO37+CONTROL!$H$26*INCO!AO41","v":0},{"$f":"CONTROL!$C$26*INCO!AP13+CONTROL!$D$26*INCO!AP19+CONTROL!$E$26*INCO!AP25+CONTROL!$F$26*INCO!AP31+CONTROL!$G$26*INCO!AP37+CONTROL!$H$26*INCO!AP41","v":0},{"$f":"CONTROL!$C$26*INCO!AQ13+CONTROL!$D$26*INCO!AQ19+CONTROL!$E$26*INCO!AQ25+CONTROL!$F$26*INCO!AQ31+CONTROL!$G$26*INCO!AQ37+CONTROL!$H$26*INCO!AQ41","v":0},{"$f":"CONTROL!$C$26*INCO!AR13+CONTROL!$D$26*INCO!AR19+CONTROL!$E$26*INCO!AR25+CONTROL!$F$26*INCO!AR31+CONTROL!$G$26*INCO!AR37+CONTROL!$H$26*INCO!AR41","v":0},{"$f":"CONTROL!$C$26*INCO!AS13+CONTROL!$D$26*INCO!AS19+CONTROL!$E$26*INCO!AS25+CONTROL!$F$26*INCO!AS31+CONTROL!$G$26*INCO!AS37+CONTROL!$H$26*INCO!AS41","v":0},{"$f":"CONTROL!$C$26*INCO!AT13+CONTROL!$D$26*INCO!AT19+CONTROL!$E$26*INCO!AT25+CONTROL!$F$26*INCO!AT31+CONTROL!$G$26*INCO!AT37+CONTROL!$H$26*INCO!AT41","v":0},{"$f":"CONTROL!$C$26*INCO!AU13+CONTROL!$D$26*INCO!AU19+CONTROL!$E$26*INCO!AU25+CONTROL!$F$26*INCO!AU31+CONTROL!$G$26*INCO!AU37+CONTROL!$H$26*INCO!AU41","v":0},{"$f":"CONTROL!$C$26*INCO!AV13+CONTROL!$D$26*INCO!AV19+CONTROL!$E$26*INCO!AV25+CONTROL!$F$26*INCO!AV31+CONTROL!$G$26*INCO!AV37+CONTROL!$H$26*INCO!AV41","v":0},{"$f":"CONTROL!$C$26*INCO!AW13+CONTROL!$D$26*INCO!AW19+CONTROL!$E$26*INCO!AW25+CONTROL!$F$26*INCO!AW31+CONTROL!$G$26*INCO!AW37+CONTROL!$H$26*INCO!AW41","v":0},{"$f":"CONTROL!$C$26*INCO!AX13+CONTROL!$D$26*INCO!AX19+CONTROL!$E$26*INCO!AX25+CONTROL!$F$26*INCO!AX31+CONTROL!$G$26*INCO!AX37+CONTROL!$H$26*INCO!AX41","v":0},{"$f":"CONTROL!$C$26*INCO!AY13+CONTROL!$D$26*INCO!AY19+CONTROL!$E$26*INCO!AY25+CONTROL!$F$26*INCO!AY31+CONTROL!$G$26*INCO!AY37+CONTROL!$H$26*INCO!AY41","v":0},{"$f":"CONTROL!$C$26*INCO!AZ13+CONTROL!$D$26*INCO!AZ19+CONTROL!$E$26*INCO!AZ25+CONTROL!$F$26*INCO!AZ31+CONTROL!$G$26*INCO!AZ37+CONTROL!$H$26*INCO!AZ41","v":0},{"$f":"CONTROL!$C$26*INCO!BA13+CONTROL!$D$26*INCO!BA19+CONTROL!$E$26*INCO!BA25+CONTROL!$F$26*INCO!BA31+CONTROL!$G$26*INCO!BA37+CONTROL!$H$26*INCO!BA41","v":0},{"$f":"CONTROL!$C$26*INCO!BB13+CONTROL!$D$26*INCO!BB19+CONTROL!$E$26*INCO!BB25+CONTROL!$F$26*INCO!BB31+CONTROL!$G$26*INCO!BB37+CONTROL!$H$26*INCO!BB41","v":0},{"$f":"CONTROL!$C$26*INCO!BC13+CONTROL!$D$26*INCO!BC19+CONTROL!$E$26*INCO!BC25+CONTROL!$F$26*INCO!BC31+CONTROL!$G$26*INCO!BC37+CONTROL!$H$26*INCO!BC41","v":0},{"$f":"CONTROL!$C$26*INCO!BD13+CONTROL!$D$26*INCO!BD19+CONTROL!$E$26*INCO!BD25+CONTROL!$F$26*INCO!BD31+CONTROL!$G$26*INCO!BD37+CONTROL!$H$26*INCO!BD41","v":0},{"$f":"CONTROL!$C$26*INCO!BE13+CONTROL!$D$26*INCO!BE19+CONTROL!$E$26*INCO!BE25+CONTROL!$F$26*INCO!BE31+CONTROL!$G$26*INCO!BE37+CONTROL!$H$26*INCO!BE41","v":0},{"$f":"CONTROL!$C$26*INCO!BF13+CONTROL!$D$26*INCO!BF19+CONTROL!$E$26*INCO!BF25+CONTROL!$F$26*INCO!BF31+CONTROL!$G$26*INCO!BF37+CONTROL!$H$26*INCO!BF41","v":0},{"$f":"CONTROL!$C$26*INCO!BG13+CONTROL!$D$26*INCO!BG19+CONTROL!$E$26*INCO!BG25+CONTROL!$F$26*INCO!BG31+CONTROL!$G$26*INCO!BG37+CONTROL!$H$26*INCO!BG41","v":0},{"$f":"CONTROL!$C$26*INCO!BH13+CONTROL!$D$26*INCO!BH19+CONTROL!$E$26*INCO!BH25+CONTROL!$F$26*INCO!BH31+CONTROL!$G$26*INCO!BH37+CONTROL!$H$26*INCO!BH41","v":0},{"$f":"CONTROL!$C$26*INCO!BI13+CONTROL!$D$26*INCO!BI19+CONTROL!$E$26*INCO!BI25+CONTROL!$F$26*INCO!BI31+CONTROL!$G$26*INCO!BI37+CONTROL!$H$26*INCO!BI41","v":0},{"$f":"CONTROL!$C$26*INCO!BJ13+CONTROL!$D$26*INCO!BJ19+CONTROL!$E$26*INCO!BJ25+CONTROL!$F$26*INCO!BJ31+CONTROL!$G$26*INCO!BJ37+CONTROL!$H$26*INCO!BJ41","v":0},{"$f":"CONTROL!$C$26*INCO!BK13+CONTROL!$D$26*INCO!BK19+CONTROL!$E$26*INCO!BK25+CONTROL!$F$26*INCO!BK31+CONTROL!$G$26*INCO!BK37+CONTROL!$H$26*INCO!BK41","v":0},{"$f":"CONTROL!$C$26*INCO!BL13+CONTROL!$D$26*INCO!BL19+CONTROL!$E$26*INCO!BL25+CONTROL!$F$26*INCO!BL31+CONTROL!$G$26*INCO!BL37+CONTROL!$H$26*INCO!BL41","v":0},{"$f":"CONTROL!$C$26*INCO!BM13+CONTROL!$D$26*INCO!BM19+CONTROL!$E$26*INCO!BM25+CONTROL!$F$26*INCO!BM31+CONTROL!$G$26*INCO!BM37+CONTROL!$H$26*INCO!BM41","v":0},{"$f":"CONTROL!$C$26*INCO!BN13+CONTROL!$D$26*INCO!BN19+CONTROL!$E$26*INCO!BN25+CONTROL!$F$26*INCO!BN31+CONTROL!$G$26*INCO!BN37+CONTROL!$H$26*INCO!BN41","v":0},{"$f":"CONTROL!$C$26*INCO!BO13+CONTROL!$D$26*INCO!BO19+CONTROL!$E$26*INCO!BO25+CONTROL!$F$26*INCO!BO31+CONTROL!$G$26*INCO!BO37+CONTROL!$H$26*INCO!BO41","v":0},{"$f":"CONTROL!$C$26*INCO!BP13+CONTROL!$D$26*INCO!BP19+CONTROL!$E$26*INCO!BP25+CONTROL!$F$26*INCO!BP31+CONTROL!$G$26*INCO!BP37+CONTROL!$H$26*INCO!BP41","v":0},{"$f":"CONTROL!$C$26*INCO!BQ13+CONTROL!$D$26*INCO!BQ19+CONTROL!$E$26*INCO!BQ25+CONTROL!$F$26*INCO!BQ31+CONTROL!$G$26*INCO!BQ37+CONTROL!$H$26*INCO!BQ41","v":0},{"$f":"CONTROL!$C$26*INCO!BR13+CONTROL!$D$26*INCO!BR19+CONTROL!$E$26*INCO!BR25+CONTROL!$F$26*INCO!BR31+CONTROL!$G$26*INCO!BR37+CONTROL!$H$26*INCO!BR41","v":0},{"$f":"CONTROL!$C$26*INCO!BS13+CONTROL!$D$26*INCO!BS19+CONTROL!$E$26*INCO!BS25+CONTROL!$F$26*INCO!BS31+CONTROL!$G$26*INCO!BS37+CONTROL!$H$26*INCO!BS41","v":0},{"$f":"CONTROL!$C$26*INCO!BT13+CONTROL!$D$26*INCO!BT19+CONTROL!$E$26*INCO!BT25+CONTROL!$F$26*INCO!BT31+CONTROL!$G$26*INCO!BT37+CONTROL!$H$26*INCO!BT41","v":0},{"$f":"CONTROL!$C$26*INCO!BU13+CONTROL!$D$26*INCO!BU19+CONTROL!$E$26*INCO!BU25+CONTROL!$F$26*INCO!BU31+CONTROL!$G$26*INCO!BU37+CONTROL!$H$26*INCO!BU41","v":0},{"$f":"CONTROL!$C$26*INCO!BV13+CONTROL!$D$26*INCO!BV19+CONTROL!$E$26*INCO!BV25+CONTROL!$F$26*INCO!BV31+CONTROL!$G$26*INCO!BV37+CONTROL!$H$26*INCO!BV41","v":0},{"$f":"CONTROL!$C$26*INCO!BW13+CONTROL!$D$26*INCO!BW19+CONTROL!$E$26*INCO!BW25+CONTROL!$F$26*INCO!BW31+CONTROL!$G$26*INCO!BW37+CONTROL!$H$26*INCO!BW41","v":0},{"$f":"CONTROL!$C$26*INCO!BX13+CONTROL!$D$26*INCO!BX19+CONTROL!$E$26*INCO!BX25+CONTROL!$F$26*INCO!BX31+CONTROL!$G$26*INCO!BX37+CONTROL!$H$26*INCO!BX41","v":0},{"$f":"CONTROL!$C$26*INCO!BY13+CONTROL!$D$26*INCO!BY19+CONTROL!$E$26*INCO!BY25+CONTROL!$F$26*INCO!BY31+CONTROL!$G$26*INCO!BY37+CONTROL!$H$26*INCO!BY41","v":0},{"$f":"CONTROL!$C$26*INCO!BZ13+CONTROL!$D$26*INCO!BZ19+CONTROL!$E$26*INCO!BZ25+CONTROL!$F$26*INCO!BZ31+CONTROL!$G$26*INCO!BZ37+CONTROL!$H$26*INCO!BZ41","v":0},{"$f":"CONTROL!$C$26*INCO!CA13+CONTROL!$D$26*INCO!CA19+CONTROL!$E$26*INCO!CA25+CONTROL!$F$26*INCO!CA31+CONTROL!$G$26*INCO!CA37+CONTROL!$H$26*INCO!CA41","v":0},{"$f":"CONTROL!$C$26*INCO!CB13+CONTROL!$D$26*INCO!CB19+CONTROL!$E$26*INCO!CB25+CONTROL!$F$26*INCO!CB31+CONTROL!$G$26*INCO!CB37+CONTROL!$H$26*INCO!CB41","v":0},{"$f":"CONTROL!$C$26*INCO!CC13+CONTROL!$D$26*INCO!CC19+CONTROL!$E$26*INCO!CC25+CONTROL!$F$26*INCO!CC31+CONTROL!$G$26*INCO!CC37+CONTROL!$H$26*INCO!CC41","v":0},{"$f":"CONTROL!$C$26*INCO!CD13+CONTROL!$D$26*INCO!CD19+CONTROL!$E$26*INCO!CD25+CONTROL!$F$26*INCO!CD31+CONTROL!$G$26*INCO!CD37+CONTROL!$H$26*INCO!CD41","v":0},{"$f":"CONTROL!$C$26*INCO!CE13+CONTROL!$D$26*INCO!CE19+CONTROL!$E$26*INCO!CE25+CONTROL!$F$26*INCO!CE31+CONTROL!$G$26*INCO!CE37+CONTROL!$H$26*INCO!CE41","v":0},{"$f":"CONTROL!$C$26*INCO!CF13+CONTROL!$D$26*INCO!CF19+CONTROL!$E$26*INCO!CF25+CONTROL!$F$26*INCO!CF31+CONTROL!$G$26*INCO!CF37+CONTROL!$H$26*INCO!CF41","v":0},{"$f":"CONTROL!$C$26*INCO!CG13+CONTROL!$D$26*INCO!CG19+CONTROL!$E$26*INCO!CG25+CONTROL!$F$26*INCO!CG31+CONTROL!$G$26*INCO!CG37+CONTROL!$H$26*INCO!CG41","v":0},{"$f":"CONTROL!$C$26*INCO!CH13+CONTROL!$D$26*INCO!CH19+CONTROL!$E$26*INCO!CH25+CONTROL!$F$26*INCO!CH31+CONTROL!$G$26*INCO!CH37+CONTROL!$H$26*INCO!CH41","v":0},{"$f":"CONTROL!$C$26*INCO!CI13+CONTROL!$D$26*INCO!CI19+CONTROL!$E$26*INCO!CI25+CONTROL!$F$26*INCO!CI31+CONTROL!$G$26*INCO!CI37+CONTROL!$H$26*INCO!CI41","v":0},{"$f":"CONTROL!$C$26*INCO!CJ13+CONTROL!$D$26*INCO!CJ19+CONTROL!$E$26*INCO!CJ25+CONTROL!$F$26*INCO!CJ31+CONTROL!$G$26*INCO!CJ37+CONTROL!$H$26*INCO!CJ41","v":0},{"$f":"CONTROL!$C$26*INCO!CK13+CONTROL!$D$26*INCO!CK19+CONTROL!$E$26*INCO!CK25+CONTROL!$F$26*INCO!CK31+CONTROL!$G$26*INCO!CK37+CONTROL!$H$26*INCO!CK41","v":0},{"$f":"CONTROL!$C$26*INCO!CL13+CONTROL!$D$26*INCO!CL19+CONTROL!$E$26*INCO!CL25+CONTROL!$F$26*INCO!CL31+CONTROL!$G$26*INCO!CL37+CONTROL!$H$26*INCO!CL41","v":0},{"$f":"CONTROL!$C$26*INCO!CM13+CONTROL!$D$26*INCO!CM19+CONTROL!$E$26*INCO!CM25+CONTROL!$F$26*INCO!CM31+CONTROL!$G$26*INCO!CM37+CONTROL!$H$26*INCO!CM41","v":0},{"$f":"CONTROL!$C$26*INCO!CN13+CONTROL!$D$26*INCO!CN19+CONTROL!$E$26*INCO!CN25+CONTROL!$F$26*INCO!CN31+CONTROL!$G$26*INCO!CN37+CONTROL!$H$26*INCO!CN41","v":0},{"$f":"CONTROL!$C$26*INCO!CO13+CONTROL!$D$26*INCO!CO19+CONTROL!$E$26*INCO!CO25+CONTROL!$F$26*INCO!CO31+CONTROL!$G$26*INCO!CO37+CONTROL!$H$26*INCO!CO41","v":0},{"$f":"CONTROL!$C$26*INCO!CP13+CONTROL!$D$26*INCO!CP19+CONTROL!$E$26*INCO!CP25+CONTROL!$F$26*INCO!CP31+CONTROL!$G$26*INCO!CP37+CONTROL!$H$26*INCO!CP41","v":0},{"$f":"CONTROL!$C$26*INCO!CQ13+CONTROL!$D$26*INCO!CQ19+CONTROL!$E$26*INCO!CQ25+CONTROL!$F$26*INCO!CQ31+CONTROL!$G$26*INCO!CQ37+CONTROL!$H$26*INCO!CQ41","v":0},{"$f":"CONTROL!$C$26*INCO!CR13+CONTROL!$D$26*INCO!CR19+CONTROL!$E$26*INCO!CR25+CONTROL!$F$26*INCO!CR31+CONTROL!$G$26*INCO!CR37+CONTROL!$H$26*INCO!CR41","v":0},{"$f":"CONTROL!$C$26*INCO!CS13+CONTROL!$D$26*INCO!CS19+CONTROL!$E$26*INCO!CS25+CONTROL!$F$26*INCO!CS31+CONTROL!$G$26*INCO!CS37+CONTROL!$H$26*INCO!CS41","v":0}]
[null,"Saldo Mensual del IVA",{"$f":"C7-C6-C5","v":0},0,0,0,0,0,0,0,0,0,0,0,{"$f":"O7-O6-O5","v":0},{"$f":"P7-P6-P5","v":0},0,0,0,0,0,0,0,0,0,0,0,0,0,0,0,0,0,0,0,0,0,0,0,0,0,0,0,0,0,0,0,0,0,0,0,0,0,0,0,0,0,0,0,0,0,0,0,0,0,0,0,0,0,0,0,0,0,0,0,0,0,0,0,{"$f":"CB7-CB6-CB5","v":0},0,0,0,0,0,0,0,0,0,0,0,0,0,0,0,0,{"$f":"CS7-CS6-CS5","v":0},{"$f":"CT7-CT6-CT5","v":0}]
[null,"Saldo Mensual Acumulado",{"$f":"C8","v":0},{"$f":"C9+D8-D14+D15","v":0},0,0,0,0,0,0,0,0,0,0,0,0,0,0,0,0,0,0,0,0,0,0,0,0,0,0,0,0,0,0,0,{"$f":"AI9+AJ8-AJ14+AJ15","v":0},0,0,0,0,0,0,0,0,0,0,0,0,0,0,0,0,0,0,0,0,0,0,0,0,0,0,0,0,0,0,0,{"$f":"BO9+BP8-BP14+BP15","v":0},0,0,0,0,0,0,0,0,0,0,0,0,0,0,0,0,0,0,0,0,0,0,0,0,0,0,0,0,0,0]
[]
[null,"Mes Pago/ Cobro  IVA",{"$f":"IF(MONTH(C3)=1,1,IF(MONTH(C3)=4,1,IF(MONTH(C3)=7,1,IF(MONTH(C3)=10,1,0))))","v":1},0,0,1,0,0,1,0,0,1,0,0,{"$f":"IF(MONTH(O3)=1,1,IF(MONTH(O3)=4,1,IF(MONTH(O3)=7,1,IF(MONTH(O3)=10,1,0))))","v":1},{"$f":"IF(MONTH(P3)=1,1,IF(MONTH(P3)=4,1,IF(MONTH(P3)=7,1,IF(MONTH(P3)=10,1,0))))","v":0},{"$f":"IF(MONTH(Q3)=1,1,IF(MONTH(Q3)=4,1,IF(MONTH(Q3)=7,1,IF(MONTH(Q3)=10,1,0))))","v":0},1,0,0,1,0,0,1,0,0,1,0,0,1,0,0,1,0,0,1,0,0,1,0,0,1,0,0,1,0,0,1,0,0,1,0,0,1,0,0,1,0,0,1,0,0,1,0,0,1,0,0,1,0,0,1,0,0,1,0,0,1,0,0,{"$f":"IF(MONTH(CC3)=1,1,IF(MONTH(CC3)=4,1,IF(MONTH(CC3)=7,1,IF(MONTH(CC3)=10,1,0))))","v":1},0,0,1,0,0,1,0,0,1,0,0,1,0,0,1,0,0]
[null,"Saldo IVA Trimestral",null,{"$f":"IF(D11=1,C9,0)","v":0},{"$f":"IF(E11=1,D9,0)","v":0},{"$f":"IF(F11=1,E9,0)","v":0},{"$f":"IF(G11=1,F9,0)","v":0},{"$f":"IF(H11=1,G9,0)","v":0},{"$f":"IF(I11=1,H9,0)","v":0},{"$f":"IF(J11=1,I9,0)","v":0},{"$f":"IF(K11=1,J9,0)","v":0},{"$f":"IF(L11=1,K9,0)","v":0},{"$f":"IF(M11=1,L9,0)","v":0},{"$f":"IF(N11=1,M9,0)","v":0},{"$f":"IF(O11=1,N9,0)","v":0},0,0,0,0,0,0,{"$f":"IF(V11=1,U9,0)","v":0},0,0,0,0,0,0,0,0,0,0,0,0,0,0,0,0,0,0,0,0,0,0,0,0,0,0,0,0,0,0,0,{"$f":"IF(BB11=1,BA9,0)","v":0},0,0,0,0,0,0,0,0,0,0,0,0,0,0,0,0,0,0,0,0,0,0,0,0,0,0,0,0,0,0,0,{"$f":"IF(CH11=1,CG9,0)","v":0},0,0,0,0,0,0,0,0,0,0,0,0]
[]
[null,"Pago IVA a Hacienda",null,{"$f":"IF(D12>0,D12,0)","v":0},0,0,0,0,0,0,0,0,0,0,{"$f":"IF(O12>0,O12,0)","v":0},0,0,0,0,0,0,0,0,0,0,0,0,0,0,0,0,0,0,0,0,0,0,0,0,0,0,0,0,0,0,0,0,0,0,0,0,0,0,0,0,0,0,0,0,0,0,0,0,0,0,0,0,{"$f":"IF(BP12>0,BP12,0)","v":0},0,0,0,0,0,0,0,0,0,0,0,0,0,0,0,0,0,0,0,0,0,0,0,0,0,0,0,0,0,0]
[null,"Cobro IVA de Hacienda",null,{"$f":"IF(D12<0,-D12,0)","v":0},0,0,0,0,0,0,0,0,0,0,{"$f":"IF(O12<0,-O12,0)","v":0},0,0,0,0,0,0,0,0,0,0,0,0,0,0,0,0,0,0,0,0,0,0,0,0,0,0,0,0,0,0,0,0,0,0,0,0,0,0,0,0,0,0,0,0,0,0,0,0,0,0,0,0,{"$f":"IF(BP12<0,-BP12,0)","v":0},0,0,0,0,0,0,0,0,0,0,0,0,0,0,0,0,0,0,0,0,0,0,0,0,0,0,0,0,0,0]